{"text_format":"1","workbook":"xlsx","n_sheets":27,"sheets":["INSTRUCCIONS","QUADRE COM","AUX_RESUM","CONTROL","RACI AIPD","0.REQUISITS","1.TRACT","2.NECES i PROP","3.DRETS","4A.RISCOS COMPLIMENT","4B.RISCOS DADES","PLA CONTROLS","VISTA ANNEXOS","VALORACIÓ","AUX_PLA CONTROLS","ANALYTICS","AUX DATA VALIDATION","AUX_Mesures4A","AUX CATALEG RISCOS COMPL","PIVOT_RiscosCompl","Categ Dades","Processos de Tractament","Grau d'Impacte","AUX_MELT_DADES","AUX_PIVOT_MELT","AUX_TAULA RISCvsCONTROL SEG","AUX_TAULA DE RISCOS"],"not_rendered":{"charts":1,"images":37,"macros":1,"external_links":0,"defined_names":25,"comments":8,"pivot_tables":2},"unopened":[],"bounds":{"document_bytes":16777216,"sheet_cells":100000,"rows_first":2000,"rows_last":500,"rows_between":2000,"halvings":0,"cell_chars":16384,"cell_head_chars":4096},"cells_cut":0,"cells_raw":0,"read":"whole","date_system":"1900"}

{"sheet":"INSTRUCCIONS","index":0,"n_rows":29,"n_cols":4,"rows_kept":29,"cut":false,"hidden":false,"merged":[]}
[]
[]
[null,null,"LLEGENDA DE COLORS"]
[]
[null,null,"GENERAL (TEXT O SÍ/NO)"]
[]
[null,null,null,"Requereix entrada"]
[]
[null,null,null,"No requereix entrada (segons context)"]
[]
[null,null,null,"No requereix entrada (Resposta enllaçada)"]
[]
[null,null,null,"Entrada completa - Neutra"]
[]
[null,null,null,"Entrada completa - Sense risc"]
[]
[null,null,null,"Entrada completa - Possible risc"]
[]
[null,null,null,"Entrada completa - Risc identificat"]
[]
[null,null,"RISCOS / PROBABILITATS"]
[]
[null,null,null,"Risc / Probabilitat Baixa"]
[]
[null,null,null,"Risc / Probabilitat Mitjana"]
[]
[null,null,null,"Risc / Probabilitat Alta"]
[]
[null,null,null,"Risc Molt Alt"]

{"sheet":"QUADRE COM","index":1,"n_rows":23,"n_cols":19,"rows_kept":23,"cut":false,"hidden":false,"merged":[[9,11,12,11],[20,6,21,6],[18,17,18,18],[19,5,22,5],[19,17,22,17],[21,18,22,18],[9,17,12,17],[9,14,12,14],[2,2,2,18],[4,2,4,18],[18,2,18,3],[8,2,8,3],[8,5,8,6],[8,8,8,9],[8,11,8,12],[8,17,8,18],[8,14,8,15],[18,5,18,6],[18,14,22,14],[19,2,22,2],[9,2,12,2],[9,5,12,5],[9,8,12,8],[11,3,12,3]]}
[]
[]
[null,null,"AIPD - QUADRE DE COMANDAMENT"]
[]
[]
[]
[]
[]
[null,null,{"$f":"+AUX_RESUM!D7","v":0},null,null,{"$f":"+AUX_RESUM!D12","v":0},null,null,{"$f":"+AUX_RESUM!D17","v":0},null,null,{"$f":"+AUX_RESUM!D26","v":0},null,null,{"$f":"AUX_RESUM!D36","v":0},null,null,{"$f":"+AUX_RESUM!D44","v":0}]
[null,null,{"$f":"+'0.REQUISITS'!D1","v":1},{"$f":"+AUX_RESUM!J7","v":"Falta completar (16/16)"},null,{"$f":"'1.TRACT'!F1","v":1},{"$f":"+AUX_RESUM!J12","v":"Falta completar (28/28)"},null,{"$f":"+'2.NECES i PROP'!G1","v":1},{"$f":"+AUX_RESUM!J17","v":"Falta completar (20/20)"},null,{"$f":"+'3.DRETS'!F1","v":1},{"$f":"+AUX_RESUM!J26","v":"Falta completar (26/26)"},null,{"$f":"+AUX_RESUM!K39","v":1},{"$f":"+AUX_RESUM!J36","v":"Secció completa"},null,{"$f":"+'4B.RISCOS DADES'!F1","v":1},{"$f":"+AUX_RESUM!J44","v":"Falta completar (36/36)"}]
[null,null,null,{"$f":"+IF('0.REQUISITS'!D1>1,\"Cal revisar alertes\",\"Sense alertes\")","v":"Sense alertes"},null,null,{"$f":"+IF(AUX_RESUM!L12>0,\"Cal revisar alertes:\",\"Sense alertes\")","v":"Sense alertes"},null,null,{"$f":"+IF(AUX_RESUM!L17>0,\"Cal revisar alertes:\",\"Sense alertes\")","v":"Sense alertes"},null,null,{"$f":"+IF(AUX_RESUM!L26>0,\"Cal revisar alertes:\",\"Sense alertes\")","v":"Sense alertes"},null,null,{"$f":"+CONCATENATE(\"RISC INHERENT: \",'4A.RISCOS COMPLIMENT'!H4)","v":"RISC INHERENT: PENDENT"},null,null,{"$f":"+CONCATENATE(\"RISC INICIAL: \",'4B.RISCOS DADES'!F32)","v":"RISC INICIAL: PENDENT"}]
[null,null,null,{"$f":"+IF('0.REQUISITS'!D28=\"\",\"PENDENT D'ANÀLISI\",IF('0.REQUISITS'!D28=\"NO\",IF('0.REQUISITS'!N28=\"AMBER\",\"NO CAL AIPD - REVISAR\",IF('0.REQUISITS'!N28=\"RED\",\"NO CAL AIPD - INCONSISTENT\",\"NO CAL AIPD\")),\"CAL AIPD\"))","v":"PENDENT D'ANÀLISI"},null,null,{"$f":"+IF(AUX_RESUM!L12>0,AUX_RESUM!Q12,\"\")","v":""},null,null,{"$f":"+IF(AUX_RESUM!L17>0,AUX_RESUM!Q17,\"\")","v":""},null,null,{"$f":"+IF(AUX_RESUM!L26>0,AUX_RESUM!Q26,\"\")","v":""},null,null,{"$f":"+VLOOKUP(MAX(Resum_MesuresxTractar[[MAX MISSING ]]),AUX.Avisos4447[],4,0)","v":"S'han inclòs tots els avisos i alertes per valoració"},null,null,{"$f":"+CONCATENATE(\"Accions rellevants no planificades o expirades: \",'AUX_PLA CONTROLS'!J8)","v":"Accions rellevants no planificades o expirades: 0"}]
[null,null,null,null,null,null,null,null,null,null,null,null,null,null,null,{"$f":"+CONCATENATE(\"RISC RESIDUAL: \",'4A.RISCOS COMPLIMENT'!M4)","v":"RISC RESIDUAL: PENDENT"},null,null,{"$f":"+CONCATENATE(\"RISC RESIDUAL: \",'4B.RISCOS DADES'!G66)","v":"RISC RESIDUAL: PENDENT"}]
[]
[]
[]
[]
[]
[null,null,{"$f":"+AUX_RESUM!D6","v":0},null,null,{"$f":"+AUX_RESUM!D54","v":0},null,null,null,null,null,null,null,null,{"$f":"+MAX(C10,F10,I10,L10,O10,R10,C20,F20,R20)","v":1},null,null,{"$f":"+AUX_RESUM!D56","v":0}]
[null,null,{"$f":"+IF(COUNTIF(CONTROL!O2:P36,\"RED\")>0,3,IF(COUNTIF(CONTROL!O2:P36,\"AMBER\")>0,2,1))","v":1},{"$f":"+AUX_RESUM!J6","v":"Falta completar (6/6)"},null,{"$f":"+IF(COUNTIF('VISTA ANNEXOS'!O4:P42,\"RED\")>0,3,IF(COUNTIF('VISTA ANNEXOS'!O4:P42,\"AMBER\")>0,2,1))","v":1},{"$f":"+AUX_RESUM!J54","v":"Falta completar (16/16)"},null,null,null,null,null,null,null,null,null,null,{"$f":"+IF(COUNTIF(VALORACIÓ!O:P,\"RED\")>0,3,IF(COUNTIF(VALORACIÓ!O:P,\"AMBER\")>0,2,1))","v":1},{"$f":"+AUX_RESUM!J56","v":"Falta completar (13/13)"}]
[null,null,null,null,null,null,{"$f":"+IF(COUNTIF('VISTA ANNEXOS'!O4:O42,\"AMBER\")>0,\"- Cal revisar si s'ha annexat la documentació rellevant\",\"- Sense alertes de manca de documentació - Comprovar Annexos\")","v":"- Sense alertes de manca de documentació - Comprovar Annexos"},null,null,null,null,null,null,null,null,null,null,null,"Valoració global: "]
[null,null,null,null,null,null,null,null,null,null,null,null,null,null,null,null,null,null,{"$f":"+VALORACIÓ!D6","v":"PENDENT DE VALORACIÓ"}]
[null,null,null,null,null,null,{"$f":"+IF(COUNTIF('VISTA ANNEXOS'!P4:P42,\"RED\")>0,\"Dates previstes de disponibilitat documentació en el passat\",\"- Sense alertes de dates previstes en el passat\")","v":"- Sense alertes de dates previstes en el passat"}]

{"sheet":"AUX_RESUM","index":2,"n_rows":59,"n_cols":17,"rows_kept":59,"cut":false,"hidden":true,"merged":[]}
[null,"ACRONIM",{"$f":"+IF(CONTROL!B5=\"\",\"PENDENT\",CONTROL!B5)","v":"PENDENT"}]
[null,"TITOL",{"$f":"+IF(CONTROL!B8=\"\",\"PENDENT\",CONTROL!B8)","v":"PENDENT"}]
[null,"DATA ULTIMA ACTUALITZACIÓ"]
[null,null,null,"PROGRÉS","TOTAL","OK","BLANK","CALCULATED","N","PROGRÉS","OBSERVACIONS","RISCOS"]
[null,"TOTAL","Plantilla d’Avaluació d’Impacte relativa a la Protecció de Dades",{"$f":"IFERROR(F5/(F5+G5),0)","v":0},{"$f":"SUM(F5:I5)","v":285},{"$f":"IF($L$7=\"NO\",SUM(F6:F7),SUM(F6:F51))","v":0},{"$f":"IF($L$7=\"NO\",SUM(G6:G7),SUM(G6:G51))","v":132},39,114,{"$f":"+IF(G5=0,\"Secció completa\",CONCATENATE(\"Falta completar (\",G5,\"/\",F5+G5,\")\"))","v":"Falta completar (132/132)"},"Si  no cal AIPD, només compta CONTROL i 0.REQUISITS",3]
[null,"CONTROL","Control de Versions i Accessos",{"$f":"IFERROR(F6/(F6+G6),0)","v":0},{"$f":"SUM(F6:I6)","v":6},{"$f":"+COUNTIF(CONTROL!$Q:$Q,F$4)","v":0},{"$f":"+COUNTIF(CONTROL!$Q:$Q,G$4)","v":6},{"$f":"+COUNTIF(CONTROL!$Q:$Q,H$4)","v":0},{"$f":"+COUNTIF(CONTROL!$Q:$Q,I$4)","v":0},{"$f":"+IF(G6=0,\"Secció completa\",CONCATENATE(\"Falta completar (\",G6,\"/\",F6+G6,\")\"))","v":"Falta completar (6/6)"},null,1]
[null,"0.","Anàlisi de la Necessitat de fer l'AIPD",{"$f":"IFERROR(F7/(F7+G7),0)","v":0},{"$f":"SUM(F7:I7)","v":29},{"$f":"+COUNTIF('0.REQUISITS'!$P$2:$Q$35,F4)","v":0},{"$f":"+COUNTIF('0.REQUISITS'!$P$2:$Q$35,G4)","v":16},{"$f":"+COUNTIF('0.REQUISITS'!$P$2:$Q$35,H4)","v":3},{"$f":"+COUNTIF('0.REQUISITS'!$P$2:$Q$35,I4)","v":10},{"$f":"+IF(G7=0,\"Secció completa\",CONCATENATE(\"Falta completar (\",G7,\"/\",F7+G7,\")\"))","v":"Falta completar (16/16)"},"CAL FER AIPD? ",{"$f":"+'0.REQUISITS'!D28","v":""},{"$f":"+'0.REQUISITS'!N28","v":"N/A"}]
[null,"0.1","Informació del Projecte"]
[null,"0.2","Supòsits d'Exempció"]
[null,"0.3","Indicador de Potencial Risc Alt"]
[null,"0.4","Conclusió"]
[null,"1.","Descripció del Tractament",{"$f":"IFERROR(F12/(F12+G12),0)","v":0},{"$f":"SUM(F12:I12)","v":56},{"$f":"+COUNTIF('1.TRACT'!$Q:$R,F4)","v":0},{"$f":"+COUNTIF('1.TRACT'!$Q:$R,G4)","v":28},{"$f":"+COUNTIF('1.TRACT'!$Q:$R,H4)","v":4},{"$f":"+COUNTIF('1.TRACT'!$Q:$R,I4)","v":24},{"$f":"+IF('0.REQUISITS'!D28=\"NO\",\"No cal AIPD\",IF(G12=0,\"Secció completa\",CONCATENATE(\"Falta completar (\",G12,\"/\",F12+G12,\")\")))","v":"Falta completar (28/28)"},"AMBERS O REDS",{"$f":"+COUNTIF('1.TRACT'!O2:P153,\"AMBER\")+COUNTIF('1.TRACT'!O2:P153,\"RED\")","v":0},"amber:",{"$f":"+COUNTIF('1.TRACT'!O2:P153,\"AMBER\")","v":0},"red:",{"$f":"+COUNTIF('1.TRACT'!O2:P153,\"RED\")","v":0},{"$f":"+CONCATENATE(\"- \",P12,\" alertes (vermell)\n\",\"- \",N12,\" avisos (ambre)\")","v":"- 0 alertes (vermell)\n- 0 avisos (ambre)"}]
[null,"1.1","Dades personals tractades",null,null,null,null,null,null,null,null,null,null,null,null,null,{"$f":"+CONCATENATE(\"- \",P13,\" alertes (vermell)\n\",\"- \",N13,\" avisos (ambre)\")","v":"-  alertes (vermell)\n-  avisos (ambre)"}]
[null,"1.2","Actors que intervenen en el tractament",null,null,null,null,null,null,null,null,null,null,null,null,null,"-  alertes (vermell)\n-  avisos (ambre)"]
[null,"1.3","Processos de tractament",null,null,null,null,null,null,null,null,null,null,null,null,null,"-  alertes (vermell)\n-  avisos (ambre)"]
[null,"1.4","Transferències de Dades",null,null,null,null,null,null,null,null,null,null,null,null,null,"-  alertes (vermell)\n-  avisos (ambre)"]
[null,"2.","Necessitat i Proporcionalitat",{"$f":"IFERROR(F17/(F17+G17),0)","v":0},{"$f":"SUM(F17:I17)","v":61},{"$f":"+COUNTIF('2.NECES i PROP'!$Q$3:$Q$85,F4)","v":0},{"$f":"+COUNTIF('2.NECES i PROP'!$Q$3:$Q$85,G4)","v":20},{"$f":"+COUNTIF('2.NECES i PROP'!$Q$3:$Q$85,H4)","v":10},{"$f":"+COUNTIF('2.NECES i PROP'!$Q$3:$Q$85,I4)","v":31},{"$f":"+IF('0.REQUISITS'!D28=\"NO\",\"No cal AIPD\",IF(G17=0,\"Secció completa\",CONCATENATE(\"Falta completar (\",G17,\"/\",F17+G17,\")\")))","v":"Falta completar (20/20)"},"AMBERS O REDS",{"$f":"+COUNTIF('2.NECES i PROP'!N2:O92,\"AMBER\")+COUNTIF('2.NECES i PROP'!N2:O92,\"RED\")","v":0},"amber:",{"$f":"+COUNTIF('2.NECES i PROP'!N2:O92,\"AMBER\")","v":0},"red:",{"$f":"+COUNTIF('2.NECES i PROP'!N2:O92,\"RED\")","v":0},"- 0 alertes (vermell)\n- 0 avisos (ambre)"]
[null,"2.1","Finalitat del tractament"]
[null,"2.2","Principis de licitud i la lleialtat"]
[null,"2.3","Principi de minimització"]
[null,"2.4","Principi de limitació del termini de conservació"]
[null,"2.5","Principi d’exactitud"]
[null,"2.6","Riscos del tractament per les persones"]
[null,"2.7","Necessitat i Proporcionalitat del Tractament"]
[null,"2.8","Opinió dels interessats"]
[null,"3.","Controls per Garantir els Drets de les Persones",{"$f":"IFERROR(F26/(F26+G26),0)","v":0},{"$f":"SUM(F26:I26)","v":57},{"$f":"+COUNTIF('3.DRETS'!$Q$5:$R$53,F4)","v":0},{"$f":"+COUNTIF('3.DRETS'!$Q$5:$R$53,G4)","v":26},{"$f":"+COUNTIF('3.DRETS'!$Q$5:$R$53,H4)","v":3},{"$f":"+COUNTIF('3.DRETS'!$Q$5:$R$53,I4)","v":28},{"$f":"+IF('0.REQUISITS'!D28=\"NO\",\"No cal AIPD\",IF(G26=0,\"Secció completa\",CONCATENATE(\"Falta completar (\",G26,\"/\",F26+G26,\")\")))","v":"Falta completar (26/26)"},"AMBERS O REDS",{"$f":"+COUNTIF('3.DRETS'!O2:P52,\"AMBER\")+COUNTIF('3.DRETS'!O2:P52,\"RED\")","v":0},"amber:",{"$f":"+COUNTIF('3.DRETS'!O2:P52,\"AMBER\")","v":0},"red:",{"$f":"+COUNTIF('3.DRETS'!O2:P52,\"RED\")","v":0},{"$f":"+CONCATENATE(\"- \",P26,\" alertes (vermell)\n\",\"- \",N26,\" avisos (ambre)\")","v":"- 0 alertes (vermell)\n- 0 avisos (ambre)"}]
[null,"3.1","Controls pel dret a tenir informació transparent"]
[null,"3.2","Controls pel dret d’informació"]
[null,"3.3","Controls per garantir el dret d’accés"]
[null,"3.4","Controls per garantir el dret de rectificació"]
[null,"3.5","Dret de supressió"]
[null,"3.6","Dret a limitar el tractament"]
[null,"3.7","Dret a la portabilitat de les dades"]
[null,"3.8","Dret d’oposició"]
[null,"3.9","Dret a no ser objecte de decisions automatitzades"]
[null,"4A.","Riscos en el compliment",{"$f":"IFERROR(F36/(F36+G36),0)","v":0},{"$f":"SUM(F36:I36)","v":1},{"$f":"+COUNTIF('4A.RISCOS COMPLIMENT'!$V$1:$V$51,F4)","v":0},{"$f":"+COUNTIF('4A.RISCOS COMPLIMENT'!$V$1:$V$51,G4)","v":0},{"$f":"+COUNTIF('4A.RISCOS COMPLIMENT'!$V$1:$V$51,H4)","v":1},{"$f":"+COUNTIF('4A.RISCOS COMPLIMENT'!$V$1:$V$51,I4)","v":0},{"$f":"+IF('0.REQUISITS'!D28=\"NO\",\"No cal AIPD\",IF(G36=0,\"Secció completa\",CONCATENATE(\"Falta completar (\",G36,\"/\",F36+G36,\")\")))","v":"Secció completa"},"RISC INICIAL",{"$f":"+'4A.RISCOS COMPLIMENT'!H4","v":"PENDENT"},{"$f":"+'4B.RISCOS DADES'!N24","v":"INPUT REQ"},{"$f":"+'4A.RISCOS COMPLIMENT'!K4","v":"COMPLETAR TAULA"}]
[null,"4A.1","Impacte",null,null,null,null,null,null,null,"RISC RESIDUAL",{"$f":"+'4A.RISCOS COMPLIMENT'!M4","v":"PENDENT"},{"$f":"+'4B.RISCOS DADES'!O58","v":"INPUT REQ"},{"$f":"+'4A.RISCOS COMPLIMENT'!P4","v":"Cal completar les seccions inferiors per poder determinar el Risc RESIDUAL."}]
[null,"4A.2","Probabilitat inicial",null,null,null,null,null,null,null,null,{"$f":"+'4B.RISCOS DADES'!F16","v":0}]
[null,"4A.3","Risc inicial",null,null,null,null,null,null,"ALERTA:",{"$f":"+IF('4A.RISCOS COMPLIMENT'!T4=\"N/A\",IF(COUNTIF('4A.RISCOS COMPLIMENT'!R4:S4,\"RED\")>0,3,IF(COUNTIF('4A.RISCOS COMPLIMENT'!R4:S4,\"AMBER\")>0,2,1)),IF('4A.RISCOS COMPLIMENT'!T4=\"RED\",3,IF('4A.RISCOS COMPLIMENT'!T4=\"AMBER\",2,1)))","v":1},{"$f":"+'4B.RISCOS DADES'!F24","v":"PENDENT"}]
[null,"4A.4","Controls de seguretat"]
[null,"4A.5","Impacte residual"]
[null,"4A.6","Probabilitat residual"]
[null,"4A.7","Estimació del risc residual"]
[null,"4B.","Riscos en la Seguretat de les Dades",{"$f":"IFERROR(F44/(F44+G44),0)","v":0},{"$f":"SUM(F44:I44)","v":75},{"$f":"+COUNTIF('4B.RISCOS DADES'!$Q$2:$R$67,F4)","v":0},{"$f":"+COUNTIF('4B.RISCOS DADES'!$Q$2:$R$67,G4)","v":36},{"$f":"+COUNTIF('4B.RISCOS DADES'!$Q$2:$R$67,H4)","v":18},{"$f":"+COUNTIF('4B.RISCOS DADES'!$Q$2:$R$67,I4)","v":21},{"$f":"+IF('0.REQUISITS'!D28=\"NO\",\"No cal AIPD\",IF(G44=0,\"Secció completa\",CONCATENATE(\"Falta completar (\",G44,\"/\",F44+G44,\")\")))","v":"Falta completar (36/36)"},"RISC INICIAL",{"$f":"+'4B.RISCOS DADES'!F32","v":"PENDENT"},{"$f":"+'4B.RISCOS DADES'!N32","v":"INPUT REQ"},{"$f":"+'4B.RISCOS DADES'!G27","v":"Cal completar les seccions anteriors per poder determinar el Risc INICIAL a partir de l'Impacte i la Probabilitat inicials."}]
[null,"4B.1","Impacte",null,null,null,null,null,null,null,"RISC RESIDUAL",{"$f":"+'4B.RISCOS DADES'!G66","v":"PENDENT"},{"$f":"+'4B.RISCOS DADES'!O66","v":"INPUT REQ"},{"$f":"+'4B.RISCOS DADES'!H61","v":"Cal completar les seccions anteriors per poder determinar el Risc RESIDUAL a partir de l'Impacte i la Probabilitat residuals."}]
[null,"4B.2","Probabilitat inicial",null,null,null,null,null,null,null,null,{"$f":"+'4B.RISCOS DADES'!F31","v":"PENDENT"}]
[null,"4B.3","Risc inicial",null,null,null,null,null,null,null,null,{"$f":"+'4B.RISCOS DADES'!F32","v":"PENDENT"}]
[null,"4B.4","Controls de seguretat"]
[null,"4B.5","Impacte residual"]
[null,"4B.6","Probabilitat residual"]
[null,"4B.7","Estimació del risc residual"]
[]
[null,"ANNEX 1","Controls de Seguretat (Pla d'Implantació)",null,null,null,null,null,null,{"$f":"+IF('0.REQUISITS'!D28=\"NO\",\"No cal AIPD\",IF(G53=0,\"Secció completa\",CONCATENATE(\"Falta completar (\",G53,\"/\",F53+G53,\")\")))","v":"Secció completa"},null,2]
[null,"ANNEX 2","Documentació Annexada",{"$f":"IFERROR(F54/(F54+G54),0)","v":0},{"$f":"SUM(F54:I54)","v":20},{"$f":"+COUNTIF('VISTA ANNEXOS'!$O:$P,F4)","v":0},{"$f":"+COUNTIF('VISTA ANNEXOS'!Q:R,G4)","v":16},{"$f":"+COUNTIF('VISTA ANNEXOS'!$O:$P,H4)","v":0},{"$f":"+COUNTIF('VISTA ANNEXOS'!$O:$P,I4)","v":4},{"$f":"+IF(G54=0,\"Secció completa\",CONCATENATE(\"Falta completar (\",G54,\"/\",F54+G54,\")\"))","v":"Falta completar (16/16)"},null,1]
[]
[null,null,"VALORACIÓ GLOBAL",{"$f":"+F56/(F56+G56)","v":0},{"$f":"SUM(F56:I56)","v":15},{"$f":"+COUNTIF(VALORACIÓ!$Q:$Q,F4)","v":0},{"$f":"+COUNTIF(VALORACIÓ!$Q:$Q,G4)","v":13},{"$f":"+COUNTIF(VALORACIÓ!$Q:$Q,H4)","v":0},{"$f":"+COUNTIF(VALORACIÓ!$Q:$Q,I4)","v":2},{"$f":"+IF(G56=0,\"Secció completa\",CONCATENATE(\"Falta completar (\",G56,\"/\",F56+G56,\")\"))","v":"Falta completar (13/13)"},null,0]
[]
[]
[null,null,null,{"$f":"1-D5","v":1}]

{"sheet":"CONTROL","index":3,"n_rows":52,"n_cols":17,"rows_kept":52,"cut":false,"hidden":false,"merged":[[32,1,32,2],[32,3,32,4],[52,1,52,6],[49,1,49,6],[51,1,51,6],[42,1,42,6],[43,1,43,6],[44,1,44,6],[46,1,46,6],[48,1,48,6],[47,1,47,6],[45,1,45,6],[38,1,38,6],[39,1,39,6],[40,1,40,6],[41,1,41,6],[33,3,33,4],[34,3,34,4],[35,3,35,4],[35,1,35,2],[33,1,33,2],[34,1,34,2],[30,1,30,2],[30,3,30,4],[31,1,31,2],[31,3,31,4],[1,1,1,6],[7,1,8,6],[15,1,15,6],[26,1,26,6],[27,1,27,2],[27,3,27,4],[11,1,13,6],[4,1,4,3],[3,1,3,3],[5,1,5,3]]}
[]
[null,"AIPD\nAVALUACIÓ D´IMPACTE RELATIVA A LA PROTECCIÓ DE DADES \nPER A PROJECTES DE RECERCA I INNOVACIÓ EN L´ÀMBIT DE LA SALUT "]
[]
[null,"IDENTIFICACIÓ DEL PROJECTE (ACRÒNIM)",null,null,null,null,"CODIFICACIÓ DEL PROJECTE (CODI INTERN)",null,null,null,null,null,null,null,{"$f":"+IF(B5=\"\",\"INPUT REQ\",\"OK\")","v":"INPUT REQ"},null,{"$f":"+IF(O4=\"N/A\",\"N\",IF(O4=\"INPUT REQ\",\"BLANK\",\"OK\"))","v":"BLANK"}]
[null,null,null,null,null,null,null,null,null,null,null,null,null,null,{"$f":"+IF(G5=\"\",\"INPUT REQ\",\"OK\")","v":"INPUT REQ"},null,{"$f":"+IF(O5=\"N/A\",\"N\",IF(O5=\"INPUT REQ\",\"BLANK\",\"OK\"))","v":"BLANK"}]
[null,{"$f":"CONCATENATE(LEN(B5),\" caràcters\")","v":"0 caràcters"},null,null,null,null,{"$f":"CONCATENATE(LEN(G5),\" caràcters\")","v":"0 caràcters"}]
[null,"TÍTOL DEL PROJECTE"]
[null,null,null,null,null,null,null,null,null,null,null,null,null,null,{"$f":"+IF(B8=\"\",\"INPUT REQ\",\"OK\")","v":"INPUT REQ"},null,{"$f":"+IF(O8=\"N/A\",\"N\",IF(O8=\"INPUT REQ\",\"BLANK\",\"OK\"))","v":"BLANK"}]
[]
[null,null,null,null,null,null,{"$f":"CONCATENATE(IF(LEN(TRIM(B8))=0,0,LEN(TRIM(B8))-LEN(SUBSTITUTE(B8,\" \",\"\"))+1),\" paraules\")","v":"0 paraules"}]
[null,"RESUM DEL PROJECTE"]
[null,null,null,null,null,null,null,null,null,null,null,null,null,null,{"$f":"+IF(B12=\"\",\"INPUT REQ\",\"OK\")","v":"INPUT REQ"},null,{"$f":"+IF(O12=\"N/A\",\"N\",IF(O12=\"INPUT REQ\",\"BLANK\",\"OK\"))","v":"BLANK"}]
[]
[]
[null,null,null,null,null,null,{"$f":"CONCATENATE(IF(LEN(TRIM(B12))=0,0,LEN(TRIM(B12))-LEN(SUBSTITUTE(B12,\" \",\"\"))+1),\" paraules\")","v":"0 paraules"}]
[null,"CONTROL DE VERSIONS, MODIFICACIONS I VALIDACIONS"]
[null,"VERSIÓ","DATA","Creat per","Modificat","Revisat i Aprovat"," DESCRIPCIÓ DE VERSIÓ I CANVIS"]
[null,null,null,null,null,null,null,null,null,null,null,null,null,null,{"$f":"IF(COUNTIF(B18:G25,\"<>\"&\"\")>0,\"OK\",\"INPUT REQ\")","v":"INPUT REQ"},null,{"$f":"+IF(O18=\"N/A\",\"N\",IF(O18=\"INPUT REQ\",\"BLANK\",\"OK\"))","v":"BLANK"}]
[]
[]
[]
[]
[]
[]
[]
[]
[null,"RESPONSABLES I CONTACTE"]
[null,"NOM",null,"ENTITAT",null,"ROL","e-mail"]
[null,null,null,null,null,null,null,null,null,null,null,null,null,null,{"$f":"IF(COUNTIF(B29:G35,\"<>\"&\"\")>0,\"OK\",\"INPUT REQ\")","v":"INPUT REQ"},null,{"$f":"+IF(O29=\"N/A\",\"N\",IF(O29=\"INPUT REQ\",\"BLANK\",\"OK\"))","v":"BLANK"}]
[]
[]
[]
[]
[]
[]
[]
[]
[]
[]
[null,"© Fundació TIC Salut Social "]
[null,"C/de Roc Boronat, 81-95 08005 – Barcelona Tel: +34 93 553 26 42 "]
[null,"Web: https://ticsalutsocial.cat/"]
[null,"correu electrònic: info@ticsalutsocial.cat"]
[]
[null,"© Ricard Mas (Digiturn, The Chain Partners), Itziar de Lecuona (Observatori de Bioètica i Dret, Universitat de Barcelona)"]
[null,"Paula Subías-Beltrán (Observatori de Bioètica i Dret, Universitat de Barcelona), Briant Gerlach (Digiturn)"]
[null,"Revisió per TIC Salut: María José Campo, Arantxa Casanovas, Oriol Castaño, Sara Hernández, Miriam Méndez, Robert Rubió i Lluís Sabaté."]
[null,"2020"]
[null,"Metodologia i eina creades sobre la base de la Plantilla d´avaluació d´impacte relativa a la protecció de dades de l´Autoritat Catalana de Protecció de Dades"]
[null,"https://apdcat.gencat.cat/ca/drets_i_obligacions/responsables/obligacions/avaluacio-impacte-relativa-proteccio-dades/"]
[]
[null,"Llicència Creative Commons\nReconeixement-NoComercial-CompartirIgual\nCC BY-NC-SA"]

{"sheet":"RACI AIPD","index":4,"n_rows":19,"n_cols":6,"rows_kept":19,"cut":false,"hidden":true,"merged":[[16,1,16,5],[17,1,17,5],[18,1,18,5],[15,1,15,5]]}
[]
[null,"RACI estableix les següents figures de responsabilitat en l’elaboració de l’AIPD: "]
[null,"A continuació es mostra per cada fase de l’AIPD els rols dels intervinents i les responsabilitats: "]
[]
[]
[null,"SECCIÓ","Responsable del tractament","DPD","Encarregat del tractament","Altres àrees de suport (seguretat, assessoria jurídica,...)"]
[null,"0. Cal fer una AIPD? ","R/A","C/I","C","C"]
[null,"1. Descripció sistemàtica de les operacions del tractament","R/A","C/I","C","C"]
[null,"2. Analitzar la necessitat i proporcionalitat del tractament","R/A","C/I","C","C"]
[null,"3. Controls per Garantir els Drets de les Persones","R/A","C/I","C","C"]
[null,"4. Identificar i avaluar riscos (4A i 4B)","R/A","C/I","C","-"]
[null,"5. Tractar els riscos","R/A","C/I","C","C"]
[null,"6. Pla d’acció o conclusions","R/A","C/I","C","C"]
[]
[null,"LLEGENDA RACI:"]
[null," · Responsible (R): Responsable de realitzar la tasca."]
[null," · Accountable (A): Responsable de que la tasca es realitzi (no cal que la executi) i responsable de donar explicacions sobre la execució. "]
[null," · Consulted (C): Figura que ha d’esser consultat per realitzar la tasca. "]
[null," · Informed (I): Figura que ha der ser informada sobre la realització de la tasca. "]

{"sheet":"0.REQUISITS","index":5,"n_rows":42,"n_cols":18,"rows_kept":42,"cut":false,"hidden":false,"merged":[[39,2,39,3],[40,2,40,3],[3,2,3,3],[4,2,4,3],[5,2,5,3],[36,2,36,3],[37,2,37,3],[38,2,38,3],[29,2,29,3],[30,2,30,3]]}
[null,null,{"$f":"+AUX_RESUM!D7","v":0},{"$f":"+IF(COUNTIF(N28:O31,\"RED\")>0,3,IF(COUNTIF(N28:O31,\"AMBER\")>0,2,1))","v":1}]
["CONTROL DE CANVIS",null,"0. CAL FER UNA AIPD?",null,null,null,null,null,null,null,null,null,null,"CELL FORMATS",null,"COMPL STATUS"]
[null,null,"A) INFORMACIÓ DEL PROJECTE","SI/NO","Descriviu, si escau"]
["CONSERVAT",null,"Títol del Projecte",null,{"$f":"+IF(CONTROL!B8=\"\",\"Empleneu a la pestanya de CONTROL\",CONTROL!B8)","v":"Empleneu a la pestanya de CONTROL"},null,null,null,null,null,null,null,null,{"$f":"+IF(OR(E4=\"Empleneu a la pestanya de CONTROL\",E4=\"\"),\"N/A\",\"OK\")","v":"N/A"},null,"CALCULATED"]
["CONSERVAT",null,"Resum del Projecte",null,{"$f":"+IF(CONTROL!B12=\"\",\"Empleneu a la pestanya de CONTROL\",CONTROL!B12)","v":"Empleneu a la pestanya de CONTROL"},null,null,null,null,null,null,null,null,{"$f":"+IF(OR(E5=\"Empleneu a la pestanya de CONTROL\",E5=\"\"),\"N/A\",\"OK\")","v":"N/A"},null,"CALCULATED",null,{"$f":"CONCATENATE(IF(LEN(TRIM(E5))=0,0,LEN(TRIM(E5))-LEN(SUBSTITUTE(E5,\" \",\"\"))+1),\" paraules\")","v":"6 paraules"}]
["CONSERVAT",null,"Breu descripció del(s) tractament(s) \nIndiqueu-ne la naturalesa, l'àmbit i el context en què es farà",null,null,null,null,null,null,null,null,null,null,{"$f":"+IF(E6=\"\",\"INPUT REQ\",\"OK\")","v":"INPUT REQ"},null,{"$f":"+IF(N6=\"N/A\",\"N\",IF(N6=\"INPUT REQ\",\"BLANK\",\"OK\"))","v":"BLANK"},null,{"$f":"CONCATENATE(IF(LEN(TRIM(E6))=0,0,LEN(TRIM(E6))-LEN(SUBSTITUTE(E6,\" \",\"\"))+1),\" paraules\")","v":"0 paraules"}]
["CONSERVAT",null,"Aquesta AIPD cobreix tots els tractaments del projecte? \nEn cas contrari, descriviu l'abast concret d'aquesta AIPD",null,null,null,null,null,null,null,null,null,null,{"$f":"+IF(D7=\"\",\"INPUT REQ\",\"OK\")","v":"INPUT REQ"},{"$f":"+IF(D7<>\"NO\",\"N/A\",IF(E7=\"\",\"INPUT REQ\",\"OK\"))","v":"N/A"},{"$f":"+IF(N7=\"N/A\",\"N\",IF(N7=\"INPUT REQ\",\"BLANK\",\"OK\"))","v":"BLANK"},{"$f":"+IF(O7=\"N/A\",\"N\",IF(O7=\"INPUT REQ\",\"BLANK\",\"OK\"))","v":"N"},{"$f":"CONCATENATE(IF(LEN(TRIM(E7))=0,0,LEN(TRIM(E7))-LEN(SUBSTITUTE(E7,\" \",\"\"))+1),\" paraules\")","v":"0 paraules"}]
[null,null,"B) SUPÒSITS D'EXEMPCIÓ","SI/NO","Justifiqueu, si escau"]
["CONSERVAT",null,"El tractament té naturalesa, abast, context i finalitat semblant a un altre tractament pel qual ja s’ha fet una AIPD.",null,null,null,null,null,null,null,null,null,null,{"$f":"+IF(D9=\"\",\"INPUT REQ\",IF(D9=\"SI\",\"AMBER\",\"OK\"))","v":"INPUT REQ"},{"$f":"IF(D9=\"SI\",IF(E9=\"\",\"INPUT REQ\",\"OK\"),\"N/A\")","v":"N/A"},{"$f":"+IF(N9=\"N/A\",\"N\",IF(N9=\"INPUT REQ\",\"BLANK\",\"OK\"))","v":"BLANK"},{"$f":"+IF(O9=\"N/A\",\"N\",IF(O9=\"INPUT REQ\",\"BLANK\",\"OK\"))","v":"N"},{"$f":"CONCATENATE(IF(LEN(TRIM(E9))=0,0,LEN(TRIM(E9))-LEN(SUBSTITUTE(E9,\" \",\"\"))+1),\" paraules\")","v":"0 paraules"}]
["CONSERVAT",null,"El tractament té una base jurídica en el dret de la UE o d’un estat membre, i ja s’ha realitzat una AIPD en el moment d’adoptar aquesta base jurídica.",null,null,null,null,null,null,null,null,null,null,{"$f":"+IF(D10=\"\",\"INPUT REQ\",IF(D10=\"SI\",\"AMBER\",\"OK\"))","v":"INPUT REQ"},{"$f":"IF(D10=\"SI\",IF(E10=\"\",\"INPUT REQ\",\"OK\"),\"N/A\")","v":"N/A"},{"$f":"+IF(N10=\"N/A\",\"N\",IF(N10=\"INPUT REQ\",\"BLANK\",\"OK\"))","v":"BLANK"},{"$f":"+IF(O10=\"N/A\",\"N\",IF(O10=\"INPUT REQ\",\"BLANK\",\"OK\"))","v":"N"}]
["NOU",null,"Documentació annexada d'AIPDs prèvies ","SI/NO","Comenteu, si escau"]
["NOU",null,"AIPD prèvia",null,null,null,null,null,null,null,null,null,null,{"$f":"IF(COUNTIF($D$9:$D$10,\"SI\")=0,\"N/A\",IF(D12=\"\",\"INPUT REQ\",IF(D12=\"SI\",\"OK\",\"AMBER\")))","v":"N/A"},null,{"$f":"+IF(N12=\"N/A\",\"N\",IF(N12=\"INPUT REQ\",\"BLANK\",\"OK\"))","v":"N"}]
["NOU",null,"Informe Favorable del Comitè d'Ètica de Recerca corresponent",null,null,null,null,null,null,null,null,null,null,{"$f":"IF(COUNTIF($D$9:$D$10,\"SI\")=0,\"N/A\",IF(D13=\"\",\"INPUT REQ\",IF(D13=\"SI\",\"OK\",\"AMBER\")))","v":"N/A"},null,{"$f":"+IF(N13=\"N/A\",\"N\",IF(N13=\"INPUT REQ\",\"BLANK\",\"OK\"))","v":"N"}]
["NOU",null,"Altres (indiqueu quants, i enumereu-los a comentaris)",null,null,null,null,null,null,null,null,null,null,{"$f":"IF(COUNTIF($D$9:$D$10,\"SI\")=0,\"N/A\",IF(D14=\"\",\"INPUT REQ\",\"OK\"))","v":"N/A"},{"$f":"IF(COUNTIF($D$9:$D$10,\"SI\")>0,IF(D14>0,IF(E14=\"\",\"INPUT REQ\",\"OK\"),\"N/A\"),\"N/A\")","v":"N/A"},{"$f":"+IF(N14=\"N/A\",\"N\",IF(N14=\"INPUT REQ\",\"BLANK\",\"OK\"))","v":"N"},{"$f":"+IF(O14=\"N/A\",\"N\",IF(O14=\"INPUT REQ\",\"BLANK\",\"OK\"))","v":"N"},{"$f":"CONCATENATE(IF(LEN(TRIM(E14))=0,0,LEN(TRIM(E14))-LEN(SUBSTITUTE(E14,\" \",\"\"))+1),\" paraules\")","v":"0 paraules"}]
[null,null,"C) INDICADOR DE POTENCIAL RISC ALT (+ info)","SI/NO","Comenteu, si escau"]
["NOU (CANVI)",null,"1. Tractaments que impliquin perfilat, avaluació o valoració de persones",null,null,null,null,null,null,null,null,null,null,{"$f":"+IF(COUNTIF($D$9:$D$10,\"SI\")>0,\"N/A\",IF(D16=\"\",\"INPUT REQ\",IF(D16=\"SI\",\"AMBER\",\"GREEN\")))","v":"INPUT REQ"},null,{"$f":"+IF(N16=\"N/A\",\"N\",IF(N16=\"INPUT REQ\",\"BLANK\",\"OK\"))","v":"BLANK"}]
["NOU (CANVI)",null,"2. Tractaments que impliquin la presa de decisions automatitzades o que contribueixin en gran mesura a la presa d'aquestes decisions",null,null,null,null,null,null,null,null,null,null,"INPUT REQ",null,"BLANK"]
["NOU (CANVI)",null,"3. Tractaments que impliquin l'observació, monitorització, seguiment, geolocalització o control de l'interessat de forma sistemàtica i exhaustiva",null,null,null,null,null,null,null,null,null,null,"INPUT REQ",null,"BLANK"]
["NOU (CANVI)",null,"4. Tractaments que impliquin l'ús de categories especials de dades, dades relatives a condemnes o delictes penals, o dades per determinar la situació financera o la solvència financera",null,null,null,null,null,null,null,null,null,null,"INPUT REQ",null,"BLANK"]
["NOU (CANVI)",null,"5. Tractaments que impliquin l'ús de dades biomètriques amb la finalitat d'identificar de manera única una persona física",null,null,null,null,null,null,null,null,null,null,"INPUT REQ",null,"BLANK"]
["NOU (CANVI)",null,"6. Tractaments que impliquin l'ús de dades genètiques per a qualsevol propòsit",null,null,null,null,null,null,null,null,null,null,"INPUT REQ",null,"BLANK"]
["NOU (CANVI)",null,"7. Tractaments que impliquin l'ús de dades a gran escala de dades personals de categories especials o relatius a condemnes i infraccions penals",null,null,null,null,null,null,null,null,null,null,"INPUT REQ",null,"BLANK"]
["NOU (CANVI)",null,"8. Tractaments que impliquin l'associació, combinació o enllaç de registres de bases de dades de dos o més tractaments amb finalitats diferents o gestionats per responsables diferents",null,null,null,null,null,null,null,null,null,null,"INPUT REQ",null,"BLANK"]
["NOU (CANVI)",null,"9. Tractament de dades de persones vulnerables o en risc d'exclusió social",null,null,null,null,null,null,null,null,null,null,"INPUT REQ",null,"BLANK"]
["NOU (CANVI)",null,"10. Tractaments que impliquin l'ús de noves tecnologies o un ús innovador de les tecnologies consolidades",null,null,null,null,null,null,null,null,null,null,"INPUT REQ",null,"BLANK"]
["NOU (CANVI)",null,"11. Tractament de dades que impedeixin que els interessats puguin exercir els seus drets, utilitzar un servei o executar un contracte",null,null,null,null,null,null,null,null,null,null,"INPUT REQ",null,"BLANK"]
[null,null,"D) CONCLUSIÓ","SI/NO","Comenteu, si escau",null,null,null,null,null,null,null,null,"IF(AND(COUNTIF(D11:D12;\"\")=2;COUNTIF(D19:D29;\"\")=11);\"\";IF(AND(COUNTIF($D$11:$D$12;\"SI\")=0;COUNTIF($D$19:$D$29;\"SI\")>0);\"SI\";\"NO\"))"]
["CONSERVAT",null,"CAL FER L'AIPD?  \n(cel·la autoemplenada - podeu sobrescriure si no hi esteu d'acord)",{"$f":"+IF(AND(COUNTIF(D9:D10,\"\")=2,COUNTIF(D16:D26,\"\")=11),\"\",IF(AND(COUNTIF($D$9:$D$10,\"SI\")=0,COUNTIF($D$16:$D$26,\"SI\")>0),\"SI\",\"NO\"))","v":""},null,null,null,null,null,null,null,null,null,{"$f":"+IF(D28=\"\",\"N/A\",IF(AND(D28=\"NO\",COUNTIF($D$9:$D$10,\"SI\")=0,COUNTIF($D$16:$D$26,\"SI\")>0),IF(COUNTIF($D$16:$D$26,\"SI\")>=2,\"RED\",\"AMBER\"),\"OK\"))","v":"N/A"},{"$f":"+IF(E28=\"\",IF(AND(D28=\"NO\",COUNTIF($D$9:$D$10,\"SI\")=0,COUNTIF($D$16:$D$26,\"SI\")>0),\"INPUT REQ\",\"N/A\"),\"OK\")","v":"N/A"},"CALCULATED",{"$f":"+IF(O28=\"N/A\",\"N\",IF(O28=\"INPUT REQ\",\"BLANK\",\"OK\"))","v":"N"},{"$f":"CONCATENATE(IF(LEN(TRIM(E28))=0,0,LEN(TRIM(E28))-LEN(SUBSTITUTE(E28,\" \",\"\"))+1),\" paraules\")","v":"0 paraules"}]
["CONSERVAT",null,"S'ha nomenat un DPD? (Delegat de Protecció de Dades)",null,"",null,null,null,null,null,null,null,null,{"$f":"+IF(D29=\"\",\"INPUT REQ\",IF(D29=\"NO\",\"AMBER\",\"OK\"))","v":"INPUT REQ"},null,{"$f":"+IF(N29=\"N/A\",\"N\",IF(N29=\"INPUT REQ\",\"BLANK\",\"OK\"))","v":"BLANK"}]
["CONSERVAT",null,"En cas afirmatiu, quina és l'opinió del DPD respecte de la necessitat de fer una AIPD?",null,null,null,null,null,null,null,null,null,null,{"$f":"IF(D29<>\"SI\",\"N/A\",IF(E30=\"\",\"INPUT REQ\",\"OK\"))","v":"N/A"},null,{"$f":"+IF(N30=\"N/A\",\"N\",IF(N30=\"INPUT REQ\",\"BLANK\",\"OK\"))","v":"N"},null,{"$f":"CONCATENATE(IF(LEN(TRIM(E30))=0,0,LEN(TRIM(E30))-LEN(SUBSTITUTE(E30,\" \",\"\"))+1),\" paraules\")","v":"0 paraules"}]
["CONSERVAT",null,"En cas contrari, justifiqueu perquè no s'ha nomenat un DPD",null,null,null,null,null,null,null,null,null,null,{"$f":"IF(D29<>\"NO\",\"N/A\",IF(E31=\"\",\"INPUT REQ\",\"OK\"))","v":"N/A"},null,{"$f":"+IF(N31=\"N/A\",\"N\",IF(N31=\"INPUT REQ\",\"BLANK\",\"OK\"))","v":"N"},null,{"$f":"CONCATENATE(IF(LEN(TRIM(E31))=0,0,LEN(TRIM(E31))-LEN(SUBSTITUTE(E31,\" \",\"\"))+1),\" paraules\")","v":"0 paraules"}]
[]
[]
[]
[]
[]
["NOU",null,"ÀREA D'ÚS EXCLUSIU DE L'AVALUADOR"]
["NOU",null,"VALORACIÓ (Seleccioneu)"]
["NOU",null,null,null,null,null,null,null,null,null,null,null,null,{"$f":"+IF(OR(C39=\"\",C39=\"PENDENT DE VALORACIÓ\"),\"INPUT REQ\",IF(C39=\"Acceptada\",\"GREEN\",IF(C39=\"Denegada\",\"RED\",\"AMBER\")))","v":"INPUT REQ"}]
["NOU",null,"COMENTARIS DE L'AVALUADOR"]
["NOU",null,null,null,null,null,null,null,null,null,null,null,null,{"$f":"+IF(C41=\"\",\"INPUT REQ\",\"OK\")","v":"INPUT REQ"}]
[null,null,null,{"$f":"CONCATENATE(IF(LEN(TRIM(C41))=0,0,LEN(TRIM(C41))-LEN(SUBSTITUTE(C41,\" \",\"\"))+1),\" paraules\")","v":"0 paraules"}]

{"sheet":"1.TRACT","index":6,"n_rows":159,"n_cols":18,"rows_kept":159,"cut":false,"hidden":false,"merged":[[0,6,0,11],[60,2,100,2],[102,2,115,2],[117,2,129,2],[31,2,58,2],[30,2,30,8],[2,2,2,3],[3,2,29,2],[21,5,21,7],[13,3,13,6],[7,4,7,7],[8,4,8,7],[24,5,24,7],[25,5,25,7],[29,5,29,7],[9,4,9,7],[10,4,10,7],[11,4,11,7],[19,5,19,7],[20,5,20,7],[2,4,2,7],[3,4,3,7],[4,4,4,7],[5,4,5,7],[6,4,6,7],[146,6,146,10],[157,3,157,4],[101,2,101,8],[116,2,116,8],[130,2,130,8],[131,2,149,2],[158,3,158,4],[155,3,155,4],[156,3,156,4],[154,3,154,4],[147,6,147,10],[148,6,148,10],[149,6,149,10],[73,3,73,8],[12,3,12,6],[22,5,22,7],[23,5,23,7],[14,5,14,7],[15,5,15,7],[16,5,16,7],[17,5,17,7],[18,5,18,7],[59,2,59,8],[26,5,26,7],[27,5,27,7],[28,5,28,7],[1,2,1,3],[0,2,0,4],[87,3,87,8],[50,5,50,8],[51,5,51,8],[52,5,52,8],[53,5,53,8],[54,5,54,8],[55,5,55,8],[56,5,56,8],[57,5,57,8],[58,5,58,8],[45,6,45,8],[46,6,46,8],[47,6,47,8],[48,6,48,8]]}
[null,null,{"$f":"+AUX_RESUM!D12","v":0},null,null,{"$f":"+IF(COUNTIF(O2:P150,\"RED\")>0,3,IF(COUNTIF(O2:P150,\"AMBER\")>0,2,1))","v":1},{"$f":"+VLOOKUP(F1,AUX.Avisos[],2,)","v":"NO S'HAN IDENTIFICAT ELEMENTS DE RISC"},null,null,null,null,null,null,null,{"$f":"+VLOOKUP(F1,AUX.Avisos[],3,)","v":"OK"}]
[null,null,"1. DESCRIPCIÓ DEL TRACTAMENT",null,null,null,null,null,null,null,null,null,null,null,"CELL FORMATS1","CELL FORMATS2","COMPL STATUS1","COMPL STATUS2"]
["T10",null,"1.1   NATURALESA I FINALITAT DEL TRACTAMENT",null,"Descriviu, si escau"]
[{"$f":"A3","v":"T10"},null,{"$f":"+A4","v":"T10"},"Títol del Projecte",{"$f":"+IF(CONTROL!B8=\"\",\"Empleneu a la pestanya de CONTROL\",CONTROL!B8)","v":"Empleneu a la pestanya de CONTROL"},null,null,null,null,null,null,null,null,null,{"$f":"+IF(OR(E4=\"Empleneu a la pestanya de CONTROL\",E4=\"\"),\"N/A\",\"OK\")","v":"N/A"},null,"CALCULATED"]
["T10",null,null,"Resum del Projecte",{"$f":"+IF(CONTROL!B12=\"\",\"Empleneu a la pestanya de CONTROL\",CONTROL!B12)","v":"Empleneu a la pestanya de CONTROL"},null,null,null,null,null,null,null,null,null,{"$f":"+IF(OR(E5=\"Empleneu a la pestanya de CONTROL\",E5=\"\"),\"N/A\",\"OK\")","v":"N/A"},null,"CALCULATED"]
["T10",null,null,"Descripció detallada del tractament",null,null,null,null,null,null,null,null,null,null,{"$f":"+IF(E6=\"\",\"INPUT REQ\",\"OK\")","v":"INPUT REQ"},null,{"$f":"+IF(O6=\"N/A\",\"N\",IF(O6=\"INPUT REQ\",\"BLANK\",\"OK\"))","v":"BLANK"}]
["T10",null,null,"Finalitat (o finalitats) del tractament",null,null,null,null,null,null,null,null,null,null,"INPUT REQ",null,{"$f":"+IF(O7=\"N/A\",\"N\",IF(O7=\"INPUT REQ\",\"BLANK\",\"OK\"))","v":"BLANK"}]
["T10",null,null,"Nom del tractament",null,null,null,null,null,null,null,null,null,null,"INPUT REQ",null,{"$f":"+IF(O8=\"N/A\",\"N\",IF(O8=\"INPUT REQ\",\"BLANK\",\"OK\"))","v":"BLANK"}]
["T10",null,null,"Referència al registre d'activitats de tractament",null,null,null,null,null,null,null,null,null,null,"INPUT REQ",null,"BLANK"]
["T10",null,null,"Altres tractaments associats a l'AIPD",null,null,null,null,null,null,null,null,null,null,"INPUT REQ",null,"BLANK"]
["T10",null,null,"Enllaç a informació de projecte, si escau ",null,null,null,null,null,null,null,null,null,null,"INPUT REQ",null,"BLANK"]
["T10",null,null,"Descriviu si hi ha estàndards aplicables al procés (certificació/codi conducta), i quins són",null,null,null,null,null,null,null,null,null,null,"INPUT REQ",null,"BLANK"]
["T10",null,null,"Fluxe de dades - inseriu-lo en format d'imatge (jpg, png, etc)",null,null,null,"Comenteu. Si escau"]
["T10",null,null,"INSERIU AQUÍ EL FLUXE DE DADES EN FORMAT D'IMATGE"]
["T10",null,null,"Documentació annexada del Tractament: ","SI/NO","Comenteu, si escau"]
["T10",null,null,"Protocol",null,null,null,null,null,null,null,null,null,null,{"$f":"+IF('0.REQUISITS'!$D$28=\"NO\",\"N/A\",IF(E16=\"\",\"INPUT REQ\",\"OK\"))","v":"INPUT REQ"},null,{"$f":"+IF(O16=\"N/A\",\"N\",IF(O16=\"INPUT REQ\",\"BLANK\",\"OK\"))","v":"BLANK"}]
["T10",null,null,"Full d'informació i consentiment informat",null,null,null,null,null,null,null,null,null,null,{"$f":"+IF('0.REQUISITS'!$D$28=\"NO\",\"N/A\",IF(E17=\"\",\"INPUT REQ\",\"OK\"))","v":"INPUT REQ"},null,{"$f":"+IF(O17=\"N/A\",\"N\",IF(O17=\"INPUT REQ\",\"BLANK\",\"OK\"))","v":"BLANK"}]
["T10",null,null,"DMP (Data Management Plan) de recerca",null,null,null,null,null,null,null,null,null,null,{"$f":"+IF('0.REQUISITS'!$D$28=\"NO\",\"N/A\",IF(E18=\"\",\"INPUT REQ\",\"OK\"))","v":"INPUT REQ"},null,"BLANK"]
["T10",null,null,"Avís Legal",null,null,null,null,null,null,null,null,null,null,{"$f":"+IF('0.REQUISITS'!$D$28=\"NO\",\"N/A\",IF(E19=\"\",\"INPUT REQ\",\"OK\"))","v":"INPUT REQ"},null,{"$f":"+IF(O19=\"N/A\",\"N\",IF(O19=\"INPUT REQ\",\"BLANK\",\"OK\"))","v":"BLANK"}]
["T10",null,null,"Condicions d'ús",null,null,null,null,null,null,null,null,null,null,{"$f":"+IF('0.REQUISITS'!$D$28=\"NO\",\"N/A\",IF(E20=\"\",\"INPUT REQ\",\"OK\"))","v":"INPUT REQ"},null,"BLANK"]
["T10",null,null,"Diagrama de Flux del cicle de dades",null,null,null,null,null,null,null,null,null,null,{"$f":"+IF('0.REQUISITS'!$D$28=\"NO\",\"N/A\",IF(E21=\"\",\"INPUT REQ\",\"OK\"))","v":"INPUT REQ"},null,"BLANK"]
["T10",null,null,"Documentació tècnica del projecte",null,null,null,null,null,null,null,null,null,null,{"$f":"+IF('0.REQUISITS'!$D$28=\"NO\",\"N/A\",IF(E22=\"\",\"INPUT REQ\",\"OK\"))","v":"INPUT REQ"},null,"BLANK"]
["T10",null,null,"Documentació funcional del projecte",null,null,null,null,null,null,null,null,null,null,{"$f":"+IF('0.REQUISITS'!$D$28=\"NO\",\"N/A\",IF(E23=\"\",\"INPUT REQ\",\"OK\"))","v":"INPUT REQ"},null,"BLANK"]
["T10",null,null,"Document Gestió d'usuaris i permisos",null,null,null,null,null,null,null,null,null,null,{"$f":"+IF('0.REQUISITS'!$D$28=\"NO\",\"N/A\",IF(E24=\"\",\"INPUT REQ\",\"OK\"))","v":"INPUT REQ"},null,"BLANK"]
["T10",null,null,"Procediment per a l'exercici de drets (ARCOPOL)",null,null,null,null,null,null,null,null,null,null,{"$f":"+IF('0.REQUISITS'!$D$28=\"NO\",\"N/A\",IF(E25=\"\",\"INPUT REQ\",\"OK\"))","v":"INPUT REQ"},null,"BLANK"]
["T10",null,null,"Política de privacitat",null,null,null,null,null,null,null,null,null,null,{"$f":"+IF('0.REQUISITS'!$D$28=\"NO\",\"N/A\",IF(E26=\"\",\"INPUT REQ\",\"OK\"))","v":"INPUT REQ"},null,"BLANK"]
["T10",null,null,"Acords de Tractament de Dades",null,null,null,null,null,null,null,null,null,null,{"$f":"+IF('0.REQUISITS'!$D$28=\"NO\",\"N/A\",IF(E27=\"\",\"INPUT REQ\",\"OK\"))","v":"INPUT REQ"},null,"BLANK"]
["T10",null,null,"Acords de Transferència de Dades (DTA)",null,null,null,null,null,null,null,null,null,null,{"$f":"+IF('0.REQUISITS'!$D$28=\"NO\",\"N/A\",IF(E28=\"\",\"INPUT REQ\",\"OK\"))","v":"INPUT REQ"},null,{"$f":"+IF(O28=\"N/A\",\"N\",IF(O28=\"INPUT REQ\",\"BLANK\",\"OK\"))","v":"BLANK"}]
["T10",null,null,"Acords de Transferència de Material Biològic Humà (MTA)",null,null,null,null,null,null,null,null,null,null,{"$f":"+IF('0.REQUISITS'!$D$28=\"NO\",\"N/A\",IF(E29=\"\",\"INPUT REQ\",\"OK\"))","v":"INPUT REQ"},null,{"$f":"+IF(O29=\"N/A\",\"N\",IF(O29=\"INPUT REQ\",\"BLANK\",\"OK\"))","v":"BLANK"}]
[{"$f":"A26","v":"T10"},null,null,"Altres (indiqueu quants, i enumereu-los a comentaris)",null,null,null,null,null,null,null,null,null,null,{"$f":"+IF('0.REQUISITS'!$D$28=\"NO\",\"N/A\",IF(E30=\"\",\"INPUT REQ\",\"OK\"))","v":"INPUT REQ"},{"$f":"+IF(E30>0,IF(F30=\"\",\"INPUT REQ\",\"OK\"),\"N/A\")","v":"N/A"},"BLANK",{"$f":"+IF(P30=\"N/A\",\"N\",IF(P30=\"INPUT REQ\",\"BLANK\",\"OK\"))","v":"N"}]
["T20",null,"1.2   ACTORS QUE INTERVENEN EN EL TRACTAMENT"]
["T20",null,{"$f":"+A32","v":"T20"},"Entitat","Nom (persona), si escau","Càrrec dins de l'entitat","Funció dins del projecte","Rol de Tractament de Dades","Processos en que intervé"]
[{"$f":"A32","v":"T20"},null,null,null,null,null,null,null,null,null,null,null,null,null,{"$f":"+IF(COUNTIF(E33:E44,\"<>\"&\"\")>0,\"OK\",\"INPUT REQ\")","v":"INPUT REQ"},null,{"$f":"+IF(O33=\"N/A\",\"N\",IF(O33=\"INPUT REQ\",\"BLANK\",\"OK\"))","v":"BLANK"}]
["T20"]
["T20"]
["T20"]
["T20"]
["T20"]
["T20"]
["T20"]
["T20"]
["T20"]
["T20"]
["T20"]
["T20"]
["T20",null,null,"Documentació annexada de Rols i Responsabilitats","SI/NO","Data de signatura de clàusules","Comenteu, si escau"]
["T20",null,null,"Acord de Corresponsabilitat",null,null,null,null,null,null,null,null,null,null,{"$f":"+IF(OR('0.REQUISITS'!$D$28=\"NO\",COUNTIF(ActorsTractament[Rol de Tractament de Dades],\"Corresponsable\")=0),\"N/A\",IF(E47=\"\",\"INPUT REQ\",IF(E47=\"NO\",\"AMBER\",\"OK\")))","v":"N/A"},{"$f":"+IF('0.REQUISITS'!$D$28=\"NO\",\"N/A\",IF(E47<>\"NO\",\"N/A\",IF(F47=\"\",\"INPUT REQ\",IF(F47<TODAY(),\"RED\",\"OK\"))))","v":"N/A"},{"$f":"+IF(O47=\"N/A\",\"N\",IF(O47=\"INPUT REQ\",\"BLANK\",\"OK\"))","v":"N"},"N"]
["T20",null,null,"Acord d'Encarregat de Tractament",null,null,null,null,null,null,null,null,null,null,{"$f":"+IF(OR('0.REQUISITS'!$D$28=\"NO\",AND(COUNTIF(ActorsTractament[Rol de Tractament de Dades],\"Encarregat\")=0,COUNTIF(ActorsTractament[Rol de Tractament de Dades],\"Subencarregat\")=0)),\"N/A\",IF(E48=\"\",\"INPUT REQ\",IF(E48=\"NO\",\"AMBER\",\"OK\")))","v":"N/A"},{"$f":"+IF('0.REQUISITS'!$D$28=\"NO\",\"N/A\",IF(E48<>\"NO\",\"N/A\",IF(F48=\"\",\"INPUT REQ\",IF(F48<TODAY(),\"RED\",\"OK\"))))","v":"N/A"},"N","N"]
["T20",null,null,"Altres (indiqueu quants, i enumereu-los a comentaris)",null,null,null,null,null,null,null,null,null,null,{"$f":"+IF('0.REQUISITS'!$D$28=\"NO\",\"N/A\",IF(E49=\"\",\"INPUT REQ\",\"OK\"))","v":"INPUT REQ"},{"$f":"+IF('0.REQUISITS'!$D$28=\"NO\",\"N/A\",IF(E49>0,IF(G49=\"\",\"INPUT REQ\",\"OK\"),\"N/A\"))","v":"N/A"},"BLANK",{"$f":"+IF(P49=\"N/A\",\"N\",IF(P49=\"INPUT REQ\",\"BLANK\",\"OK\"))","v":"N"}]
["T20"]
["T20",null,null,"Relacions entre diferents responsables (corresponsabilitat)","SI/NO","Comenteu, si escau"]
["T20",null,null,"Estan involucrats diferents responsables de tractament?",{"$f":"+IF(COUNTIF(ActorsTractament[Rol de Tractament de Dades],\"Corresponsable\")>0,\"SI\",\"NO\")","v":"NO"},null,null,null,null,null,null,null,null,null,{"$f":"+IF('0.REQUISITS'!$D$28=\"NO\",\"N/A\",IF(E52=\"\",\"INPUT REQ\",\"OK\"))","v":"OK"},null,"CALCULATED"]
["T20",null,null,"S'ha elaborat el corresponent acord de corresponsabilitat? Expliqueu-ho.",null,null,null,null,null,null,null,null,null,null,{"$f":"IF(E$52=\"SI\",IF('0.REQUISITS'!$D$28=\"NO\",\"N/A\",IF(E53=\"\",\"INPUT REQ\",IF(E53=\"SI\",\"GREEN\",\"AMBER\"))),\"N/A\")","v":"N/A"},{"$f":"+IF(E53>0,IF(F53=\"\",\"INPUT REQ\",\"OK\"),\"N/A\")","v":"N/A"},{"$f":"+IF(O53=\"N/A\",\"N\",IF(O53=\"INPUT REQ\",\"BLANK\",\"OK\"))","v":"N"},{"$f":"+IF(P53=\"N/A\",\"N\",IF(P53=\"INPUT REQ\",\"BLANK\",\"OK\"))","v":"N"}]
["T20",null,null,"En l'acord es defineixen clarament les responsabilitats de cadascú? Expliqueu-ho.",null,null,null,null,null,null,null,null,null,null,{"$f":"IF(E$52=\"SI\",IF('0.REQUISITS'!$D$28=\"NO\",\"N/A\",IF(E54=\"\",\"INPUT REQ\",IF(E54=\"SI\",\"GREEN\",\"AMBER\"))),\"N/A\")","v":"N/A"},{"$f":"+IF(E54>0,IF(F54=\"\",\"INPUT REQ\",\"OK\"),\"N/A\")","v":"N/A"},"N",{"$f":"+IF(P54=\"N/A\",\"N\",IF(P54=\"INPUT REQ\",\"BLANK\",\"OK\"))","v":"N"}]
["T20",null,null,"Relacions amb els encarregats de tractament","SI/NO","Comenteu, si escau"]
["T20",null,null,"Existeixen encarregats del tractament?",{"$f":"+IF(OR(COUNTIF(ActorsTractament[Rol de Tractament de Dades],\"Encarregat\")>0,COUNTIF(ActorsTractament[Rol de Tractament de Dades],\"Subencarregat\")>0),\"SI\",\"NO\")","v":"NO"},null,null,null,null,null,null,null,null,null,{"$f":"+IF('0.REQUISITS'!$D$28=\"NO\",\"N/A\",IF(E56=\"\",\"INPUT REQ\",\"OK\"))","v":"OK"},null,"CALCULATED"]
["T20",null,null,"S'ha elaborat el corresponent acord d'encarregat de tractament? Expliqueu-ho.",null,null,null,null,null,null,null,null,null,null,{"$f":"IF(E$56=\"SI\",IF('0.REQUISITS'!$D$28=\"NO\",\"N/A\",IF(E57=\"\",\"INPUT REQ\",IF(E57=\"SI\",\"GREEN\",\"AMBER\"))),\"N/A\")","v":"N/A"},{"$f":"+IF(E57>0,IF(F57=\"\",\"INPUT REQ\",\"OK\"),\"N/A\")","v":"N/A"},{"$f":"+IF(O57=\"N/A\",\"N\",IF(O57=\"INPUT REQ\",\"BLANK\",\"OK\"))","v":"N"},{"$f":"+IF(P57=\"N/A\",\"N\",IF(P57=\"INPUT REQ\",\"BLANK\",\"OK\"))","v":"N"}]
["T20",null,null,"L'acord conté totes les clausules de l'article 28 RGPD?\nExpliqueu-ho.",null,null,null,null,null,null,null,null,null,null,{"$f":"IF(E$56=\"SI\",IF('0.REQUISITS'!$D$28=\"NO\",\"N/A\",IF(E58=\"\",\"INPUT REQ\",IF(E58=\"SI\",\"GREEN\",\"AMBER\"))),\"N/A\")","v":"N/A"},"N/A","N","N"]
["T20",null,null,"L'encarregat del tractament ofereix suficients garanties per aplicar mesures tècniques i organitzatives apropiades? (especialment controls de seguretat)\nExpliqueu-ho.",null,null,null,null,null,null,null,null,null,null,{"$f":"IF(E$56=\"SI\",IF('0.REQUISITS'!$D$28=\"NO\",\"N/A\",IF(E59=\"\",\"INPUT REQ\",IF(E59=\"SI\",\"GREEN\",\"AMBER\"))),\"N/A\")","v":"N/A"},"N/A","N","N"]
["T30",null,"1.3   DADES PERSONALS TRACTADES"]
[{"$f":"+A60","v":"T30"},null,{"$f":"+A61","v":"T30"},"Dades tractades","Categoria de dada","Categoria especial de dades? ","Justificació de la necessitat","Identificació i detall de la procedència","Procediment de recollida","Termini de conservació","Ús amb finalitat diferent al de recollida? "]
[{"$f":"+A61","v":"T30"},null,null,null,null,{"$f":"IF(E62=\"\",\"\",(IFERROR(VLOOKUP(E62,AUX.Dades.Tipus[#All],2,),\"COMPROVAR\")))","v":""},null,null,null,null,null,null,null,null,{"$f":"+IF(COUNTIF(D62:E73,\"<>\"&\"\")>0,\"OK\",\"INPUT REQ\")","v":"INPUT REQ"},null,{"$f":"+IF(O62=\"N/A\",\"N\",IF(O62=\"INPUT REQ\",\"BLANK\",\"OK\"))","v":"BLANK"}]
[{"$f":"A62","v":"T30"},null,null,null,null,{"$f":"IF(E63=\"\",\"\",(IFERROR(VLOOKUP(E63,AUX.Dades.Tipus[#All],2,),\"COMPROVAR\")))","v":""}]
["T30",null,null,null,null,{"$f":"IF(E64=\"\",\"\",(IFERROR(VLOOKUP(E64,AUX.Dades.Tipus[#All],2,),\"COMPROVAR\")))","v":""}]
["T30",null,null,null,null,{"$f":"IF(E65=\"\",\"\",(IFERROR(VLOOKUP(E65,AUX.Dades.Tipus[#All],2,),\"COMPROVAR\")))","v":""}]
["T30",null,null,null,null,{"$f":"IF(E66=\"\",\"\",(IFERROR(VLOOKUP(E66,AUX.Dades.Tipus[#All],2,),\"COMPROVAR\")))","v":""}]
["T30",null,null,null,null,{"$f":"IF(E67=\"\",\"\",(IFERROR(VLOOKUP(E67,AUX.Dades.Tipus[#All],2,),\"COMPROVAR\")))","v":""}]
["T30",null,null,null,null,{"$f":"IF(E68=\"\",\"\",(IFERROR(VLOOKUP(E68,AUX.Dades.Tipus[#All],2,),\"COMPROVAR\")))","v":""}]
["T30",null,null,null,null,{"$f":"IF(E69=\"\",\"\",(IFERROR(VLOOKUP(E69,AUX.Dades.Tipus[#All],2,),\"COMPROVAR\")))","v":""}]
["T30",null,null,null,null,{"$f":"IF(E70=\"\",\"\",(IFERROR(VLOOKUP(E70,AUX.Dades.Tipus[#All],2,),\"COMPROVAR\")))","v":""}]
["T30",null,null,null,null,{"$f":"IF(E71=\"\",\"\",(IFERROR(VLOOKUP(E71,AUX.Dades.Tipus[#All],2,),\"COMPROVAR\")))","v":""}]
["T30",null,null,null,null,{"$f":"IF(E72=\"\",\"\",(IFERROR(VLOOKUP(E72,AUX.Dades.Tipus[#All],2,),\"COMPROVAR\")))","v":""}]
["T30",null,null,null,null,{"$f":"IF(E73=\"\",\"\",(IFERROR(VLOOKUP(E73,AUX.Dades.Tipus[#All],2,),\"COMPROVAR\")))","v":""}]
["T30",null,null,"Categories d'interessats incloses al tractament"]
["T30",null,null,"Categoria d'interessat","Descripció","Volumetria d'interessats","Volumetria de dades de caràcter personal per interessat","En cas de recerca, indiqueu el tipus","Observacions"]
["T30",null,null,null,null,null,null,null,null,null,null,null,null,null,{"$f":"+IF(COUNTIF(E76:F87,\"<>\"&\"\")>0,\"OK\",\"INPUT REQ\")","v":"INPUT REQ"},null,{"$f":"+IF(O76=\"N/A\",\"N\",IF(O76=\"INPUT REQ\",\"BLANK\",\"OK\"))","v":"BLANK"}]
["T30"]
["T30"]
["T30"]
["T30"]
["T30"]
["T30"]
["T30"]
["T30"]
["T30"]
["T30"]
["T30"]
["T30",null,null,"Col·lectius vulnerables inclosos al tractament"]
["T30",null,null,"Col·lectiu vulnerable","Descripció","Volumetria d'interessats","Volumetria de dades de caràcter personal per interessat","En cas de recerca, indiqueu el tipus","Observacions"]
["T30",null,null,null,null,null,null,null,null,null,null,null,null,null,{"$f":"+IF(COUNTIF(E90:F101,\"<>\"&\"\")>0,\"OK\",\"INPUT REQ\")","v":"INPUT REQ"},null,{"$f":"+IF(O90=\"N/A\",\"N\",IF(O90=\"INPUT REQ\",\"BLANK\",\"OK\"))","v":"BLANK"}]
["T30"]
["T30"]
["T30"]
["T30"]
["T30"]
["T30"]
["T30"]
["T30"]
["T30"]
["T30"]
["T30"]
["T40",null,"1.4   PROCESSOS DE TRACTAMENT"]
[{"$f":"A102","v":"T40"},null,{"$f":"+A103","v":"T40"},"Tipus de Tractament","Procés de Tractament","Forma de Tractament","Dades tractades","Resultat del procés de tractament","Tecnologia Utilitzada \n(Lloc del tractament / Sistema d'Informació)","Entitat / Persona encarregada?","Perfil d'accés? ","Controls de Seguretat"]
["T40",null,null,null,null,null,null,null,null,null,null,null,null,null,{"$f":"+IF(COUNTIF(D104:D116,\"<>\"&\"\")>0,\"OK\",\"INPUT REQ\")","v":"INPUT REQ"},null,{"$f":"+IF(O104=\"N/A\",\"N\",IF(O104=\"INPUT REQ\",\"BLANK\",\"OK\"))","v":"BLANK"}]
[]
[{"$f":"A104","v":"T40"}]
["T40"]
["T40"]
["T40"]
["T40"]
["T40"]
["T40"]
["T40"]
["T40"]
["T40"]
["T40"]
["T50",null,"1.5   COMUNICACIONS A TERCERS"]
[{"$f":"A117","v":"T50"},null,{"$f":"+A118","v":"T50"},"Dades comunicades","Motiu","Entitat origen","Destinatari "]
["T50",null,null,null,null,null,null,null,null,null,null,null,null,null,{"$f":"+IF(COUNTIF(Processos.Tractament[Tipus de Tractament],\"6a. Comunicacions a Tercers\")>0,IF(COUNTIF(Comunic.Dades[Dades comunicades],\"<>\"&\"\")>0,\"OK\",\"INPUT REQ\"),\"N/A\")","v":"N/A"},null,{"$f":"+IF(O119=\"N/A\",\"N\",IF(O119=\"INPUT REQ\",\"BLANK\",\"OK\"))","v":"N"}]
["T50"]
["T50"]
["T50"]
["T50"]
["T50"]
["T50"]
["T50"]
["T50"]
["T50"]
["T50"]
["T50"]
["T60",null,"1.6   TRANSFERÈNCIES INTERNACIONALS DE DADES"]
[{"$f":"A131","v":"T60"},null,{"$f":"+A132","v":"T60"},"Dades transferides","Motiu","Entitat origen","País (entitat ORIGEN)","Entitat destí","País (entitat DESTÍ)","Condició que permet la transferència","Implica tercers països? "]
[{"$f":"A132","v":"T60"},null,null,null,null,null,null,null,null,null,{"$f":"IF(OR(IF(G133=\"\",\"\",IFERROR(INDEX(AUX.Paisos[#All],MATCH(G133,AUX.Paisos[[#All],[PAÏSOS]],0),3),\"NO-UE\"))=\"NO-UE\",IF(I133=\"\",\"\",IFERROR(INDEX(AUX.Paisos[#All],MATCH(I133,AUX.Paisos[[#All],[PAÏSOS]],0),3),\"NO-UE\"))=\"NO-UE\"),\"SI\",\"NO\")","v":"NO"},null,null,null,{"$f":"+IF(COUNTIF(Processos.Tractament[Tipus de Tractament],\"6b. Transferència internacional\")>0,IF(COUNTIF(Comunic.Dades[Dades comunicades],\"<>\"&\"\")>0,\"OK\",\"INPUT REQ\"),\"N/A\")","v":"N/A"},null,{"$f":"+IF(O133=\"N/A\",\"N\",IF(O133=\"INPUT REQ\",\"BLANK\",\"OK\"))","v":"N"}]
[null,null,null,null,null,null,null,null,null,null,{"$f":"IF(OR(IF(G134=\"\",\"\",IFERROR(INDEX(AUX.Paisos[#All],MATCH(G134,AUX.Paisos[[#All],[PAÏSOS]],0),3),\"NO-UE\"))=\"NO-UE\",IF(I134=\"\",\"\",IFERROR(INDEX(AUX.Paisos[#All],MATCH(I134,AUX.Paisos[[#All],[PAÏSOS]],0),3),\"NO-UE\"))=\"NO-UE\"),\"SI\",\"NO\")","v":"NO"}]
[{"$f":"A133","v":"T60"},null,null,null,null,null,null,null,null,null,{"$f":"IF(OR(IF(G135=\"\",\"\",IFERROR(INDEX(AUX.Paisos[#All],MATCH(G135,AUX.Paisos[[#All],[PAÏSOS]],0),3),\"NO-UE\"))=\"NO-UE\",IF(I135=\"\",\"\",IFERROR(INDEX(AUX.Paisos[#All],MATCH(I135,AUX.Paisos[[#All],[PAÏSOS]],0),3),\"NO-UE\"))=\"NO-UE\"),\"SI\",\"NO\")","v":"NO"}]
["T60",null,null,null,null,null,null,null,null,null,{"$f":"IF(OR(IF(G136=\"\",\"\",IFERROR(INDEX(AUX.Paisos[#All],MATCH(G136,AUX.Paisos[[#All],[PAÏSOS]],0),3),\"NO-UE\"))=\"NO-UE\",IF(I136=\"\",\"\",IFERROR(INDEX(AUX.Paisos[#All],MATCH(I136,AUX.Paisos[[#All],[PAÏSOS]],0),3),\"NO-UE\"))=\"NO-UE\"),\"SI\",\"NO\")","v":"NO"}]
["T60",null,null,null,null,null,null,null,null,null,{"$f":"IF(OR(IF(G137=\"\",\"\",IFERROR(INDEX(AUX.Paisos[#All],MATCH(G137,AUX.Paisos[[#All],[PAÏSOS]],0),3),\"NO-UE\"))=\"NO-UE\",IF(I137=\"\",\"\",IFERROR(INDEX(AUX.Paisos[#All],MATCH(I137,AUX.Paisos[[#All],[PAÏSOS]],0),3),\"NO-UE\"))=\"NO-UE\"),\"SI\",\"NO\")","v":"NO"}]
["T60",null,null,null,null,null,null,null,null,null,{"$f":"IF(OR(IF(G138=\"\",\"\",IFERROR(INDEX(AUX.Paisos[#All],MATCH(G138,AUX.Paisos[[#All],[PAÏSOS]],0),3),\"NO-UE\"))=\"NO-UE\",IF(I138=\"\",\"\",IFERROR(INDEX(AUX.Paisos[#All],MATCH(I138,AUX.Paisos[[#All],[PAÏSOS]],0),3),\"NO-UE\"))=\"NO-UE\"),\"SI\",\"NO\")","v":"NO"}]
["T60",null,null,null,null,null,null,null,null,null,{"$f":"IF(OR(IF(G139=\"\",\"\",IFERROR(INDEX(AUX.Paisos[#All],MATCH(G139,AUX.Paisos[[#All],[PAÏSOS]],0),3),\"NO-UE\"))=\"NO-UE\",IF(I139=\"\",\"\",IFERROR(INDEX(AUX.Paisos[#All],MATCH(I139,AUX.Paisos[[#All],[PAÏSOS]],0),3),\"NO-UE\"))=\"NO-UE\"),\"SI\",\"NO\")","v":"NO"}]
[null,null,null,null,null,null,null,null,null,null,{"$f":"IF(OR(IF(G140=\"\",\"\",IFERROR(INDEX(AUX.Paisos[#All],MATCH(G140,AUX.Paisos[[#All],[PAÏSOS]],0),3),\"NO-UE\"))=\"NO-UE\",IF(I140=\"\",\"\",IFERROR(INDEX(AUX.Paisos[#All],MATCH(I140,AUX.Paisos[[#All],[PAÏSOS]],0),3),\"NO-UE\"))=\"NO-UE\"),\"SI\",\"NO\")","v":"NO"}]
[{"$f":"A139","v":"T60"},null,null,null,null,null,null,null,null,null,{"$f":"IF(OR(IF(G141=\"\",\"\",IFERROR(INDEX(AUX.Paisos[#All],MATCH(G141,AUX.Paisos[[#All],[PAÏSOS]],0),3),\"NO-UE\"))=\"NO-UE\",IF(I141=\"\",\"\",IFERROR(INDEX(AUX.Paisos[#All],MATCH(I141,AUX.Paisos[[#All],[PAÏSOS]],0),3),\"NO-UE\"))=\"NO-UE\"),\"SI\",\"NO\")","v":"NO"}]
["T60",null,null,null,null,null,null,null,null,null,{"$f":"IF(OR(IF(G142=\"\",\"\",IFERROR(INDEX(AUX.Paisos[#All],MATCH(G142,AUX.Paisos[[#All],[PAÏSOS]],0),3),\"NO-UE\"))=\"NO-UE\",IF(I142=\"\",\"\",IFERROR(INDEX(AUX.Paisos[#All],MATCH(I142,AUX.Paisos[[#All],[PAÏSOS]],0),3),\"NO-UE\"))=\"NO-UE\"),\"SI\",\"NO\")","v":"NO"}]
["T60",null,null,null,null,null,null,null,null,null,{"$f":"IF(OR(IF(G143=\"\",\"\",IFERROR(INDEX(AUX.Paisos[#All],MATCH(G143,AUX.Paisos[[#All],[PAÏSOS]],0),3),\"NO-UE\"))=\"NO-UE\",IF(I143=\"\",\"\",IFERROR(INDEX(AUX.Paisos[#All],MATCH(I143,AUX.Paisos[[#All],[PAÏSOS]],0),3),\"NO-UE\"))=\"NO-UE\"),\"SI\",\"NO\")","v":"NO"}]
["T60",null,null,null,null,null,null,null,null,null,{"$f":"IF(OR(IF(G144=\"\",\"\",IFERROR(INDEX(AUX.Paisos[#All],MATCH(G144,AUX.Paisos[[#All],[PAÏSOS]],0),3),\"NO-UE\"))=\"NO-UE\",IF(I144=\"\",\"\",IFERROR(INDEX(AUX.Paisos[#All],MATCH(I144,AUX.Paisos[[#All],[PAÏSOS]],0),3),\"NO-UE\"))=\"NO-UE\"),\"SI\",\"NO\")","v":"NO"}]
[null,null,null,null,null,null,null,null,null,null,{"$f":"IF(OR(IF(G145=\"\",\"\",IFERROR(INDEX(AUX.Paisos[#All],MATCH(G145,AUX.Paisos[[#All],[PAÏSOS]],0),3),\"NO-UE\"))=\"NO-UE\",IF(I145=\"\",\"\",IFERROR(INDEX(AUX.Paisos[#All],MATCH(I145,AUX.Paisos[[#All],[PAÏSOS]],0),3),\"NO-UE\"))=\"NO-UE\"),\"SI\",\"NO\")","v":"NO"}]
[{"$f":"A144","v":"T60"},null,null,null,null,null,null,null,null,null,{"$f":"IF(OR(IF(G146=\"\",\"\",IFERROR(INDEX(AUX.Paisos[#All],MATCH(G146,AUX.Paisos[[#All],[PAÏSOS]],0),3),\"NO-UE\"))=\"NO-UE\",IF(I146=\"\",\"\",IFERROR(INDEX(AUX.Paisos[#All],MATCH(I146,AUX.Paisos[[#All],[PAÏSOS]],0),3),\"NO-UE\"))=\"NO-UE\"),\"SI\",\"NO\")","v":"NO"}]
["T60",null,null,"Documentació annexada de Transferències","SI/NO","Data de signatura de clàusules","Comenteu, si escau"]
["T60",null,null,"Clàusules contractuals estàndar de la Unió Europea",null,null,null,null,null,null,null,null,null,null,{"$f":"+IF('0.REQUISITS'!$D$28=\"NO\",\"N/A\",IF(COUNTIF(Transferencia.Dades[[#All],[Implica tercers països? ]],\"SI\")>0,IF(E148=\"\",\"INPUT REQ\",IF(E148=\"NO\",\"AMBER\",\"OK\")),\"N/A\"))","v":"N/A"},{"$f":"+IF(OR('0.REQUISITS'!$D$28=\"NO\",$O$133=\"N/A\"),\"N/A\",IF(E148<>\"NO\",\"N/A\",IF(F148=\"\",\"INPUT REQ\",IF(F148<TODAY(),\"RED\",\"OK\"))))","v":"N/A"},{"$f":"+IF(O148=\"N/A\",\"N\",IF(O148=\"INPUT REQ\",\"BLANK\",\"OK\"))","v":"N"},"N"]
["T60",null,null,"Certificació EU-US Privacy Shield",null,null,null,null,null,null,null,null,null,null,{"$f":"+IF('0.REQUISITS'!$D$28=\"NO\",\"N/A\",IF(COUNTIF(Transferencia.Dades[[#All],[País (entitat ORIGEN)]:[País (entitat DESTÍ)]],\"Estats Units (EEUU)\")>0,IF(E149=\"\",\"INPUT REQ\",IF(E149=\"NO\",\"AMBER\",\"OK\")),\"N/A\"))","v":"N/A"},{"$f":"+IF(OR('0.REQUISITS'!$D$28=\"NO\",$O$133=\"N/A\"),\"N/A\",IF(E149<>\"NO\",\"N/A\",IF(F149=\"\",\"INPUT REQ\",IF(F149<TODAY(),\"RED\",\"OK\"))))","v":"N/A"},"N","N"]
["T60",null,null,"Altres (indiqueu quants, i enumereu-los a comentaris)",null,null,null,null,null,null,null,null,null,null,{"$f":"+IF('0.REQUISITS'!$D$28=\"NO\",\"N/A\",IF(COUNTIF(Transferencia.Dades[[#All],[Implica tercers països? ]],\"SI\")>0,IF(E150=\"\",\"INPUT REQ\",\"OK\"),\"N/A\"))","v":"N/A"},{"$f":"+IF('0.REQUISITS'!$D$28=\"NO\",\"N/A\",IF(COUNTIF(Transferencia.Dades[[#All],[Implica tercers països? ]],\"SI\")>0,IF(E150>0,IF(G150=\"\",\"INPUT REQ\",\"OK\"),\"N/A\"),\"N/A\"))","v":"N/A"},{"$f":"+IF(O150=\"N/A\",\"N\",IF(O150=\"INPUT REQ\",\"BLANK\",\"OK\"))","v":"N"},{"$f":"+IF(P150=\"N/A\",\"N\",IF(P150=\"INPUT REQ\",\"BLANK\",\"OK\"))","v":"N"}]
[]
[]
[]
[]
[null,null,null,"ÀREA D'ÚS EXCLUSIU DE L'AVALUADOR"]
[null,null,null,"VALORACIÓ (Seleccioneu)"]
[null,null,null,null,null,null,null,null,null,null,null,null,null,null,{"$f":"+IF(OR(D157=\"\",D157=\"PENDENT DE VALORACIÓ\"),\"INPUT REQ\",IF(D157=\"Acceptada\",\"GREEN\",IF(D157=\"Denegada\",\"RED\",\"AMBER\")))","v":"INPUT REQ"}]
[null,null,null,"COMENTARIS "]
[null,null,null,null,null,null,null,null,null,null,null,null,null,null,{"$f":"+IF(D159=\"\",\"INPUT REQ\",\"OK\")","v":"INPUT REQ"}]

{"sheet":"2.NECES i PROP","index":7,"n_rows":97,"n_cols":18,"rows_kept":97,"cut":false,"hidden":false,"merged":[[85,7,85,8],[86,2,87,2],[86,7,86,8],[87,7,87,8],[85,3,85,5],[86,3,86,5],[87,4,87,5],[44,2,53,2],[45,3,45,5],[45,7,45,8],[82,2,84,2],[46,3,53,3],[57,7,57,8],[48,7,48,8],[49,7,49,8],[56,3,56,5],[56,7,56,8],[57,3,57,5],[50,7,50,8],[51,7,51,8],[52,7,52,8],[58,2,62,2],[77,7,77,8],[78,7,78,8],[6,4,6,5],[7,4,7,5],[8,4,8,5],[9,4,9,5],[10,4,10,5],[11,4,11,5],[13,3,13,5],[47,7,47,8],[43,7,43,8],[34,7,34,8],[35,4,35,5],[29,3,29,5],[30,3,37,3],[33,7,33,8],[35,7,35,8],[42,7,42,8],[40,4,40,5],[39,3,39,5],[29,7,29,8],[22,6,22,7],[23,6,23,7],[20,6,20,7],[46,4,46,5],[47,4,47,5],[82,7,82,8],[84,7,84,8],[80,3,80,5],[80,7,80,8],[81,3,81,5],[81,7,81,8],[72,7,72,8],[79,7,79,8],[71,7,71,8],[55,7,55,8],[63,7,63,8],[73,3,73,5],[73,7,73,8],[76,4,76,5],[75,7,75,8],[76,7,76,8],[74,3,74,5],[75,4,75,5],[67,7,67,8],[64,7,64,8],[65,7,65,8],[66,4,66,5],[66,7,66,8],[67,3,67,5],[68,4,68,5],[68,7,68,8],[70,3,70,5],[74,7,74,8],[70,7,70,8],[69,7,69,8],[16,7,16,8],[15,7,15,8],[18,6,18,7],[19,6,19,7],[28,3,28,5],[54,3,54,5],[50,4,50,5],[51,4,51,5],[52,4,52,5],[36,4,36,5],[36,7,36,8],[37,7,37,8],[40,7,40,8],[38,7,38,8],[54,7,54,8],[28,7,28,8],[26,6,26,7],[21,6,21,7],[43,3,43,5],[95,3,95,5],[33,4,33,5],[34,4,34,5],[71,3,71,5],[69,3,69,5],[64,3,64,5],[58,3,58,5],[73,2,79,2],[65,4,65,5],[93,3,93,5],[94,3,94,5],[63,3,63,5],[78,4,78,5],[64,2,71,2],[55,3,55,5],[77,4,77,5],[96,3,96,5],[97,3,97,5],[37,4,37,5],[49,4,49,5],[31,4,31,5],[82,3,82,5],[83,3,83,5],[83,7,83,8],[58,7,58,8],[59,7,59,8],[60,7,60,8],[61,7,61,8],[62,7,62,8],[44,3,44,5],[59,3,59,5],[60,3,60,5],[61,3,61,5],[62,3,62,5],[72,3,72,5],[79,4,79,5],[84,3,84,5],[75,3,79,3],[92,3,92,5],[32,4,32,5],[14,2,26,2],[53,7,53,8],[53,4,53,5],[30,4,30,5],[28,2,37,2],[42,4,42,5],[41,4,41,5],[41,7,41,8],[40,3,42,3],[39,2,42,2],[24,6,24,7],[25,6,25,7],[30,7,30,8],[31,7,31,8],[32,7,32,8],[48,4,48,5],[15,3,26,3],[14,3,14,5],[15,4,15,5],[16,4,16,5],[17,4,17,5],[38,3,38,5],[46,7,46,8],[27,3,27,5],[5,7,5,8],[6,7,6,8],[7,7,7,8],[8,7,8,8],[9,7,9,8],[10,7,10,8],[13,7,13,8],[27,7,27,8],[0,2,0,5],[1,2,1,8],[4,3,4,5],[2,3,2,5],[3,3,3,5],[14,7,14,8],[0,7,0,8],[11,7,11,8],[12,7,12,8],[12,3,12,5],[4,2,12,2],[2,7,2,8],[3,7,3,8],[4,7,4,8],[5,3,11,3],[5,4,5,5]]}
[null,null,{"$f":"AUX_RESUM!D17","v":0},null,null,null,{"$f":"+IF(COUNTIF('2.NECES i PROP'!N2:O91,\"RED\")>0,3,IF(COUNTIF('2.NECES i PROP'!N2:O91,\"AMBER\")>0,2,1))","v":1},{"$f":"+VLOOKUP(G1,'AUX DATA VALIDATION'!AP4:AR7,2,)","v":"NO S'HAN IDENTIFICAT ELEMENTS DE RISC"},null,null,null,null,null,null,{"$f":"+VLOOKUP(G1,'AUX DATA VALIDATION'!AP4:AR7,3,)","v":"OK"}]
[null,null,"2. NECESSITAT I PROPORCIONALITAT",null,null,null,null,null,null,null,null,null,null,null,"CELL FORMATS",null,"COMPL STATUS"]
[null,null,"ID","2.1   LEGITIMACIÓ I LIMITACIÓ DE LA FINALITAT DEL TRACTAMENT",null,null,"SI/NO","Comenteu, si escau"]
["P11",null,null,"Base de legitimació del tractament",null,null,null,"+ INFO"]
[{"$f":"A4","v":"P11"},null,{"$f":"+A5","v":"P11"},"Es compleix alguna de les següents condicions de licitud del tractament?\n(Seleccioneu NOMÉS UNA)",null,null,{"$f":"+IF(COUNTIF($G$6:$G$12,\"SI\")>0,\"SI\",IF(COUNTIF($G$6:$G$12,\"\")=7,\"\",\"NO\"))","v":""},{"$f":"+IF(O5=\"RED\",\"INCOMPLIMENT GREU - REVISEU LES MESURES NECESSÀRIES A LA SECCIÓ 4A (CONTROL_ID: \"&A5&\")\",\"\")","v":""},null,"*",null,null,null,null,{"$f":"IF(COUNTIF($G$6:$G$11,\"SI\")=1,\"GREEN\",IF(COUNTIF($G$6:$G$11,\"SI\")>1,\"AMBER\",IF(G5=\"\",\"INPUT REQ\",\"RED\")))","v":"INPUT REQ"},null,"CALCULATED"]
["P11",null,null,null,"a) L’interessat - o el seu representant legal - ha donat el seu consentiment per al tractament de les seves dades personals, per una o diverses finalitats específiques.",null,null,null,null,null,null,null,null,null,{"$f":"IF(G6=\"SI\",\"GREEN\",IF(COUNTIF($G$6:$G$12,\"SI\")>0,\"N/A\",IF(G6=\"\",\"INPUT REQ\",\"AMBER\")))","v":"INPUT REQ"},null,{"$f":"+IF(O6=\"N/A\",\"N\",IF(O6=\"INPUT REQ\",\"BLANK\",\"OK\"))","v":"BLANK"}]
["P11",null,null,null,"b) El tractament és necessari per executar un contracte en què l’interessat n’és part o per aplicar mesures precontractuals.",null,null,null,null,null,null,null,null,null,{"$f":"IF(G7=\"SI\",\"GREEN\",IF(COUNTIF($G$6:$G$11,\"SI\")>0,\"N/A\",IF(G7=\"\",\"INPUT REQ\",\"AMBER\")))","v":"INPUT REQ"},null,"BLANK"]
["P11",null,null,null,"c) El tractament és necessari per complir una obligació legal aplicable al responsable del tractament.",null,null,null,null,null,null,null,null,null,"INPUT REQ",null,"BLANK"]
["P11",null,null,null,"d) El tractament és necessari per protegir interessos vitals de l’interessat o d’una altra persona física.\nNOTA: Aquest cas només és aplicable a casos específics i en situacions d’urgència.",null,null,null,null,null,null,null,null,null,"INPUT REQ",null,"BLANK"]
["P11",null,null,null,"e) El tractament és necessari per complir una missió feta en interès públic o en l’exercici de poders públics conferits al responsable del tractament.",null,null,null,null,null,null,null,null,null,"INPUT REQ",null,"BLANK"]
["P11",null,null,null,"f) El tractament és necessari per satisfer els interessos legítims d’un tercer, sempre que no hi prevalguin els interessos o els drets i les llibertats fonamentals de l’interessat (en particular, quan l’interessat és un menor).",null,null,null,null,null,null,null,null,null,"INPUT REQ",null,"BLANK"]
["P11",null,null,null,"x) Altres supòsits de l'article 6 (en aquest cas, especifiqueu quin)",null,null,null,null,null,null,null,null,null,"INPUT REQ",{"$f":"+IF(H12=\"SI\",\"INPUT REQ\",\"N/A\")","v":"N/A"},"BLANK",{"$f":"+IF(P12=\"N/A\",\"N\",IF(P12=\"INPUT REQ\",\"BLANK\",\"OK\"))","v":"N"}]
["P11",null,null,"La base legal del tractament és el cas 'c' (obligació legal) o el cas 'f' (interessos legítims d'un tercer)?   \nEn cas afirmatiu, és IMPRESCINCIBLE que indiqueu la norma amb rang de llei que habilita el tractament de les dades personals amb la finalitat descrita.",null,null,{"$f":"+IF(OR(G8=\"SI\",G11=\"SI\"),\"SI\",\"NO\")","v":"NO"},null,null,"*",null,null,null,null,{"$f":"IF(G13=\"NO\",\"N/A\",IF(H13=\"\",\"RED\",\"AMBER\"))","v":"N/A"},{"$f":"+IF(G13<>\"SI\",\"N/A\",IF(H13=\"\",\"INPUT REQ\",\"OK\"))","v":"N/A"},"N",{"$f":"+IF(P13=\"N/A\",\"N\",IF(P13=\"INPUT REQ\",\"BLANK\",\"OK\"))","v":"N"}]
["P12",null,null,"Tractament amb finalitat diferent a la de recollida",null,null,null,"+ INFO"]
[{"$f":"A14","v":"P12"},null,{"$f":"+A15","v":"P12"},"Les dades han estat recollides amb una finalitat diferent a la finalitat que es pretén amb aquest nou tractament?\nEn cas afirmatiu, indiqueu sota quina condició es fa aquest nou tractament (NOMÉS UNA OPCIÓ)",null,null,{"$f":"+IF(COUNTIF(Dades.Personals[Ús amb finalitat diferent al de recollida? ],\"SI\")>0,\"SI\",IF(COUNTIF(Dades.Personals[Ús amb finalitat diferent al de recollida? ],\"NO\")>0,\"NO\",\"\"))","v":""},{"$f":"+IF(O15=\"RED\",\"INCOMPLIMENT GREU - REVISEU LES MESURES NECESSÀRIES A LA SECCIÓ 4A (CONTROL_ID: \"&A15&\")\",\"\")","v":""},null,"*",null,null,null,null,{"$f":"+IF(G15=\"\",\"N/A\",(IF(OR(COUNTIF(G16:G18,\"SI\")=1,G15=\"NO\"),\"GREEN\",IF(OR(COUNTIF(G16:G18,\"SI\")>1,COUNTIF(G16:G18,\"\")>0),\"AMBER\",\"RED\"))))","v":"N/A"},null,"CALCULATED"]
["P12",null,null,null,"A) S’ha obtingut el consentiment dels interessats pel tractament amb la nova finalitat.",null,null,null,null,null,null,null,null,null,{"$f":"+IF($G$15<>\"SI\",\"N/A\",IF(G16=\"SI\",\"GREEN\",IF(COUNTIF($G$16:$G$18,\"SI\")>0,\"N/A\",IF(G16=\"\",\"INPUT REQ\",\"AMBER\"))))","v":"N/A"},null,{"$f":"+IF(O16=\"N/A\",\"N\",IF(O16=\"INPUT REQ\",\"BLANK\",\"OK\"))","v":"N"}]
["P12",null,null,null,"B) Existeix una norma amb rang de llei que empara el tractament per a assolir algun dels objectius de l’article 23.1 de l’RGPD.\nEn cas afirmatiu, especifiqueu la mesura legislativa concreta i l’interès protegit.",null,null,null,null,null,null,null,null,null,{"$f":"+IF($G$15<>\"SI\",\"N/A\",IF(G17=\"SI\",\"GREEN\",IF(COUNTIF($G$16:$G$18,\"SI\")>0,\"N/A\",IF(G17=\"\",\"INPUT REQ\",\"AMBER\"))))","v":"N/A"},null,{"$f":"+IF(O17=\"N/A\",\"N\",IF(O17=\"INPUT REQ\",\"BLANK\",\"OK\"))","v":"N"}]
["P12",null,null,null,"C) La finalitat és compatible amb la finalitat inicial que va motivar la recollida.\nEn cas afirmatiu, cal que justifiqueu la compatibilitat a la taula següent:",null,null,null,null,null,null,null,null,null,{"$f":"+IF($G$15<>\"SI\",\"N/A\",IF(G18=\"SI\",\"GREEN\",IF(COUNTIF($G$16:$G$18,\"SI\")>0,\"N/A\",IF(G18=\"\",\"INPUT REQ\",\"AMBER\"))))","v":"N/A"},null,{"$f":"+IF(O18=\"N/A\",\"N\",IF(O18=\"INPUT REQ\",\"BLANK\",\"OK\"))","v":"N"}]
["P12",null,null,null,"Finalitat inicial","Dades","Nova finalitat",null,"Justificació de la compatibilitat"]
["P12",null,null,null,null,null,null,null,null,null,null,null,null,null,null,{"$f":"+IF(AND(G15=\"SI\",G18=\"SI\"),IF(COUNTIF(F20:J27,\"<>\"&\"\")>0,\"OK\",\"INPUT REQ\"),\"N/A\")","v":"N/A"},null,{"$f":"+IF(P20=\"N/A\",\"N\",IF(P20=\"INPUT REQ\",\"BLANK\",\"OK\"))","v":"N"}]
["P12"]
["P12"]
["P12"]
["P12"]
["P12"]
["P12"]
["P12"]
["P13",null,null,"Validesa del consentiment",null,null,null,"+ INFO"]
[{"$f":"A28","v":"P13"},null,{"$f":"+A29","v":"P13"},"La base legal del tractament és el consentiment?\nEn cas afirmatiu, descriviu com s'identifica al usuari, la forma en que s’obté i es registra aquest consentiment (declaració escrita, en paper, per mitjans electrònics, o declaració verbal).",null,null,{"$f":"IF(G6=\"\",\"\",G6)","v":""},null,null,null,null,null,null,null,"N/A",{"$f":"+IF(G29<>\"SI\",\"N/A\",IF(H29=\"\",\"INPUT REQ\",\"OK\"))","v":"N/A"},"CALCULATED",{"$f":"+IF(P29=\"N/A\",\"N\",IF(P29=\"INPUT REQ\",\"BLANK\",\"OK\"))","v":"N"}]
["P13",null,null,"El consentiment compleix totes les següents condicions?",null,null,{"$f":"IF(G$29<>\"SI\",\"\",IF(COUNTIF($G$31:$G$38,\"SI\")=8,\"SI\",IF(COUNTIF($G$31:$G$38,\"\")>0,\"Completeu\",\"NO\")))","v":""},{"$f":"+IF(O30=\"RED\",\"INCOMPLIMENT GREU - REVISEU LES MESURES NECESSÀRIES A LA SECCIÓ 4A (CONTROL_ID: \"&A30&\")\",\"\")","v":""},null,"*",null,null,null,null,{"$f":"IF(G$29<>\"SI\",\"N/A\",IF(G30=\"SI\",\"GREEN\",IF(G30=\"Completeu\",\"AMBER\",\"RED\")))","v":"N/A"},null,"CALCULATED"]
["P13",null,null,null,"La sol·licitud de consentiment és intel·ligible, de fàcil accés i en un llenguatge clar?",null,null,null,null,null,null,null,null,null,{"$f":"IF(G$29<>\"SI\",\"N/A\",IF(G31=\"\",\"INPUT REQ\",IF(G31=\"SI\",\"OK\",\"AMBER\")))","v":"N/A"},null,{"$f":"+IF(O31=\"N/A\",\"N\",IF(O31=\"INPUT REQ\",\"BLANK\",\"OK\"))","v":"N"}]
["P13",null,null,null,"Es solicita el consentiment de manera independent a la resta d’assumptes?",null,null,null,null,null,null,null,null,null,"N/A",null,"N"]
["P13",null,null,null,"Per a prestar un servei  o executar un contracte es soliciten només les dades necessàries?",null,null,null,null,null,null,null,null,null,"N/A",null,"N"]
["P13",null,null,null,"L’interessat rep, abans de consentir, tota la informació següent?\n- qui és el responsable\n- amb quina finalitat es tractaran les seves dades\n- quins tipus de dades es recolliran i seran posteriorment utilitzades\n- existència del dret a revocar el consentiment en qualsevol moment i els mecanismes per a fer-ho",null,null,null,null,null,null,null,null,null,"N/A",null,"N"]
["P13",null,null,null,"L’interessat pot escollir lliurement entre donar el consentiment o no donar-lo?\nJustifiqueu-ho.",null,null,null,null,null,null,null,null,null,"N/A",{"$f":"+IF(#REF!=\"\",\"INPUT REQ\",\"OK\")","v":{"$error":"#REF!"}},"N",{"$f":"+IF(P35=\"N/A\",\"N\",IF(P35=\"INPUT REQ\",\"BLANK\",\"OK\"))","v":{"$error":"#REF!"}}]
["P13",null,null,null,"S’obté el consentiment per a cadascuna de les finalitats previstes? ",null,null,null,null,null,null,null,null,null,"N/A",null,"N"]
["P13",null,null,null,"Es permet retirar el consentiment amb la mateixa facilitat que es recull, oferint mitjans per fer-ho en qualsevol moment?",null,null,null,null,null,null,null,null,null,"N/A",null,"N"]
["P13",null,null,null,"Es pot demostrar que s’ha recollit aquest consentiment de forma vàlida?",null,null,null,null,null,null,null,null,null,"N/A",null,"N"]
["P14",null,null,"Tractament de dades de menors",null,null,null,"+ INFO"]
[{"$f":"A39","v":"P14"},null,{"$f":"+A40","v":"P14"},"Es tracten dades de menors?",null,null,{"$f":"+IF(COUNTIF(Dades.Vulnerables[Col·lectiu vulnerable],'AUX DATA VALIDATION'!R5)>0,\"SI\",\"NO\")","v":"NO"},null,null,null,null,null,null,null,{"$f":"+IF(G40=\"\",\"N/A\",(IF(G40=\"SI\",\"AMBER\",\"GREEN\")))","v":"GREEN"},null,"CALCULATED"]
["P14",null,null,null,"En cas afirmatiu, s’ha tingut en compte l’edat mínima de consentiment?",null,null,null,null,null,null,null,null,null,{"$f":"+IF(G$40<>\"SI\",\"N/A\",IF(G41=\"\",\"INPUT REQ\",IF(G41=\"SI\",\"GREEN\",\"AMBER\")))","v":"N/A"},{"$f":"+IF(G41<>\"NO\",\"N/A\",IF(H41=\"\",\"INPUT REQ\",\"OK\"))","v":"N/A"},{"$f":"+IF(O41=\"N/A\",\"N\",IF(O41=\"INPUT REQ\",\"BLANK\",\"OK\"))","v":"N"},{"$f":"+IF(P41=\"N/A\",\"N\",IF(P41=\"INPUT REQ\",\"BLANK\",\"OK\"))","v":"N"}]
[{"$f":"A41","v":"P14"},null,null,null,"Es disposa del consentiment dels titulars de la patria potestat o tutela dels nens/es menors?",null,null,{"$f":"+IF(O42=\"RED\",\"INCOMPLIMENT GREU - REVISEU LES MESURES NECESSÀRIES A LA SECCIÓ 4A (CONTROL_ID: \"&A42&\")\",\"\")","v":""},null,"*",null,null,null,null,{"$f":"+IF(G$40<>\"SI\",\"N/A\",IF(G42=\"\",\"INPUT REQ\",IF(G42=\"SI\",\"GREEN\",\"RED\")))","v":"N/A"},null,{"$f":"+IF(O42=\"N/A\",\"N\",IF(O42=\"INPUT REQ\",\"BLANK\",\"OK\"))","v":"N"}]
["P14",null,null,null,"Es realitzen esforços raonables per verificar que el consentiment ha estat donat o autoritzat pel titular de la patria potestat o tutela dels nens/es, tenint en compte la tecnologia disponible?\nDescriviu-los.",null,null,{"$f":"+IF(O43=\"RED\",\"INCOMPLIMENT GREU - REVISEU LES MESURES NECESSÀRIES A LA SECCIÓ 4A (CONTROL_ID: \"&A43&\")\",\"\")","v":""},null,"*",null,null,null,null,{"$f":"+IF(G$40<>\"SI\",\"N/A\",IF(G43=\"\",\"INPUT REQ\",IF(G43=\"SI\",\"GREEN\",\"RED\")))","v":"N/A"},null,{"$f":"+IF(O43=\"N/A\",\"N\",IF(O43=\"INPUT REQ\",\"BLANK\",\"OK\"))","v":"N"}]
["P15",null,null,"Tractament de dades de categories especials",null,null,null,"+ INFO"]
[{"$f":"A44","v":"P15"},null,{"$f":"+A45","v":"P15"},"Es tracten dades de categories especials?",null,null,{"$f":"+IF(COUNTIF(Dades.Personals[Categoria especial de dades? ],\"ESPECIAL\")>0,\"SI\",\"NO\")","v":"NO"},null,null,null,null,null,null,null,{"$f":"+IF(G45=\"\",\"N/A\",(IF(G45=\"SI\",\"AMBER\",\"GREEN\")))","v":"GREEN"},null,"CALCULATED"]
["P15",null,null,"Es compleix alguna de les següents condicions de licitud del tractament? \nSeleccioneu les que apliquin.",null,null,{"$f":"+IF(G45<>\"SI\",\"\",IF(COUNTIF(G47:G54,\"SI\")>0,\"SI\",IF(COUNTIF(G47:G54,\"\")>0,\"\",\"NO\")))","v":""},{"$f":"+IF(O46=\"RED\",\"INCOMPLIMENT GREU - REVISEU LES MESURES NECESSÀRIES A LA SECCIÓ 4A (CONTROL_ID: \"&A46&\")\",\"\")","v":""},null,"*",null,null,null,null,{"$f":"IF(COUNTIF(G47:G53,\"SI\")>0,\"GREEN\",IF(G46=\"\",\"N/A\",\"RED\"))","v":"N/A"},null,"CALCULATED"]
["P15",null,null,null,"a) L’interessat ha donat el seu consentiment explícit per al tractament amb una finalitat específica, tret que el dret de la UE o de l’estat membre no ho permeti.",null,null,null,null,null,null,null,null,null,{"$f":"IF(G$45<>\"SI\",\"N/A\",IF(G47=\"SI\",\"GREEN\",IF(COUNTIF($G$47:$G$54,\"SI\")>0,\"N/A\",IF(G47=\"\",\"INPUT REQ\",\"AMBER\"))))","v":"N/A"},{"$f":"+IF(G47<>\"SI\",\"N/A\",IF(H47=\"\",\"INPUT REQ\",\"OK\"))","v":"N/A"},{"$f":"+IF(O47=\"N/A\",\"N\",IF(O47=\"INPUT REQ\",\"BLANK\",\"OK\"))","v":"N"},{"$f":"+IF(P47=\"N/A\",\"N\",IF(P47=\"INPUT REQ\",\"BLANK\",\"OK\"))","v":"N"}]
["P15",null,null,null,"b) El tractament és necessari per complir obligacions o per exercir drets en l’àmbit del dret laboral i de la seguretat i la protecció social.",null,null,null,null,null,null,null,null,null,{"$f":"IF(G$45<>\"SI\",\"N/A\",IF(G48=\"SI\",\"GREEN\",IF(COUNTIF($G$47:$G$54,\"SI\")>0,\"N/A\",IF(G48=\"\",\"INPUT REQ\",\"AMBER\"))))","v":"N/A"},"N/A","N",{"$f":"+IF(P48=\"N/A\",\"N\",IF(P48=\"INPUT REQ\",\"BLANK\",\"OK\"))","v":"N"}]
["P15",null,null,null,"c) El tractament és necessari per protegir interessos vitals de l’interessat o d’una altra persona, i l’interessat no està capacitat per donar el consentiment.",null,null,null,null,null,null,null,null,null,"N/A","N/A","N",{"$f":"+IF(P49=\"N/A\",\"N\",IF(P49=\"INPUT REQ\",\"BLANK\",\"OK\"))","v":"N"}]
["P15",null,null,null,"g) El tractament és necessari per raons d’interès públic essencial.",null,null,null,null,null,null,null,null,null,"N/A","N/A","N","N"]
["P15",null,null,null,"h) El tractament és necessari per a finalitats de medecina preventiva o laboral, avaluació de la capacitat laboral del treballador, diagnòstic mèdic, prestació d’assistència o tractament de tipus sanitari o social.",null,null,null,null,null,null,null,null,null,"N/A","N/A","N","N"]
["P15",null,null,null,"i) El tractament és necessari per raons d’interès públic en l’àmbit de la salut pública, com la protecció front amenaces transfronteres greus per a la salut, o per garantir elevats nivells de qualitat i seguretat de l’assistència sanitària i dels medicaments o productes sanitaris.",null,null,null,null,null,null,null,null,null,"N/A","N/A","N","N"]
["P15",null,null,null,"j) El tractament és necessari amb la finalitat d’arxiu amb interès públic, investigació científica o històrica, o amb finalitat estadística.",null,null,null,null,null,null,null,null,null,"N/A","N/A","N","N"]
["P15",null,null,null,"Altres supòsits de l'article 9 (en aquest cas, especifiqueu quin)",null,null,null,null,null,null,null,null,null,"N/A","N/A","N",{"$f":"+IF(P54=\"N/A\",\"N\",IF(P54=\"INPUT REQ\",\"BLANK\",\"OK\"))","v":"N"}]
["P16",null,null,"Tractament de dades relatives a condemnes i infraccions penals",null,null,null,"+ INFO"]
[{"$f":"A55","v":"P16"},null,{"$f":"+A56","v":"P16"},"Es tracten dades relatives a condemnes o infraccions penals?\nEn cas afirmatiu, justifiqueu-ne la licitud.",null,null,{"$f":"+IF(COUNTIF(Dades.Personals[Categoria de dada],\"Condemnes i infraccions penals\")>0,\"SI\",IF(COUNTIF(Dades.Personals[Categoria de dada],\"<>\"&\"\")>0,\"NO\",\"\"))","v":""},null,null,null,null,null,null,null,{"$f":"+IF(G56=\"\",\"N/A\",(IF(G56=\"SI\",\"AMBER\",\"OK\")))","v":"N/A"},{"$f":"IF(G56=\"SI\",IF(H56=\"\",\"INPUT REQ\",\"OK\"),\"N/A\")","v":"N/A"},"CALCULATED",{"$f":"+IF(P56=\"N/A\",\"N\",IF(P56=\"INPUT REQ\",\"BLANK\",\"OK\"))","v":"N"}]
["P16",null,"ID","2.2   MINIMITZACIÓ DE LES DADES UTILITZADES",null,null,"SI/NO","Comenteu, si escau"]
["P20",null,null,"Adequació, rellevància i necessitat",null,null,null,"+ INFO"]
[{"$f":"A58","v":"P20"},null,{"$f":"+A59","v":"P20"},"La finalitat que es persegueix es pot aconseguir sense fer ús de dades personals?",null,null,null,null,null,null,null,null,null,null,{"$f":"IF(G59=\"\",\"INPUT REQ\",IF(G59=\"SI\",\"AMBER\",\"OK\"))","v":"INPUT REQ"},{"$f":"IF(G59=\"\",\"N/A\",IF(H59=\"\",\"INPUT REQ\",\"OK\"))","v":"N/A"},{"$f":"+IF(O59=\"N/A\",\"N\",IF(O59=\"INPUT REQ\",\"BLANK\",\"OK\"))","v":"BLANK"},"N"]
["P20",null,null,"La mesura, el procediment /mitjà o la tecnologia emprada és adequada per aconseguir l’objectiu proposat? (judici d’idoneïtat)",null,null,null,null,null,null,null,null,null,null,{"$f":"IF(G60=\"\",\"INPUT REQ\",IF(G60=\"NO\",\"AMBER\",\"OK\"))","v":"INPUT REQ"},{"$f":"IF(G60=\"\",\"N/A\",IF(H60=\"\",\"INPUT REQ\",\"OK\"))","v":"N/A"},"BLANK","N"]
["P20",null,null,"Existeix una altra mesura /procediment/ mitjà o  tecnologia menys  invasiva  per aconseguir l’objectiu amb la mateixa eficàcia? (judici de necessitat )",null,null,null,null,null,null,null,null,null,null,{"$f":"IF(G61=\"\",\"INPUT REQ\",IF(G61=\"SI\",\"AMBER\",\"OK\"))","v":"INPUT REQ"},{"$f":"IF(G61=\"\",\"N/A\",IF(H61=\"\",\"INPUT REQ\",\"OK\"))","v":"N/A"},"BLANK","N"]
["P20",null,null,"La mesura és ponderada, i es deriven més beneficis o avantatges per a l’interès general que  no perjudicis sobre altres béns o valors de conflicte? (judici de proporcionalitat en sentit estricte)",null,null,null,null,null,null,null,null,null,null,{"$f":"IF(G62=\"\",\"INPUT REQ\",IF(G62=\"NO\",\"AMBER\",\"OK\"))","v":"INPUT REQ"},{"$f":"IF(G62=\"\",\"N/A\",IF(H62=\"\",\"INPUT REQ\",\"OK\"))","v":"N/A"},"BLANK","N"]
["P20",null,null,"La finalitat que es pretén cobrir es pot aconseguir utilitzant menys dades?   ",null,null,null,null,null,null,null,null,null,null,{"$f":"IF(G63=\"\",\"INPUT REQ\",IF(G63=\"SI\",\"AMBER\",\"OK\"))","v":"INPUT REQ"},{"$f":"IF(G63=\"\",\"N/A\",IF(H63=\"\",\"INPUT REQ\",\"OK\"))","v":"N/A"},"BLANK","N"]
["P30",null,"ID","2.3   EXACTITUD DE LES DADES",null,null,"SI/NO","Comenteu, si escau"]
[{"$f":"A64","v":"P30"},null,{"$f":"+A65","v":"P30"},"Hi ha dades facilitades (o introduïdes) directament per l’interessat?",null,null,{"$f":"+IF(COUNTIF(Dades.Personals[Identificació i detall de la procedència],\"Interessat  (directament)\")>0,\"SI\",IF(COUNTIF(Dades.Personals[Identificació i detall de la procedència],\"<>\"&\"\")>0,\"NO\",\"\"))","v":""},null,null,null,null,null,null,null,{"$f":"+IF(G65=\"\",\"N/A\",\"OK\")","v":"N/A"},null,"CALCULATED"]
["P30",null,null,null,"Heu previst mecanismes d’identificació/autenticació dels interessats?\nDescriviu-los.",null,null,null,null,null,null,null,null,null,{"$f":"+IF(G$65<>\"SI\",\"N/A\",IF(G66=\"\",\"INPUT REQ\",IF(G66=\"NO\",\"AMBER\",\"OK\")))","v":"N/A"},{"$f":"IF(G65=\"SI\",IF(H66=\"\",\"INPUT REQ\",\"OK\"),\"N/A\")","v":"N/A"},{"$f":"+IF(O66=\"N/A\",\"N\",IF(O66=\"INPUT REQ\",\"BLANK\",\"OK\"))","v":"N"},{"$f":"+IF(P66=\"N/A\",\"N\",IF(P66=\"INPUT REQ\",\"BLANK\",\"OK\"))","v":"N"}]
["P30",null,null,null,"Heu previst mecanismes de comprovació o verificació de la informació introduïda?\nDescriviu-los.",null,null,null,null,null,null,null,null,null,{"$f":"+IF(G$65<>\"SI\",\"N/A\",IF(G67=\"\",\"INPUT REQ\",IF(G67=\"NO\",\"AMBER\",\"OK\")))","v":"N/A"},{"$f":"IF(G65=\"SI\",IF(H67=\"\",\"INPUT REQ\",\"OK\"),\"N/A\")","v":"N/A"},"N",{"$f":"+IF(P67=\"N/A\",\"N\",IF(P67=\"INPUT REQ\",\"BLANK\",\"OK\"))","v":"N"}]
["P30",null,null,"Hi ha dades obtingudes d'altres fonts?",null,null,{"$f":"+IF(COUNTA(Dades.Personals[Identificació i detall de la procedència])=0,\"\",IF((COUNTA(Dades.Personals[Identificació i detall de la procedència])-COUNTIF(Dades.Personals[Identificació i detall de la procedència],\"Interessat  (directament)\"))>0,\"SI\",\"NO\"))","v":""},null,null,null,null,null,null,null,{"$f":"+IF(G68=\"\",\"N/A\",\"OK\")","v":"N/A"},null,"CALCULATED"]
["P30",null,null,null,"Heu previst mecanismes de comprovació o verificació de la informació obtinguda? \nDescriviu-los.",null,null,null,null,null,null,null,null,null,{"$f":"+IF(G$68<>\"SI\",\"N/A\",IF(G69=\"\",\"INPUT REQ\",IF(G69=\"NO\",\"AMBER\",\"OK\")))","v":"N/A"},{"$f":"IF(G68=\"SI\",IF(H69=\"\",\"INPUT REQ\",\"OK\"),\"N/A\")","v":"N/A"},"N",{"$f":"+IF(P69=\"N/A\",\"N\",IF(P69=\"INPUT REQ\",\"BLANK\",\"OK\"))","v":"N"}]
["P30",null,null,"Existeixen procediments de revisió periòdics per controlar la qualitat de les dades i mitigar l’efecte de possibles errors acumulats durant la cadena del procés?\nEn cas afirmatiu, descriviu quins. En cas contrari, justifiqueu-ho.",null,null,null,null,null,null,null,null,null,null,{"$f":"IF(G70=\"\",\"INPUT REQ\",IF(G70=\"SI\",\"AMBER\",\"OK\"))","v":"INPUT REQ"},{"$f":"IF(G70=\"SI\",IF(H70=\"\",\"INPUT REQ\",\"OK\"),\"N/A\")","v":"N/A"},"BLANK",{"$f":"+IF(P70=\"N/A\",\"N\",IF(P70=\"INPUT REQ\",\"BLANK\",\"OK\"))","v":"N"}]
["P30",null,null,"Existeixen mesures per corregir o suprimir la informació errònia/incorrecta?\nEn cas afirmatiu, descriviu quines. En cas contrari, justifiqueu-ho.",null,null,null,null,null,null,null,null,null,null,{"$f":"IF(G71=\"\",\"INPUT REQ\",IF(G71=\"NO\",\"AMBER\",\"OK\"))","v":"INPUT REQ"},{"$f":"IF(G71=\"SI\",IF(H71=\"\",\"INPUT REQ\",\"OK\"),\"N/A\")","v":"N/A"},"BLANK",{"$f":"+IF(P71=\"N/A\",\"N\",IF(P71=\"INPUT REQ\",\"BLANK\",\"OK\"))","v":"N"}]
["P30",null,null,"Es dona un accés fàcil als usuaris per a què puguin controlar que les dades siguin correctes i poder-les rectificar?\nDescriviu-ho.",null,null,null,null,null,null,null,null,null,null,{"$f":"IF(G72=\"\",\"INPUT REQ\",IF(G72=\"NO\",\"AMBER\",\"OK\"))","v":"INPUT REQ"},{"$f":"IF(G72=\"SI\",IF(H72=\"\",\"INPUT REQ\",\"OK\"),\"N/A\")","v":"N/A"},"BLANK",{"$f":"+IF(P72=\"N/A\",\"N\",IF(P72=\"INPUT REQ\",\"BLANK\",\"OK\"))","v":"N"}]
["P40",null,"ID","2.4   DECISIONS AUTOMATITZADES",null,null,"SI/NO","Comenteu, si escau"]
[{"$f":"A73","v":"P40"},null,{"$f":"+A74","v":"P40"},"El tractament evalua de forma sistemàtica o exhaustiva aspectes personals de persones físiques (situació econòmica, salut,etc) basant-se en un tractament automatitzat, com l'elaboració de perfils?\nEn cas afirmatiu, descriviu-los",null,null,null,null,null,null,null,null,null,null,{"$f":"IF(G74=\"\",\"INPUT REQ\",\"OK\")","v":"INPUT REQ"},{"$f":"IF(G74=\"SI\",IF(H74=\"\",\"INPUT REQ\",\"OK\"),\"N/A\")","v":"N/A"},{"$f":"+IF(O74=\"N/A\",\"N\",IF(O74=\"INPUT REQ\",\"BLANK\",\"OK\"))","v":"BLANK"},{"$f":"+IF(P74=\"N/A\",\"N\",IF(P74=\"INPUT REQ\",\"BLANK\",\"OK\"))","v":"N"}]
["P40",null,null,"El tractament inclou sistemes d'IA? \nEn cas afirmatiu, descriviu-los",null,null,null,null,null,null,null,null,null,null,{"$f":"IF(G75=\"\",\"INPUT REQ\",\"OK\")","v":"INPUT REQ"},{"$f":"IF(G75=\"SI\",IF(H75=\"\",\"INPUT REQ\",\"OK\"),\"N/A\")","v":"N/A"},{"$f":"+IF(O75=\"N/A\",\"N\",IF(O75=\"INPUT REQ\",\"BLANK\",\"OK\"))","v":"BLANK"},{"$f":"+IF(P75=\"N/A\",\"N\",IF(P75=\"INPUT REQ\",\"BLANK\",\"OK\"))","v":"N"}]
["P40",null,null,null,"Heu definit una estratègia o un conjunt de procediments per evitar la creació o reforç d'un biaix injust en el sistema d'IA, tant en relació amb l'ús de dades d'entrada com en el disseny de l'algorisme?",null,null,null,null,null,null,null,null,null,{"$f":"IF(G$75=\"SI\",IF(G76=\"\",\"INPUT REQ\",IF(G76=\"NO\",\"AMBER\",\"OK\")),\"N/A\")","v":"N/A"},{"$f":"IF(G76=\"SI\",IF(H76=\"\",\"INPUT REQ\",\"OK\"),\"N/A\")","v":"N/A"},{"$f":"+IF(O76=\"N/A\",\"N\",IF(O76=\"INPUT REQ\",\"BLANK\",\"OK\"))","v":"N"},{"$f":"+IF(P76=\"N/A\",\"N\",IF(P76=\"INPUT REQ\",\"BLANK\",\"OK\"))","v":"N"}]
["P40",null,null,null,"Heu previst la intervenció humana per a avaluar el sistema d'IA, tant en la fase d'entrenament com en la fase d'aplicació? \nEn cas afirmatiu, descriviu-los.",null,null,null,null,null,null,null,null,null,{"$f":"IF(G$75=\"SI\",IF(G77=\"\",\"INPUT REQ\",IF(G77=\"NO\",\"AMBER\",\"OK\")),\"N/A\")","v":"N/A"},"N/A",{"$f":"+IF(O77=\"N/A\",\"N\",IF(O77=\"INPUT REQ\",\"BLANK\",\"OK\"))","v":"N"},"N"]
["P40",null,null,null,"Heu tingut en compte la diversitat i representativitat dels usuaris en les dades? Heu realitzat proves per a poblacions concretes o casos d'ús problemàtics?",null,null,null,null,null,null,null,null,null,{"$f":"IF(G$75=\"SI\",IF(G78=\"\",\"INPUT REQ\",IF(G78=\"NO\",\"AMBER\",\"OK\")),\"N/A\")","v":"N/A"},"N/A",{"$f":"+IF(O78=\"N/A\",\"N\",IF(O78=\"INPUT REQ\",\"BLANK\",\"OK\"))","v":"N"},"N"]
["P40",null,null,null,"Heu establert processos per verificar i fer un seguiment dels biaixos potencials durant el desenvolupament, desplegament i ús del sistema?",null,null,null,null,null,null,null,null,null,{"$f":"IF(G$75=\"SI\",IF(G79=\"\",\"INPUT REQ\",IF(G79=\"NO\",\"AMBER\",\"OK\")),\"N/A\")","v":"N/A"},"N/A",{"$f":"+IF(O79=\"N/A\",\"N\",IF(O79=\"INPUT REQ\",\"BLANK\",\"OK\"))","v":"N"},"N"]
["P40",null,null,null,"Heu assegurat que el disseny dels sistemes d'IA sigui equitatiu?\nEn cas afirmatiu, descriviu com ho assegureu. En cas contrari, justifiqueu-ho.",null,null,null,null,null,null,null,null,null,{"$f":"IF(G$75=\"SI\",IF(G80=\"\",\"INPUT REQ\",IF(G80=\"NO\",\"AMBER\",\"OK\")),\"N/A\")","v":"N/A"},"N/A",{"$f":"+IF(O80=\"N/A\",\"N\",IF(O80=\"INPUT REQ\",\"BLANK\",\"OK\"))","v":"N"},{"$f":"+IF(P80=\"N/A\",\"N\",IF(P80=\"INPUT REQ\",\"BLANK\",\"OK\"))","v":"N"}]
["P50",null,"ID","2.5   LIMITACIÓ DEL TERMINI DE CONSERVACIÓ DE LES DADES",null,null,"SI/NO","Comenteu, si escau"]
[{"$f":"A81","v":"P50"},null,null,"Limitació del termini de conservació de les dades",null,null,null,"+ INFO"]
["P50",null,{"$f":"+A83","v":"P50"},"Els terminis de conservació marcats venen imposats per alguna norma?\nEn cas afirmatiu, indiqueu quina norma. En cas contrari, justifiqueu el període previst.",null,null,null,null,null,null,null,null,null,null,{"$f":"IF(G83=\"\",\"INPUT REQ\",IF(G83=\"SI\",\"AMBER\",\"OK\"))","v":"INPUT REQ"},{"$f":"IF(G83=\"\",\"N/A\",IF(H83=\"\",\"INPUT REQ\",\"OK\"))","v":"N/A"},{"$f":"+IF(O83=\"N/A\",\"N\",IF(O83=\"INPUT REQ\",\"BLANK\",\"OK\"))","v":"BLANK"},"N"]
["P50",null,null,"Les dades es conservaran durant més temps del necessari, amb finalitats d’arxiu en interès públic, amb finalitat d’investigació científica o històrica, o amb finalitat estadística?\nEn cas afirmatiu, descriviu les mesures implantades per garantir el principi de minimització.",null,null,null,null,null,null,null,null,null,null,{"$f":"IF(G84=\"\",\"INPUT REQ\",IF(G84=\"SI\",\"AMBER\",\"OK\"))","v":"INPUT REQ"},{"$f":"IF(G84=\"SI\",IF(H84=\"\",\"INPUT REQ\",\"OK\"),\"N/A\")","v":"N/A"},"BLANK","N"]
["P50",null,null,"Heu establert mecanismes per esborrar les dades? \nEn cas afirmatiu, quins són i a quins suports apliquen. \nEn cas contrari, justifiqueu perquè no els heu establert",null,null,null,null,null,null,null,null,null,null,{"$f":"IF(G85=\"\",\"INPUT REQ\",IF(G85=\"NO\",\"AMBER\",\"OK\"))","v":"INPUT REQ"},{"$f":"IF(G85=\"\",\"N/A\",IF(H85=\"\",\"INPUT REQ\",\"OK\"))","v":"N/A"},"BLANK","N"]
["P60",null,"ID","2.6  OPINIÓ DELS INTERESSATS",null,null,"SI/NO","Comenteu, si escau"]
[{"$f":"A86","v":"P60"},null,{"$f":"+A87","v":"P60"},"S'ha recollit l'opinió dels interessats sobre la necessitat i la proporcionalitat del tractament? \nEn cas negatiu, perquè no s'ha recollit? ",null,null,null,null,null,null,null,null,null,null,{"$f":"IF(G87=\"\",\"INPUT REQ\",IF(G87=\"NO\",\"AMBER\",\"OK\"))","v":"INPUT REQ"},{"$f":"IF(G87=\"NO\",IF(H87=\"\",\"INPUT REQ\",\"OK\"),\"N/A\")","v":"N/A"},{"$f":"+IF(O87=\"N/A\",\"N\",IF(O87=\"INPUT REQ\",\"BLANK\",\"OK\"))","v":"BLANK"},{"$f":"+IF(P87=\"N/A\",\"N\",IF(P87=\"INPUT REQ\",\"BLANK\",\"OK\"))","v":"N"}]
["P60",null,null,null,"Hi ha discrepàncies per part dels interessats respecte al tractament? \nSi n'hi ha, expliqueu per què es pretén portar endavant el tractament tot i les discrepàncies dels interessats.",null,null,null,null,null,null,null,null,null,{"$f":"IF(G87=\"SI\",IF(G88=\"\",\"INPUT REQ\",IF(G88=\"SI\",\"AMBER\",\"OK\")),\"N/A\")","v":"N/A"},{"$f":"IF(G88=\"SI\",IF(H88=\"\",\"INPUT REQ\",\"OK\"),\"N/A\")","v":"N/A"},{"$f":"+IF(O88=\"N/A\",\"N\",IF(O88=\"INPUT REQ\",\"BLANK\",\"OK\"))","v":"N"},{"$f":"+IF(P88=\"N/A\",\"N\",IF(P88=\"INPUT REQ\",\"BLANK\",\"OK\"))","v":"N"}]
[]
[]
[]
[]
[null,null,null,"ÀREA D'ÚS EXCLUSIU DE L'AVALUADOR"]
[null,null,null,"VALORACIÓ (Seleccioneu)"]
[null,null,null,null,null,null,null,null,null,null,null,null,null,null,{"$f":"+IF(OR(D95=\"\",D95=\"PENDENT DE VALORACIÓ\"),\"INPUT REQ\",IF(D95=\"Acceptada\",\"GREEN\",IF(D95=\"Denegada\",\"RED\",\"AMBER\")))","v":"INPUT REQ"}]
[null,null,null,"COMENTARIS"]
[null,null,null,null,null,null,null,null,null,null,null,null,null,null,{"$f":"+IF(D97=\"\",\"INPUT REQ\",\"OK\")","v":"INPUT REQ"}]

{"sheet":"3.DRETS","index":8,"n_rows":59,"n_cols":18,"rows_kept":59,"cut":false,"hidden":false,"merged":[[3,2,18,2],[20,2,48,2],[5,3,5,4],[33,3,33,4],[28,3,28,4],[31,3,31,4],[29,3,29,4],[21,3,21,4],[10,3,11,3],[14,3,14,4],[15,3,16,3],[24,3,24,4],[22,3,22,4],[38,3,38,4],[37,3,37,4],[25,3,25,4],[8,3,8,4],[13,3,13,4],[34,3,34,4],[3,3,3,4],[20,3,20,4],[57,3,57,5],[36,3,36,4],[32,3,32,4],[30,3,30,4],[39,3,39,4],[56,3,56,5],[47,3,48,3],[46,3,46,4],[45,3,45,4],[44,3,44,4],[40,3,40,4],[35,3,35,4],[53,3,53,5],[54,3,54,5],[0,2,0,4],[1,2,1,6],[55,3,55,5],[41,3,43,3],[4,3,4,4],[26,3,26,4],[27,3,27,4],[9,3,9,4],[12,3,12,4],[18,3,18,4],[23,3,23,4],[6,3,6,4],[17,3,17,4],[7,3,7,4],[2,3,2,4],[19,3,19,4]]}
[null,null,{"$f":"AUX_RESUM!D26","v":0},null,null,{"$f":"+IF(COUNTIF(O2:P50,\"RED\")>0,3,IF(COUNTIF(O2:P50,\"AMBER\")>0,2,1))","v":1},{"$f":"+VLOOKUP(F1,AUX.Avisos[],2,)","v":"NO S'HAN IDENTIFICAT ELEMENTS DE RISC"},null,null,null,null,null,null,null,null,{"$f":"+VLOOKUP(F1,AUX.Avisos[],3,)","v":"OK"}]
[null,null,"3. CONTROLS PER GARANTIR ELS DRETS DE LES PERSONES",null,null,null,null,null,null,null,null,null,null,null,"CELL FORMATS",null,"COMPL STATUS"]
["D10",null,"ID","3.1   TRANSPARÈNCIA I DEURE D'INFORMACIÓ",null,"SI/NO","Comenteu, si escau"]
[{"$f":"A3","v":"D10"},null,{"$f":"+A4","v":"D10"},"Deure d'informació i comunicació ",null,null,"+ INFO"]
["D10",null,null,"Tota comunicació amb els interessats és concisa, intel·ligible, de fàcil accés i fa ús d’un llenguatge clar i senzill?",null,null,null,null,null,null,null,null,null,null,{"$f":"+IF(F5=\"\",\"INPUT REQ\",IF(F5=\"NO\",\"AMBER\",\"GREEN\"))","v":"INPUT REQ"},{"$f":"+IF(F5<>\"\",IF(G5=\"\",\"INPUT REQ\",\"OK\"),\"N/A\")","v":"N/A"},{"$f":"+IF(O5=\"N/A\",\"N\",IF(O5=\"INPUT REQ\",\"BLANK\",\"OK\"))","v":"BLANK"},{"$f":"+IF(P5=\"N/A\",\"N\",IF(P5=\"INPUT REQ\",\"BLANK\",\"OK\"))","v":"N"}]
["D10",null,null,"Pel cas de peticions fetes amb mitjans electrònics, la informació es donarà preferentment de forma electrònica?",null,null,null,null,null,null,null,null,null,null,{"$f":"+IF(F6=\"\",\"INPUT REQ\",IF(F6=\"NO\",\"AMBER\",\"GREEN\"))","v":"INPUT REQ"},{"$f":"+IF(F6<>\"\",IF(G6=\"\",\"INPUT REQ\",\"OK\"),\"N/A\")","v":"N/A"},"BLANK",{"$f":"+IF(P6=\"N/A\",\"N\",IF(P6=\"INPUT REQ\",\"BLANK\",\"OK\"))","v":"N"}]
["D10",null,null,"La informació es donarà seguint el principi de disseny universal?",null,null,null,null,null,null,null,null,null,null,{"$f":"+IF(F7=\"\",\"INPUT REQ\",IF(F7=\"NO\",\"AMBER\",\"GREEN\"))","v":"INPUT REQ"},{"$f":"+IF(F7<>\"\",IF(G7=\"\",\"INPUT REQ\",\"OK\"),\"N/A\")","v":"N/A"},"BLANK","N"]
["D10",null,null,"Informació en la recollida de dades directament de l'interessat",null,null,"+ INFO"]
["D10",null,null,"La recollida de dades personals inclou l'obtenció directa de l'interessat?",null,{"$f":"IF('2.NECES i PROP'!G65=\"\",\"\",'2.NECES i PROP'!G65)","v":""},null,null,null,null,null,null,null,null,{"$f":"+IF(F9=\"\",\"N/A\",\"OK\")","v":"N/A"},null,"CALCULATED"]
["D10",null,null,"Es facilita la informació de tots els aspectes de l’article 13 RGPD?\nEn cas afirmatiu, especifiqueu com - seleccionant una de les dues opcions següents:",null,null,null,null,null,null,null,null,null,null,{"$f":"IF(F9=\"SI\",IF(F10=\"\",\"INPUT REQ\",IF(F10=\"NO\",\"AMBER\",\"GREEN\")),\"N/A\")","v":"N/A"},{"$f":"+IF(F10<>\"\",IF(G10=\"\",\"INPUT REQ\",\"OK\"),\"N/A\")","v":"N/A"},{"$f":"+IF(O10=\"N/A\",\"N\",IF(O10=\"INPUT REQ\",\"BLANK\",\"OK\"))","v":"N"},{"$f":"+IF(P10=\"N/A\",\"N\",IF(P10=\"INPUT REQ\",\"BLANK\",\"OK\"))","v":"N"}]
["D10",null,null,null,"a) Es facilita tota la informació directament",null,null,null,null,null,null,null,null,null,{"$f":"+IF($F$10<>\"SI\",\"N/A\",IF(F11=\"SI\",\"GREEN\",IF(COUNTIF($F$11:$F$12,\"SI\")>0,\"N/A\",IF(F11=\"\",\"INPUT REQ\",\"AMBER\"))))","v":"N/A"},{"$f":"+IF(F11=\"SI\",IF(G11=\"\",\"INPUT REQ\",\"OK\"),\"N/A\")","v":"N/A"},"N","N"]
["D10",null,null,null,"b) Es facilita la informació per capes o nivells, indicant la informació bàsica referida a: \n      - la finalitat del tractament, \n      - la possibilitat d’exercir els drets dels articles 15-22 RGPD,\n      - si les dades es tracten per a l’elaboració de perfils (si aplica)\n    i es facilita una adreça de correu mail, link, o qualsevol altra que permeti l’accés a la resta de la informació de forma senzilla i immediata.",null,null,null,null,null,null,null,null,null,{"$f":"+IF($F$10<>\"SI\",\"N/A\",IF(F12=\"SI\",\"GREEN\",IF(COUNTIF($F$11:$F$12,\"SI\")>0,\"N/A\",IF(F12=\"\",\"INPUT REQ\",\"AMBER\"))))","v":"N/A"},{"$f":"+IF(F12=\"SI\",IF(G12=\"\",\"INPUT REQ\",\"OK\"),\"N/A\")","v":"N/A"},"N","N"]
["D10",null,null,"Informació a l’interessat quan les dades procedeixen d’altres fonts",null,null,"+ INFO"]
["D10",null,null,"La recollida de dades personals inclou l'obtenció altres fonts? (no directament de l'interessat)",null,{"$f":"IF('2.NECES i PROP'!G68=\"\",\"\",'2.NECES i PROP'!G68)","v":""},null,null,null,null,null,null,null,null,{"$f":"+IF(F14=\"\",\"N/A\",\"OK\")","v":"N/A"},null,"CALCULATED"]
["D10",null,null,"Es facilita la informació de tots els aspectes de l’article 14 RGPD? \nEn cas afirmatiu, especifiqueu com - seleccionant una de les dues opcions següents:",null,null,null,null,null,null,null,null,null,null,{"$f":"IF(F14=\"SI\",IF(F15=\"\",\"INPUT REQ\",IF(F15=\"NO\",\"AMBER\",\"GREEN\")),\"N/A\")","v":"N/A"},{"$f":"+IF(F15<>\"\",IF(G15=\"\",\"INPUT REQ\",\"OK\"),\"N/A\")","v":"N/A"},{"$f":"+IF(O15=\"N/A\",\"N\",IF(O15=\"INPUT REQ\",\"BLANK\",\"OK\"))","v":"N"},{"$f":"+IF(P15=\"N/A\",\"N\",IF(P15=\"INPUT REQ\",\"BLANK\",\"OK\"))","v":"N"}]
["D10",null,null,null,"a) Es facilita tota la informació directament",null,null,null,null,null,null,null,null,null,{"$f":"+IF($F$15<>\"SI\",\"N/A\",IF(F16=\"SI\",\"GREEN\",IF(COUNTIF($F$16:$F$17,\"SI\")>0,\"N/A\",IF(F16=\"\",\"INPUT REQ\",\"AMBER\"))))","v":"N/A"},{"$f":"+IF(F16=\"SI\",IF(G16=\"\",\"INPUT REQ\",\"OK\"),\"N/A\")","v":"N/A"},{"$f":"+IF(O16=\"N/A\",\"N\",IF(O16=\"INPUT REQ\",\"BLANK\",\"OK\"))","v":"N"},"N"]
["D10",null,null,null,"b) Es facilita la informació per capes, indicant la informació bàsica referida a: \n      - la identitat del responsable o del representant,\n      - la finalitat del tractament, \n      - categories de dades objecte del tractament, \n      - les fonts de procedència de les dades,\n      - la possibilitat d’exercir els drets dels articles 15-22 RGPD,\n      - si les dades es tracten per a l’elaboració de perfils (si aplica)\n    i es facilita una adreça de correu mail, link, o qualsevol altra que permeti l’accés a la resta de la informació de forma senzilla i immediata.",null,null,null,null,null,null,null,null,null,{"$f":"+IF($F$15<>\"SI\",\"N/A\",IF(F17=\"SI\",\"GREEN\",IF(COUNTIF($F$16:$F$17,\"SI\")>0,\"N/A\",IF(F17=\"\",\"INPUT REQ\",\"AMBER\"))))","v":"N/A"},"N/A","N","N"]
["D10",null,null,"Heu previst un procediment per a la comunicació i el termini per a fer-ho (no superior a un mes)? \nEn cas afirmatiu, especifiqueu quin.",null,null,null,null,null,null,null,null,null,null,{"$f":"+IF(F18=\"\",\"INPUT REQ\",IF(F18=\"NO\",\"AMBER\",\"GREEN\"))","v":"INPUT REQ"},{"$f":"+IF(F18=\"SI\",IF(G18=\"\",\"INPUT REQ\",\"OK\"),\"N/A\")","v":"N/A"},"BLANK",{"$f":"+IF(P18=\"N/A\",\"N\",IF(P18=\"INPUT REQ\",\"BLANK\",\"OK\"))","v":"N"}]
["D10",null,null,"S’aplica alguna exempció al deure d’informació?\nEn cas afirmatiu, especifiqueu quina.",null,null,null,null,null,null,null,null,null,null,{"$f":"+IF(F19=\"\",\"INPUT REQ\",IF(F19=\"NO\",\"GREEN\",\"AMBER\"))","v":"INPUT REQ"},{"$f":"+IF(F19=\"SI\",IF(G19=\"\",\"INPUT REQ\",\"OK\"),\"N/A\")","v":"N/A"},{"$f":"+IF(O19=\"N/A\",\"N\",IF(O19=\"INPUT REQ\",\"BLANK\",\"OK\"))","v":"BLANK"},{"$f":"+IF(P19=\"N/A\",\"N\",IF(P19=\"INPUT REQ\",\"BLANK\",\"OK\"))","v":"N"}]
["D20",null,"ID","3.2   EXERCICI DE DRETS",null,"SI/NO","Comenteu, si escau"]
[{"$f":"A20","v":"D20"},null,{"$f":"+A21","v":"D20"},"Forma d'exercici de drets",null,null,"+ INFO"]
["D20",null,null,"S’ha establert un procediment o protocol estàndard per la gestió de sol·licituds d’exercici de drets? ",null,null,null,null,null,null,null,null,null,null,{"$f":"+IF(F22=\"\",\"INPUT REQ\",IF(F22=\"NO\",\"AMBER\",\"GREEN\"))","v":"INPUT REQ"},{"$f":"+IF(F22<>\"\",IF(G22=\"\",\"INPUT REQ\",\"OK\"),\"N/A\")","v":"N/A"},{"$f":"+IF(O22=\"N/A\",\"N\",IF(O22=\"INPUT REQ\",\"BLANK\",\"OK\"))","v":"BLANK"},{"$f":"+IF(P22=\"N/A\",\"N\",IF(P22=\"INPUT REQ\",\"BLANK\",\"OK\"))","v":"N"}]
["D20",null,null,"En cas afirmatiu, heu adjuntat el document \"Procediment per a l’exercici de drets\"?",null,{"$f":"IF('1.TRACT'!E25=\"\",\"\",'1.TRACT'!E25)","v":""},null,null,null,null,null,null,null,null,{"$f":"+IF(F22<>\"SI\",\"N/A\",IF(F23<>\"SI\",\"AMBER\",\"GREEN\"))","v":"N/A"},{"$f":"+IF(F23<>\"\",IF(G23=\"\",\"INPUT REQ\",\"OK\"),\"N/A\")","v":"N/A"},"CALCULATED",{"$f":"+IF(P23=\"N/A\",\"N\",IF(P23=\"INPUT REQ\",\"BLANK\",\"OK\"))","v":"N"}]
["D20",null,null,"El personal que tracta amb les persones interessades té la formació necessària per reconèixer les sol·licituds dels diferents drets i tramitar-los d’acord amb el procediment establert? ",null,null,null,null,null,null,null,null,null,null,{"$f":"+IF(F24=\"\",\"INPUT REQ\",IF(F24=\"NO\",\"AMBER\",\"GREEN\"))","v":"INPUT REQ"},{"$f":"+IF(F24<>\"\",IF(G24=\"\",\"INPUT REQ\",\"OK\"),\"N/A\")","v":"N/A"},"BLANK",{"$f":"+IF(P24=\"N/A\",\"N\",IF(P24=\"INPUT REQ\",\"BLANK\",\"OK\"))","v":"N"}]
["D20",null,null,"El procediment establert permet garantir el termini màxim (d’un mes) per respondre les sol·licituds dels interessats? ",null,null,null,null,null,null,null,null,null,null,{"$f":"+IF(F25=\"\",\"INPUT REQ\",IF(F25=\"NO\",\"AMBER\",\"GREEN\"))","v":"INPUT REQ"},{"$f":"+IF(F25<>\"\",IF(G25=\"\",\"INPUT REQ\",\"OK\"),\"N/A\")","v":"N/A"},"BLANK",{"$f":"+IF(P25=\"N/A\",\"N\",IF(P25=\"INPUT REQ\",\"BLANK\",\"OK\"))","v":"N"}]
["D20",null,null,"Dret d'accés",null,null,"+ INFO"]
["D20",null,null,"S’ha establert un procediment o protocol estàndard per a que l’interessat pugui accedir a les seves dades i la resta d’informació prevista a l’article 15 RGPD?\nDescriviu-lo breument a comentaris.",null,null,null,null,null,null,null,null,null,null,{"$f":"+IF(F27=\"\",\"INPUT REQ\",IF(F27=\"NO\",\"AMBER\",\"GREEN\"))","v":"INPUT REQ"},{"$f":"+IF(F27=\"SI\",IF(G27=\"\",\"INPUT REQ\",\"OK\"),\"N/A\")","v":"N/A"},{"$f":"+IF(O27=\"N/A\",\"N\",IF(O27=\"INPUT REQ\",\"BLANK\",\"OK\"))","v":"BLANK"},{"$f":"+IF(P27=\"N/A\",\"N\",IF(P27=\"INPUT REQ\",\"BLANK\",\"OK\"))","v":"N"}]
["D20",null,null,"Es facilita a l’interessat un accés remot per tal que aquest pugui tenir accés directe a les seves dades? \nEn cas  afirmatiu, descriviu el procediment a comentaris incloent, per exemple, com es verifica la identitat de l’interessat que demana l’accés",null,null,null,null,null,null,null,null,null,null,{"$f":"+IF(F28=\"\",\"INPUT REQ\",IF(F28=\"NO\",\"AMBER\",\"GREEN\"))","v":"INPUT REQ"},{"$f":"+IF(F28=\"SI\",IF(G28=\"\",\"INPUT REQ\",\"OK\"),\"N/A\")","v":"N/A"},"BLANK",{"$f":"+IF(P28=\"N/A\",\"N\",IF(P28=\"INPUT REQ\",\"BLANK\",\"OK\"))","v":"N"}]
["D20",null,null,"Dret de rectificació",null,null,"+ INFO"]
["D20",null,null,"Disposeu de mecanismes previstos per atendre les peticions de rectificació de dades inexactes, i /o per completar les dades que són necessàries per a la finalitat del tractament i que estan incomplertes?\nDescriviu quines.",null,null,null,null,null,null,null,null,null,null,{"$f":"+IF(F30=\"\",\"INPUT REQ\",IF(F30=\"NO\",\"AMBER\",\"GREEN\"))","v":"INPUT REQ"},{"$f":"+IF(G30=\"\",\"INPUT REQ\",\"OK\")","v":"INPUT REQ"},{"$f":"+IF(O30=\"N/A\",\"N\",IF(O30=\"INPUT REQ\",\"BLANK\",\"OK\"))","v":"BLANK"},{"$f":"+IF(P30=\"N/A\",\"N\",IF(P30=\"INPUT REQ\",\"BLANK\",\"OK\"))","v":"BLANK"}]
["D20",null,null,"Dret de supressió",null,null,"+ INFO"]
["D20",null,null,"Disposeu de mecanisme previstos per atendre les peticions de supressió? \nEn cas afirmatiu, expliqueu el mecanisme. En cas que no apliqui, indiqueu el supòsit d’excepció.",null,null,null,null,null,null,null,null,null,null,{"$f":"+IF(F32=\"\",\"INPUT REQ\",IF(F32=\"NO\",\"AMBER\",\"GREEN\"))","v":"INPUT REQ"},{"$f":"+IF(G32=\"\",\"INPUT REQ\",\"OK\")","v":"INPUT REQ"},{"$f":"+IF(O32=\"N/A\",\"N\",IF(O32=\"INPUT REQ\",\"BLANK\",\"OK\"))","v":"BLANK"},{"$f":"+IF(P32=\"N/A\",\"N\",IF(P32=\"INPUT REQ\",\"BLANK\",\"OK\"))","v":"BLANK"}]
["D20",null,null,"Disposeu de mecanismes de bloqueig de les dades quan aquestes s'hagin de rectificar o suprimir?\nEn cas que si indiqueu quin.\nEn cas que la configuració del sistema d’informació no permeti impedir el tractament, incloent la visualització de la informació, indiqueu com s’obtindrà una còpia segura de la informació que garanteixi la seva autenticitat. ",null,null,null,null,null,null,null,null,null,null,{"$f":"+IF(F33=\"\",\"INPUT REQ\",IF(F33=\"NO\",\"AMBER\",\"GREEN\"))","v":"INPUT REQ"},{"$f":"+IF(G33=\"\",\"INPUT REQ\",\"OK\")","v":"INPUT REQ"},{"$f":"+IF(O33=\"N/A\",\"N\",IF(O33=\"INPUT REQ\",\"BLANK\",\"OK\"))","v":"BLANK"},{"$f":"+IF(P33=\"N/A\",\"N\",IF(P33=\"INPUT REQ\",\"BLANK\",\"OK\"))","v":"BLANK"}]
["D20",null,null,"Dret a limitar el tractament",null,null,"+ INFO"]
["D20",null,null,"Disposeu de mecanisme previstos per atendre les peticions de dret de limitació al tractament? \nExposeu els mecanisme previst per atendre el dret de limitació del tractament i resoldre’l en termini.",null,null,null,null,null,null,null,null,null,null,{"$f":"+IF(F35=\"\",\"INPUT REQ\",IF(F35=\"NO\",\"AMBER\",\"GREEN\"))","v":"INPUT REQ"},{"$f":"+IF(G35=\"\",\"INPUT REQ\",\"OK\")","v":"INPUT REQ"},{"$f":"+IF(O35=\"N/A\",\"N\",IF(O35=\"INPUT REQ\",\"BLANK\",\"OK\"))","v":"BLANK"},{"$f":"+IF(P35=\"N/A\",\"N\",IF(P35=\"INPUT REQ\",\"BLANK\",\"OK\"))","v":"BLANK"}]
["D20",null,null,"Dret a la portabilitat de les dades",null,null,"+ INFO"]
["D20",null,null,"S’ha establert un procediment per la gestió de sol·licituds de portabilitat de dades? \nEn cas afirmatiu, descriviu-lo. En cas contrari, justifiqueu l’excepció a aquest dret ",null,null,null,null,null,null,null,null,null,null,{"$f":"+IF(F37=\"\",\"INPUT REQ\",IF(F37=\"NO\",\"AMBER\",\"GREEN\"))","v":"INPUT REQ"},{"$f":"+IF(G37=\"\",\"INPUT REQ\",\"OK\")","v":"INPUT REQ"},{"$f":"+IF(O37=\"N/A\",\"N\",IF(O37=\"INPUT REQ\",\"BLANK\",\"OK\"))","v":"BLANK"},{"$f":"+IF(P37=\"N/A\",\"N\",IF(P37=\"INPUT REQ\",\"BLANK\",\"OK\"))","v":"BLANK"}]
["D20",null,null,"Dret d'oposició",null,null,"+ INFO"]
["D20",null,null,"Disposeu de mecanismes previstos previst per atendre el dret d’oposició i resoldre’l en termini?.\nEn cas afirmatiu, exposeu quin. En cas que no sigui aplicable, justifiqueu en quin supòsit.",null,null,null,null,null,null,null,null,null,null,{"$f":"+IF(F39=\"\",\"INPUT REQ\",IF(F39=\"NO\",\"AMBER\",\"GREEN\"))","v":"INPUT REQ"},{"$f":"+IF(G39=\"\",\"INPUT REQ\",\"OK\")","v":"INPUT REQ"},{"$f":"+IF(O39=\"N/A\",\"N\",IF(O39=\"INPUT REQ\",\"BLANK\",\"OK\"))","v":"BLANK"},{"$f":"+IF(P39=\"N/A\",\"N\",IF(P39=\"INPUT REQ\",\"BLANK\",\"OK\"))","v":"BLANK"}]
["D20",null,null,"Dret a no ser objecte de decisions individuals automatitzades (incloent l'elaboració de perfils)",null,null,"+ INFO"]
["D20",null,null,"Es fa un tractament automatitzat que té efectes jurídics o altres efectes significatius per les persones?\nEn cas afirmatiu, especifiqueu quina és la base legal que ho permet - seleccionant una de les tres opcions següents:",null,null,null,null,null,null,null,null,null,null,{"$f":"+IF(F41=\"\",\"INPUT REQ\",IF(F41=\"SI\",\"AMBER\",\"GREEN\"))","v":"INPUT REQ"},null,{"$f":"+IF(O41=\"N/A\",\"N\",IF(O41=\"INPUT REQ\",\"BLANK\",\"OK\"))","v":"BLANK"}]
["D20",null,null,null,"És necessari per l’execució d’un contracte entre l’interessat i el responsable",null,null,null,null,null,null,null,null,null,{"$f":"+IF($F$41<>\"SI\",\"N/A\",IF(F42=\"SI\",\"GREEN\",IF(COUNTIF($F$42:$F$44,\"SI\")>0,\"N/A\",IF(F42=\"\",\"INPUT REQ\",\"AMBER\"))))","v":"N/A"},{"$f":"+IF(F42=\"SI\",IF(G42=\"\",\"INPUT REQ\",\"OK\"),\"N/A\")","v":"N/A"},{"$f":"+IF(O42=\"N/A\",\"N\",IF(O42=\"INPUT REQ\",\"BLANK\",\"OK\"))","v":"N"}]
["D20",null,null,null,"Està autoritzat pel dret de la unió o d’un estat membre",null,null,null,null,null,null,null,null,null,{"$f":"+IF($F$41<>\"SI\",\"N/A\",IF(F43=\"SI\",\"GREEN\",IF(COUNTIF($F$42:$F$44,\"SI\")>0,\"N/A\",IF(F43=\"\",\"INPUT REQ\",\"AMBER\"))))","v":"N/A"},"N/A","N"]
["D20",null,null,null,"L’interessat ha donat el seu consentiment explícit",null,null,null,null,null,null,null,null,null,"N/A","N/A","N"]
["D20",null,null,"Existeix un procediment perquè les persones puguin demanar intervenció humana, expressar el seu punt de vista i impugnar la decisió?",null,null,null,null,null,null,null,null,null,null,{"$f":"+IF(F45=\"\",\"INPUT REQ\",IF(F45=\"NO\",\"AMBER\",\"GREEN\"))","v":"INPUT REQ"},"N/A","BLANK"]
["D20",null,null,"Hi ha personal a l’organització amb la capacitat de revisar les decisions i canviar-les?",null,null,null,null,null,null,null,null,null,null,{"$f":"+IF(F46=\"\",\"INPUT REQ\",IF(F46=\"NO\",\"AMBER\",\"GREEN\"))","v":"INPUT REQ"},"N/A","BLANK"]
["D20",null,null,"Es fa ús de categories especials de dades en el tractament automàtic?\nEn cas afirmatiu, indiqueu quina és la base legal que ho permet, seleccionant una de les 2 opcions següents",null,null,null,null,null,null,null,null,null,null,{"$f":"+IF(F47=\"\",\"INPUT REQ\",IF(F47=\"NO\",\"AMBER\",\"GREEN\"))","v":"INPUT REQ"},null,"BLANK"]
["D20",null,null,null,"L’interessat ha donat el seu consentiment explícit",null,null,null,null,null,null,null,null,null,{"$f":"+IF($F$47<>\"SI\",\"N/A\",IF(F48=\"SI\",\"GREEN\",IF(COUNTIF($F$48:$F$49,\"SI\")>0,\"N/A\",IF(F48=\"\",\"INPUT REQ\",\"AMBER\"))))","v":"N/A"},{"$f":"+IF(F48=\"SI\",IF(G48=\"\",\"INPUT REQ\",\"OK\"),\"N/A\")","v":"N/A"},{"$f":"+IF(O48=\"N/A\",\"N\",IF(O48=\"INPUT REQ\",\"BLANK\",\"OK\"))","v":"N"}]
["D20",null,null,null,"El tractament es fa per protegir els interessos vitals de l’interessat o d’una altra persona",null,null,null,null,null,null,null,null,null,{"$f":"+IF($F$47<>\"SI\",\"N/A\",IF(F49=\"SI\",\"GREEN\",IF(COUNTIF($F$48:$F$49,\"SI\")>0,\"N/A\",IF(F49=\"\",\"INPUT REQ\",\"AMBER\"))))","v":"N/A"},"N/A",{"$f":"+IF(O49=\"N/A\",\"N\",IF(O49=\"INPUT REQ\",\"BLANK\",\"OK\"))","v":"N"}]
[]
[]
[]
[]
[null,null,null,"ÀREA D'ÚS EXCLUSIU DE L'AVALUADOR"]
[null,null,null,"VALORACIÓ (Seleccioneu)"]
[null,null,null,null,null,null,null,null,null,null,null,null,null,null,{"$f":"+IF(OR(D56=\"\",D56=\"PENDENT DE VALORACIÓ\"),\"INPUT REQ\",IF(D56=\"Acceptada\",\"GREEN\",IF(D56=\"Denegada\",\"RED\",\"AMBER\")))","v":"INPUT REQ"}]
[null,null,null,"COMENTARIS DE L'AVALUADOR"]
[null,null,null,null,null,null,null,null,null,null,null,null,null,null,{"$f":"+IF(D58=\"\",\"INPUT REQ\",\"OK\")","v":"INPUT REQ"}]
[null,null,null,null,null,{"$f":"CONCATENATE(IF(LEN(TRIM(D58))=0,0,LEN(TRIM(D58))-LEN(SUBSTITUTE(D58,\" \",\"\"))+1),\" paraules\")","v":"0 paraules"}]

{"sheet":"4A.RISCOS COMPLIMENT","index":9,"n_rows":36,"n_cols":22,"rows_kept":36,"cut":false,"hidden":false,"merged":[[1,10,1,15],[0,2,0,7],[4,10,4,11],[4,2,4,5],[4,6,4,9],[2,7,2,9],[1,2,1,3],[1,4,1,7],[2,2,2,3],[4,12,4,14],[3,12,3,14],[3,4,3,5],[2,4,2,6],[3,2,3,3],[2,12,2,14],[3,10,3,11],[2,10,2,11],[39,2,39,5],[3,7,3,9]]}
[null,null,"4A. AVALUACIÓ DE RISCOS PER INCOMPLIMENT",null,null,null,null,null,null,null,null,null,null,null,null,null,null,"CELL FORMATS 1","CELL FORMATS 2","CELL FORMATS 3","CELL FORMATS 4","COMPL STATUS"]
[null,null,"QUAN UTILITZAR AQUESTA SECCIÓ?",null,"L'avaluació de riscos per incompliment cobreix les alertes identificades a les seccions de principis i drets del reglament:   1. Tractament (T); 2. Principis (P) - Necessitat i Proporcionalitat; 3. Drets (D)\nLes mesures de control de seguretat i protecció de les dades s’avaluen per separat a la secció 4B.\n\nSi en algun apartat de d’aquestes seccions s’ha identificat una alerta d’incompliment (en vermell), no es podrà continuar. És imprescindible identificar mesures per eliminar l’incompliment, i tornar enrere al formulari canviant les respostes amb alertes.\n\nSi les alertes són taronges, és recomanable identificar mesures per minimitzar possibles impactes negatius sobre els interessats.",null,null,null,null,"PASSOS A SEGUIR: ","1. Empleneu els codis de control (1a columna):\n    - Trobareu el codi a la columna de l'esquerra de cada secció, o en casos greus directament al missatge d'excepció. A la dreta teniu una taula d'ajuda amb els que falten, i els avisos \n    -  Podeu escriure'ls directament, o prémer el botó de \"PROPOSAR control_ID segons alertes\" (sobreescriurà el que tingueu escrit)\n\n2. Empleneu la taula d’esquerra a dreta, segons s’indiqui amb el codi de colors\n      a.Els riscos, impactes per a l’interessat i mesures disposen d’un catàleg que, de forma orientativa, podeu seleccionar. També podeu escriure directament \n      b.A les columnes de probabilitat i impacte només podreu seleccionar valors tabulats\n      c.Els riscos es calculen automàticament \n\n3. Disposeu d’ajuda específica de cada columna, com a comentari"]
[null,null,"GRUP",null,"SELECCIÓ D'ALERTES / AVISOS A TRACTAR",null,null,"RISC INHERENT DEL TRACTAMENT (GLOBAL)",null,null,"OBSERVACIONS / RECOMANACIONS per al tractament del RISC INHERENT ",null,"RISC RESIDUAL DEL TRACTAMENT (GLOBAL)",null,null,"OBSERVACIONS / RECOMANACIONS \nper al RISC RESIDUAL ",null,{"$f":"+IF(T4=\"N/A\",IF(COUNTIF(R4:S4,\"RED\")>0,3,IF(COUNTIF(R4:S4,\"AMBER\")>0,2,1)),IF(T4=\"RED\",3,IF(T4=\"AMBER\",2,1)))","v":1}]
[null,null,"RESUM",null,{"$f":"+VLOOKUP(MAX(Resum_MesuresxTractar[[MAX MISSING ]]),AUX.Avisos4447[],2,0)","v":"S'han inclòs tots els avisos i alertes"},null,null,{"$f":"+IF(COUNTIF(J7:J36,\"Risc Alt\")>0,\"RISC ALT\",IF(COUNTIF(J7:J36,\"Risc Mitjà\")>0,\"RISC MITJÀ\",IF(COUNTIF(J7:J36,\"Risc Baix\")>0,\"RISC BAIX\",\"PENDENT\")))","v":"PENDENT"},null,null,{"$f":"+INDEX('AUX DATA VALIDATION'!AL3:AN7,MATCH(H4,'AUX DATA VALIDATION'!AL3:AL7,0),2)","v":"COMPLETAR TAULA"},null,{"$f":"+IF(COUNTIF(V4:V51,\"BLANK\")>0,\"PENDENT\",IF(COUNTIF(O7:O36,\"Risc Alt\")>0,\"RISC ALT\",IF(COUNTIF(O7:O36,\"Risc Mitjà\")>0,\"RISC MITJÀ\",IF(COUNTIF(O7:O36,\"Risc Baix\")>0,\"RISC BAIX\",\"PENDENT\"))))","v":"PENDENT"},null,null,{"$f":"+VLOOKUP(M4,AUX.Avisos44[],2,)","v":"Cal completar les seccions inferiors per poder determinar el Risc RESIDUAL."},null,{"$f":"+VLOOKUP(MAX(Resum_MesuresxTractar[[MAX MISSING ]]),AUX.Avisos4447[],3,0)","v":"OK"},{"$f":"+INDEX('AUX DATA VALIDATION'!AL3:AN7,MATCH(H4,'AUX DATA VALIDATION'!AL3:AL7,0),3)","v":"N/A"},{"$f":"+VLOOKUP(M4,AUX.Avisos44[],3,)","v":"N/A"},null,"CALCULATED"]
[null,null,"ANÀLISI DE RISCOS",null,null,null,"VALORACIÓ DEL RISC INHERENT",null,null,null,"TRACTAMENT DELS RISCOS",null,"VALORACIÓ DEL RISC RESIDUAL",null,null,"INTERLOCUTORS IDENTIFICATS"]
[null,null,"CONTROL_ID","Alerta","Secció afectada","Risc en el compliment","Potencial impacte per a l'interessat","Probabilitat","Impacte","Risc inherent","Mesura de control","Eficàcia del control","Probabilitat Residual","Impacte Residual","Risc Residual","Descriviu-los",null,"control","risc","valoracio","mesures"]
[null,null,null,{"$f":"+IF(C7=\"\",\"\",VLOOKUP(C7,Resum_MesuresxTractar[],2,0))","v":""},{"$f":"IFERROR(VLOOKUP(C7,CatalegFull[],2,0),\"(empleneu el codi de control)\")","v":"(empleneu el codi de control)"},null,null,null,null,{"$f":"+IF(D7=2,\"RISC ALT\",IFERROR(INDEX('AUX_TAULA DE RISCOS'!$C$2:$G$5,MATCH(H7,'AUX_TAULA DE RISCOS'!$C$2:$C$5,0),MATCH(I7,'AUX_TAULA DE RISCOS'!$C$5:$G$5,0)),\"-\"))","v":"-"},null,null,null,null,{"$f":"+IFERROR(INDEX('AUX_TAULA DE RISCOS'!$C$2:$G$5,MATCH(M7,'AUX_TAULA DE RISCOS'!$C$2:$C$5,0),MATCH(N7,'AUX_TAULA DE RISCOS'!$C$5:$G$5,0)),\"-\")","v":"-"},null,null,{"$f":"IF(AND(COUNTIF(Resum_MesuresxTractar[INCLOSA?],\"FALTA\")>0,C7=\"\"),\"INPUT REQ\",\"OK\")","v":"OK"},{"$f":"+IF(OR(C7=\"\",D7=0),\"N/A\",IF(F7=\"\",\"INPUT REQ\",\"OK\"))","v":"N/A"},{"$f":"+IF(OR(C7=\"\",D7<>1),\"N/A\",IF(COUNTIF(G7:I7,\"\")>0,\"INPUT REQ\",\"OK\"))","v":"N/A"},{"$f":"+IF(OR('4A.RISCOS COMPLIMENT'!$J7=\"RISC BAIX\",'4A.RISCOS COMPLIMENT'!$J7=\"-\"),\"N/A\",IF(COUNTIF(K7:P7,\"\")>0,\"INPUT REQ\",\"OK\"))","v":"N/A"},{"$f":"+IF(COUNTIF(R7:U7,\"INPUT REQ\")>0,\"BLANK\",IF(S7=\"N/A\",\"N/A\",\"OK\"))","v":"N/A"}]
[null,null,null,{"$f":"+IF(C8=\"\",\"\",VLOOKUP(C8,Resum_MesuresxTractar[],2,0))","v":""},{"$f":"IFERROR(VLOOKUP(C8,CatalegFull[],2,0),\"(empleneu el codi de control)\")","v":"(empleneu el codi de control)"},null,null,null,null,{"$f":"+IF(D8=2,\"RISC ALT\",IFERROR(INDEX('AUX_TAULA DE RISCOS'!$C$2:$G$5,MATCH(H8,'AUX_TAULA DE RISCOS'!$C$2:$C$5,0),MATCH(I8,'AUX_TAULA DE RISCOS'!$C$5:$G$5,0)),\"-\"))","v":"-"},null,null,null,null,{"$f":"+IFERROR(INDEX('AUX_TAULA DE RISCOS'!$C$2:$G$5,MATCH(M8,'AUX_TAULA DE RISCOS'!$C$2:$C$5,0),MATCH(N8,'AUX_TAULA DE RISCOS'!$C$5:$G$5,0)),\"-\")","v":"-"},null,null,{"$f":"IF(AND(COUNTIF(Resum_MesuresxTractar[INCLOSA?],\"FALTA\")>0,C8=\"\"),\"INPUT REQ\",\"OK\")","v":"OK"},{"$f":"+IF(OR(C8=\"\",D8=0),\"N/A\",IF(F8=\"\",\"INPUT REQ\",\"OK\"))","v":"N/A"},{"$f":"+IF(OR(C8=\"\",D8<>1),\"N/A\",IF(COUNTIF(G8:I8,\"\")>0,\"INPUT REQ\",\"OK\"))","v":"N/A"},{"$f":"+IF(OR('4A.RISCOS COMPLIMENT'!$J8=\"RISC BAIX\",'4A.RISCOS COMPLIMENT'!$J8=\"-\"),\"N/A\",IF(COUNTIF(K8:P8,\"\")>0,\"INPUT REQ\",\"OK\"))","v":"N/A"},{"$f":"+IF(COUNTIF(R8:U8,\"INPUT REQ\")>0,\"BLANK\",IF(S8=\"N/A\",\"N/A\",\"OK\"))","v":"N/A"}]
[null,null,null,{"$f":"+IF(C9=\"\",\"\",VLOOKUP(C9,Resum_MesuresxTractar[],2,0))","v":""},{"$f":"IFERROR(VLOOKUP(C9,CatalegFull[],2,0),\"(empleneu el codi de control)\")","v":"(empleneu el codi de control)"},null,null,null,null,{"$f":"+IF(D9=2,\"RISC ALT\",IFERROR(INDEX('AUX_TAULA DE RISCOS'!$C$2:$G$5,MATCH(H9,'AUX_TAULA DE RISCOS'!$C$2:$C$5,0),MATCH(I9,'AUX_TAULA DE RISCOS'!$C$5:$G$5,0)),\"-\"))","v":"-"},null,null,null,null,{"$f":"+IFERROR(INDEX('AUX_TAULA DE RISCOS'!$C$2:$G$5,MATCH(M9,'AUX_TAULA DE RISCOS'!$C$2:$C$5,0),MATCH(N9,'AUX_TAULA DE RISCOS'!$C$5:$G$5,0)),\"-\")","v":"-"},null,null,{"$f":"IF(AND(COUNTIF(Resum_MesuresxTractar[INCLOSA?],\"FALTA\")>0,C9=\"\"),\"INPUT REQ\",\"OK\")","v":"OK"},"N/A","N/A",{"$f":"+IF(OR('4A.RISCOS COMPLIMENT'!$J9=\"RISC BAIX\",'4A.RISCOS COMPLIMENT'!$J9=\"-\"),\"N/A\",IF(COUNTIF(K9:P9,\"\")>0,\"INPUT REQ\",\"OK\"))","v":"N/A"},"N/A"]
[null,null,null,{"$f":"+IF(C10=\"\",\"\",VLOOKUP(C10,Resum_MesuresxTractar[],2,0))","v":""},{"$f":"IFERROR(VLOOKUP(C10,CatalegFull[],2,0),\"(empleneu el codi de control)\")","v":"(empleneu el codi de control)"},null,null,null,null,{"$f":"+IF(D10=2,\"RISC ALT\",IFERROR(INDEX('AUX_TAULA DE RISCOS'!$C$2:$G$5,MATCH(H10,'AUX_TAULA DE RISCOS'!$C$2:$C$5,0),MATCH(I10,'AUX_TAULA DE RISCOS'!$C$5:$G$5,0)),\"-\"))","v":"-"},null,null,null,null,{"$f":"+IFERROR(INDEX('AUX_TAULA DE RISCOS'!$C$2:$G$5,MATCH(M10,'AUX_TAULA DE RISCOS'!$C$2:$C$5,0),MATCH(N10,'AUX_TAULA DE RISCOS'!$C$5:$G$5,0)),\"-\")","v":"-"},null,null,{"$f":"IF(AND(COUNTIF(Resum_MesuresxTractar[INCLOSA?],\"FALTA\")>0,C10=\"\"),\"INPUT REQ\",\"OK\")","v":"OK"},"N/A","N/A",{"$f":"+IF(OR('4A.RISCOS COMPLIMENT'!$J10=\"RISC BAIX\",'4A.RISCOS COMPLIMENT'!$J10=\"-\"),\"N/A\",IF(COUNTIF(K10:P10,\"\")>0,\"INPUT REQ\",\"OK\"))","v":"N/A"},"N/A"]
[null,null,null,{"$f":"+IF(C11=\"\",\"\",VLOOKUP(C11,Resum_MesuresxTractar[],2,0))","v":""},{"$f":"IFERROR(VLOOKUP(C11,CatalegFull[],2,0),\"(empleneu el codi de control)\")","v":"(empleneu el codi de control)"},null,null,null,null,{"$f":"+IF(D11=2,\"RISC ALT\",IFERROR(INDEX('AUX_TAULA DE RISCOS'!$C$2:$G$5,MATCH(H11,'AUX_TAULA DE RISCOS'!$C$2:$C$5,0),MATCH(I11,'AUX_TAULA DE RISCOS'!$C$5:$G$5,0)),\"-\"))","v":"-"},null,null,null,null,{"$f":"+IFERROR(INDEX('AUX_TAULA DE RISCOS'!$C$2:$G$5,MATCH(M11,'AUX_TAULA DE RISCOS'!$C$2:$C$5,0),MATCH(N11,'AUX_TAULA DE RISCOS'!$C$5:$G$5,0)),\"-\")","v":"-"},null,null,{"$f":"IF(AND(COUNTIF(Resum_MesuresxTractar[INCLOSA?],\"FALTA\")>0,C11=\"\"),\"INPUT REQ\",\"OK\")","v":"OK"},"N/A","N/A",{"$f":"+IF(OR('4A.RISCOS COMPLIMENT'!$J11=\"RISC BAIX\",'4A.RISCOS COMPLIMENT'!$J11=\"-\"),\"N/A\",IF(COUNTIF(K11:P11,\"\")>0,\"INPUT REQ\",\"OK\"))","v":"N/A"},"N/A"]
[null,null,null,{"$f":"+IF(C12=\"\",\"\",VLOOKUP(C12,Resum_MesuresxTractar[],2,0))","v":""},{"$f":"IFERROR(VLOOKUP(C12,CatalegFull[],2,0),\"(empleneu el codi de control)\")","v":"(empleneu el codi de control)"},null,null,null,null,{"$f":"+IF(D12=2,\"RISC ALT\",IFERROR(INDEX('AUX_TAULA DE RISCOS'!$C$2:$G$5,MATCH(H12,'AUX_TAULA DE RISCOS'!$C$2:$C$5,0),MATCH(I12,'AUX_TAULA DE RISCOS'!$C$5:$G$5,0)),\"-\"))","v":"-"},null,null,null,null,{"$f":"+IFERROR(INDEX('AUX_TAULA DE RISCOS'!$C$2:$G$5,MATCH(M12,'AUX_TAULA DE RISCOS'!$C$2:$C$5,0),MATCH(N12,'AUX_TAULA DE RISCOS'!$C$5:$G$5,0)),\"-\")","v":"-"},null,null,{"$f":"IF(AND(COUNTIF(Resum_MesuresxTractar[INCLOSA?],\"FALTA\")>0,C12=\"\"),\"INPUT REQ\",\"OK\")","v":"OK"},"N/A","N/A",{"$f":"+IF(OR('4A.RISCOS COMPLIMENT'!$J12=\"RISC BAIX\",'4A.RISCOS COMPLIMENT'!$J12=\"-\"),\"N/A\",IF(COUNTIF(K12:P12,\"\")>0,\"INPUT REQ\",\"OK\"))","v":"N/A"},"N/A"]
[null,null,null,{"$f":"+IF(C13=\"\",\"\",VLOOKUP(C13,Resum_MesuresxTractar[],2,0))","v":""},{"$f":"IFERROR(VLOOKUP(C13,CatalegFull[],2,0),\"(empleneu el codi de control)\")","v":"(empleneu el codi de control)"},null,null,null,null,{"$f":"+IF(D13=2,\"RISC ALT\",IFERROR(INDEX('AUX_TAULA DE RISCOS'!$C$2:$G$5,MATCH(H13,'AUX_TAULA DE RISCOS'!$C$2:$C$5,0),MATCH(I13,'AUX_TAULA DE RISCOS'!$C$5:$G$5,0)),\"-\"))","v":"-"},null,null,null,null,{"$f":"+IFERROR(INDEX('AUX_TAULA DE RISCOS'!$C$2:$G$5,MATCH(M13,'AUX_TAULA DE RISCOS'!$C$2:$C$5,0),MATCH(N13,'AUX_TAULA DE RISCOS'!$C$5:$G$5,0)),\"-\")","v":"-"},null,null,{"$f":"IF(AND(COUNTIF(Resum_MesuresxTractar[INCLOSA?],\"FALTA\")>0,C13=\"\"),\"INPUT REQ\",\"OK\")","v":"OK"},"N/A","N/A",{"$f":"+IF(OR('4A.RISCOS COMPLIMENT'!$J13=\"RISC BAIX\",'4A.RISCOS COMPLIMENT'!$J13=\"-\"),\"N/A\",IF(COUNTIF(K13:P13,\"\")>0,\"INPUT REQ\",\"OK\"))","v":"N/A"},"N/A"]
[null,null,null,{"$f":"+IF(C14=\"\",\"\",VLOOKUP(C14,Resum_MesuresxTractar[],2,0))","v":""},{"$f":"IFERROR(VLOOKUP(C14,CatalegFull[],2,0),\"(empleneu el codi de control)\")","v":"(empleneu el codi de control)"},null,null,null,null,{"$f":"+IF(D14=2,\"RISC ALT\",IFERROR(INDEX('AUX_TAULA DE RISCOS'!$C$2:$G$5,MATCH(H14,'AUX_TAULA DE RISCOS'!$C$2:$C$5,0),MATCH(I14,'AUX_TAULA DE RISCOS'!$C$5:$G$5,0)),\"-\"))","v":"-"},null,null,null,null,{"$f":"+IFERROR(INDEX('AUX_TAULA DE RISCOS'!$C$2:$G$5,MATCH(M14,'AUX_TAULA DE RISCOS'!$C$2:$C$5,0),MATCH(N14,'AUX_TAULA DE RISCOS'!$C$5:$G$5,0)),\"-\")","v":"-"},null,null,{"$f":"IF(AND(COUNTIF(Resum_MesuresxTractar[INCLOSA?],\"FALTA\")>0,C14=\"\"),\"INPUT REQ\",\"OK\")","v":"OK"},"N/A","N/A",{"$f":"+IF(OR('4A.RISCOS COMPLIMENT'!$J14=\"RISC BAIX\",'4A.RISCOS COMPLIMENT'!$J14=\"-\"),\"N/A\",IF(COUNTIF(K14:P14,\"\")>0,\"INPUT REQ\",\"OK\"))","v":"N/A"},"N/A"]
[null,null,null,{"$f":"+IF(C15=\"\",\"\",VLOOKUP(C15,Resum_MesuresxTractar[],2,0))","v":""},{"$f":"IFERROR(VLOOKUP(C15,CatalegFull[],2,0),\"(empleneu el codi de control)\")","v":"(empleneu el codi de control)"},null,null,null,null,{"$f":"+IF(D15=2,\"RISC ALT\",IFERROR(INDEX('AUX_TAULA DE RISCOS'!$C$2:$G$5,MATCH(H15,'AUX_TAULA DE RISCOS'!$C$2:$C$5,0),MATCH(I15,'AUX_TAULA DE RISCOS'!$C$5:$G$5,0)),\"-\"))","v":"-"},null,null,null,null,{"$f":"+IFERROR(INDEX('AUX_TAULA DE RISCOS'!$C$2:$G$5,MATCH(M15,'AUX_TAULA DE RISCOS'!$C$2:$C$5,0),MATCH(N15,'AUX_TAULA DE RISCOS'!$C$5:$G$5,0)),\"-\")","v":"-"},null,null,{"$f":"IF(AND(COUNTIF(Resum_MesuresxTractar[INCLOSA?],\"FALTA\")>0,C15=\"\"),\"INPUT REQ\",\"OK\")","v":"OK"},{"$f":"+IF(OR(C15=\"\",D15=0),\"N/A\",IF(F15=\"\",\"INPUT REQ\",\"OK\"))","v":"N/A"},{"$f":"+IF(OR(C15=\"\",D15<>1),\"N/A\",IF(COUNTIF(G15:I15,\"\")>0,\"INPUT REQ\",\"OK\"))","v":"N/A"},{"$f":"+IF(OR('4A.RISCOS COMPLIMENT'!$J15=\"RISC BAIX\",'4A.RISCOS COMPLIMENT'!$J15=\"-\"),\"N/A\",IF(COUNTIF(K15:P15,\"\")>0,\"INPUT REQ\",\"OK\"))","v":"N/A"},{"$f":"+IF(COUNTIF(R15:U15,\"INPUT REQ\")>0,\"BLANK\",IF(S15=\"N/A\",\"N/A\",\"OK\"))","v":"N/A"}]
[null,null,null,{"$f":"+IF(C16=\"\",\"\",VLOOKUP(C16,Resum_MesuresxTractar[],2,0))","v":""},{"$f":"IFERROR(VLOOKUP(C16,CatalegFull[],2,0),\"(empleneu el codi de control)\")","v":"(empleneu el codi de control)"},null,null,null,null,{"$f":"+IF(D16=2,\"RISC ALT\",IFERROR(INDEX('AUX_TAULA DE RISCOS'!$C$2:$G$5,MATCH(H16,'AUX_TAULA DE RISCOS'!$C$2:$C$5,0),MATCH(I16,'AUX_TAULA DE RISCOS'!$C$5:$G$5,0)),\"-\"))","v":"-"},null,null,null,null,{"$f":"+IFERROR(INDEX('AUX_TAULA DE RISCOS'!$C$2:$G$5,MATCH(M16,'AUX_TAULA DE RISCOS'!$C$2:$C$5,0),MATCH(N16,'AUX_TAULA DE RISCOS'!$C$5:$G$5,0)),\"-\")","v":"-"},null,null,{"$f":"IF(AND(COUNTIF(Resum_MesuresxTractar[INCLOSA?],\"FALTA\")>0,C16=\"\"),\"INPUT REQ\",\"OK\")","v":"OK"},"N/A","N/A",{"$f":"+IF(OR('4A.RISCOS COMPLIMENT'!$J16=\"RISC BAIX\",'4A.RISCOS COMPLIMENT'!$J16=\"-\"),\"N/A\",IF(COUNTIF(K16:P16,\"\")>0,\"INPUT REQ\",\"OK\"))","v":"N/A"},"N/A"]
[null,null,null,{"$f":"+IF(C17=\"\",\"\",VLOOKUP(C17,Resum_MesuresxTractar[],2,0))","v":""},{"$f":"IFERROR(VLOOKUP(C17,CatalegFull[],2,0),\"(empleneu el codi de control)\")","v":"(empleneu el codi de control)"},null,null,null,null,{"$f":"+IF(D17=2,\"RISC ALT\",IFERROR(INDEX('AUX_TAULA DE RISCOS'!$C$2:$G$5,MATCH(H17,'AUX_TAULA DE RISCOS'!$C$2:$C$5,0),MATCH(I17,'AUX_TAULA DE RISCOS'!$C$5:$G$5,0)),\"-\"))","v":"-"},null,null,null,null,{"$f":"+IFERROR(INDEX('AUX_TAULA DE RISCOS'!$C$2:$G$5,MATCH(M17,'AUX_TAULA DE RISCOS'!$C$2:$C$5,0),MATCH(N17,'AUX_TAULA DE RISCOS'!$C$5:$G$5,0)),\"-\")","v":"-"},null,null,{"$f":"IF(AND(COUNTIF(Resum_MesuresxTractar[INCLOSA?],\"FALTA\")>0,C17=\"\"),\"INPUT REQ\",\"OK\")","v":"OK"},"N/A","N/A",{"$f":"+IF(OR('4A.RISCOS COMPLIMENT'!$J17=\"RISC BAIX\",'4A.RISCOS COMPLIMENT'!$J17=\"-\"),\"N/A\",IF(COUNTIF(K17:P17,\"\")>0,\"INPUT REQ\",\"OK\"))","v":"N/A"},"N/A"]
[null,null,null,{"$f":"+IF(C18=\"\",\"\",VLOOKUP(C18,Resum_MesuresxTractar[],2,0))","v":""},{"$f":"IFERROR(VLOOKUP(C18,CatalegFull[],2,0),\"(empleneu el codi de control)\")","v":"(empleneu el codi de control)"},null,null,null,null,{"$f":"+IF(D18=2,\"RISC ALT\",IFERROR(INDEX('AUX_TAULA DE RISCOS'!$C$2:$G$5,MATCH(H18,'AUX_TAULA DE RISCOS'!$C$2:$C$5,0),MATCH(I18,'AUX_TAULA DE RISCOS'!$C$5:$G$5,0)),\"-\"))","v":"-"},null,null,null,null,{"$f":"+IFERROR(INDEX('AUX_TAULA DE RISCOS'!$C$2:$G$5,MATCH(M18,'AUX_TAULA DE RISCOS'!$C$2:$C$5,0),MATCH(N18,'AUX_TAULA DE RISCOS'!$C$5:$G$5,0)),\"-\")","v":"-"},null,null,{"$f":"IF(AND(COUNTIF(Resum_MesuresxTractar[INCLOSA?],\"FALTA\")>0,C18=\"\"),\"INPUT REQ\",\"OK\")","v":"OK"},"N/A","N/A",{"$f":"+IF(OR('4A.RISCOS COMPLIMENT'!$J18=\"RISC BAIX\",'4A.RISCOS COMPLIMENT'!$J18=\"-\"),\"N/A\",IF(COUNTIF(K18:P18,\"\")>0,\"INPUT REQ\",\"OK\"))","v":"N/A"},"N/A"]
[null,null,null,{"$f":"+IF(C19=\"\",\"\",VLOOKUP(C19,Resum_MesuresxTractar[],2,0))","v":""},{"$f":"IFERROR(VLOOKUP(C19,CatalegFull[],2,0),\"(empleneu el codi de control)\")","v":"(empleneu el codi de control)"},null,null,null,null,{"$f":"+IF(D19=2,\"RISC ALT\",IFERROR(INDEX('AUX_TAULA DE RISCOS'!$C$2:$G$5,MATCH(H19,'AUX_TAULA DE RISCOS'!$C$2:$C$5,0),MATCH(I19,'AUX_TAULA DE RISCOS'!$C$5:$G$5,0)),\"-\"))","v":"-"},null,null,null,null,{"$f":"+IFERROR(INDEX('AUX_TAULA DE RISCOS'!$C$2:$G$5,MATCH(M19,'AUX_TAULA DE RISCOS'!$C$2:$C$5,0),MATCH(N19,'AUX_TAULA DE RISCOS'!$C$5:$G$5,0)),\"-\")","v":"-"},null,null,{"$f":"IF(AND(COUNTIF(Resum_MesuresxTractar[INCLOSA?],\"FALTA\")>0,C19=\"\"),\"INPUT REQ\",\"OK\")","v":"OK"},{"$f":"+IF(OR(C19=\"\",D19=0),\"N/A\",IF(F19=\"\",\"INPUT REQ\",\"OK\"))","v":"N/A"},{"$f":"+IF(OR(C19=\"\",D19<>1),\"N/A\",IF(COUNTIF(G19:I19,\"\")>0,\"INPUT REQ\",\"OK\"))","v":"N/A"},{"$f":"+IF(OR('4A.RISCOS COMPLIMENT'!$J19=\"RISC BAIX\",'4A.RISCOS COMPLIMENT'!$J19=\"-\"),\"N/A\",IF(COUNTIF(K19:P19,\"\")>0,\"INPUT REQ\",\"OK\"))","v":"N/A"},{"$f":"+IF(COUNTIF(R19:U19,\"INPUT REQ\")>0,\"BLANK\",IF(S19=\"N/A\",\"N/A\",\"OK\"))","v":"N/A"}]
[null,null,null,{"$f":"+IF(C20=\"\",\"\",VLOOKUP(C20,Resum_MesuresxTractar[],2,0))","v":""},{"$f":"IFERROR(VLOOKUP(C20,CatalegFull[],2,0),\"(empleneu el codi de control)\")","v":"(empleneu el codi de control)"},null,null,null,null,{"$f":"+IF(D20=2,\"RISC ALT\",IFERROR(INDEX('AUX_TAULA DE RISCOS'!$C$2:$G$5,MATCH(H20,'AUX_TAULA DE RISCOS'!$C$2:$C$5,0),MATCH(I20,'AUX_TAULA DE RISCOS'!$C$5:$G$5,0)),\"-\"))","v":"-"},null,null,null,null,{"$f":"+IFERROR(INDEX('AUX_TAULA DE RISCOS'!$C$2:$G$5,MATCH(M20,'AUX_TAULA DE RISCOS'!$C$2:$C$5,0),MATCH(N20,'AUX_TAULA DE RISCOS'!$C$5:$G$5,0)),\"-\")","v":"-"},null,null,{"$f":"IF(AND(COUNTIF(Resum_MesuresxTractar[INCLOSA?],\"FALTA\")>0,C20=\"\"),\"INPUT REQ\",\"OK\")","v":"OK"},"N/A","N/A",{"$f":"+IF(OR('4A.RISCOS COMPLIMENT'!$J20=\"RISC BAIX\",'4A.RISCOS COMPLIMENT'!$J20=\"-\"),\"N/A\",IF(COUNTIF(K20:P20,\"\")>0,\"INPUT REQ\",\"OK\"))","v":"N/A"},"N/A"]
[null,null,null,{"$f":"+IF(C21=\"\",\"\",VLOOKUP(C21,Resum_MesuresxTractar[],2,0))","v":""},{"$f":"IFERROR(VLOOKUP(C21,CatalegFull[],2,0),\"(empleneu el codi de control)\")","v":"(empleneu el codi de control)"},null,null,null,null,{"$f":"+IF(D21=2,\"RISC ALT\",IFERROR(INDEX('AUX_TAULA DE RISCOS'!$C$2:$G$5,MATCH(H21,'AUX_TAULA DE RISCOS'!$C$2:$C$5,0),MATCH(I21,'AUX_TAULA DE RISCOS'!$C$5:$G$5,0)),\"-\"))","v":"-"},null,null,null,null,{"$f":"+IFERROR(INDEX('AUX_TAULA DE RISCOS'!$C$2:$G$5,MATCH(M21,'AUX_TAULA DE RISCOS'!$C$2:$C$5,0),MATCH(N21,'AUX_TAULA DE RISCOS'!$C$5:$G$5,0)),\"-\")","v":"-"},null,null,{"$f":"IF(AND(COUNTIF(Resum_MesuresxTractar[INCLOSA?],\"FALTA\")>0,C21=\"\"),\"INPUT REQ\",\"OK\")","v":"OK"},"N/A","N/A",{"$f":"+IF(OR('4A.RISCOS COMPLIMENT'!$J21=\"RISC BAIX\",'4A.RISCOS COMPLIMENT'!$J21=\"-\"),\"N/A\",IF(COUNTIF(K21:P21,\"\")>0,\"INPUT REQ\",\"OK\"))","v":"N/A"},"N/A"]
[null,null,null,{"$f":"+IF(C22=\"\",\"\",VLOOKUP(C22,Resum_MesuresxTractar[],2,0))","v":""},{"$f":"IFERROR(VLOOKUP(C22,CatalegFull[],2,0),\"(empleneu el codi de control)\")","v":"(empleneu el codi de control)"},null,null,null,null,{"$f":"+IF(D22=2,\"RISC ALT\",IFERROR(INDEX('AUX_TAULA DE RISCOS'!$C$2:$G$5,MATCH(H22,'AUX_TAULA DE RISCOS'!$C$2:$C$5,0),MATCH(I22,'AUX_TAULA DE RISCOS'!$C$5:$G$5,0)),\"-\"))","v":"-"},null,null,null,null,{"$f":"+IFERROR(INDEX('AUX_TAULA DE RISCOS'!$C$2:$G$5,MATCH(M22,'AUX_TAULA DE RISCOS'!$C$2:$C$5,0),MATCH(N22,'AUX_TAULA DE RISCOS'!$C$5:$G$5,0)),\"-\")","v":"-"},null,null,{"$f":"IF(AND(COUNTIF(Resum_MesuresxTractar[INCLOSA?],\"FALTA\")>0,C22=\"\"),\"INPUT REQ\",\"OK\")","v":"OK"},"N/A","N/A",{"$f":"+IF(OR('4A.RISCOS COMPLIMENT'!$J22=\"RISC BAIX\",'4A.RISCOS COMPLIMENT'!$J22=\"-\"),\"N/A\",IF(COUNTIF(K22:P22,\"\")>0,\"INPUT REQ\",\"OK\"))","v":"N/A"},"N/A"]
[null,null,null,{"$f":"+IF(C23=\"\",\"\",VLOOKUP(C23,Resum_MesuresxTractar[],2,0))","v":""},{"$f":"IFERROR(VLOOKUP(C23,CatalegFull[],2,0),\"(empleneu el codi de control)\")","v":"(empleneu el codi de control)"},null,null,null,null,{"$f":"+IF(D23=2,\"RISC ALT\",IFERROR(INDEX('AUX_TAULA DE RISCOS'!$C$2:$G$5,MATCH(H23,'AUX_TAULA DE RISCOS'!$C$2:$C$5,0),MATCH(I23,'AUX_TAULA DE RISCOS'!$C$5:$G$5,0)),\"-\"))","v":"-"},null,null,null,null,{"$f":"+IFERROR(INDEX('AUX_TAULA DE RISCOS'!$C$2:$G$5,MATCH(M23,'AUX_TAULA DE RISCOS'!$C$2:$C$5,0),MATCH(N23,'AUX_TAULA DE RISCOS'!$C$5:$G$5,0)),\"-\")","v":"-"},null,null,{"$f":"IF(AND(COUNTIF(Resum_MesuresxTractar[INCLOSA?],\"FALTA\")>0,C23=\"\"),\"INPUT REQ\",\"OK\")","v":"OK"},"N/A","N/A",{"$f":"+IF(OR('4A.RISCOS COMPLIMENT'!$J23=\"RISC BAIX\",'4A.RISCOS COMPLIMENT'!$J23=\"-\"),\"N/A\",IF(COUNTIF(K23:P23,\"\")>0,\"INPUT REQ\",\"OK\"))","v":"N/A"},"N/A"]
[null,null,null,{"$f":"+IF(C24=\"\",\"\",VLOOKUP(C24,Resum_MesuresxTractar[],2,0))","v":""},{"$f":"IFERROR(VLOOKUP(C24,CatalegFull[],2,0),\"(empleneu el codi de control)\")","v":"(empleneu el codi de control)"},null,null,null,null,{"$f":"+IF(D24=2,\"RISC ALT\",IFERROR(INDEX('AUX_TAULA DE RISCOS'!$C$2:$G$5,MATCH(H24,'AUX_TAULA DE RISCOS'!$C$2:$C$5,0),MATCH(I24,'AUX_TAULA DE RISCOS'!$C$5:$G$5,0)),\"-\"))","v":"-"},null,null,null,null,{"$f":"+IFERROR(INDEX('AUX_TAULA DE RISCOS'!$C$2:$G$5,MATCH(M24,'AUX_TAULA DE RISCOS'!$C$2:$C$5,0),MATCH(N24,'AUX_TAULA DE RISCOS'!$C$5:$G$5,0)),\"-\")","v":"-"},null,null,{"$f":"IF(AND(COUNTIF(Resum_MesuresxTractar[INCLOSA?],\"FALTA\")>0,C24=\"\"),\"INPUT REQ\",\"OK\")","v":"OK"},"N/A","N/A",{"$f":"+IF(OR('4A.RISCOS COMPLIMENT'!$J24=\"RISC BAIX\",'4A.RISCOS COMPLIMENT'!$J24=\"-\"),\"N/A\",IF(COUNTIF(K24:P24,\"\")>0,\"INPUT REQ\",\"OK\"))","v":"N/A"},"N/A"]
[null,null,null,{"$f":"+IF(C25=\"\",\"\",VLOOKUP(C25,Resum_MesuresxTractar[],2,0))","v":""},{"$f":"IFERROR(VLOOKUP(C25,CatalegFull[],2,0),\"(empleneu el codi de control)\")","v":"(empleneu el codi de control)"},null,null,null,null,{"$f":"+IF(D25=2,\"RISC ALT\",IFERROR(INDEX('AUX_TAULA DE RISCOS'!$C$2:$G$5,MATCH(H25,'AUX_TAULA DE RISCOS'!$C$2:$C$5,0),MATCH(I25,'AUX_TAULA DE RISCOS'!$C$5:$G$5,0)),\"-\"))","v":"-"},null,null,null,null,{"$f":"+IFERROR(INDEX('AUX_TAULA DE RISCOS'!$C$2:$G$5,MATCH(M25,'AUX_TAULA DE RISCOS'!$C$2:$C$5,0),MATCH(N25,'AUX_TAULA DE RISCOS'!$C$5:$G$5,0)),\"-\")","v":"-"},null,null,{"$f":"IF(AND(COUNTIF(Resum_MesuresxTractar[INCLOSA?],\"FALTA\")>0,C25=\"\"),\"INPUT REQ\",\"OK\")","v":"OK"},"N/A","N/A",{"$f":"+IF(OR('4A.RISCOS COMPLIMENT'!$J25=\"RISC BAIX\",'4A.RISCOS COMPLIMENT'!$J25=\"-\"),\"N/A\",IF(COUNTIF(K25:P25,\"\")>0,\"INPUT REQ\",\"OK\"))","v":"N/A"},"N/A"]
[null,null,null,{"$f":"+IF(C26=\"\",\"\",VLOOKUP(C26,Resum_MesuresxTractar[],2,0))","v":""},{"$f":"IFERROR(VLOOKUP(C26,CatalegFull[],2,0),\"(empleneu el codi de control)\")","v":"(empleneu el codi de control)"},null,null,null,null,{"$f":"+IF(D26=2,\"RISC ALT\",IFERROR(INDEX('AUX_TAULA DE RISCOS'!$C$2:$G$5,MATCH(H26,'AUX_TAULA DE RISCOS'!$C$2:$C$5,0),MATCH(I26,'AUX_TAULA DE RISCOS'!$C$5:$G$5,0)),\"-\"))","v":"-"},null,null,null,null,{"$f":"+IFERROR(INDEX('AUX_TAULA DE RISCOS'!$C$2:$G$5,MATCH(M26,'AUX_TAULA DE RISCOS'!$C$2:$C$5,0),MATCH(N26,'AUX_TAULA DE RISCOS'!$C$5:$G$5,0)),\"-\")","v":"-"},null,null,{"$f":"IF(AND(COUNTIF(Resum_MesuresxTractar[INCLOSA?],\"FALTA\")>0,C26=\"\"),\"INPUT REQ\",\"OK\")","v":"OK"},"N/A","N/A",{"$f":"+IF(OR('4A.RISCOS COMPLIMENT'!$J26=\"RISC BAIX\",'4A.RISCOS COMPLIMENT'!$J26=\"-\"),\"N/A\",IF(COUNTIF(K26:P26,\"\")>0,\"INPUT REQ\",\"OK\"))","v":"N/A"},"N/A"]
[null,null,null,{"$f":"+IF(C27=\"\",\"\",VLOOKUP(C27,Resum_MesuresxTractar[],2,0))","v":""},{"$f":"IFERROR(VLOOKUP(C27,CatalegFull[],2,0),\"(empleneu el codi de control)\")","v":"(empleneu el codi de control)"},null,null,null,null,{"$f":"+IF(D27=2,\"RISC ALT\",IFERROR(INDEX('AUX_TAULA DE RISCOS'!$C$2:$G$5,MATCH(H27,'AUX_TAULA DE RISCOS'!$C$2:$C$5,0),MATCH(I27,'AUX_TAULA DE RISCOS'!$C$5:$G$5,0)),\"-\"))","v":"-"},null,null,null,null,{"$f":"+IFERROR(INDEX('AUX_TAULA DE RISCOS'!$C$2:$G$5,MATCH(M27,'AUX_TAULA DE RISCOS'!$C$2:$C$5,0),MATCH(N27,'AUX_TAULA DE RISCOS'!$C$5:$G$5,0)),\"-\")","v":"-"},null,null,{"$f":"IF(AND(COUNTIF(Resum_MesuresxTractar[INCLOSA?],\"FALTA\")>0,C27=\"\"),\"INPUT REQ\",\"OK\")","v":"OK"},"N/A","N/A",{"$f":"+IF(OR('4A.RISCOS COMPLIMENT'!$J27=\"RISC BAIX\",'4A.RISCOS COMPLIMENT'!$J27=\"-\"),\"N/A\",IF(COUNTIF(K27:P27,\"\")>0,\"INPUT REQ\",\"OK\"))","v":"N/A"},"N/A"]
[null,null,null,{"$f":"+IF(C28=\"\",\"\",VLOOKUP(C28,Resum_MesuresxTractar[],2,0))","v":""},{"$f":"IFERROR(VLOOKUP(C28,CatalegFull[],2,0),\"(empleneu el codi de control)\")","v":"(empleneu el codi de control)"},null,null,null,null,{"$f":"+IF(D28=2,\"RISC ALT\",IFERROR(INDEX('AUX_TAULA DE RISCOS'!$C$2:$G$5,MATCH(H28,'AUX_TAULA DE RISCOS'!$C$2:$C$5,0),MATCH(I28,'AUX_TAULA DE RISCOS'!$C$5:$G$5,0)),\"-\"))","v":"-"},null,null,null,null,{"$f":"+IFERROR(INDEX('AUX_TAULA DE RISCOS'!$C$2:$G$5,MATCH(M28,'AUX_TAULA DE RISCOS'!$C$2:$C$5,0),MATCH(N28,'AUX_TAULA DE RISCOS'!$C$5:$G$5,0)),\"-\")","v":"-"},null,null,{"$f":"IF(AND(COUNTIF(Resum_MesuresxTractar[INCLOSA?],\"FALTA\")>0,C28=\"\"),\"INPUT REQ\",\"OK\")","v":"OK"},"N/A","N/A",{"$f":"+IF(OR('4A.RISCOS COMPLIMENT'!$J28=\"RISC BAIX\",'4A.RISCOS COMPLIMENT'!$J28=\"-\"),\"N/A\",IF(COUNTIF(K28:P28,\"\")>0,\"INPUT REQ\",\"OK\"))","v":"N/A"},"N/A"]
[null,null,null,{"$f":"+IF(C29=\"\",\"\",VLOOKUP(C29,Resum_MesuresxTractar[],2,0))","v":""},{"$f":"IFERROR(VLOOKUP(C29,CatalegFull[],2,0),\"(empleneu el codi de control)\")","v":"(empleneu el codi de control)"},null,null,null,null,{"$f":"+IF(D29=2,\"RISC ALT\",IFERROR(INDEX('AUX_TAULA DE RISCOS'!$C$2:$G$5,MATCH(H29,'AUX_TAULA DE RISCOS'!$C$2:$C$5,0),MATCH(I29,'AUX_TAULA DE RISCOS'!$C$5:$G$5,0)),\"-\"))","v":"-"},null,null,null,null,{"$f":"+IFERROR(INDEX('AUX_TAULA DE RISCOS'!$C$2:$G$5,MATCH(M29,'AUX_TAULA DE RISCOS'!$C$2:$C$5,0),MATCH(N29,'AUX_TAULA DE RISCOS'!$C$5:$G$5,0)),\"-\")","v":"-"},null,null,{"$f":"IF(AND(COUNTIF(Resum_MesuresxTractar[INCLOSA?],\"FALTA\")>0,C29=\"\"),\"INPUT REQ\",\"OK\")","v":"OK"},"N/A","N/A",{"$f":"+IF(OR('4A.RISCOS COMPLIMENT'!$J29=\"RISC BAIX\",'4A.RISCOS COMPLIMENT'!$J29=\"-\"),\"N/A\",IF(COUNTIF(K29:P29,\"\")>0,\"INPUT REQ\",\"OK\"))","v":"N/A"},"N/A"]
[null,null,null,{"$f":"+IF(C30=\"\",\"\",VLOOKUP(C30,Resum_MesuresxTractar[],2,0))","v":""},{"$f":"IFERROR(VLOOKUP(C30,CatalegFull[],2,0),\"(empleneu el codi de control)\")","v":"(empleneu el codi de control)"},null,null,null,null,{"$f":"+IF(D30=2,\"RISC ALT\",IFERROR(INDEX('AUX_TAULA DE RISCOS'!$C$2:$G$5,MATCH(H30,'AUX_TAULA DE RISCOS'!$C$2:$C$5,0),MATCH(I30,'AUX_TAULA DE RISCOS'!$C$5:$G$5,0)),\"-\"))","v":"-"},null,null,null,null,{"$f":"+IFERROR(INDEX('AUX_TAULA DE RISCOS'!$C$2:$G$5,MATCH(M30,'AUX_TAULA DE RISCOS'!$C$2:$C$5,0),MATCH(N30,'AUX_TAULA DE RISCOS'!$C$5:$G$5,0)),\"-\")","v":"-"},null,null,{"$f":"IF(AND(COUNTIF(Resum_MesuresxTractar[INCLOSA?],\"FALTA\")>0,C30=\"\"),\"INPUT REQ\",\"OK\")","v":"OK"},"N/A","N/A",{"$f":"+IF(OR('4A.RISCOS COMPLIMENT'!$J30=\"RISC BAIX\",'4A.RISCOS COMPLIMENT'!$J30=\"-\"),\"N/A\",IF(COUNTIF(K30:P30,\"\")>0,\"INPUT REQ\",\"OK\"))","v":"N/A"},"N/A"]
[null,null,null,{"$f":"+IF(C31=\"\",\"\",VLOOKUP(C31,Resum_MesuresxTractar[],2,0))","v":""},{"$f":"IFERROR(VLOOKUP(C31,CatalegFull[],2,0),\"(empleneu el codi de control)\")","v":"(empleneu el codi de control)"},null,null,null,null,{"$f":"+IF(D31=2,\"RISC ALT\",IFERROR(INDEX('AUX_TAULA DE RISCOS'!$C$2:$G$5,MATCH(H31,'AUX_TAULA DE RISCOS'!$C$2:$C$5,0),MATCH(I31,'AUX_TAULA DE RISCOS'!$C$5:$G$5,0)),\"-\"))","v":"-"},null,null,null,null,{"$f":"+IFERROR(INDEX('AUX_TAULA DE RISCOS'!$C$2:$G$5,MATCH(M31,'AUX_TAULA DE RISCOS'!$C$2:$C$5,0),MATCH(N31,'AUX_TAULA DE RISCOS'!$C$5:$G$5,0)),\"-\")","v":"-"},null,null,{"$f":"IF(AND(COUNTIF(Resum_MesuresxTractar[INCLOSA?],\"FALTA\")>0,C31=\"\"),\"INPUT REQ\",\"OK\")","v":"OK"},"N/A","N/A",{"$f":"+IF(OR('4A.RISCOS COMPLIMENT'!$J31=\"RISC BAIX\",'4A.RISCOS COMPLIMENT'!$J31=\"-\"),\"N/A\",IF(COUNTIF(K31:P31,\"\")>0,\"INPUT REQ\",\"OK\"))","v":"N/A"},"N/A"]
[null,null,null,{"$f":"+IF(C32=\"\",\"\",VLOOKUP(C32,Resum_MesuresxTractar[],2,0))","v":""},{"$f":"IFERROR(VLOOKUP(C32,CatalegFull[],2,0),\"(empleneu el codi de control)\")","v":"(empleneu el codi de control)"},null,null,null,null,{"$f":"+IF(D32=2,\"RISC ALT\",IFERROR(INDEX('AUX_TAULA DE RISCOS'!$C$2:$G$5,MATCH(H32,'AUX_TAULA DE RISCOS'!$C$2:$C$5,0),MATCH(I32,'AUX_TAULA DE RISCOS'!$C$5:$G$5,0)),\"-\"))","v":"-"},null,null,null,null,{"$f":"+IFERROR(INDEX('AUX_TAULA DE RISCOS'!$C$2:$G$5,MATCH(M32,'AUX_TAULA DE RISCOS'!$C$2:$C$5,0),MATCH(N32,'AUX_TAULA DE RISCOS'!$C$5:$G$5,0)),\"-\")","v":"-"},null,null,{"$f":"IF(AND(COUNTIF(Resum_MesuresxTractar[INCLOSA?],\"FALTA\")>0,C32=\"\"),\"INPUT REQ\",\"OK\")","v":"OK"},"N/A","N/A",{"$f":"+IF(OR('4A.RISCOS COMPLIMENT'!$J32=\"RISC BAIX\",'4A.RISCOS COMPLIMENT'!$J32=\"-\"),\"N/A\",IF(COUNTIF(K32:P32,\"\")>0,\"INPUT REQ\",\"OK\"))","v":"N/A"},"N/A"]
[null,null,null,{"$f":"+IF(C33=\"\",\"\",VLOOKUP(C33,Resum_MesuresxTractar[],2,0))","v":""},{"$f":"IFERROR(VLOOKUP(C33,CatalegFull[],2,0),\"(empleneu el codi de control)\")","v":"(empleneu el codi de control)"},null,null,null,null,{"$f":"+IF(D33=2,\"RISC ALT\",IFERROR(INDEX('AUX_TAULA DE RISCOS'!$C$2:$G$5,MATCH(H33,'AUX_TAULA DE RISCOS'!$C$2:$C$5,0),MATCH(I33,'AUX_TAULA DE RISCOS'!$C$5:$G$5,0)),\"-\"))","v":"-"},null,null,null,null,{"$f":"+IFERROR(INDEX('AUX_TAULA DE RISCOS'!$C$2:$G$5,MATCH(M33,'AUX_TAULA DE RISCOS'!$C$2:$C$5,0),MATCH(N33,'AUX_TAULA DE RISCOS'!$C$5:$G$5,0)),\"-\")","v":"-"},null,null,{"$f":"IF(AND(COUNTIF(Resum_MesuresxTractar[INCLOSA?],\"FALTA\")>0,C33=\"\"),\"INPUT REQ\",\"OK\")","v":"OK"},"N/A","N/A",{"$f":"+IF(OR('4A.RISCOS COMPLIMENT'!$J33=\"RISC BAIX\",'4A.RISCOS COMPLIMENT'!$J33=\"-\"),\"N/A\",IF(COUNTIF(K33:P33,\"\")>0,\"INPUT REQ\",\"OK\"))","v":"N/A"},"N/A"]
[null,null,null,{"$f":"+IF(C34=\"\",\"\",VLOOKUP(C34,Resum_MesuresxTractar[],2,0))","v":""},{"$f":"IFERROR(VLOOKUP(C34,CatalegFull[],2,0),\"(empleneu el codi de control)\")","v":"(empleneu el codi de control)"},null,null,null,null,{"$f":"+IF(D34=2,\"RISC ALT\",IFERROR(INDEX('AUX_TAULA DE RISCOS'!$C$2:$G$5,MATCH(H34,'AUX_TAULA DE RISCOS'!$C$2:$C$5,0),MATCH(I34,'AUX_TAULA DE RISCOS'!$C$5:$G$5,0)),\"-\"))","v":"-"},null,null,null,null,{"$f":"+IFERROR(INDEX('AUX_TAULA DE RISCOS'!$C$2:$G$5,MATCH(M34,'AUX_TAULA DE RISCOS'!$C$2:$C$5,0),MATCH(N34,'AUX_TAULA DE RISCOS'!$C$5:$G$5,0)),\"-\")","v":"-"},null,null,{"$f":"IF(AND(COUNTIF(Resum_MesuresxTractar[INCLOSA?],\"FALTA\")>0,C34=\"\"),\"INPUT REQ\",\"OK\")","v":"OK"},"N/A","N/A",{"$f":"+IF(OR('4A.RISCOS COMPLIMENT'!$J34=\"RISC BAIX\",'4A.RISCOS COMPLIMENT'!$J34=\"-\"),\"N/A\",IF(COUNTIF(K34:P34,\"\")>0,\"INPUT REQ\",\"OK\"))","v":"N/A"},"N/A"]
[null,null,null,{"$f":"+IF(C35=\"\",\"\",VLOOKUP(C35,Resum_MesuresxTractar[],2,0))","v":""},{"$f":"IFERROR(VLOOKUP(C35,CatalegFull[],2,0),\"(empleneu el codi de control)\")","v":"(empleneu el codi de control)"},null,null,null,null,{"$f":"+IF(D35=2,\"RISC ALT\",IFERROR(INDEX('AUX_TAULA DE RISCOS'!$C$2:$G$5,MATCH(H35,'AUX_TAULA DE RISCOS'!$C$2:$C$5,0),MATCH(I35,'AUX_TAULA DE RISCOS'!$C$5:$G$5,0)),\"-\"))","v":"-"},null,null,null,null,{"$f":"+IFERROR(INDEX('AUX_TAULA DE RISCOS'!$C$2:$G$5,MATCH(M35,'AUX_TAULA DE RISCOS'!$C$2:$C$5,0),MATCH(N35,'AUX_TAULA DE RISCOS'!$C$5:$G$5,0)),\"-\")","v":"-"},null,null,{"$f":"IF(AND(COUNTIF(Resum_MesuresxTractar[INCLOSA?],\"FALTA\")>0,C35=\"\"),\"INPUT REQ\",\"OK\")","v":"OK"},"N/A","N/A",{"$f":"+IF(OR('4A.RISCOS COMPLIMENT'!$J35=\"RISC BAIX\",'4A.RISCOS COMPLIMENT'!$J35=\"-\"),\"N/A\",IF(COUNTIF(K35:P35,\"\")>0,\"INPUT REQ\",\"OK\"))","v":"N/A"},"N/A"]
[null,null,null,{"$f":"+IF(C36=\"\",\"\",VLOOKUP(C36,Resum_MesuresxTractar[],2,0))","v":""},{"$f":"IFERROR(VLOOKUP(C36,CatalegFull[],2,0),\"(empleneu el codi de control)\")","v":"(empleneu el codi de control)"},null,null,null,null,{"$f":"+IF(D36=2,\"RISC ALT\",IFERROR(INDEX('AUX_TAULA DE RISCOS'!$C$2:$G$5,MATCH(H36,'AUX_TAULA DE RISCOS'!$C$2:$C$5,0),MATCH(I36,'AUX_TAULA DE RISCOS'!$C$5:$G$5,0)),\"-\"))","v":"-"},null,null,null,null,{"$f":"+IFERROR(INDEX('AUX_TAULA DE RISCOS'!$C$2:$G$5,MATCH(M36,'AUX_TAULA DE RISCOS'!$C$2:$C$5,0),MATCH(N36,'AUX_TAULA DE RISCOS'!$C$5:$G$5,0)),\"-\")","v":"-"},null,null,{"$f":"IF(AND(COUNTIF(Resum_MesuresxTractar[INCLOSA?],\"FALTA\")>0,C36=\"\"),\"INPUT REQ\",\"OK\")","v":"OK"},"N/A","N/A",{"$f":"+IF(OR('4A.RISCOS COMPLIMENT'!$J36=\"RISC BAIX\",'4A.RISCOS COMPLIMENT'!$J36=\"-\"),\"N/A\",IF(COUNTIF(K36:P36,\"\")>0,\"INPUT REQ\",\"OK\"))","v":"N/A"},"N/A"]

{"sheet":"4B.RISCOS DADES","index":10,"n_rows":76,"n_cols":20,"rows_kept":76,"cut":false,"hidden":false,"merged":[[2,3,2,4],[70,3,70,4],[57,3,58,3],[7,3,7,4],[0,3,0,4],[34,3,34,4],[33,3,33,4],[26,3,31,3],[25,3,25,4],[23,3,24,3],[1,3,1,4],[32,3,32,4],[36,3,36,4],[73,3,73,4],[74,3,74,4],[60,3,65,3],[41,3,41,4],[59,3,59,4],[71,3,71,4],[72,3,72,4],[60,19,65,19],[3,6,3,7],[4,6,4,7],[5,6,5,7],[10,6,10,7],[12,6,12,7],[16,6,16,7],[19,6,19,7],[17,6,17,7],[18,6,18,7],[14,6,14,7],[20,6,20,7],[22,6,22,7],[26,19,31,19],[33,6,33,7],[0,6,0,7],[60,7,65,7],[26,6,31,7],[6,6,6,7],[23,6,23,7],[24,6,24,7],[32,6,32,7],[25,6,25,7],[21,6,21,7],[11,6,11,7],[13,6,13,7],[15,6,15,7],[2,6,2,7],[7,6,7,7],[8,6,8,7],[9,6,9,7]]}
[null,null,null,{"$f":"AUX_RESUM!$D$44","v":0},null,{"$f":"+IF(O66=\"INPUT REQ\",IF(OR(COUNTIF('4B.RISCOS DADES'!N2:P70,\"RED\")>0,COUNTIF('4B.RISCOS DADES'!N2:P70,\"DARK RED\")>0),3,IF(COUNTIF('4B.RISCOS DADES'!N2:P70,\"AMBER\")>0,2,1)),IF(O66=\"RED\",3,IF(O66=\"AMBER\",2,1)))","v":1},{"$f":"+VLOOKUP(F1,'AUX DATA VALIDATION'!AP18:AR21,2,)","v":"NO S'HAN IDENTIFICAT ELEMENTS DE RISC"},null,null,null,null,null,null,null,{"$f":"+VLOOKUP(F1,'AUX DATA VALIDATION'!$AP$18:$AR$21,3,)","v":"OK"},null,null,null,null,"EXEMPLES / INSTRUCCIONS"]
[null,null,null,"4B. RISCOS EN LA SEGURETAT DE LES DADES",null,null,null,null,null,null,null,null,null,"CELL FORMATS.INICIAL","CELL FORMATS.RESIDUAL","CELL FORMATS.2","COMPL. STATUS.INICIAL-RESIDUAL","COMPL. STATUS.INICIAL.2",null,"D’acord amb l’RGPD, les mesures emprades per protegir la informació han de ser apropiades al risc per als drets i les llibertats de les persones. En aquesta secció seguim una metodologia senzilla per analitzar els riscos relacionats amb la seguretat de les dades. És a dir, els riscos associats a la pèrdua de la confidencialitat, de la integritat i de la disponibilitat de les dades."]
[null,null,null,"4B.1   VALORACIÓ DE L'IMPACTE INICIAL",null,"Impacte INICIAL","Justifiqueu, si escau",null,null,null,null,null,null,null,null,null,null,null,null,"EXEMPLES DE GRAU D'IMPACTE:   \n   • Impacte BAIX: Els interessats poden patir algunes molèsties menors, que poden superar sense problemes (p.e., pèrdua de temps, enuig, etc.)\n   • Impacte MITJÀ: Els interessats poden trobar inconvenients importants, que poden superar amb algunes dificultats (p.e., augment de costos, falta de comprensió, estrès, danys físics, impossibilitat d’accedir a algun servei, etc.)\n   • Impacte ALT: Els interessats poden patir conseqüències importants, que poden superar amb dificultats importants (p.e., discriminació, robatori de la identitat, pèrdues econòmiques, danys psicològics, danys per  a  la reputació, danys físics, empitjorament de la salut, pèrdua de la feina etc.)\n   • Impacte MOLT ALT: Els interessats poden patir conseqüències greus que no poden superar (p.e., danys físics o psicològics greus, mort, etc.)"]
[null,null,"Confidencialitat","C","Impacte que la pèrdua de la confidencialitat de les dades (és a dir, d’un accés no autoritzat a les dades) té sobre les persones.",null,null,null,null,null,null,null,null,{"$f":"+IF(F4=\"\",\"INPUT REQ\",IF(F4=\"BAIX\",\"GREEN\",IF(F4=\"MITJÀ\",\"AMBER\",IF(F4=\"ALT\",\"RED\",\"DARK RED\"))))","v":"INPUT REQ"},{"$f":"+IF(F4=\"\",\"N/A\",IF(G4=\"\",\"INPUT REQ\",\"OK\"))","v":"N/A"},null,{"$f":"+IF(N4=\"N/A\",\"N\",IF(N4=\"INPUT REQ\",\"BLANK\",\"OK\"))","v":"BLANK"},"N",null,"Exemples de casos de pèrdua de confidencialitat:\n   • Pèrdua o robatori d’un ordinador que conté dades personals.\n   • Enviament per error de dades personals a persones no autoritzades.\n   • Possibilitat d’accedir de forma no autoritzada al compte d’una persona.\n   • Un error de configuració en una web exposa les dades personals dels seus usuaris.\n   • Robatori d’informació de les instal·lacions del responsable o de l’encarregat del tractament.\n   • Un empleat d’un centre mèdic consulta de forma no autoritzada l’expedient d’un pacient. \n   • Comercialització no autoritzada"]
[null,null,"Integritat","I","Impacte que la pèrdua de la integritat de les dades (és a dir, de la modificació no autoritzada de les dades) té sobre les persones.",null,null,null,null,null,null,null,null,{"$f":"+IF(F5=\"\",\"INPUT REQ\",IF(F5=\"BAIX\",\"GREEN\",IF(F5=\"MITJÀ\",\"AMBER\",IF(F5=\"ALT\",\"RED\",\"DARK RED\"))))","v":"INPUT REQ"},{"$f":"+IF(F5=\"\",\"N/A\",IF(G5=\"\",\"INPUT REQ\",\"OK\"))","v":"N/A"},null,"BLANK","N",null,"Exemples de casos de pèrdua de la integritat:\n   • Un empleat modifica per error les dades d’un client.\n   • Un error en la xarxa de comunicacions altera les dades mentre estan en trànsit.\n   • Per motius operacionals, una empresa manté diverses còpies de les dades, però un canvi en alguna de les còpies no és propaga a les altres.\n   • Pèrdua de part d’un expedient, com a conseqüència d’una fallada en el sistema de tractament."]
[null,null,"Disponibilitat","D","Impacte que la pèrdua de la disponibilitat de les dades té sobre les persones.",null,null,null,null,null,null,null,null,{"$f":"+IF(F6=\"\",\"INPUT REQ\",IF(F6=\"BAIX\",\"GREEN\",IF(F6=\"MITJÀ\",\"AMBER\",IF(F6=\"ALT\",\"RED\",\"DARK RED\"))))","v":"INPUT REQ"},{"$f":"+IF(F6=\"\",\"N/A\",IF(G6=\"\",\"INPUT REQ\",\"OK\"))","v":"N/A"},null,"BLANK","N",null,"Exemples de casos de pèrdua de la disponibilitat:\n   • Un fitxer és corromp o s’esborra i no hi ha una còpia de seguretat.\n   • Es perd un expedient del qual només hi havia una còpia en paper.\n   • Un servei de consulta de dades deixa d’estar disponible (per exemple, el servei per accedir al registres electrònics de salut)."]
[null,null,"Sistema","S","IMPACTE DEL SISTEMA",{"$f":"+IF(OR(ISBLANK(F4),ISBLANK(F5),ISBLANK(F6)),\"PENDENT D'AVALUAR\",IF(COUNTIF((F4:F6),\"Molt Alt\")>0,\"MOLT ALT\",IF(COUNTIF((F4:F6),\"Alt\")>0,\"ALT\",IF(COUNTIF((F4:F6),\"Mitjà\")>0,\"MITJÀ\",IF(COUNTIF((F4:F6),\"Baix\")>0,\"BAIX\",\"PENDENT D'AVALUAR\")))))","v":"PENDENT D'AVALUAR"},null,null,null,null,null,null,null,{"$f":"+IF(OR(F7=\"\",F7=\"PENDENT D'AVALUAR\"),\"INPUT REQ\",IF(F7=\"BAIX\",\"GREEN\",IF(F7=\"MITJÀ\",\"AMBER\",IF(F7=\"ALT\",\"RED\",\"DARK RED\"))))","v":"INPUT REQ"},null,null,"CALCULATED",null,null,"Impacte General, calculat com a màxim dels 3 anteriors (Confidencialitat, Integritat, Disponibilitat)"]
[null,null,null,"4B.2   VALORACIÓ DE LA PROBABILITAT INICIAL",null,"Resposta INICIAL","Justifiqueu, si escau"]
[null,null,"Q01","Q01","El sistema de tractament està connectat a sistemes externs a l’organització? ",null,null,null,null,null,null,null,null,{"$f":"+IF(F9=\"\",\"INPUT REQ\",IF(F9=\"SI\",\"AMBER\",\"GREEN\"))","v":"INPUT REQ"},null,{"$f":"+IF(F9=\"\",\"N/A\",IF(G9=\"\",\"INPUT REQ\",\"OK\"))","v":"N/A"},{"$f":"+IF(N9=\"N/A\",\"N\",IF(N9=\"INPUT REQ\",\"BLANK\",\"OK\"))","v":"BLANK"},null,null,"La connexió amb sistemes externs a l’organització (tals com: servidors externs, serveis i/o aplicacions online, aplicacions per a mòbils, pàgines o formularis web, plataformes web, xats, etc) incrementa l’exposició a amenaces externes, que poden comprometre el sistema de tractament i afectar les propietats de seguretat de les dades (confidencialitat, integritat i disponibilitat). Per exemple, la informació pot ser capturada o modificada maliciosament mentre està en trànsit.\n\nExemples:\n   • El sistema de tractament d’un hospital està connectat amb el sistema públic de seguretat social i amb sistemes d’asseguradores privades.\n   • Les estacions de treball que formen part del sistema de tractament tenen accés a internet.\n   • La interacció amb els interessats a través d’internet exposa el sistema de tractament a amenaces externes: phishing, SQL injection, man-in-the-middle attacks, DoS i XSS.\n  • Permetre que els treballadors accedeixin al sistema de tractament a través d’internet també incrementa l’exposició a atacs externs i, a banda, incrementa la possibilitat que els treballadors facin un mal ús de la informació (accidental o intencionat).\n  • Els administradors del sistema de tractament poden fer tasques de manteniment o supervisió a través d’internet.\n  • L’accés al sistema de tractament des d’un espai públic pot facilitar que persones alienes a l’organització puguin observar-les."]
[null,null,"Q02","Q02","S'envia informació personal per mitjà de correu electrònic, tant en el cos del missatge com en forma d'annexos?",null,null,null,null,null,null,null,null,{"$f":"+IF(F10=\"\",\"INPUT REQ\",IF(F10=\"SI\",\"AMBER\",\"GREEN\"))","v":"INPUT REQ"},null,{"$f":"+IF(F10=\"\",\"N/A\",IF(G10=\"\",\"INPUT REQ\",\"OK\"))","v":"N/A"},{"$f":"+IF(N10=\"N/A\",\"N\",IF(N10=\"INPUT REQ\",\"BLANK\",\"OK\"))","v":"BLANK"},null,null,"Compartir dades personals per correu electrònic incrementa l’exposició a amenaces externes, que poden comprometre el sistema de tractament i afectar les propietats de seguretat de les dades (confidencialitat, integritat i disponibilitat). Per exemple, la informació pot ser capturada o modificada maliciosament mentre està en trànsit:\n• La informació distribuïda per correu electrònic s’ha de protegir, tant al cos com als annexos.\n• S’ha de protegir la informació d’encaminament de missatges i establiment de connexions.\n• S’ha de protegir l’organització de problemes que es materialitzen per correu electrònic: correu brossa, programari maliciós (virus, cucs, etc.), codi.\n• S’han d’establir normes per l’ús apropiat del correu electrònic. Aquestes normes han de tenir: limitacions d’ús i activitats de formació i conscienciació."]
[null,null,"Q03","Q03","Manca de seguiment d’un document de bones pràctiques rellevant en el disseny o la configuració del sistema de tractament? ",null,null,null,null,null,null,null,null,"INPUT REQ",null,{"$f":"+IF(F11=\"\",\"N/A\",IF(G11=\"\",\"INPUT REQ\",\"OK\"))","v":"N/A"},"BLANK",null,null,"Si el sistema de tractament no està ben dissenyat o els elements que el componen no estan configurats adequadament, els riscos per a la seguretat de les dades s’incrementen. Hi ha multitud de guies de bones pràctiques en seguretat amb diferent temàtica (xarxa, equips, etc.).\nExemples:\n   • Cal dissenyar la xarxa seguint un document de bones pràctiques que inclogui elements com ara tallafocs, segmentació de la xarxa i ús de VPN.\n   • Cal fer ús d’un document de bones pràctiques, a l’hora de configurar el sistema operatiu. Això implica mesures com ara l’ús d’antivirus i no permetre l’ús de paraules de pas insegures.\n   • Cal dimensionar el sistema de tractament pensant en les necessitats computacionals, de comunicació i d’emmagatzematge que s’anticipen. També cal dotar-lo del personal suficient.\n   • Cal fer ús d’un document de bones pràctiques, a l’hora de configurar el programari. Per exemple, com configurar un servidor web per fer-lo més segur.\n   • Cal usar una metodologia de desenvolupament que tingui en compte la seguretat de les dades durant tot el cicle de vida de l’aplicació."]
[null,null,"Q04","Q04","Manca un procediment que determini com protegir els suports informàtics? ",null,null,null,null,null,null,null,null,{"$f":"+IF(F12=\"\",\"INPUT REQ\",IF(F12=\"SI\",\"AMBER\",\"GREEN\"))","v":"INPUT REQ"},null,{"$f":"+IF(F12=\"\",\"N/A\",IF(G12=\"\",\"INPUT REQ\",\"OK\"))","v":"N/A"},{"$f":"+IF(N12=\"N/A\",\"N\",IF(N12=\"INPUT REQ\",\"BLANK\",\"OK\"))","v":"BLANK"},null,null,"El procediment ha d'incloure: criptografia, custòdia, esborrat i destrucció, etiquetat i transport, si escau."]
[null,null,"Q05","Q05","Manca de seguiment d’un document de bones pràctiques rellevant en el manteniment, la monitorització i la resposta a incidents del sistema de tractament?",null,null,null,null,null,null,null,null,"INPUT REQ",null,"N/A","BLANK",null,null,"És essencial fer un manteniment i una monitorització adequada del sistema. El manteniment s’ha de fer tant dels dispositius com del programari. Monitoritzar el sistema no només permet analitzar un incident un cop s’ha produït, sinó que també ajuda a detectar comportaments sospitosos a fi d’evitar que l’incident tingui lloc, o per reduir-ne l’impacte.\nExemples:\n   • No aplicar les actualitzacions de seguretat del sistema operatiu pot donar lloc a nous vectors d’atac.\n   • La manca de còpies de seguretat regulars pot donar lloc a la pèrdua d’informació en cas d’incident."]
[null,null,"Q06","Q06","Manca un procediment definit sobre la forma de realitzar les còpies de seguretat?",null,null,null,null,null,null,null,null,{"$f":"+IF(F14=\"\",\"INPUT REQ\",IF(F14=\"SI\",\"AMBER\",\"GREEN\"))","v":"INPUT REQ"},null,{"$f":"+IF(F14=\"\",\"N/A\",IF(G14=\"\",\"INPUT REQ\",\"OK\"))","v":"N/A"},{"$f":"+IF(N14=\"N/A\",\"N\",IF(N14=\"INPUT REQ\",\"BLANK\",\"OK\"))","v":"BLANK"},null,null,"Cal fer còpies de seguretat que permetin recuperar dades perdudes accidentalment o intencionadament.\nLes còpies han de tenir la mateixa seguretat que les dades inicials. En particular, cal considerar la necessitat que estiguin xifrades.\n\nLes còpies han de contenir:\n• Informació de treball de l’organització.\n• Les aplicacions en explotació, inclosos els sistemes operatius.\n• Les dades de configuració, serveis, aplicacions, equips i altres d’anàlegs.\n• Les claus utilitzades per preservar la confidencialitat de la informació."]
[null,null,"Q07","Q07","Manca un procediment adequat de registre i supervisió de les activitats relacionades amb el tractament?",null,null,null,null,null,null,null,null,{"$f":"+IF(F15=\"\",\"INPUT REQ\",IF(F15=\"SI\",\"AMBER\",\"GREEN\"))","v":"INPUT REQ"},null,{"$f":"+IF(F15=\"\",\"N/A\",IF(G15=\"\",\"INPUT REQ\",\"OK\"))","v":"N/A"},{"$f":"+IF(N15=\"N/A\",\"N\",IF(N15=\"INPUT REQ\",\"BLANK\",\"OK\"))","v":"BLANK"},null,null,"La manca d’un registre de les activitats (log file) pot incrementar les males pràctiques del personal i, alhora, dificulta la investigació dels incidents un cop s’han produït.\nExemples:\n   • Es poden consultar els expedients de clients/pacients sense que en quedi un registre.\n   • Tot i que es genera un registre d’activitats, no es monitoritza.\n   • No hi ha constància de les persones que entren al CPD."]
[null,null,"Q08","Q08","Manca un procediment que determini com s’ha d’actuar en cas de que es produeixi un incident de seguretat?",null,null,null,null,null,null,null,null,{"$f":"+IF(F16=\"\",\"INPUT REQ\",IF(F16=\"SI\",\"AMBER\",\"GREEN\"))","v":"INPUT REQ"},null,{"$f":"+IF(F16=\"\",\"N/A\",IF(G16=\"\",\"INPUT REQ\",\"OK\"))","v":"N/A"},{"$f":"+IF(N16=\"N/A\",\"N\",IF(N16=\"INPUT REQ\",\"BLANK\",\"OK\"))","v":"BLANK"},null,null,"Es disposarà d'un procediment integral per fer front a incidències que puguin tenir un impacte en la seguretat del sistema, com ara:\n•\tNotificació d'incidències reals o sospitoses.\n•\tActuació urgent, incloent la detenció dels serveis, l'aïllament del sistema afectat, la recollida de proves i la protecció dels registres, segons correspongui.\n•\tAssignació de recursos per investigar les causes, analitzar les conseqüències i resoldre la incidència.\n•\tInformació als grups d'interessats, interns i externs.\n•\tMesures per a evitar que es repeteixi."]
[null,null,"Q09","Q09","Hi ha una manca de seguretat física a les instal·lacions on té lloc el tractament?",null,null,null,null,null,null,null,null,"INPUT REQ",null,"N/A","BLANK",null,null,"La seguretat física de les instal·lacions de tractament és essencial. Sense això, no es pot garantir la seguretat del sistema de tractament (electrònic o no).\nExemples:\n   • El CPD no està degudament protegit amb un sistema que impedeix l’accés a les persones no autoritzades.\n   • Les limitacions d’espai han fet que part de l’arxiu en paper s’hagi distribuït en diferents àrees, que no en garanteixen la seguretat.\n   • El CPD no està protegit contra accidents naturals i industrials (per exemple, fallades elèctriques, inundacions).\n   • Es fa ús d’un servei al núvol sense tenir garanties que les instal·lacions proveïdor estan prou protegides."]
[null,null,"Q10","Q10","Alguna part del tractament es fa en equips portàtils que poden abandonar les instal·acions?  ",null,null,null,null,null,null,null,null,"INPUT REQ",null,"N/A","BLANK",null,null,"Cal protegir adequadament els equips que puguin sortir de les instal·lacions de l'organització i no puguin beneficiar-se de la protecció física corresponent, amb risc manifest de pèrdua o robatori.\n\nExemples:\n   • Tractament local de dades personals en un ordinador portàtil, incloent emmagatzematge parcial o comunicacions."]
[null,null,"Q11","Q11","Pot el personal connectar dispositius externs al sistema?",null,null,null,null,null,null,null,null,"INPUT REQ",null,"N/A","BLANK",null,null,"La connexió de dispositius externs al sistema de tractament és una porta a l’entrada de programari maliciós, d’introducció de vulnerabilitats, etc. A banda, també facilita l’extracció d’informació.\nExemples:\n   • El personal connecta el seu telèfon o el seu llapis de memòria als ports USB de l’ordinador.\n   • El personal pot emprar els seus dispositius per efectuar tasques relacionades amb el tractament (BYOD)."]
[null,null,"Q12","Q12","Hi ha una manca de claredat en la definició dels rols i les responsabilitats dels treballadors?",null,null,null,null,null,null,null,null,{"$f":"+IF(F20=\"\",\"INPUT REQ\",IF(F20=\"SI\",\"AMBER\",\"GREEN\"))","v":"INPUT REQ"},null,{"$f":"+IF(F20=\"\",\"N/A\",IF(G20=\"\",\"INPUT REQ\",\"OK\"))","v":"N/A"},{"$f":"+IF(N20=\"N/A\",\"N\",IF(N20=\"INPUT REQ\",\"BLANK\",\"OK\"))","v":"BLANK"},null,null,"Una manca de claredat en la definició dels rols i les responsabilitats pot donar lloc a un ús descontrolat de les dades (ja sigui accidental o intencionat).\nExemples:\n   • Un treballador d’una oficina bancària només hauria de consultar les dades dels seus clients.\n   • Els treballadors són responsables de destruir la informació (digital o no) de forma segura, quan deixa de ser necessària.\n   • Els treballadors són responsables de mantenir la seguretat de les dades, quan les comuniquen a alguna altra persona o organització."]
[null,null,"Q13","Q13","El personal rep permisos que no són necessaris per complir les tasques que té encomanades?",null,null,null,null,null,null,null,null,"INPUT REQ",null,"N/A","BLANK",null,null,"Com més gran sigui la base de persones que tenen accés a unes dades, més gran és la probabilitat que es produeixi un abús. Per evitar això, és essencial que el sistema controli l’accés al sistema del personal i autoritzi només els accessos que són estrictament necessaris per complir les tasques que té encomanades.\nExemples:\n   • L’accés a l’historial clínic d’un pacient hauria d’estar limitat als professionals que el tracten."]
[null,null,"Q14","Q14","Hi ha una manca de coneixement del personal respecte de l’ús adequat del sistema, d’aspectes de seguretat de les dades o de les limitacions d’ús que imposa l’RGPD?",null,null,null,null,null,null,null,null,{"$f":"+IF(F22=\"\",\"INPUT REQ\",IF(F22=\"SI\",\"AMBER\",\"GREEN\"))","v":"INPUT REQ"},null,{"$f":"+IF(F22=\"\",\"N/A\",IF(G22=\"\",\"INPUT REQ\",\"OK\"))","v":"N/A"},{"$f":"+IF(N22=\"N/A\",\"N\",IF(N22=\"INPUT REQ\",\"BLANK\",\"OK\"))","v":"BLANK"},null,null,"Una manca de coneixements sobre l’ús que s’espera del sistema, sobre seguretat de la informació o sobre les obligacions i limitacions que imposa l’RGPD pot donar lloc a males pràctiques. \nExemples:\n   • La manca de coneixements en seguretat pot fer que el personal que tracta les dades sigui més propens a seguir les instruccions d’un correu de phishing.\n   • El personal ha de recordar la necessitat de desar els document físics sota les condicions de seguretat adequades."]
[null,null,"Q15","Q15","S’ha externalitzat alguna part del tractament a un encarregat?",null,null,null,null,null,null,null,null,"INPUT REQ",null,"N/A","BLANK",null,null,"L’externalització del tractament o part del tractament a un encarregat suposa una pèrdua de control sobre les dades. Cal escollir un encarregat que pugui oferir un nivell alt de seguretat i definir clarament les seves responsabilitats.\nExemples:\n   • S’utilitza un núvol per realitzar part del tractament.\n   • Es contracten uns serveis especialitzats per analitzar unes dades."]
[null,null,null,"P","Nombre de respostes afirmatives:",{"$f":"+IF(COUNTIF(F9:F23,\"\")>0,\"PENDENT\",COUNTIF(F9:F23,\"SI\"))","v":"PENDENT"},null,null,null,null,null,null,null,{"$f":"+IF(OR(F24=\"\",F24=\"PENDENT\"),\"INPUT REQ\",IF(F24<5,\"GREEN\",IF(F24<10,\"AMBER\",\"RED\")))","v":"INPUT REQ"},null,null,"CALCULATED"]
[null,null,null,null,"Probabilitat inicial estimada:",{"$f":"+IF(F24=\"PENDENT\",\"PENDENT\",IF(F24>9,\"ALTA\",IF(F24>4,\"MITJANA\",\"BAIXA\")))","v":"PENDENT"},null,null,null,null,null,null,null,{"$f":"+N24","v":"INPUT REQ"},null,null,"CALCULATED",null,null,"La probabilitat residual es calcula comptant el número de respostes afirmatives: Baixa (0-4), Mitja (5-9), Alta (10-15)"]
[null,null,null,"4B.3   VALORACIÓ DEL RISC INICIAL",null,"Risc INICIAL","OBSERVACIONS / RECOMANACIONS: ",null,null,null,null,null,null,null,null,null,null,null,null,"Un cop estimat l’impacte i la probabilitat inicial, aplicarem la taula de la Secció 2.6 per calcular el risc inicial (sense els controls de seguretat). "]
[null,null,null,"Risc Inicial","Impacte sobre la confidencialitat",{"$f":"IF(F4=\"\",\"\",F4)","v":""},{"$f":"+VLOOKUP(F32,AUX.Risc4inicial[#All],2,)","v":"Cal completar les seccions anteriors per poder determinar el Risc INICIAL a partir de l'Impacte i la Probabilitat inicials."},null,null,null,null,null,null,{"$f":"+N4","v":"INPUT REQ"},null,{"$f":"$N$32","v":"INPUT REQ"},"CALCULATED",null,null,"Aquesta taula recull els impactes i la probabilitat estimats en les seccions prèvies, i calcula el risc aplicant la matriu de la columna I"]
[null,null,null,null,"Impacte sobre la integritat",{"$f":"IF(F5=\"\",\"\",F5)","v":""},null,null,null,null,null,null,null,{"$f":"N5","v":"INPUT REQ"},null,null,"CALCULATED"]
[null,null,null,null,"Impacte sobre la disponibilitat",{"$f":"IF(F6=\"\",\"\",F6)","v":""},null,null,null,null,null,null,null,{"$f":"+N6","v":"INPUT REQ"},null,null,"CALCULATED"]
[null,null,null,null,"MÀXIM DELS IMPACTES (Sistema)",{"$f":"+F7","v":"PENDENT D'AVALUAR"},null,null,null,null,null,null,null,{"$f":"+N7","v":"INPUT REQ"},null,null,"CALCULATED"]
[null,null,null,null,"PROBABILITAT",{"$f":"+F25","v":"PENDENT"},null,null,null,null,null,null,null,{"$f":"+N25","v":"INPUT REQ"},null,null,"CALCULATED"]
[null,null,null,null,"RISC INICIAL",{"$f":"+IFERROR(INDEX('AUX_TAULA DE RISCOS'!$C$2:$G$5,MATCH(F31,'AUX_TAULA DE RISCOS'!$C$2:$C$5,0),MATCH(F30,'AUX_TAULA DE RISCOS'!$C$5:$G$5,0)),\"PENDENT\")","v":"PENDENT"},null,null,null,null,null,null,null,{"$f":"+IF(OR(F32=\"\",F32=\"PENDENT\"),\"INPUT REQ\",IF(F32=\"RISC BAIX\",\"GREEN\",IF(F32=\"RISC MITJÀ\",\"AMBER\",\"RED\")))","v":"INPUT REQ"},null,null,"CALCULATED"]
[null,null,null,"4B.4   DETERMINACIÓ DE CONTROLS DE SEGURETAT NECESSARIS",null,null,null,null,null,null,null,null,null,null,null,null,null,null,null,"Un cop calculat el risc inicial, cal determinar quins controls (mesures per millorar la seguretat) s’han d’aplicar."]
[null,null,null,"Determinar Controls de Seguretat",null,null,"Resum del Pla de Controls de Seguretat"]
[null,null,null,"Prement el botó obtindreu una proposta dels controls de seguretat que cal implantar, i anireu al Pla de Controls, on haureu de planificar-les i controlar-ne la implantació:"]
[null,null,null,null,null,null,null,null,null,null,null,null,null,null,null,null,null,null,null,"Hi ha moltes llistes de controls. Aquí fem ús dels controls que l’ENS (Esquema Nacional de Seguretat). A la guia sobre AIPD (de l'APDCAT) es donen més detalls sobre els controls i indicacions per determinar quins aplicar. "]
[null,null,null,"4B.5   ESTIMACIÓ DE L'IMPACTE RESIDUAL",null,"Impacte INICIAL","Impacte RESIDUAL","Justifiqueu, en base als controls implementats",null,null,null,null,null,null,null,null,null,null,null,"Els controls de seguretat poden reduir l’impacte d’un incident de seguretat. Per exemple, el xifratge de certa informació pot limitar l’extensió d’una pèrdua de confidencialitat, una còpia de seguretat pot limitar l’impacte d’una pèrdua de la disponibilitat de la informació i l’ús de signatura electrònica pot permetre la detecció, i per tant la reducció de l’impacte, d’una pèrdua de la integritat."]
[null,null,"Confidencialitat","C","Impacte que la pèrdua de la confidencialitat de les dades (és a dir, d’un accés no autoritzat a les dades) té sobre les persones.",{"$f":"+F27","v":""},null,null,null,null,null,null,null,{"$f":"+N4","v":"INPUT REQ"},{"$f":"+IF(G38=\"\",\"INPUT REQ\",IF(G38=\"BAIX\",\"GREEN\",IF(G38=\"MITJÀ\",\"AMBER\",IF(G38=\"ALT\",\"RED\",\"DARK RED\"))))","v":"INPUT REQ"},{"$f":"+IF(G38=\"\",\"N/A\",IF(H38=\"\",\"INPUT REQ\",\"OK\"))","v":"N/A"},{"$f":"+IF(O38=\"N/A\",\"N\",IF(O38=\"INPUT REQ\",\"BLANK\",\"OK\"))","v":"BLANK"},"N",null,"Exemples de casos de pèrdua de confidencialitat:\n   • Pèrdua o robatori d’un ordinador que conté dades personals.\n   • Enviament per error de dades personals a persones no autoritzades.\n   • Possibilitat d’accedir de forma no autoritzada al compte d’una persona.\n   • Un error de configuració en una web exposa les dades personals dels seus usuaris.\n   • Robatori d’informació de les instal·lacions del responsable o de l’encarregat del tractament.\n   • Un empleat d’un centre mèdic consulta de forma no autoritzada l’expedient d’un pacient. \n   • Comercialització no autoritzada"]
[null,null,"Integritat","I","Impacte que la pèrdua de la integritat de les dades (és a dir, de la modificació no autoritzada de les dades) té sobre les persones.",{"$f":"+F28","v":""},null,null,null,null,null,null,null,{"$f":"+N5","v":"INPUT REQ"},{"$f":"+IF(G39=\"\",\"INPUT REQ\",IF(G39=\"BAIX\",\"GREEN\",IF(G39=\"MITJÀ\",\"AMBER\",IF(G39=\"ALT\",\"RED\",\"DARK RED\"))))","v":"INPUT REQ"},{"$f":"+IF(G39=\"\",\"N/A\",IF(H39=\"\",\"INPUT REQ\",\"OK\"))","v":"N/A"},"BLANK","N",null,"Exemples de casos de pèrdua de la integritat:\n   • Un empleat modifica per error les dades d’un client.\n   • Un error en la xarxa de comunicacions altera les dades mentre estan en trànsit.\n   • Per motius operacionals, una empresa manté diverses còpies de les dades, però un canvi en alguna de les còpies no és propaga a les altres.\n   • Pèrdua de part d’un expedient, com a conseqüència d’una fallada en el sistema de tractament."]
[null,null,"Disponibilitat","D","Impacte que la pèrdua de la disponibilitat de les dades té sobre les persones.",{"$f":"+F29","v":""},null,null,null,null,null,null,null,{"$f":"+N6","v":"INPUT REQ"},{"$f":"+IF(G40=\"\",\"INPUT REQ\",IF(G40=\"BAIX\",\"GREEN\",IF(G40=\"MITJÀ\",\"AMBER\",IF(G40=\"ALT\",\"RED\",\"DARK RED\"))))","v":"INPUT REQ"},{"$f":"+IF(G40=\"\",\"N/A\",IF(H40=\"\",\"INPUT REQ\",\"OK\"))","v":"N/A"},"BLANK","N",null,"Exemples de casos de pèrdua de la disponibilitat:\n   • Un fitxer és corromp o s’esborra i no hi ha una còpia de seguretat.\n   • Es perd un expedient del qual només hi havia una còpia en paper.\n   • Un servei de consulta de dades deixa d’estar disponible (per exemple, el servei per accedir al registres electrònics de salut)."]
[null,null,"Sistema","S","IMPACTE DEL SISTEMA",{"$f":"+F30","v":"PENDENT D'AVALUAR"},{"$f":"+IF(OR(ISBLANK(G38),ISBLANK(G39),ISBLANK(G40)),\"PENDENT D'AVALUAR\",IF(COUNTIF((G38:G40),\"Molt Alt\")>0,\"MOLT ALT\",IF(COUNTIF((G38:G40),\"Alt\")>0,\"ALT\",IF(COUNTIF((G38:G40),\"Mitjà\")>0,\"MITJÀ\",IF(COUNTIF((G38:G40),\"Baix\")>0,\"BAIX\",\"PENDENT D'AVALUAR\")))))","v":"PENDENT D'AVALUAR"},null,null,null,null,null,null,{"$f":"+N7","v":"INPUT REQ"},{"$f":"+IF(OR(G41=\"\",G41=\"PENDENT D'AVALUAR\"),\"INPUT REQ\",IF(G41=\"BAIX\",\"GREEN\",IF(G41=\"MITJÀ\",\"AMBER\",IF(G41=\"ALT\",\"RED\",\"DARK RED\"))))","v":"INPUT REQ"},null,"CALCULATED",null,null,"Calculat com a màxim dels 3 anteriors (Confidencialitat, Integritat, Disponibilitat)"]
[null,null,null,"4B.6   ESTIMACIÓ DE LA PROBABILITAT RESIDUAL",null,"Resposta INICIAL","Resposta REVISADA","Justifiqueu, en base als controls implementats"]
[null,null,"Q01","Q01","El sistema de tractament està connectat a sistemes externs a l’organització? ",{"$f":"+F9","v":0},null,null,null,null,null,null,null,{"$f":"+N9","v":"INPUT REQ"},{"$f":"+IF(G43=\"\",\"INPUT REQ\",IF(G43=\"SI\",\"AMBER\",\"GREEN\"))","v":"INPUT REQ"},{"$f":"+IF(G43=F43,\"N/A\",IF(H43=\"\",\"INPUT REQ\",IF(H43=\"SI\",\"AMBER\",\"GREEN\")))","v":"N/A"},{"$f":"+IF(O43=\"N/A\",\"N\",IF(O43=\"INPUT REQ\",\"BLANK\",\"OK\"))","v":"BLANK"},{"$f":"+IF(P43=\"N/A\",\"N\",IF(P43=\"INPUT REQ\",\"BLANK\",\"OK\"))","v":"N"},null,"La connexió amb sistemes externs a l’organització (tals com: servidors externs, serveis i/o aplicacions online, aplicacions per a mòbils, pàgines o formularis web, plataformes web, xats, etc) incrementa l’exposició a amenaces externes, que poden comprometre el sistema de tractament i afectar les propietats de seguretat de les dades (confidencialitat, integritat i disponibilitat). Per exemple, la informació pot ser capturada o modificada maliciosament mentre està en trànsit.\n\nExemples:\n   • El sistema de tractament d’un hospital està connectat amb el sistema públic de seguretat social i amb sistemes d’asseguradores privades.\n   • Les estacions de treball que formen part del sistema de tractament tenen accés a internet.\n   • La interacció amb els interessats a través d’internet exposa el sistema de tractament a amenaces externes: phishing, SQL injection, man-in-the-middle attacks, DoS i XSS.\n  • Permetre que els treballadors accedeixin al sistema de tractament a través d’internet també incrementa l’exposició a atacs externs i, a banda, incrementa la possibilitat que els treballadors facin un mal ús de la informació (accidental o intencionat).\n  • Els administradors del sistema de tractament poden fer tasques de manteniment o supervisió a través d’internet.\n  • L’accés al sistema de tractament des d’un espai públic pot facilitar que persones alienes a l’organització puguin observar-les."]
[null,null,"Q02","Q02","S'envia informació personal per mitjà de correu electrònic, tant en el cos del missatge com en forma d'annexos?",{"$f":"+F10","v":0},null,null,null,null,null,null,null,{"$f":"+N10","v":"INPUT REQ"},"INPUT REQ","N/A","BLANK","N",null,"Compartir dades personals per correu electrònic incrementa l’exposició a amenaces externes, que poden comprometre el sistema de tractament i afectar les propietats de seguretat de les dades (confidencialitat, integritat i disponibilitat). Per exemple, la informació pot ser capturada o modificada maliciosament mentre està en trànsit:\n• La informació distribuïda per correu electrònic s’ha de protegir, tant al cos com als annexos.\n• S’ha de protegir la informació d’encaminament de missatges i establiment de connexions.\n• S’ha de protegir l’organització de problemes que es materialitzen per correu electrònic: correu brossa, programari maliciós (virus, cucs, etc.), codi.\n• S’han d’establir normes per l’ús apropiat del correu electrònic. Aquestes normes han de tenir: limitacions d’ús i activitats de formació i conscienciació."]
[null,null,"Q03","Q03","Manca de seguiment d’un document de bones pràctiques rellevant en el disseny o la configuració del sistema de tractament? ",0,null,null,null,null,null,null,null,"INPUT REQ","INPUT REQ","N/A","BLANK","N",null,"Si el sistema de tractament no està ben dissenyat o els elements que el componen no estan configurats adequadament, els riscos per a la seguretat de les dades s’incrementen. Hi ha multitud de guies de bones pràctiques en seguretat amb diferent temàtica (xarxa, equips, etc.).\nExemples:\n   • Cal dissenyar la xarxa seguint un document de bones pràctiques que inclogui elements com ara tallafocs, segmentació de la xarxa i ús de VPN.\n   • Cal fer ús d’un document de bones pràctiques, a l’hora de configurar el sistema operatiu. Això implica mesures com ara l’ús d’antivirus i no permetre l’ús de paraules de pas insegures.\n   • Cal dimensionar el sistema de tractament pensant en les necessitats computacionals, de comunicació i d’emmagatzematge que s’anticipen. També cal dotar-lo del personal suficient.\n   • Cal fer ús d’un document de bones pràctiques, a l’hora de configurar el programari. Per exemple, com configurar un servidor web per fer-lo més segur.\n   • Cal usar una metodologia de desenvolupament que tingui en compte la seguretat de les dades durant tot el cicle de vida de l’aplicació."]
[null,null,"Q04","Q04","Manca un procediment que determini com protegir els suports informàtics? ",0,null,null,null,null,null,null,null,"INPUT REQ","INPUT REQ","N/A","BLANK","N",null,"El procediment ha d'incloure: criptografia, custòdia, esborrat i destrucció, etiquetat i transport, si escau."]
[null,null,"Q05","Q05","Manca de seguiment d’un document de bones pràctiques rellevant en el manteniment, la monitorització i la resposta a incidents del sistema de tractament?",0,null,null,null,null,null,null,null,"INPUT REQ","INPUT REQ","N/A","BLANK","N",null,"És essencial fer un manteniment i una monitorització adequada del sistema. El manteniment s’ha de fer tant dels dispositius com del programari. Monitoritzar el sistema no només permet analitzar un incident un cop s’ha produït, sinó que també ajuda a detectar comportaments sospitosos a fi d’evitar que l’incident tingui lloc, o per reduir-ne l’impacte.\nExemples:\n   • No aplicar les actualitzacions de seguretat del sistema operatiu pot donar lloc a nous vectors d’atac.\n   • La manca de còpies de seguretat regulars pot donar lloc a la pèrdua d’informació en cas d’incident."]
[null,null,"Q06","Q06","Manca un procediment definit sobre la forma de realitzar les còpies de seguretat?",0,null,null,null,null,null,null,null,"INPUT REQ","INPUT REQ","N/A","BLANK","N",null,"Cal fer còpies de seguretat que permetin recuperar dades perdudes accidentalment o intencionadament.\nLes còpies han de tenir la mateixa seguretat que les dades inicials. En particular, cal considerar la necessitat que estiguin xifrades.\n\nLes còpies han de contenir:\n• Informació de treball de l’organització.\n• Les aplicacions en explotació, inclosos els sistemes operatius.\n• Les dades de configuració, serveis, aplicacions, equips i altres d’anàlegs.\n• Les claus utilitzades per preservar la confidencialitat de la informació."]
[null,null,"Q07","Q07","Manca un procediment adequat de registre i supervisió de les activitats relacionades amb el tractament?",0,null,null,null,null,null,null,null,"INPUT REQ","INPUT REQ","N/A","BLANK","N",null,"La manca d’un registre de les activitats (log file) pot incrementar les males pràctiques del personal i, alhora, dificulta la investigació dels incidents un cop s’han produït.\nExemples:\n   • Es poden consultar els expedients de clients/pacients sense que en quedi un registre.\n   • Tot i que es genera un registre d’activitats, no es monitoritza.\n   • No hi ha constància de les persones que entren al CPD."]
[null,null,"Q08","Q08","Manca un procediment que determini com s’ha d’actuar en cas de que es produeixi un incident de seguretat?",0,null,null,null,null,null,null,null,"INPUT REQ","INPUT REQ","N/A","BLANK","N",null,"Es disposarà d'un procediment integral per fer front a incidències que puguin tenir un impacte en la seguretat del sistema, com ara:\n•\tNotificació d'incidències reals o sospitoses.\n•\tActuació urgent, incloent la detenció dels serveis, l'aïllament del sistema afectat, la recollida de proves i la protecció dels registres, segons correspongui.\n•\tAssignació de recursos per investigar les causes, analitzar les conseqüències i resoldre la incidència.\n•\tInformació als grups d'interessats, interns i externs.\n•\tMesures preventives per a evitar que es repeteixi."]
[null,null,"Q09","Q09","Hi ha una manca de seguretat física a les instal·lacions on té lloc el tractament?",0,null,null,null,null,null,null,null,"INPUT REQ","INPUT REQ","N/A","BLANK","N",null,"La seguretat física de les instal·lacions de tractament és essencial. Sense això, no es pot garantir la seguretat del sistema de tractament (electrònic o no).\nExemples:\n   • El CPD no està degudament protegit amb un sistema que impedeix l’accés a les persones no autoritzades.\n   • Les limitacions d’espai han fet que part de l’arxiu en paper s’hagi distribuït en diferents àrees, que no en garanteixen la seguretat.\n   • El CPD no està protegit contra accidents naturals i industrials (per exemple, fallades elèctriques, inundacions).\n   • Es fa ús d’un servei al núvol sense tenir garanties que les instal·lacions proveïdor estan prou protegides."]
[null,null,"Q10","Q10","Alguna part del tractament es fa en equips portàtils que poden abandonar les instal·acions?  ",0,null,null,null,null,null,null,null,"INPUT REQ","INPUT REQ","N/A","BLANK","N",null,"Cal protegir adequadament els equips que puguin sortir de les instal·lacions de l'organització i no puguin beneficiar-se de la protecció física corresponent, amb risc manifest de pèrdua o robatori.\n\nExemples:\n   • Tractament local de dades personals en un ordinador portàtil, incloent emmagatzematge parcial o comunicacions."]
[null,null,"Q11","Q11","Pot el personal connectar dispositius externs al sistema?",0,null,null,null,null,null,null,null,"INPUT REQ","INPUT REQ","N/A","BLANK","N",null,"La connexió de dispositius externs al sistema de tractament és una porta a l’entrada de programari maliciós, d’introducció de vulnerabilitats, etc. A banda, també facilita l’extracció d’informació.\nExemples:\n   • El personal connecta el seu telèfon o el seu llapis de memòria als ports USB de l’ordinador.\n   • El personal pot emprar els seus dispositius per efectuar tasques relacionades amb el tractament (BYOD)."]
[null,null,"Q12","Q12","Hi ha una manca de claredat en la definició dels rols i les responsabilitats dels treballadors?",0,null,null,null,null,null,null,null,"INPUT REQ","INPUT REQ","N/A","BLANK","N",null,"Una manca de claredat en la definició dels rols i les responsabilitats pot donar lloc a un ús descontrolat de les dades (ja sigui accidental o intencionat).\nExemples:\n   • Un treballador d’una oficina bancària només hauria de consultar les dades dels seus clients.\n   • Els treballadors són responsables de destruir la informació (digital o no) de forma segura, quan deixa de ser necessària.\n   • Els treballadors són responsables de mantenir la seguretat de les dades, quan les comuniquen a alguna altra persona o organització."]
[null,null,"Q13","Q13","El personal rep permisos que no són necessaris per complir les tasques que té encomanades?",0,null,null,null,null,null,null,null,"INPUT REQ","INPUT REQ","N/A","BLANK","N",null,"Com més gran sigui la base de persones que tenen accés a unes dades, més gran és la probabilitat que es produeixi un abús. Per evitar això, és essencial que el sistema controli l’accés al sistema del personal i autoritzi només els accessos que són estrictament necessaris per complir les tasques que té encomanades.\nExemples:\n   • L’accés a l’historial clínic d’un pacient hauria d’estar limitat als professionals que el tracten."]
[null,null,"Q14","Q14","Hi ha una manca de coneixement del personal respecte de l’ús adequat del sistema, d’aspectes de seguretat de les dades o de les limitacions d’ús que imposa l’RGPD?",0,null,null,null,null,null,null,null,"INPUT REQ","INPUT REQ","N/A","BLANK","N",null,"Una manca de coneixements sobre l’ús que s’espera del sistema, sobre seguretat de la informació o sobre les obligacions i limitacions que imposa l’RGPD pot donar lloc a males pràctiques. \nExemples:\n   • La manca de coneixements en seguretat pot fer que el personal que tracta les dades sigui més propens a seguir les instruccions d’un correu de phishing.\n   • El personal ha de recordar la necessitat de desar els document físics sota les condicions de seguretat adequades."]
[null,null,"Q15","Q15","S’ha externalitzat alguna part del tractament a un encarregat?",0,null,null,null,null,null,null,null,"INPUT REQ","INPUT REQ","N/A","BLANK","N",null,"L’externalització del tractament o part del tractament a un encarregat suposa una pèrdua de control sobre les dades. Cal escollir un encarregat que pugui oferir un nivell alt de seguretat i definir clarament les seves responsabilitats.\nExemples:\n   • S’utilitza un núvol per realitzar part del tractament.\n   • Es contracten uns serveis especialitzats per analitzar unes dades."]
[null,null,null,"P","Nombre de respostes afirmatives:","PENDENT",{"$f":"+IF(COUNTIF(G43:G57,\"\")>0,\"PENDENT\",COUNTIF(G43:G57,\"SI\"))","v":"PENDENT"},null,null,null,null,null,null,{"$f":"+IF(OR(F58=\"\",F58=\"PENDENT\"),\"INPUT REQ\",IF(F58<5,\"GREEN\",IF(F58<10,\"AMBER\",\"RED\")))","v":"INPUT REQ"},{"$f":"+IF(OR(G58=\"\",G58=\"PENDENT\"),\"INPUT REQ\",IF(G58<5,\"GREEN\",IF(G58<10,\"AMBER\",\"RED\")))","v":"INPUT REQ"},null,"CALCULATED"]
[null,null,null,null,"Probabilitat residual estimada:","PENDENT",{"$f":"+IF(G58=\"PENDENT\",\"PENDENT\",IF(G58>9,\"ALTA\",IF(G58>4,\"MITJANA\",\"BAIXA\")))","v":"PENDENT"},null,null,null,null,null,null,{"$f":"+N58","v":"INPUT REQ"},{"$f":"+O58","v":"INPUT REQ"},null,"CALCULATED",null,null,"La probabilitat residual es calcula comptant el número de respostes afirmatives: Baixa (0-4), Mitja (5-9), Alta (10-15)"]
[null,null,null,"4B.7   ESTIMACIÓ DEL RISC RESIDUAL",null,"Risc INICIAL","Risc RESIDUAL","OBSERVACIONS / RECOMANACIONS: "]
[null,null,null,"Risc Residual vs Inicial","Impacte sobre la confidencialitat",{"$f":"+F27","v":""},{"$f":"IF($G$38=\"\",\"\",$G$38)","v":""},{"$f":"+VLOOKUP(G66,AUX.Risc4residual[#All],2,)","v":"Cal completar les seccions anteriors per poder determinar el Risc RESIDUAL a partir de l'Impacte i la Probabilitat residuals."},null,null,null,null,null,{"$f":"N27","v":"INPUT REQ"},{"$f":"+O38","v":"INPUT REQ"},{"$f":"$O$66","v":"INPUT REQ"},"CALCULATED",null,null,"Aquesta taula recull els impactes i la probabilitat estimats en les seccions prèvies, i calcula el risc aplicant la matriu de la columna I"]
[null,null,null,null,"Impacte sobre la integritat",{"$f":"F28","v":""},{"$f":"IF(G39=\"\",\"\",G39)","v":""},null,null,null,null,null,null,"INPUT REQ",{"$f":"+O39","v":"INPUT REQ"},null,"CALCULATED"]
[null,null,null,null,"Impacte sobre la disponibilitat","",{"$f":"IF(G40=\"\",\"\",G40)","v":""},null,null,null,null,null,null,"INPUT REQ",{"$f":"+O40","v":"INPUT REQ"},null,"CALCULATED"]
[null,null,null,null,"MÀXIM DELS IMPACTES (Sistema)","PENDENT D'AVALUAR",{"$f":"IF(G41=\"\",\"\",G41)","v":"PENDENT D'AVALUAR"},null,null,null,null,null,null,"INPUT REQ",{"$f":"O41","v":"INPUT REQ"},null,"CALCULATED"]
[null,null,null,null,"PROBABILITAT","PENDENT",{"$f":"+G59","v":"PENDENT"},null,null,null,null,null,null,"INPUT REQ",{"$f":"+O59","v":"INPUT REQ"},null,"CALCULATED"]
[null,null,null,null,"RISC RESIDUAL vs INICIAL","PENDENT",{"$f":"+IFERROR(INDEX('AUX_TAULA DE RISCOS'!$C$2:$G$5,MATCH(G65,'AUX_TAULA DE RISCOS'!$C$2:$C$5,0),MATCH(G64,'AUX_TAULA DE RISCOS'!$C$5:$G$5,0)),\"PENDENT\")","v":"PENDENT"},null,null,null,null,null,null,"INPUT REQ",{"$f":"+IF(OR(G66=\"\",G66=\"PENDENT\"),\"INPUT REQ\",IF(G66=\"RISC BAIX\",\"GREEN\",IF(G66=\"RISC MITJÀ\",\"AMBER\",\"RED\")))","v":"INPUT REQ"},null,"CALCULATED"]
[]
[]
[null,null,null,null,null,null,null,null,null,null,null,null,null,"+IF(OR(COUNTIF('4B.RISCOS DADES'!N2:P70;\"RED\")>0;COUNTIF('4B.RISCOS DADES'!N2:P70;\"DARK RED\")>0);3;IF(COUNTIF('4B.RISCOS DADES'!N2:P70;\"AMBER\")>0;2;1))"]
[]
[null,null,null,"ÀREA D'ÚS EXCLUSIU DE L'AVALUADOR"]
[null,null,null,"VALORACIÓ (Seleccioneu)"]
[null,null,null,null,null,null,null,null,null,null,null,null,null,null,{"$f":"+IF(OR(D73=\"\",D73=\"PENDENT DE VALORACIÓ\"),\"INPUT REQ\",IF(D73=\"Acceptada\",\"GREEN\",IF(D73=\"Denegada\",\"RED\",\"AMBER\")))","v":"INPUT REQ"}]
[null,null,null,"COMENTARIS "]
[null,null,null,null,null,null,null,null,null,null,null,null,null,null,{"$f":"+IF(D75=\"\",\"INPUT REQ\",\"OK\")","v":"INPUT REQ"}]
[null,null,null,null,{"$f":"CONCATENATE(IF(LEN(TRIM(D75))=0,0,LEN(TRIM(D75))-LEN(SUBSTITUTE(D75,\" \",\"\"))+1),\" paraules\")","v":"0 paraules"}]

{"sheet":"PLA CONTROLS","index":11,"n_rows":100,"n_cols":44,"rows_kept":100,"cut":false,"hidden":false,"merged":[[0,23,0,37],[0,3,0,5],[1,17,1,18],[0,6,0,11],[0,12,0,14],[0,16,0,22]]}
[null,null,null,"IDENTIFICACIÓ CONTROL DE SEGURETAT\n(segons ENS - Esquema Nacional de Seguretat)",null,null,"Propietat de Seguretat",null,null,null,null,null,"Impacte",null,null,null,"PLA D'ACCIÓ - IMPLEMENTACIÓ DE CONTROLS DE SEGURETAT",null,null,null,null,null,null,"PREGUNTES PROBABILITAT"]
["KEY (CodiControl&Impactes)","Pos. Esquema ENS","Codi Control","Categoria","Subcategoria","Descripció Control","     C - Confidencialitat","     I - Integritat","     D - Disponibilitat","     A - Autenticitat","     T - Traçabilitat","     S - Sistema","     L - Baix","     M - Mitjà","     H - Alt","Explicació","PROPOSTA PRÈVIA","CONTROL PROPOSAT - PRIORITAT",null,"ESTAT DE PLANIFICACIÓ\n(Seleccioneu opció)","DATA PLANIFICADA FINALITZACIÓ","NOM RESPONSABLE D'IMPLANTACIÓ","COMENTARIS / JUSTIFICACIÓ","Q01","Q02","Q03","Q04","Q05","Q06","Q07","Q08","Q09","Q10","Q11","Q12","Q13","Q14","Q15","Máx. de Prioritat.Numerica","Rebutjades Rellevants (Mitja)","Rebutjades Crítiques (Alta o Molt alta)","No Planificades (pendent o sense planificar) Rellevants (Mitja)","No Planificades (pendent o sense planificar) & Crítiques (Alta o Molt alta)","Dates planificades Expirades"]
[{"$f":"+C3&M3&N3&O3","v":"[org.1]LMH"},1,"[org.1]","Marc organitzatiu","Marc organitzatiu","Política de seguretat",null,null,null,null,null,"X","L","M","H","La política de seguretat és un document d’alt nivell que estableix els principis bàsics de seguretat en una organització. Ha d’establir de forma clara, com a mínim, el següent:\n•\tEls objectius de l’organització.\n•\tEl marc legal en què es desenvolupen les activitats.\n•\tEls rols i les funcions de seguretat, que han de definir els deures i responsabilitats de cadascú i el procediment per a la designació i renovació.\n•\tComitès de coordinació de la seguretat (membres i responsabilitats).\n•\tDirectrius per a l’estructuració de la informació de seguretat.",null,{"$f":"+IF(AM3>3,\"SI - MOLT ALTA\",IF(AM3=3,\"SI - ALTA\",IF(AM3=2,\"SI - MITJANA\",IF(AM3=1,\"SI - BAIXA\",\"NO\"))))","v":"NO"},{"$f":"AM3","v":0},null,null,null,null,{"$f":"+IFERROR(IF(MATCH(CONCATENATE(X$2,$A3),AUX_MELT_DADES!$V:$V,0)<>0,\"X\",\"\"),\"-\")","v":"-"},{"$f":"+IFERROR(IF(MATCH(CONCATENATE(Y$2,$A3),AUX_MELT_DADES!$V:$V,0)<>0,\"X\",\"\"),\"-\")","v":"-"},{"$f":"+IFERROR(IF(MATCH(CONCATENATE(Z$2,$A3),AUX_MELT_DADES!$V:$V,0)<>0,\"X\",\"\"),\"-\")","v":"X"},{"$f":"+IFERROR(IF(MATCH(CONCATENATE(AA$2,$A3),AUX_MELT_DADES!$V:$V,0)<>0,\"X\",\"\"),\"-\")","v":"-"},{"$f":"+IFERROR(IF(MATCH(CONCATENATE(AB$2,$A3),AUX_MELT_DADES!$V:$V,0)<>0,\"X\",\"\"),\"-\")","v":"X"},{"$f":"+IFERROR(IF(MATCH(CONCATENATE(AC$2,$A3),AUX_MELT_DADES!$V:$V,0)<>0,\"X\",\"\"),\"-\")","v":"-"},{"$f":"+IFERROR(IF(MATCH(CONCATENATE(AD$2,$A3),AUX_MELT_DADES!$V:$V,0)<>0,\"X\",\"\"),\"-\")","v":"-"},{"$f":"+IFERROR(IF(MATCH(CONCATENATE(AE$2,$A3),AUX_MELT_DADES!$V:$V,0)<>0,\"X\",\"\"),\"-\")","v":"-"},{"$f":"+IFERROR(IF(MATCH(CONCATENATE(AF$2,$A3),AUX_MELT_DADES!$V:$V,0)<>0,\"X\",\"\"),\"-\")","v":"-"},{"$f":"+IFERROR(IF(MATCH(CONCATENATE(AG$2,$A3),AUX_MELT_DADES!$V:$V,0)<>0,\"X\",\"\"),\"-\")","v":"-"},{"$f":"+IFERROR(IF(MATCH(CONCATENATE(AH$2,$A3),AUX_MELT_DADES!$V:$V,0)<>0,\"X\",\"\"),\"-\")","v":"-"},{"$f":"+IFERROR(IF(MATCH(CONCATENATE(AI$2,$A3),AUX_MELT_DADES!$V:$V,0)<>0,\"X\",\"\"),\"-\")","v":"-"},{"$f":"+IFERROR(IF(MATCH(CONCATENATE(AJ$2,$A3),AUX_MELT_DADES!$V:$V,0)<>0,\"X\",\"\"),\"-\")","v":"-"},{"$f":"+IFERROR(IF(MATCH(CONCATENATE(AK$2,$A3),AUX_MELT_DADES!$V:$V,0)<>0,\"X\",\"\"),\"-\")","v":"-"},{"$f":"+IFERROR(IF(MATCH(CONCATENATE(AL$2,$A3),AUX_MELT_DADES!$V:$V,0)<>0,\"X\",\"\"),\"-\")","v":"-"},{"$f":"IFERROR(VLOOKUP(A3,AUX_PIVOT_MELT!$A$4:$B$250,2,FALSE),\"\")","v":0},{"$f":"+AND(S3=2,T3=\"Rebutjada\")","v":false},{"$f":"+AND(S3>=3,T3=\"Rebutjada\")","v":false},{"$f":"+AND(S3=2,OR(T3=\"Pendent\",T3=\"\"))","v":false},{"$f":"+AND(S3>=3,OR(T3=\"Pendent\",T3=\"\"))","v":false},{"$f":"IF(U3<>\"\",U3<TODAY(),\"-\")","v":"-"}]
["[org.2]LMH",2,"[org.2]","Marc organitzatiu","Marc organitzatiu","Normativa de seguretat ",null,null,null,null,null,"X","L","M","H","Cal disposar d’una sèrie de documents que descriguin:\n•\tL’ús correcte d’equips, serveis i instal·lacions.\n•\tQuè es considera ús inapropiat.\n•\tLes responsabilitats del personal respecte del compliment o violació d’aquestes normes (drets, deures i mesures disciplinàries).",null,{"$f":"+IF(AM4>3,\"SI - MOLT ALTA\",IF(AM4=3,\"SI - ALTA\",IF(AM4=2,\"SI - MITJANA\",IF(AM4=1,\"SI - BAIXA\",\"NO\"))))","v":"NO"},0,null,null,null,null,{"$f":"+IFERROR(IF(MATCH(CONCATENATE(X$2,$A4),AUX_MELT_DADES!$V:$V,0)<>0,\"X\",\"\"),\"-\")","v":"-"},{"$f":"+IFERROR(IF(MATCH(CONCATENATE(Y$2,$A4),AUX_MELT_DADES!$V:$V,0)<>0,\"X\",\"\"),\"-\")","v":"-"},{"$f":"+IFERROR(IF(MATCH(CONCATENATE(Z$2,$A4),AUX_MELT_DADES!$V:$V,0)<>0,\"X\",\"\"),\"-\")","v":"-"},{"$f":"+IFERROR(IF(MATCH(CONCATENATE(AA$2,$A4),AUX_MELT_DADES!$V:$V,0)<>0,\"X\",\"\"),\"-\")","v":"-"},{"$f":"+IFERROR(IF(MATCH(CONCATENATE(AB$2,$A4),AUX_MELT_DADES!$V:$V,0)<>0,\"X\",\"\"),\"-\")","v":"-"},{"$f":"+IFERROR(IF(MATCH(CONCATENATE(AC$2,$A4),AUX_MELT_DADES!$V:$V,0)<>0,\"X\",\"\"),\"-\")","v":"-"},{"$f":"+IFERROR(IF(MATCH(CONCATENATE(AD$2,$A4),AUX_MELT_DADES!$V:$V,0)<>0,\"X\",\"\"),\"-\")","v":"-"},{"$f":"+IFERROR(IF(MATCH(CONCATENATE(AE$2,$A4),AUX_MELT_DADES!$V:$V,0)<>0,\"X\",\"\"),\"-\")","v":"-"},{"$f":"+IFERROR(IF(MATCH(CONCATENATE(AF$2,$A4),AUX_MELT_DADES!$V:$V,0)<>0,\"X\",\"\"),\"-\")","v":"-"},{"$f":"+IFERROR(IF(MATCH(CONCATENATE(AG$2,$A4),AUX_MELT_DADES!$V:$V,0)<>0,\"X\",\"\"),\"-\")","v":"-"},{"$f":"+IFERROR(IF(MATCH(CONCATENATE(AH$2,$A4),AUX_MELT_DADES!$V:$V,0)<>0,\"X\",\"\"),\"-\")","v":"-"},{"$f":"+IFERROR(IF(MATCH(CONCATENATE(AI$2,$A4),AUX_MELT_DADES!$V:$V,0)<>0,\"X\",\"\"),\"-\")","v":"X"},{"$f":"+IFERROR(IF(MATCH(CONCATENATE(AJ$2,$A4),AUX_MELT_DADES!$V:$V,0)<>0,\"X\",\"\"),\"-\")","v":"-"},{"$f":"+IFERROR(IF(MATCH(CONCATENATE(AK$2,$A4),AUX_MELT_DADES!$V:$V,0)<>0,\"X\",\"\"),\"-\")","v":"-"},{"$f":"+IFERROR(IF(MATCH(CONCATENATE(AL$2,$A4),AUX_MELT_DADES!$V:$V,0)<>0,\"X\",\"\"),\"-\")","v":"-"},{"$f":"IFERROR(VLOOKUP(A4,AUX_PIVOT_MELT!$A$4:$B$250,2,FALSE),\"\")","v":0},false,false,false,false,"-"]
["[org.3]LMH",3,"[org.3]","Marc organitzatiu","Marc organitzatiu","Procediments de seguretat ",null,null,null,null,null,"X","L","M","H","Cal disposar d’una sèrie de documents que descriguin:\n•\tCom desenvolupar les tasques habituals.\n•\tQui ha de fer cada tasca.\n•\tCom identificar comportaments anòmals i informar-ne.",null,"NO",0,null,null,null,null,{"$f":"+IFERROR(IF(MATCH(CONCATENATE(X$2,$A5),AUX_MELT_DADES!$V:$V,0)<>0,\"X\",\"\"),\"-\")","v":"-"},{"$f":"+IFERROR(IF(MATCH(CONCATENATE(Y$2,$A5),AUX_MELT_DADES!$V:$V,0)<>0,\"X\",\"\"),\"-\")","v":"-"},{"$f":"+IFERROR(IF(MATCH(CONCATENATE(Z$2,$A5),AUX_MELT_DADES!$V:$V,0)<>0,\"X\",\"\"),\"-\")","v":"-"},{"$f":"+IFERROR(IF(MATCH(CONCATENATE(AA$2,$A5),AUX_MELT_DADES!$V:$V,0)<>0,\"X\",\"\"),\"-\")","v":"-"},{"$f":"+IFERROR(IF(MATCH(CONCATENATE(AB$2,$A5),AUX_MELT_DADES!$V:$V,0)<>0,\"X\",\"\"),\"-\")","v":"-"},{"$f":"+IFERROR(IF(MATCH(CONCATENATE(AC$2,$A5),AUX_MELT_DADES!$V:$V,0)<>0,\"X\",\"\"),\"-\")","v":"-"},{"$f":"+IFERROR(IF(MATCH(CONCATENATE(AD$2,$A5),AUX_MELT_DADES!$V:$V,0)<>0,\"X\",\"\"),\"-\")","v":"-"},{"$f":"+IFERROR(IF(MATCH(CONCATENATE(AE$2,$A5),AUX_MELT_DADES!$V:$V,0)<>0,\"X\",\"\"),\"-\")","v":"-"},{"$f":"+IFERROR(IF(MATCH(CONCATENATE(AF$2,$A5),AUX_MELT_DADES!$V:$V,0)<>0,\"X\",\"\"),\"-\")","v":"-"},{"$f":"+IFERROR(IF(MATCH(CONCATENATE(AG$2,$A5),AUX_MELT_DADES!$V:$V,0)<>0,\"X\",\"\"),\"-\")","v":"-"},{"$f":"+IFERROR(IF(MATCH(CONCATENATE(AH$2,$A5),AUX_MELT_DADES!$V:$V,0)<>0,\"X\",\"\"),\"-\")","v":"-"},{"$f":"+IFERROR(IF(MATCH(CONCATENATE(AI$2,$A5),AUX_MELT_DADES!$V:$V,0)<>0,\"X\",\"\"),\"-\")","v":"-"},{"$f":"+IFERROR(IF(MATCH(CONCATENATE(AJ$2,$A5),AUX_MELT_DADES!$V:$V,0)<>0,\"X\",\"\"),\"-\")","v":"-"},{"$f":"+IFERROR(IF(MATCH(CONCATENATE(AK$2,$A5),AUX_MELT_DADES!$V:$V,0)<>0,\"X\",\"\"),\"-\")","v":"X"},{"$f":"+IFERROR(IF(MATCH(CONCATENATE(AL$2,$A5),AUX_MELT_DADES!$V:$V,0)<>0,\"X\",\"\"),\"-\")","v":"-"},{"$f":"IFERROR(VLOOKUP(A5,AUX_PIVOT_MELT!$A$4:$B$250,2,FALSE),\"\")","v":0},false,false,false,false,"-"]
["[org.4]LMH",4,"[org.4]","Marc organitzatiu","Marc organitzatiu","Procés d’autorització ",null,null,null,null,null,"X","L","M","H","Cal establir un procés formal d’autoritzacions que abasti tots els elements del sistema:\n•\tÚs de les instal·lacions (habituals i alternatives).\n•\tEntrada d’equips en producció.\n•\tEntrada d’aplicacions en producció.\n•\tEstabliment d’enllaços amb altres sistemes.\n•\tUtilització de mitjans de comunicació (habituals i alternatius).\n•\tUtilització de suports d’informació.\n•\tUtilització d’equips mòbils.",null,"NO",0,null,null,null,null,{"$f":"+IFERROR(IF(MATCH(CONCATENATE(X$2,$A6),AUX_MELT_DADES!$V:$V,0)<>0,\"X\",\"\"),\"-\")","v":"-"},{"$f":"+IFERROR(IF(MATCH(CONCATENATE(Y$2,$A6),AUX_MELT_DADES!$V:$V,0)<>0,\"X\",\"\"),\"-\")","v":"-"},{"$f":"+IFERROR(IF(MATCH(CONCATENATE(Z$2,$A6),AUX_MELT_DADES!$V:$V,0)<>0,\"X\",\"\"),\"-\")","v":"-"},{"$f":"+IFERROR(IF(MATCH(CONCATENATE(AA$2,$A6),AUX_MELT_DADES!$V:$V,0)<>0,\"X\",\"\"),\"-\")","v":"-"},{"$f":"+IFERROR(IF(MATCH(CONCATENATE(AB$2,$A6),AUX_MELT_DADES!$V:$V,0)<>0,\"X\",\"\"),\"-\")","v":"-"},{"$f":"+IFERROR(IF(MATCH(CONCATENATE(AC$2,$A6),AUX_MELT_DADES!$V:$V,0)<>0,\"X\",\"\"),\"-\")","v":"-"},{"$f":"+IFERROR(IF(MATCH(CONCATENATE(AD$2,$A6),AUX_MELT_DADES!$V:$V,0)<>0,\"X\",\"\"),\"-\")","v":"-"},{"$f":"+IFERROR(IF(MATCH(CONCATENATE(AE$2,$A6),AUX_MELT_DADES!$V:$V,0)<>0,\"X\",\"\"),\"-\")","v":"-"},{"$f":"+IFERROR(IF(MATCH(CONCATENATE(AF$2,$A6),AUX_MELT_DADES!$V:$V,0)<>0,\"X\",\"\"),\"-\")","v":"X"},{"$f":"+IFERROR(IF(MATCH(CONCATENATE(AG$2,$A6),AUX_MELT_DADES!$V:$V,0)<>0,\"X\",\"\"),\"-\")","v":"-"},{"$f":"+IFERROR(IF(MATCH(CONCATENATE(AH$2,$A6),AUX_MELT_DADES!$V:$V,0)<>0,\"X\",\"\"),\"-\")","v":"X"},{"$f":"+IFERROR(IF(MATCH(CONCATENATE(AI$2,$A6),AUX_MELT_DADES!$V:$V,0)<>0,\"X\",\"\"),\"-\")","v":"X"},{"$f":"+IFERROR(IF(MATCH(CONCATENATE(AJ$2,$A6),AUX_MELT_DADES!$V:$V,0)<>0,\"X\",\"\"),\"-\")","v":"X"},{"$f":"+IFERROR(IF(MATCH(CONCATENATE(AK$2,$A6),AUX_MELT_DADES!$V:$V,0)<>0,\"X\",\"\"),\"-\")","v":"-"},{"$f":"+IFERROR(IF(MATCH(CONCATENATE(AL$2,$A6),AUX_MELT_DADES!$V:$V,0)<>0,\"X\",\"\"),\"-\")","v":"-"},{"$f":"IFERROR(VLOOKUP(A6,AUX_PIVOT_MELT!$A$4:$B$250,2,FALSE),\"\")","v":0},false,false,false,false,"-"]
["[op.pl.2]LMH",5,"[op.pl.2]","Marc Operacional","Planificació","Arquitectura de seguretat",null,null,null,null,null,"X","L","M","H","La seguretat del sistema ha de ser objecte de plantejament integral, com a mínim, en:\n•\tDocumentació de les instal·lacions (àrees i punts d’accés).\n•\tDocumentació del sistema (equips, xarxes i punts d’accés al sistema).\n•\tEsquema de línies de defensa (tallafocs, DMZ, tecnologies per prevenir vulnerabilitats).\n•\tSistema d’identificació i autenticació.\n•\tControls tècnics interns.",null,"NO",0,null,null,null,null,{"$f":"+IFERROR(IF(MATCH(CONCATENATE(X$2,$A7),AUX_MELT_DADES!$V:$V,0)<>0,\"X\",\"\"),\"-\")","v":"-"},{"$f":"+IFERROR(IF(MATCH(CONCATENATE(Y$2,$A7),AUX_MELT_DADES!$V:$V,0)<>0,\"X\",\"\"),\"-\")","v":"-"},{"$f":"+IFERROR(IF(MATCH(CONCATENATE(Z$2,$A7),AUX_MELT_DADES!$V:$V,0)<>0,\"X\",\"\"),\"-\")","v":"X"},{"$f":"+IFERROR(IF(MATCH(CONCATENATE(AA$2,$A7),AUX_MELT_DADES!$V:$V,0)<>0,\"X\",\"\"),\"-\")","v":"-"},{"$f":"+IFERROR(IF(MATCH(CONCATENATE(AB$2,$A7),AUX_MELT_DADES!$V:$V,0)<>0,\"X\",\"\"),\"-\")","v":"X"},{"$f":"+IFERROR(IF(MATCH(CONCATENATE(AC$2,$A7),AUX_MELT_DADES!$V:$V,0)<>0,\"X\",\"\"),\"-\")","v":"-"},{"$f":"+IFERROR(IF(MATCH(CONCATENATE(AD$2,$A7),AUX_MELT_DADES!$V:$V,0)<>0,\"X\",\"\"),\"-\")","v":"-"},{"$f":"+IFERROR(IF(MATCH(CONCATENATE(AE$2,$A7),AUX_MELT_DADES!$V:$V,0)<>0,\"X\",\"\"),\"-\")","v":"-"},{"$f":"+IFERROR(IF(MATCH(CONCATENATE(AF$2,$A7),AUX_MELT_DADES!$V:$V,0)<>0,\"X\",\"\"),\"-\")","v":"-"},{"$f":"+IFERROR(IF(MATCH(CONCATENATE(AG$2,$A7),AUX_MELT_DADES!$V:$V,0)<>0,\"X\",\"\"),\"-\")","v":"-"},{"$f":"+IFERROR(IF(MATCH(CONCATENATE(AH$2,$A7),AUX_MELT_DADES!$V:$V,0)<>0,\"X\",\"\"),\"-\")","v":"-"},{"$f":"+IFERROR(IF(MATCH(CONCATENATE(AI$2,$A7),AUX_MELT_DADES!$V:$V,0)<>0,\"X\",\"\"),\"-\")","v":"-"},{"$f":"+IFERROR(IF(MATCH(CONCATENATE(AJ$2,$A7),AUX_MELT_DADES!$V:$V,0)<>0,\"X\",\"\"),\"-\")","v":"-"},{"$f":"+IFERROR(IF(MATCH(CONCATENATE(AK$2,$A7),AUX_MELT_DADES!$V:$V,0)<>0,\"X\",\"\"),\"-\")","v":"-"},{"$f":"+IFERROR(IF(MATCH(CONCATENATE(AL$2,$A7),AUX_MELT_DADES!$V:$V,0)<>0,\"X\",\"\"),\"-\")","v":"-"},{"$f":"IFERROR(VLOOKUP(A7,AUX_PIVOT_MELT!$A$4:$B$250,2,FALSE),\"\")","v":0},false,false,false,false,"-"]
["[op.pl.3]LMH",6,"[op.pl.3]","Marc Operacional","Planificació","Adquisició de nous components",null,null,null,null,null,"X","L","M","H","Cal establir un procediment formal per planificar l’adquisició de nous components\ndel sistema, que ha de:\n•\tSer conforme a les conclusions de l’anàlisi de riscos.\n•\tSeguir l’arquitectura de seguretat.\n•\tPreveure les necessitats tècniques, de formació i de finançament.",null,"NO",0,null,null,null,null,{"$f":"+IFERROR(IF(MATCH(CONCATENATE(X$2,$A8),AUX_MELT_DADES!$V:$V,0)<>0,\"X\",\"\"),\"-\")","v":"-"},{"$f":"+IFERROR(IF(MATCH(CONCATENATE(Y$2,$A8),AUX_MELT_DADES!$V:$V,0)<>0,\"X\",\"\"),\"-\")","v":"-"},{"$f":"+IFERROR(IF(MATCH(CONCATENATE(Z$2,$A8),AUX_MELT_DADES!$V:$V,0)<>0,\"X\",\"\"),\"-\")","v":"-"},{"$f":"+IFERROR(IF(MATCH(CONCATENATE(AA$2,$A8),AUX_MELT_DADES!$V:$V,0)<>0,\"X\",\"\"),\"-\")","v":"-"},{"$f":"+IFERROR(IF(MATCH(CONCATENATE(AB$2,$A8),AUX_MELT_DADES!$V:$V,0)<>0,\"X\",\"\"),\"-\")","v":"X"},{"$f":"+IFERROR(IF(MATCH(CONCATENATE(AC$2,$A8),AUX_MELT_DADES!$V:$V,0)<>0,\"X\",\"\"),\"-\")","v":"-"},{"$f":"+IFERROR(IF(MATCH(CONCATENATE(AD$2,$A8),AUX_MELT_DADES!$V:$V,0)<>0,\"X\",\"\"),\"-\")","v":"-"},{"$f":"+IFERROR(IF(MATCH(CONCATENATE(AE$2,$A8),AUX_MELT_DADES!$V:$V,0)<>0,\"X\",\"\"),\"-\")","v":"-"},{"$f":"+IFERROR(IF(MATCH(CONCATENATE(AF$2,$A8),AUX_MELT_DADES!$V:$V,0)<>0,\"X\",\"\"),\"-\")","v":"-"},{"$f":"+IFERROR(IF(MATCH(CONCATENATE(AG$2,$A8),AUX_MELT_DADES!$V:$V,0)<>0,\"X\",\"\"),\"-\")","v":"-"},{"$f":"+IFERROR(IF(MATCH(CONCATENATE(AH$2,$A8),AUX_MELT_DADES!$V:$V,0)<>0,\"X\",\"\"),\"-\")","v":"-"},{"$f":"+IFERROR(IF(MATCH(CONCATENATE(AI$2,$A8),AUX_MELT_DADES!$V:$V,0)<>0,\"X\",\"\"),\"-\")","v":"-"},{"$f":"+IFERROR(IF(MATCH(CONCATENATE(AJ$2,$A8),AUX_MELT_DADES!$V:$V,0)<>0,\"X\",\"\"),\"-\")","v":"-"},{"$f":"+IFERROR(IF(MATCH(CONCATENATE(AK$2,$A8),AUX_MELT_DADES!$V:$V,0)<>0,\"X\",\"\"),\"-\")","v":"-"},{"$f":"+IFERROR(IF(MATCH(CONCATENATE(AL$2,$A8),AUX_MELT_DADES!$V:$V,0)<>0,\"X\",\"\"),\"-\")","v":"-"},{"$f":"IFERROR(VLOOKUP(A8,AUX_PIVOT_MELT!$A$4:$B$250,2,FALSE),\"\")","v":0},false,false,false,false,"-"]
["[op.pl.4]MH",7,"[op.pl.4]","Marc Operacional","Planificació","Dimensionament",null,null,"X",null,null,null,null,"M","H","Estudi previ a la posada en marxa del sistema, que inclogui les necessitats de:\n•\tTractament.\n•\tEmmagatzematge.\n•\tComunicació.\n•\tPersonal (quantitat i qualificació).\n•\tInstal·lacions i mitjans auxiliars.",null,"NO",0,null,null,null,null,{"$f":"+IFERROR(IF(MATCH(CONCATENATE(X$2,$A9),AUX_MELT_DADES!$V:$V,0)<>0,\"X\",\"\"),\"-\")","v":"-"},{"$f":"+IFERROR(IF(MATCH(CONCATENATE(Y$2,$A9),AUX_MELT_DADES!$V:$V,0)<>0,\"X\",\"\"),\"-\")","v":"-"},{"$f":"+IFERROR(IF(MATCH(CONCATENATE(Z$2,$A9),AUX_MELT_DADES!$V:$V,0)<>0,\"X\",\"\"),\"-\")","v":"X"},{"$f":"+IFERROR(IF(MATCH(CONCATENATE(AA$2,$A9),AUX_MELT_DADES!$V:$V,0)<>0,\"X\",\"\"),\"-\")","v":"-"},{"$f":"+IFERROR(IF(MATCH(CONCATENATE(AB$2,$A9),AUX_MELT_DADES!$V:$V,0)<>0,\"X\",\"\"),\"-\")","v":"-"},{"$f":"+IFERROR(IF(MATCH(CONCATENATE(AC$2,$A9),AUX_MELT_DADES!$V:$V,0)<>0,\"X\",\"\"),\"-\")","v":"-"},{"$f":"+IFERROR(IF(MATCH(CONCATENATE(AD$2,$A9),AUX_MELT_DADES!$V:$V,0)<>0,\"X\",\"\"),\"-\")","v":"-"},{"$f":"+IFERROR(IF(MATCH(CONCATENATE(AE$2,$A9),AUX_MELT_DADES!$V:$V,0)<>0,\"X\",\"\"),\"-\")","v":"-"},{"$f":"+IFERROR(IF(MATCH(CONCATENATE(AF$2,$A9),AUX_MELT_DADES!$V:$V,0)<>0,\"X\",\"\"),\"-\")","v":"-"},{"$f":"+IFERROR(IF(MATCH(CONCATENATE(AG$2,$A9),AUX_MELT_DADES!$V:$V,0)<>0,\"X\",\"\"),\"-\")","v":"-"},{"$f":"+IFERROR(IF(MATCH(CONCATENATE(AH$2,$A9),AUX_MELT_DADES!$V:$V,0)<>0,\"X\",\"\"),\"-\")","v":"-"},{"$f":"+IFERROR(IF(MATCH(CONCATENATE(AI$2,$A9),AUX_MELT_DADES!$V:$V,0)<>0,\"X\",\"\"),\"-\")","v":"-"},{"$f":"+IFERROR(IF(MATCH(CONCATENATE(AJ$2,$A9),AUX_MELT_DADES!$V:$V,0)<>0,\"X\",\"\"),\"-\")","v":"-"},{"$f":"+IFERROR(IF(MATCH(CONCATENATE(AK$2,$A9),AUX_MELT_DADES!$V:$V,0)<>0,\"X\",\"\"),\"-\")","v":"-"},{"$f":"+IFERROR(IF(MATCH(CONCATENATE(AL$2,$A9),AUX_MELT_DADES!$V:$V,0)<>0,\"X\",\"\"),\"-\")","v":"-"},{"$f":"IFERROR(VLOOKUP(A9,AUX_PIVOT_MELT!$A$4:$B$250,2,FALSE),\"\")","v":0},false,false,false,false,"-"]
["[op.pl.5]H",8,"[op.pl.5]","Marc Operacional","Planificació","Components certificats",null,null,null,null,null,"X",null,null,"H","Cal utilitzar sistemes, productes o equips amb funcionalitats de seguretat certificades per entitats independents de solvència reconeguda.",null,"NO",0,null,null,null,null,{"$f":"+IFERROR(IF(MATCH(CONCATENATE(X$2,$A10),AUX_MELT_DADES!$V:$V,0)<>0,\"X\",\"\"),\"-\")","v":"-"},{"$f":"+IFERROR(IF(MATCH(CONCATENATE(Y$2,$A10),AUX_MELT_DADES!$V:$V,0)<>0,\"X\",\"\"),\"-\")","v":"-"},{"$f":"+IFERROR(IF(MATCH(CONCATENATE(Z$2,$A10),AUX_MELT_DADES!$V:$V,0)<>0,\"X\",\"\"),\"-\")","v":"X"},{"$f":"+IFERROR(IF(MATCH(CONCATENATE(AA$2,$A10),AUX_MELT_DADES!$V:$V,0)<>0,\"X\",\"\"),\"-\")","v":"-"},{"$f":"+IFERROR(IF(MATCH(CONCATENATE(AB$2,$A10),AUX_MELT_DADES!$V:$V,0)<>0,\"X\",\"\"),\"-\")","v":"-"},{"$f":"+IFERROR(IF(MATCH(CONCATENATE(AC$2,$A10),AUX_MELT_DADES!$V:$V,0)<>0,\"X\",\"\"),\"-\")","v":"-"},{"$f":"+IFERROR(IF(MATCH(CONCATENATE(AD$2,$A10),AUX_MELT_DADES!$V:$V,0)<>0,\"X\",\"\"),\"-\")","v":"-"},{"$f":"+IFERROR(IF(MATCH(CONCATENATE(AE$2,$A10),AUX_MELT_DADES!$V:$V,0)<>0,\"X\",\"\"),\"-\")","v":"-"},{"$f":"+IFERROR(IF(MATCH(CONCATENATE(AF$2,$A10),AUX_MELT_DADES!$V:$V,0)<>0,\"X\",\"\"),\"-\")","v":"-"},{"$f":"+IFERROR(IF(MATCH(CONCATENATE(AG$2,$A10),AUX_MELT_DADES!$V:$V,0)<>0,\"X\",\"\"),\"-\")","v":"-"},{"$f":"+IFERROR(IF(MATCH(CONCATENATE(AH$2,$A10),AUX_MELT_DADES!$V:$V,0)<>0,\"X\",\"\"),\"-\")","v":"-"},{"$f":"+IFERROR(IF(MATCH(CONCATENATE(AI$2,$A10),AUX_MELT_DADES!$V:$V,0)<>0,\"X\",\"\"),\"-\")","v":"-"},{"$f":"+IFERROR(IF(MATCH(CONCATENATE(AJ$2,$A10),AUX_MELT_DADES!$V:$V,0)<>0,\"X\",\"\"),\"-\")","v":"-"},{"$f":"+IFERROR(IF(MATCH(CONCATENATE(AK$2,$A10),AUX_MELT_DADES!$V:$V,0)<>0,\"X\",\"\"),\"-\")","v":"-"},{"$f":"+IFERROR(IF(MATCH(CONCATENATE(AL$2,$A10),AUX_MELT_DADES!$V:$V,0)<>0,\"X\",\"\"),\"-\")","v":"-"},{"$f":"IFERROR(VLOOKUP(A10,AUX_PIVOT_MELT!$A$4:$B$250,2,FALSE),\"\")","v":0},false,false,false,false,"-"]
["[op.acc.1]LMH",9,"[op.acc.1]","Marc Operacional","Control d'Accés","Identificació",null,null,null,"X","X","X","L","M","H","Cal assignar un identificador singular a cada entitat que accedeixi al sistema.",null,"NO",0,null,null,null,null,{"$f":"+IFERROR(IF(MATCH(CONCATENATE(X$2,$A11),AUX_MELT_DADES!$V:$V,0)<>0,\"X\",\"\"),\"-\")","v":"-"},{"$f":"+IFERROR(IF(MATCH(CONCATENATE(Y$2,$A11),AUX_MELT_DADES!$V:$V,0)<>0,\"X\",\"\"),\"-\")","v":"-"},{"$f":"+IFERROR(IF(MATCH(CONCATENATE(Z$2,$A11),AUX_MELT_DADES!$V:$V,0)<>0,\"X\",\"\"),\"-\")","v":"-"},{"$f":"+IFERROR(IF(MATCH(CONCATENATE(AA$2,$A11),AUX_MELT_DADES!$V:$V,0)<>0,\"X\",\"\"),\"-\")","v":"-"},{"$f":"+IFERROR(IF(MATCH(CONCATENATE(AB$2,$A11),AUX_MELT_DADES!$V:$V,0)<>0,\"X\",\"\"),\"-\")","v":"-"},{"$f":"+IFERROR(IF(MATCH(CONCATENATE(AC$2,$A11),AUX_MELT_DADES!$V:$V,0)<>0,\"X\",\"\"),\"-\")","v":"-"},{"$f":"+IFERROR(IF(MATCH(CONCATENATE(AD$2,$A11),AUX_MELT_DADES!$V:$V,0)<>0,\"X\",\"\"),\"-\")","v":"-"},{"$f":"+IFERROR(IF(MATCH(CONCATENATE(AE$2,$A11),AUX_MELT_DADES!$V:$V,0)<>0,\"X\",\"\"),\"-\")","v":"-"},{"$f":"+IFERROR(IF(MATCH(CONCATENATE(AF$2,$A11),AUX_MELT_DADES!$V:$V,0)<>0,\"X\",\"\"),\"-\")","v":"-"},{"$f":"+IFERROR(IF(MATCH(CONCATENATE(AG$2,$A11),AUX_MELT_DADES!$V:$V,0)<>0,\"X\",\"\"),\"-\")","v":"-"},{"$f":"+IFERROR(IF(MATCH(CONCATENATE(AH$2,$A11),AUX_MELT_DADES!$V:$V,0)<>0,\"X\",\"\"),\"-\")","v":"-"},{"$f":"+IFERROR(IF(MATCH(CONCATENATE(AI$2,$A11),AUX_MELT_DADES!$V:$V,0)<>0,\"X\",\"\"),\"-\")","v":"-"},{"$f":"+IFERROR(IF(MATCH(CONCATENATE(AJ$2,$A11),AUX_MELT_DADES!$V:$V,0)<>0,\"X\",\"\"),\"-\")","v":"X"},{"$f":"+IFERROR(IF(MATCH(CONCATENATE(AK$2,$A11),AUX_MELT_DADES!$V:$V,0)<>0,\"X\",\"\"),\"-\")","v":"-"},{"$f":"+IFERROR(IF(MATCH(CONCATENATE(AL$2,$A11),AUX_MELT_DADES!$V:$V,0)<>0,\"X\",\"\"),\"-\")","v":"-"},{"$f":"IFERROR(VLOOKUP(A11,AUX_PIVOT_MELT!$A$4:$B$250,2,FALSE),\"\")","v":0},false,false,false,false,"-"]
["[op.acc.2]LMH",10,"[op.acc.2]","Marc Operacional","Control d'Accés","Requeriments d’accés","X","X",null,"X","X",null,"L","M","H","•\tNomés poden utilitzar els recursos del sistema les entitats que disposen de drets d’accés suficients.\n•\tEls drets d’accés s’han d’establir d’acord amb el responsable de cada recurs i seguint la política i la normativa de seguretat.\n•\tCal controlar, particularment, l’accés als components del sistema i als fitxers de configuració.",null,"NO",0,null,null,null,null,{"$f":"+IFERROR(IF(MATCH(CONCATENATE(X$2,$A12),AUX_MELT_DADES!$V:$V,0)<>0,\"X\",\"\"),\"-\")","v":"-"},{"$f":"+IFERROR(IF(MATCH(CONCATENATE(Y$2,$A12),AUX_MELT_DADES!$V:$V,0)<>0,\"X\",\"\"),\"-\")","v":"-"},{"$f":"+IFERROR(IF(MATCH(CONCATENATE(Z$2,$A12),AUX_MELT_DADES!$V:$V,0)<>0,\"X\",\"\"),\"-\")","v":"-"},{"$f":"+IFERROR(IF(MATCH(CONCATENATE(AA$2,$A12),AUX_MELT_DADES!$V:$V,0)<>0,\"X\",\"\"),\"-\")","v":"-"},{"$f":"+IFERROR(IF(MATCH(CONCATENATE(AB$2,$A12),AUX_MELT_DADES!$V:$V,0)<>0,\"X\",\"\"),\"-\")","v":"-"},{"$f":"+IFERROR(IF(MATCH(CONCATENATE(AC$2,$A12),AUX_MELT_DADES!$V:$V,0)<>0,\"X\",\"\"),\"-\")","v":"-"},{"$f":"+IFERROR(IF(MATCH(CONCATENATE(AD$2,$A12),AUX_MELT_DADES!$V:$V,0)<>0,\"X\",\"\"),\"-\")","v":"-"},{"$f":"+IFERROR(IF(MATCH(CONCATENATE(AE$2,$A12),AUX_MELT_DADES!$V:$V,0)<>0,\"X\",\"\"),\"-\")","v":"-"},{"$f":"+IFERROR(IF(MATCH(CONCATENATE(AF$2,$A12),AUX_MELT_DADES!$V:$V,0)<>0,\"X\",\"\"),\"-\")","v":"-"},{"$f":"+IFERROR(IF(MATCH(CONCATENATE(AG$2,$A12),AUX_MELT_DADES!$V:$V,0)<>0,\"X\",\"\"),\"-\")","v":"-"},{"$f":"+IFERROR(IF(MATCH(CONCATENATE(AH$2,$A12),AUX_MELT_DADES!$V:$V,0)<>0,\"X\",\"\"),\"-\")","v":"-"},{"$f":"+IFERROR(IF(MATCH(CONCATENATE(AI$2,$A12),AUX_MELT_DADES!$V:$V,0)<>0,\"X\",\"\"),\"-\")","v":"-"},{"$f":"+IFERROR(IF(MATCH(CONCATENATE(AJ$2,$A12),AUX_MELT_DADES!$V:$V,0)<>0,\"X\",\"\"),\"-\")","v":"X"},{"$f":"+IFERROR(IF(MATCH(CONCATENATE(AK$2,$A12),AUX_MELT_DADES!$V:$V,0)<>0,\"X\",\"\"),\"-\")","v":"-"},{"$f":"+IFERROR(IF(MATCH(CONCATENATE(AL$2,$A12),AUX_MELT_DADES!$V:$V,0)<>0,\"X\",\"\"),\"-\")","v":"-"},{"$f":"IFERROR(VLOOKUP(A12,AUX_PIVOT_MELT!$A$4:$B$250,2,FALSE),\"\")","v":0},false,false,false,false,"-"]
["[op.acc.3]MH",11,"[op.acc.3]","Marc Operacional","Control d'Accés","Segregació de funcions i tasques","X","X",null,"X","X",null,null,"M","H","Necessitat de concurrència de dues o més persones per fer tasques crítiques.",null,"NO",0,null,null,null,null,{"$f":"+IFERROR(IF(MATCH(CONCATENATE(X$2,$A13),AUX_MELT_DADES!$V:$V,0)<>0,\"X\",\"\"),\"-\")","v":"-"},{"$f":"+IFERROR(IF(MATCH(CONCATENATE(Y$2,$A13),AUX_MELT_DADES!$V:$V,0)<>0,\"X\",\"\"),\"-\")","v":"-"},{"$f":"+IFERROR(IF(MATCH(CONCATENATE(Z$2,$A13),AUX_MELT_DADES!$V:$V,0)<>0,\"X\",\"\"),\"-\")","v":"-"},{"$f":"+IFERROR(IF(MATCH(CONCATENATE(AA$2,$A13),AUX_MELT_DADES!$V:$V,0)<>0,\"X\",\"\"),\"-\")","v":"-"},{"$f":"+IFERROR(IF(MATCH(CONCATENATE(AB$2,$A13),AUX_MELT_DADES!$V:$V,0)<>0,\"X\",\"\"),\"-\")","v":"-"},{"$f":"+IFERROR(IF(MATCH(CONCATENATE(AC$2,$A13),AUX_MELT_DADES!$V:$V,0)<>0,\"X\",\"\"),\"-\")","v":"-"},{"$f":"+IFERROR(IF(MATCH(CONCATENATE(AD$2,$A13),AUX_MELT_DADES!$V:$V,0)<>0,\"X\",\"\"),\"-\")","v":"-"},{"$f":"+IFERROR(IF(MATCH(CONCATENATE(AE$2,$A13),AUX_MELT_DADES!$V:$V,0)<>0,\"X\",\"\"),\"-\")","v":"-"},{"$f":"+IFERROR(IF(MATCH(CONCATENATE(AF$2,$A13),AUX_MELT_DADES!$V:$V,0)<>0,\"X\",\"\"),\"-\")","v":"-"},{"$f":"+IFERROR(IF(MATCH(CONCATENATE(AG$2,$A13),AUX_MELT_DADES!$V:$V,0)<>0,\"X\",\"\"),\"-\")","v":"-"},{"$f":"+IFERROR(IF(MATCH(CONCATENATE(AH$2,$A13),AUX_MELT_DADES!$V:$V,0)<>0,\"X\",\"\"),\"-\")","v":"-"},{"$f":"+IFERROR(IF(MATCH(CONCATENATE(AI$2,$A13),AUX_MELT_DADES!$V:$V,0)<>0,\"X\",\"\"),\"-\")","v":"X"},{"$f":"+IFERROR(IF(MATCH(CONCATENATE(AJ$2,$A13),AUX_MELT_DADES!$V:$V,0)<>0,\"X\",\"\"),\"-\")","v":"X"},{"$f":"+IFERROR(IF(MATCH(CONCATENATE(AK$2,$A13),AUX_MELT_DADES!$V:$V,0)<>0,\"X\",\"\"),\"-\")","v":"-"},{"$f":"+IFERROR(IF(MATCH(CONCATENATE(AL$2,$A13),AUX_MELT_DADES!$V:$V,0)<>0,\"X\",\"\"),\"-\")","v":"-"},{"$f":"IFERROR(VLOOKUP(A13,AUX_PIVOT_MELT!$A$4:$B$250,2,FALSE),\"\")","v":0},false,false,false,false,"-"]
["[op.acc.4]LMH",12,"[op.acc.4]","Marc Operacional","Control d'Accés","Procés de gestió de drets d’accés","X","X",null,"X","X",null,"L","M","H","Els drets d’accés de cada usuari s’han d’assignar d’acord amb:\n•\tMínim privilegi.\n•\tNecessitat de conèixer.\n•\tÚnicament el personal competent pot modificar els drets d’accés, d’acord amb els criteris establerts pel responsable.",null,"NO",0,null,null,null,null,{"$f":"+IFERROR(IF(MATCH(CONCATENATE(X$2,$A14),AUX_MELT_DADES!$V:$V,0)<>0,\"X\",\"\"),\"-\")","v":"-"},{"$f":"+IFERROR(IF(MATCH(CONCATENATE(Y$2,$A14),AUX_MELT_DADES!$V:$V,0)<>0,\"X\",\"\"),\"-\")","v":"-"},{"$f":"+IFERROR(IF(MATCH(CONCATENATE(Z$2,$A14),AUX_MELT_DADES!$V:$V,0)<>0,\"X\",\"\"),\"-\")","v":"-"},{"$f":"+IFERROR(IF(MATCH(CONCATENATE(AA$2,$A14),AUX_MELT_DADES!$V:$V,0)<>0,\"X\",\"\"),\"-\")","v":"-"},{"$f":"+IFERROR(IF(MATCH(CONCATENATE(AB$2,$A14),AUX_MELT_DADES!$V:$V,0)<>0,\"X\",\"\"),\"-\")","v":"-"},{"$f":"+IFERROR(IF(MATCH(CONCATENATE(AC$2,$A14),AUX_MELT_DADES!$V:$V,0)<>0,\"X\",\"\"),\"-\")","v":"-"},{"$f":"+IFERROR(IF(MATCH(CONCATENATE(AD$2,$A14),AUX_MELT_DADES!$V:$V,0)<>0,\"X\",\"\"),\"-\")","v":"-"},{"$f":"+IFERROR(IF(MATCH(CONCATENATE(AE$2,$A14),AUX_MELT_DADES!$V:$V,0)<>0,\"X\",\"\"),\"-\")","v":"-"},{"$f":"+IFERROR(IF(MATCH(CONCATENATE(AF$2,$A14),AUX_MELT_DADES!$V:$V,0)<>0,\"X\",\"\"),\"-\")","v":"-"},{"$f":"+IFERROR(IF(MATCH(CONCATENATE(AG$2,$A14),AUX_MELT_DADES!$V:$V,0)<>0,\"X\",\"\"),\"-\")","v":"-"},{"$f":"+IFERROR(IF(MATCH(CONCATENATE(AH$2,$A14),AUX_MELT_DADES!$V:$V,0)<>0,\"X\",\"\"),\"-\")","v":"-"},{"$f":"+IFERROR(IF(MATCH(CONCATENATE(AI$2,$A14),AUX_MELT_DADES!$V:$V,0)<>0,\"X\",\"\"),\"-\")","v":"-"},{"$f":"+IFERROR(IF(MATCH(CONCATENATE(AJ$2,$A14),AUX_MELT_DADES!$V:$V,0)<>0,\"X\",\"\"),\"-\")","v":"X"},{"$f":"+IFERROR(IF(MATCH(CONCATENATE(AK$2,$A14),AUX_MELT_DADES!$V:$V,0)<>0,\"X\",\"\"),\"-\")","v":"-"},{"$f":"+IFERROR(IF(MATCH(CONCATENATE(AL$2,$A14),AUX_MELT_DADES!$V:$V,0)<>0,\"X\",\"\"),\"-\")","v":"-"},{"$f":"IFERROR(VLOOKUP(A14,AUX_PIVOT_MELT!$A$4:$B$250,2,FALSE),\"\")","v":0},false,false,false,false,"-"]
["[op.acc.5]L",13,"[op.acc.5]","Marc Operacional","Control d'Accés","Mecanisme d’autenticació (RISC BAIX)","X","X",null,"X","X",null,"L",null,null,"•\tS’accepta qualsevol mecanisme d’autenticació.\n•\tLes paraules de pas han d’estar sota el control exclusiu de l’usuari.\n•\tL’usuari ha de reconèixer la recepció i acceptar les obligacions (custòdia diligent i informació immediata, en cas de pèrdua).\n•\tEls autenticadors s’han de renovar periòdicament, d’acord amb la política de l’organització.\n•\tEls autenticadors s’han retirar i deshabilitar quan l’entitat (persona, equip o procés) acaba la seva relació amb el sistema.",null,"NO",0,null,null,null,null,{"$f":"+IFERROR(IF(MATCH(CONCATENATE(X$2,$A15),AUX_MELT_DADES!$V:$V,0)<>0,\"X\",\"\"),\"-\")","v":"-"},{"$f":"+IFERROR(IF(MATCH(CONCATENATE(Y$2,$A15),AUX_MELT_DADES!$V:$V,0)<>0,\"X\",\"\"),\"-\")","v":"-"},{"$f":"+IFERROR(IF(MATCH(CONCATENATE(Z$2,$A15),AUX_MELT_DADES!$V:$V,0)<>0,\"X\",\"\"),\"-\")","v":"-"},{"$f":"+IFERROR(IF(MATCH(CONCATENATE(AA$2,$A15),AUX_MELT_DADES!$V:$V,0)<>0,\"X\",\"\"),\"-\")","v":"-"},{"$f":"+IFERROR(IF(MATCH(CONCATENATE(AB$2,$A15),AUX_MELT_DADES!$V:$V,0)<>0,\"X\",\"\"),\"-\")","v":"-"},{"$f":"+IFERROR(IF(MATCH(CONCATENATE(AC$2,$A15),AUX_MELT_DADES!$V:$V,0)<>0,\"X\",\"\"),\"-\")","v":"-"},{"$f":"+IFERROR(IF(MATCH(CONCATENATE(AD$2,$A15),AUX_MELT_DADES!$V:$V,0)<>0,\"X\",\"\"),\"-\")","v":"-"},{"$f":"+IFERROR(IF(MATCH(CONCATENATE(AE$2,$A15),AUX_MELT_DADES!$V:$V,0)<>0,\"X\",\"\"),\"-\")","v":"-"},{"$f":"+IFERROR(IF(MATCH(CONCATENATE(AF$2,$A15),AUX_MELT_DADES!$V:$V,0)<>0,\"X\",\"\"),\"-\")","v":"-"},{"$f":"+IFERROR(IF(MATCH(CONCATENATE(AG$2,$A15),AUX_MELT_DADES!$V:$V,0)<>0,\"X\",\"\"),\"-\")","v":"-"},{"$f":"+IFERROR(IF(MATCH(CONCATENATE(AH$2,$A15),AUX_MELT_DADES!$V:$V,0)<>0,\"X\",\"\"),\"-\")","v":"-"},{"$f":"+IFERROR(IF(MATCH(CONCATENATE(AI$2,$A15),AUX_MELT_DADES!$V:$V,0)<>0,\"X\",\"\"),\"-\")","v":"-"},{"$f":"+IFERROR(IF(MATCH(CONCATENATE(AJ$2,$A15),AUX_MELT_DADES!$V:$V,0)<>0,\"X\",\"\"),\"-\")","v":"X"},{"$f":"+IFERROR(IF(MATCH(CONCATENATE(AK$2,$A15),AUX_MELT_DADES!$V:$V,0)<>0,\"X\",\"\"),\"-\")","v":"-"},{"$f":"+IFERROR(IF(MATCH(CONCATENATE(AL$2,$A15),AUX_MELT_DADES!$V:$V,0)<>0,\"X\",\"\"),\"-\")","v":"-"},{"$f":"IFERROR(VLOOKUP(A15,AUX_PIVOT_MELT!$A$4:$B$250,2,FALSE),\"\")","v":0},false,false,false,false,"-"]
["[op.acc.5]M",14,"[op.acc.5]","Marc Operacional","Control d'Accés","Mecanisme d’autenticació (RISC MITJÀ)","X","X",null,"X","X",null,null,"M",null,"•\tNo es recomana utilitzar claus de pas.\n•\tEs recomana utilitzar dispositius físics (tokens), lògics (certificats digitals) o biomètrics.\n•\tSi s’empren paraules de pas, cal aplicar polítiques rigoroses de qualitat i renovació.",null,"NO",0,null,null,null,null,{"$f":"+IFERROR(IF(MATCH(CONCATENATE(X$2,$A16),AUX_MELT_DADES!$V:$V,0)<>0,\"X\",\"\"),\"-\")","v":"-"},{"$f":"+IFERROR(IF(MATCH(CONCATENATE(Y$2,$A16),AUX_MELT_DADES!$V:$V,0)<>0,\"X\",\"\"),\"-\")","v":"-"},{"$f":"+IFERROR(IF(MATCH(CONCATENATE(Z$2,$A16),AUX_MELT_DADES!$V:$V,0)<>0,\"X\",\"\"),\"-\")","v":"-"},{"$f":"+IFERROR(IF(MATCH(CONCATENATE(AA$2,$A16),AUX_MELT_DADES!$V:$V,0)<>0,\"X\",\"\"),\"-\")","v":"-"},{"$f":"+IFERROR(IF(MATCH(CONCATENATE(AB$2,$A16),AUX_MELT_DADES!$V:$V,0)<>0,\"X\",\"\"),\"-\")","v":"-"},{"$f":"+IFERROR(IF(MATCH(CONCATENATE(AC$2,$A16),AUX_MELT_DADES!$V:$V,0)<>0,\"X\",\"\"),\"-\")","v":"-"},{"$f":"+IFERROR(IF(MATCH(CONCATENATE(AD$2,$A16),AUX_MELT_DADES!$V:$V,0)<>0,\"X\",\"\"),\"-\")","v":"-"},{"$f":"+IFERROR(IF(MATCH(CONCATENATE(AE$2,$A16),AUX_MELT_DADES!$V:$V,0)<>0,\"X\",\"\"),\"-\")","v":"-"},{"$f":"+IFERROR(IF(MATCH(CONCATENATE(AF$2,$A16),AUX_MELT_DADES!$V:$V,0)<>0,\"X\",\"\"),\"-\")","v":"-"},{"$f":"+IFERROR(IF(MATCH(CONCATENATE(AG$2,$A16),AUX_MELT_DADES!$V:$V,0)<>0,\"X\",\"\"),\"-\")","v":"-"},{"$f":"+IFERROR(IF(MATCH(CONCATENATE(AH$2,$A16),AUX_MELT_DADES!$V:$V,0)<>0,\"X\",\"\"),\"-\")","v":"-"},{"$f":"+IFERROR(IF(MATCH(CONCATENATE(AI$2,$A16),AUX_MELT_DADES!$V:$V,0)<>0,\"X\",\"\"),\"-\")","v":"-"},{"$f":"+IFERROR(IF(MATCH(CONCATENATE(AJ$2,$A16),AUX_MELT_DADES!$V:$V,0)<>0,\"X\",\"\"),\"-\")","v":"X"},{"$f":"+IFERROR(IF(MATCH(CONCATENATE(AK$2,$A16),AUX_MELT_DADES!$V:$V,0)<>0,\"X\",\"\"),\"-\")","v":"-"},{"$f":"+IFERROR(IF(MATCH(CONCATENATE(AL$2,$A16),AUX_MELT_DADES!$V:$V,0)<>0,\"X\",\"\"),\"-\")","v":"-"},{"$f":"IFERROR(VLOOKUP(A16,AUX_PIVOT_MELT!$A$4:$B$250,2,FALSE),\"\")","v":0},false,false,false,false,"-"]
["[op.acc.5]H",15,"[op.acc.5]","Marc Operacional","Control d'Accés","Mecanisme d’autenticació (RISC ALT)","X","X",null,"X","X",null,null,null,"H","•\tEls autenticadors s’han de suspendre automàticament, si no s’utilitzen.\n•\tNo s’admeten paraules de pas.\n•\tS’exigeix l’ús de dispositius físics o biometria.\n•\tCal que els dispositius físics facin ús d’algorismes acreditats.\n•\tCal utilitzar preferentment productes certificats.",null,"NO",0,null,null,null,null,{"$f":"+IFERROR(IF(MATCH(CONCATENATE(X$2,$A17),AUX_MELT_DADES!$V:$V,0)<>0,\"X\",\"\"),\"-\")","v":"-"},{"$f":"+IFERROR(IF(MATCH(CONCATENATE(Y$2,$A17),AUX_MELT_DADES!$V:$V,0)<>0,\"X\",\"\"),\"-\")","v":"-"},{"$f":"+IFERROR(IF(MATCH(CONCATENATE(Z$2,$A17),AUX_MELT_DADES!$V:$V,0)<>0,\"X\",\"\"),\"-\")","v":"-"},{"$f":"+IFERROR(IF(MATCH(CONCATENATE(AA$2,$A17),AUX_MELT_DADES!$V:$V,0)<>0,\"X\",\"\"),\"-\")","v":"-"},{"$f":"+IFERROR(IF(MATCH(CONCATENATE(AB$2,$A17),AUX_MELT_DADES!$V:$V,0)<>0,\"X\",\"\"),\"-\")","v":"-"},{"$f":"+IFERROR(IF(MATCH(CONCATENATE(AC$2,$A17),AUX_MELT_DADES!$V:$V,0)<>0,\"X\",\"\"),\"-\")","v":"-"},{"$f":"+IFERROR(IF(MATCH(CONCATENATE(AD$2,$A17),AUX_MELT_DADES!$V:$V,0)<>0,\"X\",\"\"),\"-\")","v":"-"},{"$f":"+IFERROR(IF(MATCH(CONCATENATE(AE$2,$A17),AUX_MELT_DADES!$V:$V,0)<>0,\"X\",\"\"),\"-\")","v":"-"},{"$f":"+IFERROR(IF(MATCH(CONCATENATE(AF$2,$A17),AUX_MELT_DADES!$V:$V,0)<>0,\"X\",\"\"),\"-\")","v":"-"},{"$f":"+IFERROR(IF(MATCH(CONCATENATE(AG$2,$A17),AUX_MELT_DADES!$V:$V,0)<>0,\"X\",\"\"),\"-\")","v":"-"},{"$f":"+IFERROR(IF(MATCH(CONCATENATE(AH$2,$A17),AUX_MELT_DADES!$V:$V,0)<>0,\"X\",\"\"),\"-\")","v":"-"},{"$f":"+IFERROR(IF(MATCH(CONCATENATE(AI$2,$A17),AUX_MELT_DADES!$V:$V,0)<>0,\"X\",\"\"),\"-\")","v":"-"},{"$f":"+IFERROR(IF(MATCH(CONCATENATE(AJ$2,$A17),AUX_MELT_DADES!$V:$V,0)<>0,\"X\",\"\"),\"-\")","v":"X"},{"$f":"+IFERROR(IF(MATCH(CONCATENATE(AK$2,$A17),AUX_MELT_DADES!$V:$V,0)<>0,\"X\",\"\"),\"-\")","v":"-"},{"$f":"+IFERROR(IF(MATCH(CONCATENATE(AL$2,$A17),AUX_MELT_DADES!$V:$V,0)<>0,\"X\",\"\"),\"-\")","v":"-"},{"$f":"IFERROR(VLOOKUP(A17,AUX_PIVOT_MELT!$A$4:$B$250,2,FALSE),\"\")","v":0},false,false,false,false,"-"]
["[op.acc.6]L",16,"[op.acc.6]","Marc Operacional","Control d'Accés","Accés local","X","X",null,"X","X",null,"L",null,null,"Un accés local és el que es fa des de dins de les pròpies instal·lacions.\n•\tCal evitar els atacs que, tot i no donar accés, poden revelar informació del sistema.\n•\tCal blocar l’accés després d’un nombre fixat d’intents fallits.\n•\tCal registrar els intents d’accés (amb èxit i fallits).\n•\tEn el moment de l’accés, el sistema ha d’informar l’usuari de les seves obligacions.",null,"NO",0,null,null,null,null,{"$f":"+IFERROR(IF(MATCH(CONCATENATE(X$2,$A18),AUX_MELT_DADES!$V:$V,0)<>0,\"X\",\"\"),\"-\")","v":"-"},{"$f":"+IFERROR(IF(MATCH(CONCATENATE(Y$2,$A18),AUX_MELT_DADES!$V:$V,0)<>0,\"X\",\"\"),\"-\")","v":"-"},{"$f":"+IFERROR(IF(MATCH(CONCATENATE(Z$2,$A18),AUX_MELT_DADES!$V:$V,0)<>0,\"X\",\"\"),\"-\")","v":"-"},{"$f":"+IFERROR(IF(MATCH(CONCATENATE(AA$2,$A18),AUX_MELT_DADES!$V:$V,0)<>0,\"X\",\"\"),\"-\")","v":"-"},{"$f":"+IFERROR(IF(MATCH(CONCATENATE(AB$2,$A18),AUX_MELT_DADES!$V:$V,0)<>0,\"X\",\"\"),\"-\")","v":"-"},{"$f":"+IFERROR(IF(MATCH(CONCATENATE(AC$2,$A18),AUX_MELT_DADES!$V:$V,0)<>0,\"X\",\"\"),\"-\")","v":"-"},{"$f":"+IFERROR(IF(MATCH(CONCATENATE(AD$2,$A18),AUX_MELT_DADES!$V:$V,0)<>0,\"X\",\"\"),\"-\")","v":"X"},{"$f":"+IFERROR(IF(MATCH(CONCATENATE(AE$2,$A18),AUX_MELT_DADES!$V:$V,0)<>0,\"X\",\"\"),\"-\")","v":"-"},{"$f":"+IFERROR(IF(MATCH(CONCATENATE(AF$2,$A18),AUX_MELT_DADES!$V:$V,0)<>0,\"X\",\"\"),\"-\")","v":"-"},{"$f":"+IFERROR(IF(MATCH(CONCATENATE(AG$2,$A18),AUX_MELT_DADES!$V:$V,0)<>0,\"X\",\"\"),\"-\")","v":"-"},{"$f":"+IFERROR(IF(MATCH(CONCATENATE(AH$2,$A18),AUX_MELT_DADES!$V:$V,0)<>0,\"X\",\"\"),\"-\")","v":"-"},{"$f":"+IFERROR(IF(MATCH(CONCATENATE(AI$2,$A18),AUX_MELT_DADES!$V:$V,0)<>0,\"X\",\"\"),\"-\")","v":"-"},{"$f":"+IFERROR(IF(MATCH(CONCATENATE(AJ$2,$A18),AUX_MELT_DADES!$V:$V,0)<>0,\"X\",\"\"),\"-\")","v":"-"},{"$f":"+IFERROR(IF(MATCH(CONCATENATE(AK$2,$A18),AUX_MELT_DADES!$V:$V,0)<>0,\"X\",\"\"),\"-\")","v":"-"},{"$f":"+IFERROR(IF(MATCH(CONCATENATE(AL$2,$A18),AUX_MELT_DADES!$V:$V,0)<>0,\"X\",\"\"),\"-\")","v":"-"},{"$f":"IFERROR(VLOOKUP(A18,AUX_PIVOT_MELT!$A$4:$B$250,2,FALSE),\"\")","v":0},false,false,false,false,"-"]
["[op.acc.6]M",17,"[op.acc.6]","Marc Operacional","Control d'Accés","Accés local","X","X",null,"X","X",null,null,"M",null,"Un accés local és el que es fa des de dins de les pròpies instal·lacions.\n•\tCal evitar els atacs que, tot i no donar accés, poden revelar informació del sistema.\n•\tCal blocar l’accés després d’un nombre fixat d’intents fallits.\n•\tCal registrar els intents d’accés (amb èxit i fallits).\n•\tEn el moment de l’accés, el sistema ha d’informar l’usuari de les seves obligacions.\n•\tS’ha d’informar l’usuari de l’últim accés amb la seva identitat.",null,"NO",0,null,null,null,null,{"$f":"+IFERROR(IF(MATCH(CONCATENATE(X$2,$A19),AUX_MELT_DADES!$V:$V,0)<>0,\"X\",\"\"),\"-\")","v":"-"},{"$f":"+IFERROR(IF(MATCH(CONCATENATE(Y$2,$A19),AUX_MELT_DADES!$V:$V,0)<>0,\"X\",\"\"),\"-\")","v":"-"},{"$f":"+IFERROR(IF(MATCH(CONCATENATE(Z$2,$A19),AUX_MELT_DADES!$V:$V,0)<>0,\"X\",\"\"),\"-\")","v":"-"},{"$f":"+IFERROR(IF(MATCH(CONCATENATE(AA$2,$A19),AUX_MELT_DADES!$V:$V,0)<>0,\"X\",\"\"),\"-\")","v":"-"},{"$f":"+IFERROR(IF(MATCH(CONCATENATE(AB$2,$A19),AUX_MELT_DADES!$V:$V,0)<>0,\"X\",\"\"),\"-\")","v":"-"},{"$f":"+IFERROR(IF(MATCH(CONCATENATE(AC$2,$A19),AUX_MELT_DADES!$V:$V,0)<>0,\"X\",\"\"),\"-\")","v":"-"},{"$f":"+IFERROR(IF(MATCH(CONCATENATE(AD$2,$A19),AUX_MELT_DADES!$V:$V,0)<>0,\"X\",\"\"),\"-\")","v":"X"},{"$f":"+IFERROR(IF(MATCH(CONCATENATE(AE$2,$A19),AUX_MELT_DADES!$V:$V,0)<>0,\"X\",\"\"),\"-\")","v":"-"},{"$f":"+IFERROR(IF(MATCH(CONCATENATE(AF$2,$A19),AUX_MELT_DADES!$V:$V,0)<>0,\"X\",\"\"),\"-\")","v":"-"},{"$f":"+IFERROR(IF(MATCH(CONCATENATE(AG$2,$A19),AUX_MELT_DADES!$V:$V,0)<>0,\"X\",\"\"),\"-\")","v":"-"},{"$f":"+IFERROR(IF(MATCH(CONCATENATE(AH$2,$A19),AUX_MELT_DADES!$V:$V,0)<>0,\"X\",\"\"),\"-\")","v":"-"},{"$f":"+IFERROR(IF(MATCH(CONCATENATE(AI$2,$A19),AUX_MELT_DADES!$V:$V,0)<>0,\"X\",\"\"),\"-\")","v":"-"},{"$f":"+IFERROR(IF(MATCH(CONCATENATE(AJ$2,$A19),AUX_MELT_DADES!$V:$V,0)<>0,\"X\",\"\"),\"-\")","v":"-"},{"$f":"+IFERROR(IF(MATCH(CONCATENATE(AK$2,$A19),AUX_MELT_DADES!$V:$V,0)<>0,\"X\",\"\"),\"-\")","v":"-"},{"$f":"+IFERROR(IF(MATCH(CONCATENATE(AL$2,$A19),AUX_MELT_DADES!$V:$V,0)<>0,\"X\",\"\"),\"-\")","v":"-"},{"$f":"IFERROR(VLOOKUP(A19,AUX_PIVOT_MELT!$A$4:$B$250,2,FALSE),\"\")","v":0},false,false,false,false,"-"]
["[op.acc.6]H",18,"[op.acc.6]","Marc Operacional","Control d'Accés","Accés local","X","X",null,"X","X",null,null,null,"H","Un accés local és el que es fa des de dins de les pròpies instal·lacions.\n•\tCal evitar els atacs que, tot i no donar accés, poden revelar informació del sistema.\n•\tCal blocar l’accés després d’un nombre fixat d’intents fallits.\n•\tCal registrar els intents d’accés (amb èxit i fallits).\n•\tEn el moment de l’accés, el sistema ha d’informar l’usuari de les seves obligacions.\n•\tS’ha d’informar l’usuari de l’últim accés amb la seva identitat.\n•\tL’accés s’ha de limitar per data i hora.\n•\tCal definir punts on l’usuari ha de renovar l’autenticació.",null,"NO",0,null,null,null,null,{"$f":"+IFERROR(IF(MATCH(CONCATENATE(X$2,$A20),AUX_MELT_DADES!$V:$V,0)<>0,\"X\",\"\"),\"-\")","v":"-"},{"$f":"+IFERROR(IF(MATCH(CONCATENATE(Y$2,$A20),AUX_MELT_DADES!$V:$V,0)<>0,\"X\",\"\"),\"-\")","v":"-"},{"$f":"+IFERROR(IF(MATCH(CONCATENATE(Z$2,$A20),AUX_MELT_DADES!$V:$V,0)<>0,\"X\",\"\"),\"-\")","v":"-"},{"$f":"+IFERROR(IF(MATCH(CONCATENATE(AA$2,$A20),AUX_MELT_DADES!$V:$V,0)<>0,\"X\",\"\"),\"-\")","v":"-"},{"$f":"+IFERROR(IF(MATCH(CONCATENATE(AB$2,$A20),AUX_MELT_DADES!$V:$V,0)<>0,\"X\",\"\"),\"-\")","v":"-"},{"$f":"+IFERROR(IF(MATCH(CONCATENATE(AC$2,$A20),AUX_MELT_DADES!$V:$V,0)<>0,\"X\",\"\"),\"-\")","v":"-"},{"$f":"+IFERROR(IF(MATCH(CONCATENATE(AD$2,$A20),AUX_MELT_DADES!$V:$V,0)<>0,\"X\",\"\"),\"-\")","v":"X"},{"$f":"+IFERROR(IF(MATCH(CONCATENATE(AE$2,$A20),AUX_MELT_DADES!$V:$V,0)<>0,\"X\",\"\"),\"-\")","v":"-"},{"$f":"+IFERROR(IF(MATCH(CONCATENATE(AF$2,$A20),AUX_MELT_DADES!$V:$V,0)<>0,\"X\",\"\"),\"-\")","v":"-"},{"$f":"+IFERROR(IF(MATCH(CONCATENATE(AG$2,$A20),AUX_MELT_DADES!$V:$V,0)<>0,\"X\",\"\"),\"-\")","v":"-"},{"$f":"+IFERROR(IF(MATCH(CONCATENATE(AH$2,$A20),AUX_MELT_DADES!$V:$V,0)<>0,\"X\",\"\"),\"-\")","v":"-"},{"$f":"+IFERROR(IF(MATCH(CONCATENATE(AI$2,$A20),AUX_MELT_DADES!$V:$V,0)<>0,\"X\",\"\"),\"-\")","v":"-"},{"$f":"+IFERROR(IF(MATCH(CONCATENATE(AJ$2,$A20),AUX_MELT_DADES!$V:$V,0)<>0,\"X\",\"\"),\"-\")","v":"-"},{"$f":"+IFERROR(IF(MATCH(CONCATENATE(AK$2,$A20),AUX_MELT_DADES!$V:$V,0)<>0,\"X\",\"\"),\"-\")","v":"-"},{"$f":"+IFERROR(IF(MATCH(CONCATENATE(AL$2,$A20),AUX_MELT_DADES!$V:$V,0)<>0,\"X\",\"\"),\"-\")","v":"-"},{"$f":"IFERROR(VLOOKUP(A20,AUX_PIVOT_MELT!$A$4:$B$250,2,FALSE),\"\")","v":0},false,false,false,false,"-"]
["[op.acc.7]L",19,"[op.acc.7]","Marc Operacional","Control d'Accés","Accés remot","X","X",null,"X","X",null,"L",null,null,"Un accés remot és el que es fa des de fora de les instal·lacions de l’organització.\n•\tCal protegir l’accés de la mateixa manera que es fa a l’accés local.\n•\tCal protegir les comunicacions.",null,"NO",0,null,null,null,null,{"$f":"+IFERROR(IF(MATCH(CONCATENATE(X$2,$A21),AUX_MELT_DADES!$V:$V,0)<>0,\"X\",\"\"),\"-\")","v":"X"},{"$f":"+IFERROR(IF(MATCH(CONCATENATE(Y$2,$A21),AUX_MELT_DADES!$V:$V,0)<>0,\"X\",\"\"),\"-\")","v":"-"},{"$f":"+IFERROR(IF(MATCH(CONCATENATE(Z$2,$A21),AUX_MELT_DADES!$V:$V,0)<>0,\"X\",\"\"),\"-\")","v":"-"},{"$f":"+IFERROR(IF(MATCH(CONCATENATE(AA$2,$A21),AUX_MELT_DADES!$V:$V,0)<>0,\"X\",\"\"),\"-\")","v":"-"},{"$f":"+IFERROR(IF(MATCH(CONCATENATE(AB$2,$A21),AUX_MELT_DADES!$V:$V,0)<>0,\"X\",\"\"),\"-\")","v":"-"},{"$f":"+IFERROR(IF(MATCH(CONCATENATE(AC$2,$A21),AUX_MELT_DADES!$V:$V,0)<>0,\"X\",\"\"),\"-\")","v":"-"},{"$f":"+IFERROR(IF(MATCH(CONCATENATE(AD$2,$A21),AUX_MELT_DADES!$V:$V,0)<>0,\"X\",\"\"),\"-\")","v":"X"},{"$f":"+IFERROR(IF(MATCH(CONCATENATE(AE$2,$A21),AUX_MELT_DADES!$V:$V,0)<>0,\"X\",\"\"),\"-\")","v":"-"},{"$f":"+IFERROR(IF(MATCH(CONCATENATE(AF$2,$A21),AUX_MELT_DADES!$V:$V,0)<>0,\"X\",\"\"),\"-\")","v":"-"},{"$f":"+IFERROR(IF(MATCH(CONCATENATE(AG$2,$A21),AUX_MELT_DADES!$V:$V,0)<>0,\"X\",\"\"),\"-\")","v":"-"},{"$f":"+IFERROR(IF(MATCH(CONCATENATE(AH$2,$A21),AUX_MELT_DADES!$V:$V,0)<>0,\"X\",\"\"),\"-\")","v":"-"},{"$f":"+IFERROR(IF(MATCH(CONCATENATE(AI$2,$A21),AUX_MELT_DADES!$V:$V,0)<>0,\"X\",\"\"),\"-\")","v":"-"},{"$f":"+IFERROR(IF(MATCH(CONCATENATE(AJ$2,$A21),AUX_MELT_DADES!$V:$V,0)<>0,\"X\",\"\"),\"-\")","v":"-"},{"$f":"+IFERROR(IF(MATCH(CONCATENATE(AK$2,$A21),AUX_MELT_DADES!$V:$V,0)<>0,\"X\",\"\"),\"-\")","v":"-"},{"$f":"+IFERROR(IF(MATCH(CONCATENATE(AL$2,$A21),AUX_MELT_DADES!$V:$V,0)<>0,\"X\",\"\"),\"-\")","v":"-"},{"$f":"IFERROR(VLOOKUP(A21,AUX_PIVOT_MELT!$A$4:$B$250,2,FALSE),\"\")","v":0},false,false,false,false,"-"]
["[op.acc.7]MH",20,"[op.acc.7]","Marc Operacional","Control d'Accés","Accés remot","X","X",null,"X","X",null,null,"M","H","Un accés remot és el que es fa des de fora de les instal·lacions de l’organització.\n•\tCal protegir l’accés de la mateixa manera que es fa a l’accés local.\n•\tCal protegir les comunicacions.\n•\tCal establir una política que especifiqui quines tasques es poden fer remotament i cal autoritzar l’usuari prèviament.",null,"NO",0,null,null,null,null,{"$f":"+IFERROR(IF(MATCH(CONCATENATE(X$2,$A22),AUX_MELT_DADES!$V:$V,0)<>0,\"X\",\"\"),\"-\")","v":"X"},{"$f":"+IFERROR(IF(MATCH(CONCATENATE(Y$2,$A22),AUX_MELT_DADES!$V:$V,0)<>0,\"X\",\"\"),\"-\")","v":"-"},{"$f":"+IFERROR(IF(MATCH(CONCATENATE(Z$2,$A22),AUX_MELT_DADES!$V:$V,0)<>0,\"X\",\"\"),\"-\")","v":"-"},{"$f":"+IFERROR(IF(MATCH(CONCATENATE(AA$2,$A22),AUX_MELT_DADES!$V:$V,0)<>0,\"X\",\"\"),\"-\")","v":"-"},{"$f":"+IFERROR(IF(MATCH(CONCATENATE(AB$2,$A22),AUX_MELT_DADES!$V:$V,0)<>0,\"X\",\"\"),\"-\")","v":"-"},{"$f":"+IFERROR(IF(MATCH(CONCATENATE(AC$2,$A22),AUX_MELT_DADES!$V:$V,0)<>0,\"X\",\"\"),\"-\")","v":"-"},{"$f":"+IFERROR(IF(MATCH(CONCATENATE(AD$2,$A22),AUX_MELT_DADES!$V:$V,0)<>0,\"X\",\"\"),\"-\")","v":"X"},{"$f":"+IFERROR(IF(MATCH(CONCATENATE(AE$2,$A22),AUX_MELT_DADES!$V:$V,0)<>0,\"X\",\"\"),\"-\")","v":"-"},{"$f":"+IFERROR(IF(MATCH(CONCATENATE(AF$2,$A22),AUX_MELT_DADES!$V:$V,0)<>0,\"X\",\"\"),\"-\")","v":"-"},{"$f":"+IFERROR(IF(MATCH(CONCATENATE(AG$2,$A22),AUX_MELT_DADES!$V:$V,0)<>0,\"X\",\"\"),\"-\")","v":"-"},{"$f":"+IFERROR(IF(MATCH(CONCATENATE(AH$2,$A22),AUX_MELT_DADES!$V:$V,0)<>0,\"X\",\"\"),\"-\")","v":"-"},{"$f":"+IFERROR(IF(MATCH(CONCATENATE(AI$2,$A22),AUX_MELT_DADES!$V:$V,0)<>0,\"X\",\"\"),\"-\")","v":"-"},{"$f":"+IFERROR(IF(MATCH(CONCATENATE(AJ$2,$A22),AUX_MELT_DADES!$V:$V,0)<>0,\"X\",\"\"),\"-\")","v":"-"},{"$f":"+IFERROR(IF(MATCH(CONCATENATE(AK$2,$A22),AUX_MELT_DADES!$V:$V,0)<>0,\"X\",\"\"),\"-\")","v":"-"},{"$f":"+IFERROR(IF(MATCH(CONCATENATE(AL$2,$A22),AUX_MELT_DADES!$V:$V,0)<>0,\"X\",\"\"),\"-\")","v":"-"},{"$f":"IFERROR(VLOOKUP(A22,AUX_PIVOT_MELT!$A$4:$B$250,2,FALSE),\"\")","v":0},false,false,false,false,"-"]
["[op.exp.1]LMH",21,"[op.exp.1]","Marc Operacional","Explotació","Inventari d’actius",null,null,null,null,null,"X","L","M","H","•\tS’ha de mantenir un registre dels actius del sistema que en descriu la tipologia i n’identifica el responsable.",null,"NO",0,null,null,null,null,{"$f":"+IFERROR(IF(MATCH(CONCATENATE(X$2,$A23),AUX_MELT_DADES!$V:$V,0)<>0,\"X\",\"\"),\"-\")","v":"-"},{"$f":"+IFERROR(IF(MATCH(CONCATENATE(Y$2,$A23),AUX_MELT_DADES!$V:$V,0)<>0,\"X\",\"\"),\"-\")","v":"-"},{"$f":"+IFERROR(IF(MATCH(CONCATENATE(Z$2,$A23),AUX_MELT_DADES!$V:$V,0)<>0,\"X\",\"\"),\"-\")","v":"-"},{"$f":"+IFERROR(IF(MATCH(CONCATENATE(AA$2,$A23),AUX_MELT_DADES!$V:$V,0)<>0,\"X\",\"\"),\"-\")","v":"-"},{"$f":"+IFERROR(IF(MATCH(CONCATENATE(AB$2,$A23),AUX_MELT_DADES!$V:$V,0)<>0,\"X\",\"\"),\"-\")","v":"-"},{"$f":"+IFERROR(IF(MATCH(CONCATENATE(AC$2,$A23),AUX_MELT_DADES!$V:$V,0)<>0,\"X\",\"\"),\"-\")","v":"-"},{"$f":"+IFERROR(IF(MATCH(CONCATENATE(AD$2,$A23),AUX_MELT_DADES!$V:$V,0)<>0,\"X\",\"\"),\"-\")","v":"-"},{"$f":"+IFERROR(IF(MATCH(CONCATENATE(AE$2,$A23),AUX_MELT_DADES!$V:$V,0)<>0,\"X\",\"\"),\"-\")","v":"-"},{"$f":"+IFERROR(IF(MATCH(CONCATENATE(AF$2,$A23),AUX_MELT_DADES!$V:$V,0)<>0,\"X\",\"\"),\"-\")","v":"-"},{"$f":"+IFERROR(IF(MATCH(CONCATENATE(AG$2,$A23),AUX_MELT_DADES!$V:$V,0)<>0,\"X\",\"\"),\"-\")","v":"-"},{"$f":"+IFERROR(IF(MATCH(CONCATENATE(AH$2,$A23),AUX_MELT_DADES!$V:$V,0)<>0,\"X\",\"\"),\"-\")","v":"-"},{"$f":"+IFERROR(IF(MATCH(CONCATENATE(AI$2,$A23),AUX_MELT_DADES!$V:$V,0)<>0,\"X\",\"\"),\"-\")","v":"X"},{"$f":"+IFERROR(IF(MATCH(CONCATENATE(AJ$2,$A23),AUX_MELT_DADES!$V:$V,0)<>0,\"X\",\"\"),\"-\")","v":"-"},{"$f":"+IFERROR(IF(MATCH(CONCATENATE(AK$2,$A23),AUX_MELT_DADES!$V:$V,0)<>0,\"X\",\"\"),\"-\")","v":"-"},{"$f":"+IFERROR(IF(MATCH(CONCATENATE(AL$2,$A23),AUX_MELT_DADES!$V:$V,0)<>0,\"X\",\"\"),\"-\")","v":"-"},{"$f":"IFERROR(VLOOKUP(A23,AUX_PIVOT_MELT!$A$4:$B$250,2,FALSE),\"\")","v":0},false,false,false,false,"-"]
["[op.exp.2]LMH",22,"[op.exp.2]","Marc Operacional","Explotació","Configuració de seguretat",null,null,null,null,null,"X","L","M","H","Els equips s’han de configurar abans que comencin a operar, de manera que:\n•\tS’esborrin comptes i paraules de pas estàndard.\n•\tS’apliqui la regla de la mínima funcionalitat.\n•\tS’apliqui la regla de seguretat per defecte.",null,"NO",0,null,null,null,null,{"$f":"+IFERROR(IF(MATCH(CONCATENATE(X$2,$A24),AUX_MELT_DADES!$V:$V,0)<>0,\"X\",\"\"),\"-\")","v":"-"},{"$f":"+IFERROR(IF(MATCH(CONCATENATE(Y$2,$A24),AUX_MELT_DADES!$V:$V,0)<>0,\"X\",\"\"),\"-\")","v":"-"},{"$f":"+IFERROR(IF(MATCH(CONCATENATE(Z$2,$A24),AUX_MELT_DADES!$V:$V,0)<>0,\"X\",\"\"),\"-\")","v":"X"},{"$f":"+IFERROR(IF(MATCH(CONCATENATE(AA$2,$A24),AUX_MELT_DADES!$V:$V,0)<>0,\"X\",\"\"),\"-\")","v":"-"},{"$f":"+IFERROR(IF(MATCH(CONCATENATE(AB$2,$A24),AUX_MELT_DADES!$V:$V,0)<>0,\"X\",\"\"),\"-\")","v":"-"},{"$f":"+IFERROR(IF(MATCH(CONCATENATE(AC$2,$A24),AUX_MELT_DADES!$V:$V,0)<>0,\"X\",\"\"),\"-\")","v":"-"},{"$f":"+IFERROR(IF(MATCH(CONCATENATE(AD$2,$A24),AUX_MELT_DADES!$V:$V,0)<>0,\"X\",\"\"),\"-\")","v":"-"},{"$f":"+IFERROR(IF(MATCH(CONCATENATE(AE$2,$A24),AUX_MELT_DADES!$V:$V,0)<>0,\"X\",\"\"),\"-\")","v":"-"},{"$f":"+IFERROR(IF(MATCH(CONCATENATE(AF$2,$A24),AUX_MELT_DADES!$V:$V,0)<>0,\"X\",\"\"),\"-\")","v":"-"},{"$f":"+IFERROR(IF(MATCH(CONCATENATE(AG$2,$A24),AUX_MELT_DADES!$V:$V,0)<>0,\"X\",\"\"),\"-\")","v":"-"},{"$f":"+IFERROR(IF(MATCH(CONCATENATE(AH$2,$A24),AUX_MELT_DADES!$V:$V,0)<>0,\"X\",\"\"),\"-\")","v":"-"},{"$f":"+IFERROR(IF(MATCH(CONCATENATE(AI$2,$A24),AUX_MELT_DADES!$V:$V,0)<>0,\"X\",\"\"),\"-\")","v":"-"},{"$f":"+IFERROR(IF(MATCH(CONCATENATE(AJ$2,$A24),AUX_MELT_DADES!$V:$V,0)<>0,\"X\",\"\"),\"-\")","v":"-"},{"$f":"+IFERROR(IF(MATCH(CONCATENATE(AK$2,$A24),AUX_MELT_DADES!$V:$V,0)<>0,\"X\",\"\"),\"-\")","v":"-"},{"$f":"+IFERROR(IF(MATCH(CONCATENATE(AL$2,$A24),AUX_MELT_DADES!$V:$V,0)<>0,\"X\",\"\"),\"-\")","v":"-"},{"$f":"IFERROR(VLOOKUP(A24,AUX_PIVOT_MELT!$A$4:$B$250,2,FALSE),\"\")","v":0},false,false,false,false,"-"]
["[op.exp.3]LMH",23,"[op.exp.3]","Marc Operacional","Explotació","Gestió de la configuració",null,null,null,null,null,"X","L","M","H","La configuració del sistema s’ha de gestionar de forma contínua, de manera que:\n•\tEn tot moment es manté la regla de funcionalitat mínima.\n•\tEn tot moment es manté la regla de seguretat per defecte.\n•\tEl sistema s’adapta a les noves necessitats.\n•\tEl sistema reacciona a les vulnerabilitats reportades.\n•\tEl sistema reacciona a incidències.",null,"NO",0,null,null,null,null,{"$f":"+IFERROR(IF(MATCH(CONCATENATE(X$2,$A25),AUX_MELT_DADES!$V:$V,0)<>0,\"X\",\"\"),\"-\")","v":"-"},{"$f":"+IFERROR(IF(MATCH(CONCATENATE(Y$2,$A25),AUX_MELT_DADES!$V:$V,0)<>0,\"X\",\"\"),\"-\")","v":"-"},{"$f":"+IFERROR(IF(MATCH(CONCATENATE(Z$2,$A25),AUX_MELT_DADES!$V:$V,0)<>0,\"X\",\"\"),\"-\")","v":"X"},{"$f":"+IFERROR(IF(MATCH(CONCATENATE(AA$2,$A25),AUX_MELT_DADES!$V:$V,0)<>0,\"X\",\"\"),\"-\")","v":"-"},{"$f":"+IFERROR(IF(MATCH(CONCATENATE(AB$2,$A25),AUX_MELT_DADES!$V:$V,0)<>0,\"X\",\"\"),\"-\")","v":"-"},{"$f":"+IFERROR(IF(MATCH(CONCATENATE(AC$2,$A25),AUX_MELT_DADES!$V:$V,0)<>0,\"X\",\"\"),\"-\")","v":"-"},{"$f":"+IFERROR(IF(MATCH(CONCATENATE(AD$2,$A25),AUX_MELT_DADES!$V:$V,0)<>0,\"X\",\"\"),\"-\")","v":"-"},{"$f":"+IFERROR(IF(MATCH(CONCATENATE(AE$2,$A25),AUX_MELT_DADES!$V:$V,0)<>0,\"X\",\"\"),\"-\")","v":"-"},{"$f":"+IFERROR(IF(MATCH(CONCATENATE(AF$2,$A25),AUX_MELT_DADES!$V:$V,0)<>0,\"X\",\"\"),\"-\")","v":"-"},{"$f":"+IFERROR(IF(MATCH(CONCATENATE(AG$2,$A25),AUX_MELT_DADES!$V:$V,0)<>0,\"X\",\"\"),\"-\")","v":"-"},{"$f":"+IFERROR(IF(MATCH(CONCATENATE(AH$2,$A25),AUX_MELT_DADES!$V:$V,0)<>0,\"X\",\"\"),\"-\")","v":"-"},{"$f":"+IFERROR(IF(MATCH(CONCATENATE(AI$2,$A25),AUX_MELT_DADES!$V:$V,0)<>0,\"X\",\"\"),\"-\")","v":"-"},{"$f":"+IFERROR(IF(MATCH(CONCATENATE(AJ$2,$A25),AUX_MELT_DADES!$V:$V,0)<>0,\"X\",\"\"),\"-\")","v":"-"},{"$f":"+IFERROR(IF(MATCH(CONCATENATE(AK$2,$A25),AUX_MELT_DADES!$V:$V,0)<>0,\"X\",\"\"),\"-\")","v":"-"},{"$f":"+IFERROR(IF(MATCH(CONCATENATE(AL$2,$A25),AUX_MELT_DADES!$V:$V,0)<>0,\"X\",\"\"),\"-\")","v":"-"},{"$f":"IFERROR(VLOOKUP(A25,AUX_PIVOT_MELT!$A$4:$B$250,2,FALSE),\"\")","v":0},false,false,false,false,"-"]
["[op.exp.4]LMH",24,"[op.exp.4]","Marc Operacional","Explotació","Manteniment",null,null,null,null,null,"X","L","M","H","•\tCal respectar les especificacions dels fabricants pel que fa a la instal·lació i el manteniment dels sistemes.\n•\tCal fer un seguiment continu dels comunicats de defectes.\n•\tCal disposar d’un sistema per analitzar, prioritzar i aplicar les actualitzacions de seguretat.",null,"NO",0,null,null,null,null,{"$f":"+IFERROR(IF(MATCH(CONCATENATE(X$2,$A26),AUX_MELT_DADES!$V:$V,0)<>0,\"X\",\"\"),\"-\")","v":"-"},{"$f":"+IFERROR(IF(MATCH(CONCATENATE(Y$2,$A26),AUX_MELT_DADES!$V:$V,0)<>0,\"X\",\"\"),\"-\")","v":"-"},{"$f":"+IFERROR(IF(MATCH(CONCATENATE(Z$2,$A26),AUX_MELT_DADES!$V:$V,0)<>0,\"X\",\"\"),\"-\")","v":"-"},{"$f":"+IFERROR(IF(MATCH(CONCATENATE(AA$2,$A26),AUX_MELT_DADES!$V:$V,0)<>0,\"X\",\"\"),\"-\")","v":"-"},{"$f":"+IFERROR(IF(MATCH(CONCATENATE(AB$2,$A26),AUX_MELT_DADES!$V:$V,0)<>0,\"X\",\"\"),\"-\")","v":"X"},{"$f":"+IFERROR(IF(MATCH(CONCATENATE(AC$2,$A26),AUX_MELT_DADES!$V:$V,0)<>0,\"X\",\"\"),\"-\")","v":"-"},{"$f":"+IFERROR(IF(MATCH(CONCATENATE(AD$2,$A26),AUX_MELT_DADES!$V:$V,0)<>0,\"X\",\"\"),\"-\")","v":"-"},{"$f":"+IFERROR(IF(MATCH(CONCATENATE(AE$2,$A26),AUX_MELT_DADES!$V:$V,0)<>0,\"X\",\"\"),\"-\")","v":"-"},{"$f":"+IFERROR(IF(MATCH(CONCATENATE(AF$2,$A26),AUX_MELT_DADES!$V:$V,0)<>0,\"X\",\"\"),\"-\")","v":"-"},{"$f":"+IFERROR(IF(MATCH(CONCATENATE(AG$2,$A26),AUX_MELT_DADES!$V:$V,0)<>0,\"X\",\"\"),\"-\")","v":"-"},{"$f":"+IFERROR(IF(MATCH(CONCATENATE(AH$2,$A26),AUX_MELT_DADES!$V:$V,0)<>0,\"X\",\"\"),\"-\")","v":"-"},{"$f":"+IFERROR(IF(MATCH(CONCATENATE(AI$2,$A26),AUX_MELT_DADES!$V:$V,0)<>0,\"X\",\"\"),\"-\")","v":"-"},{"$f":"+IFERROR(IF(MATCH(CONCATENATE(AJ$2,$A26),AUX_MELT_DADES!$V:$V,0)<>0,\"X\",\"\"),\"-\")","v":"-"},{"$f":"+IFERROR(IF(MATCH(CONCATENATE(AK$2,$A26),AUX_MELT_DADES!$V:$V,0)<>0,\"X\",\"\"),\"-\")","v":"-"},{"$f":"+IFERROR(IF(MATCH(CONCATENATE(AL$2,$A26),AUX_MELT_DADES!$V:$V,0)<>0,\"X\",\"\"),\"-\")","v":"-"},{"$f":"IFERROR(VLOOKUP(A26,AUX_PIVOT_MELT!$A$4:$B$250,2,FALSE),\"\")","v":0},false,false,false,false,"-"]
["[op.exp.5]MH",25,"[op.exp.5]","Marc Operacional","Explotació","Gestió de canvis",null,null,null,null,null,"X",null,"M","H","S’ha de mantenir un control continu dels canvis realitzats al sistema:\n•\tTots els canvis anunciats pel fabricant s’han d’analitzar, per determinar-ne la conveniència.\n•\tAbans d’aplicar canvis a producció, s’han de comprovar en un equip que no estigui en producció.\n•\tEls canvis s’han de planificar, per reduir l’impacte sobre la prestació de serveis.\n•\tEls canvis que suposin un risc alt s’han d’aprovar explícitament.",null,"NO",0,null,null,null,null,{"$f":"+IFERROR(IF(MATCH(CONCATENATE(X$2,$A27),AUX_MELT_DADES!$V:$V,0)<>0,\"X\",\"\"),\"-\")","v":"-"},{"$f":"+IFERROR(IF(MATCH(CONCATENATE(Y$2,$A27),AUX_MELT_DADES!$V:$V,0)<>0,\"X\",\"\"),\"-\")","v":"-"},{"$f":"+IFERROR(IF(MATCH(CONCATENATE(Z$2,$A27),AUX_MELT_DADES!$V:$V,0)<>0,\"X\",\"\"),\"-\")","v":"-"},{"$f":"+IFERROR(IF(MATCH(CONCATENATE(AA$2,$A27),AUX_MELT_DADES!$V:$V,0)<>0,\"X\",\"\"),\"-\")","v":"-"},{"$f":"+IFERROR(IF(MATCH(CONCATENATE(AB$2,$A27),AUX_MELT_DADES!$V:$V,0)<>0,\"X\",\"\"),\"-\")","v":"X"},{"$f":"+IFERROR(IF(MATCH(CONCATENATE(AC$2,$A27),AUX_MELT_DADES!$V:$V,0)<>0,\"X\",\"\"),\"-\")","v":"-"},{"$f":"+IFERROR(IF(MATCH(CONCATENATE(AD$2,$A27),AUX_MELT_DADES!$V:$V,0)<>0,\"X\",\"\"),\"-\")","v":"-"},{"$f":"+IFERROR(IF(MATCH(CONCATENATE(AE$2,$A27),AUX_MELT_DADES!$V:$V,0)<>0,\"X\",\"\"),\"-\")","v":"-"},{"$f":"+IFERROR(IF(MATCH(CONCATENATE(AF$2,$A27),AUX_MELT_DADES!$V:$V,0)<>0,\"X\",\"\"),\"-\")","v":"-"},{"$f":"+IFERROR(IF(MATCH(CONCATENATE(AG$2,$A27),AUX_MELT_DADES!$V:$V,0)<>0,\"X\",\"\"),\"-\")","v":"-"},{"$f":"+IFERROR(IF(MATCH(CONCATENATE(AH$2,$A27),AUX_MELT_DADES!$V:$V,0)<>0,\"X\",\"\"),\"-\")","v":"-"},{"$f":"+IFERROR(IF(MATCH(CONCATENATE(AI$2,$A27),AUX_MELT_DADES!$V:$V,0)<>0,\"X\",\"\"),\"-\")","v":"-"},{"$f":"+IFERROR(IF(MATCH(CONCATENATE(AJ$2,$A27),AUX_MELT_DADES!$V:$V,0)<>0,\"X\",\"\"),\"-\")","v":"-"},{"$f":"+IFERROR(IF(MATCH(CONCATENATE(AK$2,$A27),AUX_MELT_DADES!$V:$V,0)<>0,\"X\",\"\"),\"-\")","v":"-"},{"$f":"+IFERROR(IF(MATCH(CONCATENATE(AL$2,$A27),AUX_MELT_DADES!$V:$V,0)<>0,\"X\",\"\"),\"-\")","v":"-"},{"$f":"IFERROR(VLOOKUP(A27,AUX_PIVOT_MELT!$A$4:$B$250,2,FALSE),\"\")","v":0},false,false,false,false,"-"]
["[op.exp.6]LMH",26,"[op.exp.6]","Marc Operacional","Explotació","Protecció contra codi maliciós",null,null,null,null,null,"X","L","M","H","•\tCal disposar de mecanismes de prevenció i reacció contra codi maliciós.",null,"NO",0,null,null,null,null,{"$f":"+IFERROR(IF(MATCH(CONCATENATE(X$2,$A28),AUX_MELT_DADES!$V:$V,0)<>0,\"X\",\"\"),\"-\")","v":"X"},{"$f":"+IFERROR(IF(MATCH(CONCATENATE(Y$2,$A28),AUX_MELT_DADES!$V:$V,0)<>0,\"X\",\"\"),\"-\")","v":"-"},{"$f":"+IFERROR(IF(MATCH(CONCATENATE(Z$2,$A28),AUX_MELT_DADES!$V:$V,0)<>0,\"X\",\"\"),\"-\")","v":"X"},{"$f":"+IFERROR(IF(MATCH(CONCATENATE(AA$2,$A28),AUX_MELT_DADES!$V:$V,0)<>0,\"X\",\"\"),\"-\")","v":"-"},{"$f":"+IFERROR(IF(MATCH(CONCATENATE(AB$2,$A28),AUX_MELT_DADES!$V:$V,0)<>0,\"X\",\"\"),\"-\")","v":"X"},{"$f":"+IFERROR(IF(MATCH(CONCATENATE(AC$2,$A28),AUX_MELT_DADES!$V:$V,0)<>0,\"X\",\"\"),\"-\")","v":"-"},{"$f":"+IFERROR(IF(MATCH(CONCATENATE(AD$2,$A28),AUX_MELT_DADES!$V:$V,0)<>0,\"X\",\"\"),\"-\")","v":"-"},{"$f":"+IFERROR(IF(MATCH(CONCATENATE(AE$2,$A28),AUX_MELT_DADES!$V:$V,0)<>0,\"X\",\"\"),\"-\")","v":"X"},{"$f":"+IFERROR(IF(MATCH(CONCATENATE(AF$2,$A28),AUX_MELT_DADES!$V:$V,0)<>0,\"X\",\"\"),\"-\")","v":"-"},{"$f":"+IFERROR(IF(MATCH(CONCATENATE(AG$2,$A28),AUX_MELT_DADES!$V:$V,0)<>0,\"X\",\"\"),\"-\")","v":"-"},{"$f":"+IFERROR(IF(MATCH(CONCATENATE(AH$2,$A28),AUX_MELT_DADES!$V:$V,0)<>0,\"X\",\"\"),\"-\")","v":"X"},{"$f":"+IFERROR(IF(MATCH(CONCATENATE(AI$2,$A28),AUX_MELT_DADES!$V:$V,0)<>0,\"X\",\"\"),\"-\")","v":"-"},{"$f":"+IFERROR(IF(MATCH(CONCATENATE(AJ$2,$A28),AUX_MELT_DADES!$V:$V,0)<>0,\"X\",\"\"),\"-\")","v":"-"},{"$f":"+IFERROR(IF(MATCH(CONCATENATE(AK$2,$A28),AUX_MELT_DADES!$V:$V,0)<>0,\"X\",\"\"),\"-\")","v":"-"},{"$f":"+IFERROR(IF(MATCH(CONCATENATE(AL$2,$A28),AUX_MELT_DADES!$V:$V,0)<>0,\"X\",\"\"),\"-\")","v":"-"},{"$f":"IFERROR(VLOOKUP(A28,AUX_PIVOT_MELT!$A$4:$B$250,2,FALSE),\"\")","v":0},false,false,false,false,"-"]
["[op.exp.7]MH",27,"[op.exp.7]","Marc Operacional","Explotació","Gestió d’incidències",null,null,null,null,null,"X",null,"M","H","Es disposarà d'un procediment integral per fer front a incidències que puguin tenir un impacte en la seguretat del sistema, com ara:\n•\tNotificació d'incidències reals o sospitoses.\n•\tActuació urgent, incloent la detenció dels serveis, l'aïllament del sistema afectat, la recollida de proves i la protecció dels registres, segons correspongui.\n•\tAssignació de recursos per investigar les causes, analitzar les conseqüències i resoldre la incidència.\n•\tInformació als grups d'interessats, interns i externs.\n•\tMesures per a evitar que es repeteixi.",null,"NO",0,null,null,null,null,{"$f":"+IFERROR(IF(MATCH(CONCATENATE(X$2,$A29),AUX_MELT_DADES!$V:$V,0)<>0,\"X\",\"\"),\"-\")","v":"-"},{"$f":"+IFERROR(IF(MATCH(CONCATENATE(Y$2,$A29),AUX_MELT_DADES!$V:$V,0)<>0,\"X\",\"\"),\"-\")","v":"-"},{"$f":"+IFERROR(IF(MATCH(CONCATENATE(Z$2,$A29),AUX_MELT_DADES!$V:$V,0)<>0,\"X\",\"\"),\"-\")","v":"-"},{"$f":"+IFERROR(IF(MATCH(CONCATENATE(AA$2,$A29),AUX_MELT_DADES!$V:$V,0)<>0,\"X\",\"\"),\"-\")","v":"-"},{"$f":"+IFERROR(IF(MATCH(CONCATENATE(AB$2,$A29),AUX_MELT_DADES!$V:$V,0)<>0,\"X\",\"\"),\"-\")","v":"X"},{"$f":"+IFERROR(IF(MATCH(CONCATENATE(AC$2,$A29),AUX_MELT_DADES!$V:$V,0)<>0,\"X\",\"\"),\"-\")","v":"-"},{"$f":"+IFERROR(IF(MATCH(CONCATENATE(AD$2,$A29),AUX_MELT_DADES!$V:$V,0)<>0,\"X\",\"\"),\"-\")","v":"-"},{"$f":"+IFERROR(IF(MATCH(CONCATENATE(AE$2,$A29),AUX_MELT_DADES!$V:$V,0)<>0,\"X\",\"\"),\"-\")","v":"X"},{"$f":"+IFERROR(IF(MATCH(CONCATENATE(AF$2,$A29),AUX_MELT_DADES!$V:$V,0)<>0,\"X\",\"\"),\"-\")","v":"-"},{"$f":"+IFERROR(IF(MATCH(CONCATENATE(AG$2,$A29),AUX_MELT_DADES!$V:$V,0)<>0,\"X\",\"\"),\"-\")","v":"-"},{"$f":"+IFERROR(IF(MATCH(CONCATENATE(AH$2,$A29),AUX_MELT_DADES!$V:$V,0)<>0,\"X\",\"\"),\"-\")","v":"-"},{"$f":"+IFERROR(IF(MATCH(CONCATENATE(AI$2,$A29),AUX_MELT_DADES!$V:$V,0)<>0,\"X\",\"\"),\"-\")","v":"-"},{"$f":"+IFERROR(IF(MATCH(CONCATENATE(AJ$2,$A29),AUX_MELT_DADES!$V:$V,0)<>0,\"X\",\"\"),\"-\")","v":"-"},{"$f":"+IFERROR(IF(MATCH(CONCATENATE(AK$2,$A29),AUX_MELT_DADES!$V:$V,0)<>0,\"X\",\"\"),\"-\")","v":"-"},{"$f":"+IFERROR(IF(MATCH(CONCATENATE(AL$2,$A29),AUX_MELT_DADES!$V:$V,0)<>0,\"X\",\"\"),\"-\")","v":"-"},{"$f":"IFERROR(VLOOKUP(A29,AUX_PIVOT_MELT!$A$4:$B$250,2,FALSE),\"\")","v":0},false,false,false,false,"-"]
["[op.exp.8]H",28,"[op.exp.8]","Marc Operacional","Explotació","Registre de l’activitat dels usuaris",null,null,null,null,"X","X",null,null,"H","Cal registrar totes les activitats dels usuaris del sistema, de manera que:\n•\tIndiqui qui fa una activitat, quan la fa i sobre quines dades.\n•\tInclogui l’activitat dels usuaris, dels operadors i dels administradors.\n•\tHi constin les activitats fetes i els intents fallits.",null,"NO",0,null,null,null,null,{"$f":"+IFERROR(IF(MATCH(CONCATENATE(X$2,$A30),AUX_MELT_DADES!$V:$V,0)<>0,\"X\",\"\"),\"-\")","v":"-"},{"$f":"+IFERROR(IF(MATCH(CONCATENATE(Y$2,$A30),AUX_MELT_DADES!$V:$V,0)<>0,\"X\",\"\"),\"-\")","v":"-"},{"$f":"+IFERROR(IF(MATCH(CONCATENATE(Z$2,$A30),AUX_MELT_DADES!$V:$V,0)<>0,\"X\",\"\"),\"-\")","v":"-"},{"$f":"+IFERROR(IF(MATCH(CONCATENATE(AA$2,$A30),AUX_MELT_DADES!$V:$V,0)<>0,\"X\",\"\"),\"-\")","v":"-"},{"$f":"+IFERROR(IF(MATCH(CONCATENATE(AB$2,$A30),AUX_MELT_DADES!$V:$V,0)<>0,\"X\",\"\"),\"-\")","v":"-"},{"$f":"+IFERROR(IF(MATCH(CONCATENATE(AC$2,$A30),AUX_MELT_DADES!$V:$V,0)<>0,\"X\",\"\"),\"-\")","v":"-"},{"$f":"+IFERROR(IF(MATCH(CONCATENATE(AD$2,$A30),AUX_MELT_DADES!$V:$V,0)<>0,\"X\",\"\"),\"-\")","v":"X"},{"$f":"+IFERROR(IF(MATCH(CONCATENATE(AE$2,$A30),AUX_MELT_DADES!$V:$V,0)<>0,\"X\",\"\"),\"-\")","v":"-"},{"$f":"+IFERROR(IF(MATCH(CONCATENATE(AF$2,$A30),AUX_MELT_DADES!$V:$V,0)<>0,\"X\",\"\"),\"-\")","v":"-"},{"$f":"+IFERROR(IF(MATCH(CONCATENATE(AG$2,$A30),AUX_MELT_DADES!$V:$V,0)<>0,\"X\",\"\"),\"-\")","v":"-"},{"$f":"+IFERROR(IF(MATCH(CONCATENATE(AH$2,$A30),AUX_MELT_DADES!$V:$V,0)<>0,\"X\",\"\"),\"-\")","v":"-"},{"$f":"+IFERROR(IF(MATCH(CONCATENATE(AI$2,$A30),AUX_MELT_DADES!$V:$V,0)<>0,\"X\",\"\"),\"-\")","v":"-"},{"$f":"+IFERROR(IF(MATCH(CONCATENATE(AJ$2,$A30),AUX_MELT_DADES!$V:$V,0)<>0,\"X\",\"\"),\"-\")","v":"-"},{"$f":"+IFERROR(IF(MATCH(CONCATENATE(AK$2,$A30),AUX_MELT_DADES!$V:$V,0)<>0,\"X\",\"\"),\"-\")","v":"-"},{"$f":"+IFERROR(IF(MATCH(CONCATENATE(AL$2,$A30),AUX_MELT_DADES!$V:$V,0)<>0,\"X\",\"\"),\"-\")","v":"-"},{"$f":"IFERROR(VLOOKUP(A30,AUX_PIVOT_MELT!$A$4:$B$250,2,FALSE),\"\")","v":0},false,false,false,false,"-"]
["[op.exp.9]MH",29,"[op.exp.9]","Marc Operacional","Explotació","Registre de la gestió d’incidències",null,null,null,null,null,"X",null,"M","H","Cal registrar totes les actuacions relacionades amb la gestió d’incidències:\n•\tL’informe inicial, les actuacions i les modificacions al sistema.\n•\tLes evidències que puguin sustentar o fer front a una demanda judicial.\n•\tCom a resultat de l’anàlisi d’incidències, s’han de revisar els esdeveniments auditables.",null,"NO",0,null,null,null,null,{"$f":"+IFERROR(IF(MATCH(CONCATENATE(X$2,$A31),AUX_MELT_DADES!$V:$V,0)<>0,\"X\",\"\"),\"-\")","v":"-"},{"$f":"+IFERROR(IF(MATCH(CONCATENATE(Y$2,$A31),AUX_MELT_DADES!$V:$V,0)<>0,\"X\",\"\"),\"-\")","v":"-"},{"$f":"+IFERROR(IF(MATCH(CONCATENATE(Z$2,$A31),AUX_MELT_DADES!$V:$V,0)<>0,\"X\",\"\"),\"-\")","v":"-"},{"$f":"+IFERROR(IF(MATCH(CONCATENATE(AA$2,$A31),AUX_MELT_DADES!$V:$V,0)<>0,\"X\",\"\"),\"-\")","v":"-"},{"$f":"+IFERROR(IF(MATCH(CONCATENATE(AB$2,$A31),AUX_MELT_DADES!$V:$V,0)<>0,\"X\",\"\"),\"-\")","v":"X"},{"$f":"+IFERROR(IF(MATCH(CONCATENATE(AC$2,$A31),AUX_MELT_DADES!$V:$V,0)<>0,\"X\",\"\"),\"-\")","v":"-"},{"$f":"+IFERROR(IF(MATCH(CONCATENATE(AD$2,$A31),AUX_MELT_DADES!$V:$V,0)<>0,\"X\",\"\"),\"-\")","v":"-"},{"$f":"+IFERROR(IF(MATCH(CONCATENATE(AE$2,$A31),AUX_MELT_DADES!$V:$V,0)<>0,\"X\",\"\"),\"-\")","v":"-"},{"$f":"+IFERROR(IF(MATCH(CONCATENATE(AF$2,$A31),AUX_MELT_DADES!$V:$V,0)<>0,\"X\",\"\"),\"-\")","v":"-"},{"$f":"+IFERROR(IF(MATCH(CONCATENATE(AG$2,$A31),AUX_MELT_DADES!$V:$V,0)<>0,\"X\",\"\"),\"-\")","v":"-"},{"$f":"+IFERROR(IF(MATCH(CONCATENATE(AH$2,$A31),AUX_MELT_DADES!$V:$V,0)<>0,\"X\",\"\"),\"-\")","v":"-"},{"$f":"+IFERROR(IF(MATCH(CONCATENATE(AI$2,$A31),AUX_MELT_DADES!$V:$V,0)<>0,\"X\",\"\"),\"-\")","v":"-"},{"$f":"+IFERROR(IF(MATCH(CONCATENATE(AJ$2,$A31),AUX_MELT_DADES!$V:$V,0)<>0,\"X\",\"\"),\"-\")","v":"-"},{"$f":"+IFERROR(IF(MATCH(CONCATENATE(AK$2,$A31),AUX_MELT_DADES!$V:$V,0)<>0,\"X\",\"\"),\"-\")","v":"-"},{"$f":"+IFERROR(IF(MATCH(CONCATENATE(AL$2,$A31),AUX_MELT_DADES!$V:$V,0)<>0,\"X\",\"\"),\"-\")","v":"-"},{"$f":"IFERROR(VLOOKUP(A31,AUX_PIVOT_MELT!$A$4:$B$250,2,FALSE),\"\")","v":0},false,false,false,false,"-"]
["[op.exp.10]H",30,"[op.exp.10]","Marc Operacional","Explotació","Protecció dels registres d’activitat",null,null,null,null,"X","X",null,null,"H","Cal protegir els registres del sistema, de manera que:\n•\tS’ha de determinar el període de retenció dels registres.\n•\tSe n’ha d’assegurar la data i hora.\n•\tEl personal no autoritzat no ha de poder modificar els registres .\n•\tLes còpies de seguretat, si n’hi ha, han de tenir els mateixos requeriments.",null,"NO",0,null,null,null,null,{"$f":"+IFERROR(IF(MATCH(CONCATENATE(X$2,$A32),AUX_MELT_DADES!$V:$V,0)<>0,\"X\",\"\"),\"-\")","v":"-"},{"$f":"+IFERROR(IF(MATCH(CONCATENATE(Y$2,$A32),AUX_MELT_DADES!$V:$V,0)<>0,\"X\",\"\"),\"-\")","v":"-"},{"$f":"+IFERROR(IF(MATCH(CONCATENATE(Z$2,$A32),AUX_MELT_DADES!$V:$V,0)<>0,\"X\",\"\"),\"-\")","v":"-"},{"$f":"+IFERROR(IF(MATCH(CONCATENATE(AA$2,$A32),AUX_MELT_DADES!$V:$V,0)<>0,\"X\",\"\"),\"-\")","v":"-"},{"$f":"+IFERROR(IF(MATCH(CONCATENATE(AB$2,$A32),AUX_MELT_DADES!$V:$V,0)<>0,\"X\",\"\"),\"-\")","v":"-"},{"$f":"+IFERROR(IF(MATCH(CONCATENATE(AC$2,$A32),AUX_MELT_DADES!$V:$V,0)<>0,\"X\",\"\"),\"-\")","v":"-"},{"$f":"+IFERROR(IF(MATCH(CONCATENATE(AD$2,$A32),AUX_MELT_DADES!$V:$V,0)<>0,\"X\",\"\"),\"-\")","v":"X"},{"$f":"+IFERROR(IF(MATCH(CONCATENATE(AE$2,$A32),AUX_MELT_DADES!$V:$V,0)<>0,\"X\",\"\"),\"-\")","v":"-"},{"$f":"+IFERROR(IF(MATCH(CONCATENATE(AF$2,$A32),AUX_MELT_DADES!$V:$V,0)<>0,\"X\",\"\"),\"-\")","v":"-"},{"$f":"+IFERROR(IF(MATCH(CONCATENATE(AG$2,$A32),AUX_MELT_DADES!$V:$V,0)<>0,\"X\",\"\"),\"-\")","v":"-"},{"$f":"+IFERROR(IF(MATCH(CONCATENATE(AH$2,$A32),AUX_MELT_DADES!$V:$V,0)<>0,\"X\",\"\"),\"-\")","v":"-"},{"$f":"+IFERROR(IF(MATCH(CONCATENATE(AI$2,$A32),AUX_MELT_DADES!$V:$V,0)<>0,\"X\",\"\"),\"-\")","v":"-"},{"$f":"+IFERROR(IF(MATCH(CONCATENATE(AJ$2,$A32),AUX_MELT_DADES!$V:$V,0)<>0,\"X\",\"\"),\"-\")","v":"-"},{"$f":"+IFERROR(IF(MATCH(CONCATENATE(AK$2,$A32),AUX_MELT_DADES!$V:$V,0)<>0,\"X\",\"\"),\"-\")","v":"-"},{"$f":"+IFERROR(IF(MATCH(CONCATENATE(AL$2,$A32),AUX_MELT_DADES!$V:$V,0)<>0,\"X\",\"\"),\"-\")","v":"-"},{"$f":"IFERROR(VLOOKUP(A32,AUX_PIVOT_MELT!$A$4:$B$250,2,FALSE),\"\")","v":0},false,false,false,false,"-"]
["[op.exp.11]L",31,"[op.exp.11]","Marc Operacional","Explotació","Protecció de les claus criptogràfiques",null,null,null,null,null,"X","L",null,null,"Les claus criptogràfiques s’han de protegir durant tot el seu cicle de vida: generació, transport al punt d’explotació, custòdia durant l’explotació, arxiu i destrucció.\n•\tEls mitjans de generació han d’estar aïllats dels d’explotació.\n•\tLes claus arxivades han d’estar en suports aïllats dels  d’explotació.",null,"NO",0,null,null,null,null,{"$f":"+IFERROR(IF(MATCH(CONCATENATE(X$2,$A33),AUX_MELT_DADES!$V:$V,0)<>0,\"X\",\"\"),\"-\")","v":"-"},{"$f":"+IFERROR(IF(MATCH(CONCATENATE(Y$2,$A33),AUX_MELT_DADES!$V:$V,0)<>0,\"X\",\"\"),\"-\")","v":"-"},{"$f":"+IFERROR(IF(MATCH(CONCATENATE(Z$2,$A33),AUX_MELT_DADES!$V:$V,0)<>0,\"X\",\"\"),\"-\")","v":"X"},{"$f":"+IFERROR(IF(MATCH(CONCATENATE(AA$2,$A33),AUX_MELT_DADES!$V:$V,0)<>0,\"X\",\"\"),\"-\")","v":"-"},{"$f":"+IFERROR(IF(MATCH(CONCATENATE(AB$2,$A33),AUX_MELT_DADES!$V:$V,0)<>0,\"X\",\"\"),\"-\")","v":"-"},{"$f":"+IFERROR(IF(MATCH(CONCATENATE(AC$2,$A33),AUX_MELT_DADES!$V:$V,0)<>0,\"X\",\"\"),\"-\")","v":"-"},{"$f":"+IFERROR(IF(MATCH(CONCATENATE(AD$2,$A33),AUX_MELT_DADES!$V:$V,0)<>0,\"X\",\"\"),\"-\")","v":"-"},{"$f":"+IFERROR(IF(MATCH(CONCATENATE(AE$2,$A33),AUX_MELT_DADES!$V:$V,0)<>0,\"X\",\"\"),\"-\")","v":"-"},{"$f":"+IFERROR(IF(MATCH(CONCATENATE(AF$2,$A33),AUX_MELT_DADES!$V:$V,0)<>0,\"X\",\"\"),\"-\")","v":"-"},{"$f":"+IFERROR(IF(MATCH(CONCATENATE(AG$2,$A33),AUX_MELT_DADES!$V:$V,0)<>0,\"X\",\"\"),\"-\")","v":"-"},{"$f":"+IFERROR(IF(MATCH(CONCATENATE(AH$2,$A33),AUX_MELT_DADES!$V:$V,0)<>0,\"X\",\"\"),\"-\")","v":"-"},{"$f":"+IFERROR(IF(MATCH(CONCATENATE(AI$2,$A33),AUX_MELT_DADES!$V:$V,0)<>0,\"X\",\"\"),\"-\")","v":"-"},{"$f":"+IFERROR(IF(MATCH(CONCATENATE(AJ$2,$A33),AUX_MELT_DADES!$V:$V,0)<>0,\"X\",\"\"),\"-\")","v":"-"},{"$f":"+IFERROR(IF(MATCH(CONCATENATE(AK$2,$A33),AUX_MELT_DADES!$V:$V,0)<>0,\"X\",\"\"),\"-\")","v":"-"},{"$f":"+IFERROR(IF(MATCH(CONCATENATE(AL$2,$A33),AUX_MELT_DADES!$V:$V,0)<>0,\"X\",\"\"),\"-\")","v":"-"},{"$f":"IFERROR(VLOOKUP(A33,AUX_PIVOT_MELT!$A$4:$B$250,2,FALSE),\"\")","v":0},false,false,false,false,"-"]
["[op.exp.11]MH",32,"[op.exp.11]","Marc Operacional","Explotació","Protecció de les claus criptogràfiques",null,null,null,null,null,"X",null,"M","H","Les claus criptogràfiques s’han de protegir durant tot el seu cicle de vida: generació, transport al punt d’explotació, custòdia durant l’explotació, arxiu i destrucció.\n•\tEls mitjans de generació han d’estar aïllats dels d’explotació.\n•\tLes claus arxivades han d’estar en suports aïllats dels  d’explotació.\n•\tCal emprar eines certificades (algorismes, programes, dispositius).",null,"NO",0,null,null,null,null,{"$f":"+IFERROR(IF(MATCH(CONCATENATE(X$2,$A34),AUX_MELT_DADES!$V:$V,0)<>0,\"X\",\"\"),\"-\")","v":"-"},{"$f":"+IFERROR(IF(MATCH(CONCATENATE(Y$2,$A34),AUX_MELT_DADES!$V:$V,0)<>0,\"X\",\"\"),\"-\")","v":"-"},{"$f":"+IFERROR(IF(MATCH(CONCATENATE(Z$2,$A34),AUX_MELT_DADES!$V:$V,0)<>0,\"X\",\"\"),\"-\")","v":"X"},{"$f":"+IFERROR(IF(MATCH(CONCATENATE(AA$2,$A34),AUX_MELT_DADES!$V:$V,0)<>0,\"X\",\"\"),\"-\")","v":"-"},{"$f":"+IFERROR(IF(MATCH(CONCATENATE(AB$2,$A34),AUX_MELT_DADES!$V:$V,0)<>0,\"X\",\"\"),\"-\")","v":"-"},{"$f":"+IFERROR(IF(MATCH(CONCATENATE(AC$2,$A34),AUX_MELT_DADES!$V:$V,0)<>0,\"X\",\"\"),\"-\")","v":"-"},{"$f":"+IFERROR(IF(MATCH(CONCATENATE(AD$2,$A34),AUX_MELT_DADES!$V:$V,0)<>0,\"X\",\"\"),\"-\")","v":"-"},{"$f":"+IFERROR(IF(MATCH(CONCATENATE(AE$2,$A34),AUX_MELT_DADES!$V:$V,0)<>0,\"X\",\"\"),\"-\")","v":"-"},{"$f":"+IFERROR(IF(MATCH(CONCATENATE(AF$2,$A34),AUX_MELT_DADES!$V:$V,0)<>0,\"X\",\"\"),\"-\")","v":"-"},{"$f":"+IFERROR(IF(MATCH(CONCATENATE(AG$2,$A34),AUX_MELT_DADES!$V:$V,0)<>0,\"X\",\"\"),\"-\")","v":"-"},{"$f":"+IFERROR(IF(MATCH(CONCATENATE(AH$2,$A34),AUX_MELT_DADES!$V:$V,0)<>0,\"X\",\"\"),\"-\")","v":"-"},{"$f":"+IFERROR(IF(MATCH(CONCATENATE(AI$2,$A34),AUX_MELT_DADES!$V:$V,0)<>0,\"X\",\"\"),\"-\")","v":"-"},{"$f":"+IFERROR(IF(MATCH(CONCATENATE(AJ$2,$A34),AUX_MELT_DADES!$V:$V,0)<>0,\"X\",\"\"),\"-\")","v":"-"},{"$f":"+IFERROR(IF(MATCH(CONCATENATE(AK$2,$A34),AUX_MELT_DADES!$V:$V,0)<>0,\"X\",\"\"),\"-\")","v":"-"},{"$f":"+IFERROR(IF(MATCH(CONCATENATE(AL$2,$A34),AUX_MELT_DADES!$V:$V,0)<>0,\"X\",\"\"),\"-\")","v":"-"},{"$f":"IFERROR(VLOOKUP(A34,AUX_PIVOT_MELT!$A$4:$B$250,2,FALSE),\"\")","v":0},false,false,false,false,"-"]
[{"$f":"+C35&M35&N35&O35","v":"[op.ext.1]MH"},33,"[op.ext.1]","Marc Operacional","Serveis externs","Contractació i acords de nivell de servei",null,null,null,null,null,"X",null,"M","H","•\tAbans d’emprar recursos externs, cal establir contractualment les característiques del servei i les responsabilitats de les parts. En particular, cal establir la qualitat mínima del servei i les conseqüències d’un incompliment.",null,"NO",{"$f":"AM35","v":0},null,null,null,null,{"$f":"+IFERROR(IF(MATCH(CONCATENATE(X$2,$A35),AUX_MELT_DADES!$V:$V,0)<>0,\"X\",\"\"),\"-\")","v":"-"},{"$f":"+IFERROR(IF(MATCH(CONCATENATE(Y$2,$A35),AUX_MELT_DADES!$V:$V,0)<>0,\"X\",\"\"),\"-\")","v":"-"},{"$f":"+IFERROR(IF(MATCH(CONCATENATE(Z$2,$A35),AUX_MELT_DADES!$V:$V,0)<>0,\"X\",\"\"),\"-\")","v":"-"},{"$f":"+IFERROR(IF(MATCH(CONCATENATE(AA$2,$A35),AUX_MELT_DADES!$V:$V,0)<>0,\"X\",\"\"),\"-\")","v":"-"},{"$f":"+IFERROR(IF(MATCH(CONCATENATE(AB$2,$A35),AUX_MELT_DADES!$V:$V,0)<>0,\"X\",\"\"),\"-\")","v":"-"},{"$f":"+IFERROR(IF(MATCH(CONCATENATE(AC$2,$A35),AUX_MELT_DADES!$V:$V,0)<>0,\"X\",\"\"),\"-\")","v":"-"},{"$f":"+IFERROR(IF(MATCH(CONCATENATE(AD$2,$A35),AUX_MELT_DADES!$V:$V,0)<>0,\"X\",\"\"),\"-\")","v":"-"},{"$f":"+IFERROR(IF(MATCH(CONCATENATE(AE$2,$A35),AUX_MELT_DADES!$V:$V,0)<>0,\"X\",\"\"),\"-\")","v":"-"},{"$f":"+IFERROR(IF(MATCH(CONCATENATE(AF$2,$A35),AUX_MELT_DADES!$V:$V,0)<>0,\"X\",\"\"),\"-\")","v":"-"},{"$f":"+IFERROR(IF(MATCH(CONCATENATE(AG$2,$A35),AUX_MELT_DADES!$V:$V,0)<>0,\"X\",\"\"),\"-\")","v":"-"},{"$f":"+IFERROR(IF(MATCH(CONCATENATE(AH$2,$A35),AUX_MELT_DADES!$V:$V,0)<>0,\"X\",\"\"),\"-\")","v":"-"},{"$f":"+IFERROR(IF(MATCH(CONCATENATE(AI$2,$A35),AUX_MELT_DADES!$V:$V,0)<>0,\"X\",\"\"),\"-\")","v":"-"},{"$f":"+IFERROR(IF(MATCH(CONCATENATE(AJ$2,$A35),AUX_MELT_DADES!$V:$V,0)<>0,\"X\",\"\"),\"-\")","v":"-"},{"$f":"+IFERROR(IF(MATCH(CONCATENATE(AK$2,$A35),AUX_MELT_DADES!$V:$V,0)<>0,\"X\",\"\"),\"-\")","v":"-"},{"$f":"+IFERROR(IF(MATCH(CONCATENATE(AL$2,$A35),AUX_MELT_DADES!$V:$V,0)<>0,\"X\",\"\"),\"-\")","v":"X"},{"$f":"IFERROR(VLOOKUP(A35,AUX_PIVOT_MELT!$A$4:$B$250,2,FALSE),\"\")","v":0},{"$f":"+AND(S35=2,T35=\"Rebutjada\")","v":false},{"$f":"+AND(S35>=3,T35=\"Rebutjada\")","v":false},{"$f":"+AND(S35=2,OR(T35=\"Pendent\",T35=\"\"))","v":false},{"$f":"+AND(S35>=3,OR(T35=\"Pendent\",T35=\"\"))","v":false},{"$f":"IF(U35<>\"\",U35<TODAY(),\"-\")","v":"-"}]
["[op.ext.2]MH",34,"[op.ext.2]","Marc Operacional","Serveis externs","Gestió diària",null,null,null,null,null,"X",null,"M","H","Per a la gestió diària del sistema, cal:\n•\tUn sistema per mesurar el compliment de les obligacions de servei.\n•\tMecanismes i coordinació per fer les tasques de manteniment dels sistemes afectats per l’acord.\n•\tMecanismes i coordinació en cas d’incidències.",null,"NO",{"$f":"IFERROR(VLOOKUP(A36,AUX_PIVOT_MELT!$A$4:$B$250,2,FALSE),\"\")","v":0},null,null,null,null,{"$f":"+IFERROR(IF(MATCH(CONCATENATE(X$2,$A36),AUX_MELT_DADES!$V:$V,0)<>0,\"X\",\"\"),\"-\")","v":"-"},{"$f":"+IFERROR(IF(MATCH(CONCATENATE(Y$2,$A36),AUX_MELT_DADES!$V:$V,0)<>0,\"X\",\"\"),\"-\")","v":"-"},{"$f":"+IFERROR(IF(MATCH(CONCATENATE(Z$2,$A36),AUX_MELT_DADES!$V:$V,0)<>0,\"X\",\"\"),\"-\")","v":"-"},{"$f":"+IFERROR(IF(MATCH(CONCATENATE(AA$2,$A36),AUX_MELT_DADES!$V:$V,0)<>0,\"X\",\"\"),\"-\")","v":"-"},{"$f":"+IFERROR(IF(MATCH(CONCATENATE(AB$2,$A36),AUX_MELT_DADES!$V:$V,0)<>0,\"X\",\"\"),\"-\")","v":"-"},{"$f":"+IFERROR(IF(MATCH(CONCATENATE(AC$2,$A36),AUX_MELT_DADES!$V:$V,0)<>0,\"X\",\"\"),\"-\")","v":"-"},{"$f":"+IFERROR(IF(MATCH(CONCATENATE(AD$2,$A36),AUX_MELT_DADES!$V:$V,0)<>0,\"X\",\"\"),\"-\")","v":"-"},{"$f":"+IFERROR(IF(MATCH(CONCATENATE(AE$2,$A36),AUX_MELT_DADES!$V:$V,0)<>0,\"X\",\"\"),\"-\")","v":"-"},{"$f":"+IFERROR(IF(MATCH(CONCATENATE(AF$2,$A36),AUX_MELT_DADES!$V:$V,0)<>0,\"X\",\"\"),\"-\")","v":"-"},{"$f":"+IFERROR(IF(MATCH(CONCATENATE(AG$2,$A36),AUX_MELT_DADES!$V:$V,0)<>0,\"X\",\"\"),\"-\")","v":"-"},{"$f":"+IFERROR(IF(MATCH(CONCATENATE(AH$2,$A36),AUX_MELT_DADES!$V:$V,0)<>0,\"X\",\"\"),\"-\")","v":"-"},{"$f":"+IFERROR(IF(MATCH(CONCATENATE(AI$2,$A36),AUX_MELT_DADES!$V:$V,0)<>0,\"X\",\"\"),\"-\")","v":"-"},{"$f":"+IFERROR(IF(MATCH(CONCATENATE(AJ$2,$A36),AUX_MELT_DADES!$V:$V,0)<>0,\"X\",\"\"),\"-\")","v":"-"},{"$f":"+IFERROR(IF(MATCH(CONCATENATE(AK$2,$A36),AUX_MELT_DADES!$V:$V,0)<>0,\"X\",\"\"),\"-\")","v":"-"},{"$f":"+IFERROR(IF(MATCH(CONCATENATE(AL$2,$A36),AUX_MELT_DADES!$V:$V,0)<>0,\"X\",\"\"),\"-\")","v":"X"},{"$f":"IFERROR(VLOOKUP(A36,AUX_PIVOT_MELT!$A$4:$B$250,2,FALSE),\"\")","v":0},false,false,false,false,"-"]
["[op.ext.3]H",35,"[op.ext.3]","Marc Operacional","Serveis externs","Mitjans alternatius",null,null,"X",null,null,null,null,null,"H","Cal preveure que el servei estigui proveït amb mitjans alternatius, si el servei contractat no està disponible. El servei alternatiu ha d’oferir les mateixes garanties.",null,"NO",{"$f":"IFERROR(VLOOKUP(A37,AUX_PIVOT_MELT!$A$4:$B$250,2,FALSE),\"\")","v":0},null,null,null,null,{"$f":"+IFERROR(IF(MATCH(CONCATENATE(X$2,$A37),AUX_MELT_DADES!$V:$V,0)<>0,\"X\",\"\"),\"-\")","v":"-"},{"$f":"+IFERROR(IF(MATCH(CONCATENATE(Y$2,$A37),AUX_MELT_DADES!$V:$V,0)<>0,\"X\",\"\"),\"-\")","v":"-"},{"$f":"+IFERROR(IF(MATCH(CONCATENATE(Z$2,$A37),AUX_MELT_DADES!$V:$V,0)<>0,\"X\",\"\"),\"-\")","v":"-"},{"$f":"+IFERROR(IF(MATCH(CONCATENATE(AA$2,$A37),AUX_MELT_DADES!$V:$V,0)<>0,\"X\",\"\"),\"-\")","v":"-"},{"$f":"+IFERROR(IF(MATCH(CONCATENATE(AB$2,$A37),AUX_MELT_DADES!$V:$V,0)<>0,\"X\",\"\"),\"-\")","v":"-"},{"$f":"+IFERROR(IF(MATCH(CONCATENATE(AC$2,$A37),AUX_MELT_DADES!$V:$V,0)<>0,\"X\",\"\"),\"-\")","v":"-"},{"$f":"+IFERROR(IF(MATCH(CONCATENATE(AD$2,$A37),AUX_MELT_DADES!$V:$V,0)<>0,\"X\",\"\"),\"-\")","v":"-"},{"$f":"+IFERROR(IF(MATCH(CONCATENATE(AE$2,$A37),AUX_MELT_DADES!$V:$V,0)<>0,\"X\",\"\"),\"-\")","v":"-"},{"$f":"+IFERROR(IF(MATCH(CONCATENATE(AF$2,$A37),AUX_MELT_DADES!$V:$V,0)<>0,\"X\",\"\"),\"-\")","v":"-"},{"$f":"+IFERROR(IF(MATCH(CONCATENATE(AG$2,$A37),AUX_MELT_DADES!$V:$V,0)<>0,\"X\",\"\"),\"-\")","v":"-"},{"$f":"+IFERROR(IF(MATCH(CONCATENATE(AH$2,$A37),AUX_MELT_DADES!$V:$V,0)<>0,\"X\",\"\"),\"-\")","v":"-"},{"$f":"+IFERROR(IF(MATCH(CONCATENATE(AI$2,$A37),AUX_MELT_DADES!$V:$V,0)<>0,\"X\",\"\"),\"-\")","v":"-"},{"$f":"+IFERROR(IF(MATCH(CONCATENATE(AJ$2,$A37),AUX_MELT_DADES!$V:$V,0)<>0,\"X\",\"\"),\"-\")","v":"-"},{"$f":"+IFERROR(IF(MATCH(CONCATENATE(AK$2,$A37),AUX_MELT_DADES!$V:$V,0)<>0,\"X\",\"\"),\"-\")","v":"-"},{"$f":"+IFERROR(IF(MATCH(CONCATENATE(AL$2,$A37),AUX_MELT_DADES!$V:$V,0)<>0,\"X\",\"\"),\"-\")","v":"X"},{"$f":"IFERROR(VLOOKUP(A37,AUX_PIVOT_MELT!$A$4:$B$250,2,FALSE),\"\")","v":0},false,false,false,false,"-"]
["[op.cont.1]MH",36,"[op.cont.1]","Marc Operacional","Continuïtat del servei","Continuïtat del servei",null,null,"X",null,null,null,null,"M","H","Cal fer una anàlisi del següent:\n•\tRequeriments de disponibilitat de cada servei, segons el seu impacte.\n•\tElements crítics per a cada servei.",null,"NO",{"$f":"IFERROR(VLOOKUP(A38,AUX_PIVOT_MELT!$A$4:$B$250,2,FALSE),\"\")","v":0},null,null,null,null,{"$f":"+IFERROR(IF(MATCH(CONCATENATE(X$2,$A38),AUX_MELT_DADES!$V:$V,0)<>0,\"X\",\"\"),\"-\")","v":"-"},{"$f":"+IFERROR(IF(MATCH(CONCATENATE(Y$2,$A38),AUX_MELT_DADES!$V:$V,0)<>0,\"X\",\"\"),\"-\")","v":"-"},{"$f":"+IFERROR(IF(MATCH(CONCATENATE(Z$2,$A38),AUX_MELT_DADES!$V:$V,0)<>0,\"X\",\"\"),\"-\")","v":"X"},{"$f":"+IFERROR(IF(MATCH(CONCATENATE(AA$2,$A38),AUX_MELT_DADES!$V:$V,0)<>0,\"X\",\"\"),\"-\")","v":"-"},{"$f":"+IFERROR(IF(MATCH(CONCATENATE(AB$2,$A38),AUX_MELT_DADES!$V:$V,0)<>0,\"X\",\"\"),\"-\")","v":"-"},{"$f":"+IFERROR(IF(MATCH(CONCATENATE(AC$2,$A38),AUX_MELT_DADES!$V:$V,0)<>0,\"X\",\"\"),\"-\")","v":"-"},{"$f":"+IFERROR(IF(MATCH(CONCATENATE(AD$2,$A38),AUX_MELT_DADES!$V:$V,0)<>0,\"X\",\"\"),\"-\")","v":"-"},{"$f":"+IFERROR(IF(MATCH(CONCATENATE(AE$2,$A38),AUX_MELT_DADES!$V:$V,0)<>0,\"X\",\"\"),\"-\")","v":"-"},{"$f":"+IFERROR(IF(MATCH(CONCATENATE(AF$2,$A38),AUX_MELT_DADES!$V:$V,0)<>0,\"X\",\"\"),\"-\")","v":"-"},{"$f":"+IFERROR(IF(MATCH(CONCATENATE(AG$2,$A38),AUX_MELT_DADES!$V:$V,0)<>0,\"X\",\"\"),\"-\")","v":"-"},{"$f":"+IFERROR(IF(MATCH(CONCATENATE(AH$2,$A38),AUX_MELT_DADES!$V:$V,0)<>0,\"X\",\"\"),\"-\")","v":"-"},{"$f":"+IFERROR(IF(MATCH(CONCATENATE(AI$2,$A38),AUX_MELT_DADES!$V:$V,0)<>0,\"X\",\"\"),\"-\")","v":"-"},{"$f":"+IFERROR(IF(MATCH(CONCATENATE(AJ$2,$A38),AUX_MELT_DADES!$V:$V,0)<>0,\"X\",\"\"),\"-\")","v":"-"},{"$f":"+IFERROR(IF(MATCH(CONCATENATE(AK$2,$A38),AUX_MELT_DADES!$V:$V,0)<>0,\"X\",\"\"),\"-\")","v":"-"},{"$f":"+IFERROR(IF(MATCH(CONCATENATE(AL$2,$A38),AUX_MELT_DADES!$V:$V,0)<>0,\"X\",\"\"),\"-\")","v":"X"},{"$f":"IFERROR(VLOOKUP(A38,AUX_PIVOT_MELT!$A$4:$B$250,2,FALSE),\"\")","v":0},false,false,false,false,"-"]
["[op.cont.2]H",37,"[op.cont.2]","Marc Operacional","Continuïtat del servei","Pla de continuïtat",null,null,"X",null,null,null,null,null,"H","Cal establir un pla de continuïtat en cas d’interrupció dels serveis oferts amb els mitjans habituals:\n•\tS’han d’identificar funcions, responsabilitats i activitats a realitzar.\n•\tCal preveure mitjans alternatius per continuar oferint els serveis.\n•\tTots els mitjans alternatius han d’estar planificats i materialitzats en contractes o acords amb els proveïdors corresponents.\n•\tTotes les persones afectades han de rebre formació específica.\n•\tEl pla de continuïtat s’ha d’integrar amb altres plans de continuïtat en matèries alienes a la seguretat.",null,"NO",{"$f":"IFERROR(VLOOKUP(A39,AUX_PIVOT_MELT!$A$4:$B$250,2,FALSE),\"\")","v":0},null,null,null,null,{"$f":"+IFERROR(IF(MATCH(CONCATENATE(X$2,$A39),AUX_MELT_DADES!$V:$V,0)<>0,\"X\",\"\"),\"-\")","v":"-"},{"$f":"+IFERROR(IF(MATCH(CONCATENATE(Y$2,$A39),AUX_MELT_DADES!$V:$V,0)<>0,\"X\",\"\"),\"-\")","v":"-"},{"$f":"+IFERROR(IF(MATCH(CONCATENATE(Z$2,$A39),AUX_MELT_DADES!$V:$V,0)<>0,\"X\",\"\"),\"-\")","v":"X"},{"$f":"+IFERROR(IF(MATCH(CONCATENATE(AA$2,$A39),AUX_MELT_DADES!$V:$V,0)<>0,\"X\",\"\"),\"-\")","v":"-"},{"$f":"+IFERROR(IF(MATCH(CONCATENATE(AB$2,$A39),AUX_MELT_DADES!$V:$V,0)<>0,\"X\",\"\"),\"-\")","v":"X"},{"$f":"+IFERROR(IF(MATCH(CONCATENATE(AC$2,$A39),AUX_MELT_DADES!$V:$V,0)<>0,\"X\",\"\"),\"-\")","v":"-"},{"$f":"+IFERROR(IF(MATCH(CONCATENATE(AD$2,$A39),AUX_MELT_DADES!$V:$V,0)<>0,\"X\",\"\"),\"-\")","v":"-"},{"$f":"+IFERROR(IF(MATCH(CONCATENATE(AE$2,$A39),AUX_MELT_DADES!$V:$V,0)<>0,\"X\",\"\"),\"-\")","v":"-"},{"$f":"+IFERROR(IF(MATCH(CONCATENATE(AF$2,$A39),AUX_MELT_DADES!$V:$V,0)<>0,\"X\",\"\"),\"-\")","v":"-"},{"$f":"+IFERROR(IF(MATCH(CONCATENATE(AG$2,$A39),AUX_MELT_DADES!$V:$V,0)<>0,\"X\",\"\"),\"-\")","v":"-"},{"$f":"+IFERROR(IF(MATCH(CONCATENATE(AH$2,$A39),AUX_MELT_DADES!$V:$V,0)<>0,\"X\",\"\"),\"-\")","v":"-"},{"$f":"+IFERROR(IF(MATCH(CONCATENATE(AI$2,$A39),AUX_MELT_DADES!$V:$V,0)<>0,\"X\",\"\"),\"-\")","v":"-"},{"$f":"+IFERROR(IF(MATCH(CONCATENATE(AJ$2,$A39),AUX_MELT_DADES!$V:$V,0)<>0,\"X\",\"\"),\"-\")","v":"-"},{"$f":"+IFERROR(IF(MATCH(CONCATENATE(AK$2,$A39),AUX_MELT_DADES!$V:$V,0)<>0,\"X\",\"\"),\"-\")","v":"-"},{"$f":"+IFERROR(IF(MATCH(CONCATENATE(AL$2,$A39),AUX_MELT_DADES!$V:$V,0)<>0,\"X\",\"\"),\"-\")","v":"-"},{"$f":"IFERROR(VLOOKUP(A39,AUX_PIVOT_MELT!$A$4:$B$250,2,FALSE),\"\")","v":0},false,false,false,false,"-"]
["[op.cont.3]H",38,"[op.cont.3]","Marc Operacional","Continuïtat del servei","Proves periòdiques",null,null,"X",null,null,null,null,null,"H","Cal fer proves periòdiques per detectar i corregir els errors o les deficiències que hi pugui haver al pla de continuïtat.",null,"NO",{"$f":"IFERROR(VLOOKUP(A40,AUX_PIVOT_MELT!$A$4:$B$250,2,FALSE),\"\")","v":0},null,null,null,null,{"$f":"+IFERROR(IF(MATCH(CONCATENATE(X$2,$A40),AUX_MELT_DADES!$V:$V,0)<>0,\"X\",\"\"),\"-\")","v":"-"},{"$f":"+IFERROR(IF(MATCH(CONCATENATE(Y$2,$A40),AUX_MELT_DADES!$V:$V,0)<>0,\"X\",\"\"),\"-\")","v":"-"},{"$f":"+IFERROR(IF(MATCH(CONCATENATE(Z$2,$A40),AUX_MELT_DADES!$V:$V,0)<>0,\"X\",\"\"),\"-\")","v":"X"},{"$f":"+IFERROR(IF(MATCH(CONCATENATE(AA$2,$A40),AUX_MELT_DADES!$V:$V,0)<>0,\"X\",\"\"),\"-\")","v":"-"},{"$f":"+IFERROR(IF(MATCH(CONCATENATE(AB$2,$A40),AUX_MELT_DADES!$V:$V,0)<>0,\"X\",\"\"),\"-\")","v":"X"},{"$f":"+IFERROR(IF(MATCH(CONCATENATE(AC$2,$A40),AUX_MELT_DADES!$V:$V,0)<>0,\"X\",\"\"),\"-\")","v":"-"},{"$f":"+IFERROR(IF(MATCH(CONCATENATE(AD$2,$A40),AUX_MELT_DADES!$V:$V,0)<>0,\"X\",\"\"),\"-\")","v":"-"},{"$f":"+IFERROR(IF(MATCH(CONCATENATE(AE$2,$A40),AUX_MELT_DADES!$V:$V,0)<>0,\"X\",\"\"),\"-\")","v":"-"},{"$f":"+IFERROR(IF(MATCH(CONCATENATE(AF$2,$A40),AUX_MELT_DADES!$V:$V,0)<>0,\"X\",\"\"),\"-\")","v":"-"},{"$f":"+IFERROR(IF(MATCH(CONCATENATE(AG$2,$A40),AUX_MELT_DADES!$V:$V,0)<>0,\"X\",\"\"),\"-\")","v":"-"},{"$f":"+IFERROR(IF(MATCH(CONCATENATE(AH$2,$A40),AUX_MELT_DADES!$V:$V,0)<>0,\"X\",\"\"),\"-\")","v":"-"},{"$f":"+IFERROR(IF(MATCH(CONCATENATE(AI$2,$A40),AUX_MELT_DADES!$V:$V,0)<>0,\"X\",\"\"),\"-\")","v":"-"},{"$f":"+IFERROR(IF(MATCH(CONCATENATE(AJ$2,$A40),AUX_MELT_DADES!$V:$V,0)<>0,\"X\",\"\"),\"-\")","v":"-"},{"$f":"+IFERROR(IF(MATCH(CONCATENATE(AK$2,$A40),AUX_MELT_DADES!$V:$V,0)<>0,\"X\",\"\"),\"-\")","v":"-"},{"$f":"+IFERROR(IF(MATCH(CONCATENATE(AL$2,$A40),AUX_MELT_DADES!$V:$V,0)<>0,\"X\",\"\"),\"-\")","v":"-"},{"$f":"IFERROR(VLOOKUP(A40,AUX_PIVOT_MELT!$A$4:$B$250,2,FALSE),\"\")","v":0},false,false,false,false,"-"]
["[op.mon.1]H",39,"[op.mon.1]","Marc Operacional","Monitorització del sistema","Detecció d’intrusions",null,null,null,null,null,"X",null,null,"H","Cal disposar d’eines de detecció i prevenció d’intrusions.",null,"NO",{"$f":"IFERROR(VLOOKUP(A41,AUX_PIVOT_MELT!$A$4:$B$250,2,FALSE),\"\")","v":0},null,null,null,null,{"$f":"+IFERROR(IF(MATCH(CONCATENATE(X$2,$A41),AUX_MELT_DADES!$V:$V,0)<>0,\"X\",\"\"),\"-\")","v":"X"},{"$f":"+IFERROR(IF(MATCH(CONCATENATE(Y$2,$A41),AUX_MELT_DADES!$V:$V,0)<>0,\"X\",\"\"),\"-\")","v":"-"},{"$f":"+IFERROR(IF(MATCH(CONCATENATE(Z$2,$A41),AUX_MELT_DADES!$V:$V,0)<>0,\"X\",\"\"),\"-\")","v":"-"},{"$f":"+IFERROR(IF(MATCH(CONCATENATE(AA$2,$A41),AUX_MELT_DADES!$V:$V,0)<>0,\"X\",\"\"),\"-\")","v":"-"},{"$f":"+IFERROR(IF(MATCH(CONCATENATE(AB$2,$A41),AUX_MELT_DADES!$V:$V,0)<>0,\"X\",\"\"),\"-\")","v":"X"},{"$f":"+IFERROR(IF(MATCH(CONCATENATE(AC$2,$A41),AUX_MELT_DADES!$V:$V,0)<>0,\"X\",\"\"),\"-\")","v":"-"},{"$f":"+IFERROR(IF(MATCH(CONCATENATE(AD$2,$A41),AUX_MELT_DADES!$V:$V,0)<>0,\"X\",\"\"),\"-\")","v":"X"},{"$f":"+IFERROR(IF(MATCH(CONCATENATE(AE$2,$A41),AUX_MELT_DADES!$V:$V,0)<>0,\"X\",\"\"),\"-\")","v":"X"},{"$f":"+IFERROR(IF(MATCH(CONCATENATE(AF$2,$A41),AUX_MELT_DADES!$V:$V,0)<>0,\"X\",\"\"),\"-\")","v":"-"},{"$f":"+IFERROR(IF(MATCH(CONCATENATE(AG$2,$A41),AUX_MELT_DADES!$V:$V,0)<>0,\"X\",\"\"),\"-\")","v":"-"},{"$f":"+IFERROR(IF(MATCH(CONCATENATE(AH$2,$A41),AUX_MELT_DADES!$V:$V,0)<>0,\"X\",\"\"),\"-\")","v":"-"},{"$f":"+IFERROR(IF(MATCH(CONCATENATE(AI$2,$A41),AUX_MELT_DADES!$V:$V,0)<>0,\"X\",\"\"),\"-\")","v":"-"},{"$f":"+IFERROR(IF(MATCH(CONCATENATE(AJ$2,$A41),AUX_MELT_DADES!$V:$V,0)<>0,\"X\",\"\"),\"-\")","v":"-"},{"$f":"+IFERROR(IF(MATCH(CONCATENATE(AK$2,$A41),AUX_MELT_DADES!$V:$V,0)<>0,\"X\",\"\"),\"-\")","v":"-"},{"$f":"+IFERROR(IF(MATCH(CONCATENATE(AL$2,$A41),AUX_MELT_DADES!$V:$V,0)<>0,\"X\",\"\"),\"-\")","v":"-"},{"$f":"IFERROR(VLOOKUP(A41,AUX_PIVOT_MELT!$A$4:$B$250,2,FALSE),\"\")","v":0},false,false,false,false,"-"]
["[op.mon.2]H",40,"[op.mon.2]","Marc Operacional","Monitorització del sistema","Sistema de mètriques",null,null,null,null,null,"X",null,null,"H","Cal establir un conjunt d’indicadors que mesuri la seguretat del sistema en els aspectes següents:\n•\tGrau d’implantació de les mesures de seguretat.\n•\tEficàcia i eficiència de les mesures de  seguretat.\n•\tImpacte dels incidents de seguretat.",null,"NO",{"$f":"IFERROR(VLOOKUP(A42,AUX_PIVOT_MELT!$A$4:$B$250,2,FALSE),\"\")","v":0},null,null,null,null,{"$f":"+IFERROR(IF(MATCH(CONCATENATE(X$2,$A42),AUX_MELT_DADES!$V:$V,0)<>0,\"X\",\"\"),\"-\")","v":"-"},{"$f":"+IFERROR(IF(MATCH(CONCATENATE(Y$2,$A42),AUX_MELT_DADES!$V:$V,0)<>0,\"X\",\"\"),\"-\")","v":"-"},{"$f":"+IFERROR(IF(MATCH(CONCATENATE(Z$2,$A42),AUX_MELT_DADES!$V:$V,0)<>0,\"X\",\"\"),\"-\")","v":"-"},{"$f":"+IFERROR(IF(MATCH(CONCATENATE(AA$2,$A42),AUX_MELT_DADES!$V:$V,0)<>0,\"X\",\"\"),\"-\")","v":"-"},{"$f":"+IFERROR(IF(MATCH(CONCATENATE(AB$2,$A42),AUX_MELT_DADES!$V:$V,0)<>0,\"X\",\"\"),\"-\")","v":"X"},{"$f":"+IFERROR(IF(MATCH(CONCATENATE(AC$2,$A42),AUX_MELT_DADES!$V:$V,0)<>0,\"X\",\"\"),\"-\")","v":"-"},{"$f":"+IFERROR(IF(MATCH(CONCATENATE(AD$2,$A42),AUX_MELT_DADES!$V:$V,0)<>0,\"X\",\"\"),\"-\")","v":"-"},{"$f":"+IFERROR(IF(MATCH(CONCATENATE(AE$2,$A42),AUX_MELT_DADES!$V:$V,0)<>0,\"X\",\"\"),\"-\")","v":"-"},{"$f":"+IFERROR(IF(MATCH(CONCATENATE(AF$2,$A42),AUX_MELT_DADES!$V:$V,0)<>0,\"X\",\"\"),\"-\")","v":"-"},{"$f":"+IFERROR(IF(MATCH(CONCATENATE(AG$2,$A42),AUX_MELT_DADES!$V:$V,0)<>0,\"X\",\"\"),\"-\")","v":"-"},{"$f":"+IFERROR(IF(MATCH(CONCATENATE(AH$2,$A42),AUX_MELT_DADES!$V:$V,0)<>0,\"X\",\"\"),\"-\")","v":"-"},{"$f":"+IFERROR(IF(MATCH(CONCATENATE(AI$2,$A42),AUX_MELT_DADES!$V:$V,0)<>0,\"X\",\"\"),\"-\")","v":"-"},{"$f":"+IFERROR(IF(MATCH(CONCATENATE(AJ$2,$A42),AUX_MELT_DADES!$V:$V,0)<>0,\"X\",\"\"),\"-\")","v":"-"},{"$f":"+IFERROR(IF(MATCH(CONCATENATE(AK$2,$A42),AUX_MELT_DADES!$V:$V,0)<>0,\"X\",\"\"),\"-\")","v":"-"},{"$f":"+IFERROR(IF(MATCH(CONCATENATE(AL$2,$A42),AUX_MELT_DADES!$V:$V,0)<>0,\"X\",\"\"),\"-\")","v":"-"},{"$f":"IFERROR(VLOOKUP(A42,AUX_PIVOT_MELT!$A$4:$B$250,2,FALSE),\"\")","v":0},false,false,false,false,"-"]
["[mp.if.1]LMH",41,"[mp.if.1]","Mesures de protecció","Protecció d'instal·lacions i infraestructures","Àrees separades i control d’accés",null,null,null,null,null,"X","L","M","H","•\tL’equipament s’ha d’instal·lar en àrees separades específiques per a la seva funció.\n•\tCal controlar l’accés a les àrees indicades, de manera que només s’hi pugui accedir per les entrades previstes i vigilades.",null,"NO",{"$f":"IFERROR(VLOOKUP(A43,AUX_PIVOT_MELT!$A$4:$B$250,2,FALSE),\"\")","v":0},null,null,null,null,{"$f":"+IFERROR(IF(MATCH(CONCATENATE(X$2,$A43),AUX_MELT_DADES!$V:$V,0)<>0,\"X\",\"\"),\"-\")","v":"-"},{"$f":"+IFERROR(IF(MATCH(CONCATENATE(Y$2,$A43),AUX_MELT_DADES!$V:$V,0)<>0,\"X\",\"\"),\"-\")","v":"-"},{"$f":"+IFERROR(IF(MATCH(CONCATENATE(Z$2,$A43),AUX_MELT_DADES!$V:$V,0)<>0,\"X\",\"\"),\"-\")","v":"-"},{"$f":"+IFERROR(IF(MATCH(CONCATENATE(AA$2,$A43),AUX_MELT_DADES!$V:$V,0)<>0,\"X\",\"\"),\"-\")","v":"-"},{"$f":"+IFERROR(IF(MATCH(CONCATENATE(AB$2,$A43),AUX_MELT_DADES!$V:$V,0)<>0,\"X\",\"\"),\"-\")","v":"-"},{"$f":"+IFERROR(IF(MATCH(CONCATENATE(AC$2,$A43),AUX_MELT_DADES!$V:$V,0)<>0,\"X\",\"\"),\"-\")","v":"-"},{"$f":"+IFERROR(IF(MATCH(CONCATENATE(AD$2,$A43),AUX_MELT_DADES!$V:$V,0)<>0,\"X\",\"\"),\"-\")","v":"X"},{"$f":"+IFERROR(IF(MATCH(CONCATENATE(AE$2,$A43),AUX_MELT_DADES!$V:$V,0)<>0,\"X\",\"\"),\"-\")","v":"-"},{"$f":"+IFERROR(IF(MATCH(CONCATENATE(AF$2,$A43),AUX_MELT_DADES!$V:$V,0)<>0,\"X\",\"\"),\"-\")","v":"X"},{"$f":"+IFERROR(IF(MATCH(CONCATENATE(AG$2,$A43),AUX_MELT_DADES!$V:$V,0)<>0,\"X\",\"\"),\"-\")","v":"-"},{"$f":"+IFERROR(IF(MATCH(CONCATENATE(AH$2,$A43),AUX_MELT_DADES!$V:$V,0)<>0,\"X\",\"\"),\"-\")","v":"-"},{"$f":"+IFERROR(IF(MATCH(CONCATENATE(AI$2,$A43),AUX_MELT_DADES!$V:$V,0)<>0,\"X\",\"\"),\"-\")","v":"-"},{"$f":"+IFERROR(IF(MATCH(CONCATENATE(AJ$2,$A43),AUX_MELT_DADES!$V:$V,0)<>0,\"X\",\"\"),\"-\")","v":"-"},{"$f":"+IFERROR(IF(MATCH(CONCATENATE(AK$2,$A43),AUX_MELT_DADES!$V:$V,0)<>0,\"X\",\"\"),\"-\")","v":"-"},{"$f":"+IFERROR(IF(MATCH(CONCATENATE(AL$2,$A43),AUX_MELT_DADES!$V:$V,0)<>0,\"X\",\"\"),\"-\")","v":"-"},{"$f":"IFERROR(VLOOKUP(A43,AUX_PIVOT_MELT!$A$4:$B$250,2,FALSE),\"\")","v":0},false,false,false,false,"-"]
["[mp.if.2]LMH",42,"[mp.if.2]","Mesures de protecció","Protecció d'instal·lacions i infraestructures","Identificació de les persones",null,null,null,null,null,"X","L","M","H","•\tCal identificar totes les persones que accedeixen als locals on hi hagi equipament del sistema informàtic.\n•\tCal registrar l’entrada i la sortida de persones.",null,"NO",{"$f":"IFERROR(VLOOKUP(A44,AUX_PIVOT_MELT!$A$4:$B$250,2,FALSE),\"\")","v":0},null,null,null,null,{"$f":"+IFERROR(IF(MATCH(CONCATENATE(X$2,$A44),AUX_MELT_DADES!$V:$V,0)<>0,\"X\",\"\"),\"-\")","v":"-"},{"$f":"+IFERROR(IF(MATCH(CONCATENATE(Y$2,$A44),AUX_MELT_DADES!$V:$V,0)<>0,\"X\",\"\"),\"-\")","v":"-"},{"$f":"+IFERROR(IF(MATCH(CONCATENATE(Z$2,$A44),AUX_MELT_DADES!$V:$V,0)<>0,\"X\",\"\"),\"-\")","v":"-"},{"$f":"+IFERROR(IF(MATCH(CONCATENATE(AA$2,$A44),AUX_MELT_DADES!$V:$V,0)<>0,\"X\",\"\"),\"-\")","v":"-"},{"$f":"+IFERROR(IF(MATCH(CONCATENATE(AB$2,$A44),AUX_MELT_DADES!$V:$V,0)<>0,\"X\",\"\"),\"-\")","v":"-"},{"$f":"+IFERROR(IF(MATCH(CONCATENATE(AC$2,$A44),AUX_MELT_DADES!$V:$V,0)<>0,\"X\",\"\"),\"-\")","v":"-"},{"$f":"+IFERROR(IF(MATCH(CONCATENATE(AD$2,$A44),AUX_MELT_DADES!$V:$V,0)<>0,\"X\",\"\"),\"-\")","v":"X"},{"$f":"+IFERROR(IF(MATCH(CONCATENATE(AE$2,$A44),AUX_MELT_DADES!$V:$V,0)<>0,\"X\",\"\"),\"-\")","v":"-"},{"$f":"+IFERROR(IF(MATCH(CONCATENATE(AF$2,$A44),AUX_MELT_DADES!$V:$V,0)<>0,\"X\",\"\"),\"-\")","v":"X"},{"$f":"+IFERROR(IF(MATCH(CONCATENATE(AG$2,$A44),AUX_MELT_DADES!$V:$V,0)<>0,\"X\",\"\"),\"-\")","v":"-"},{"$f":"+IFERROR(IF(MATCH(CONCATENATE(AH$2,$A44),AUX_MELT_DADES!$V:$V,0)<>0,\"X\",\"\"),\"-\")","v":"-"},{"$f":"+IFERROR(IF(MATCH(CONCATENATE(AI$2,$A44),AUX_MELT_DADES!$V:$V,0)<>0,\"X\",\"\"),\"-\")","v":"-"},{"$f":"+IFERROR(IF(MATCH(CONCATENATE(AJ$2,$A44),AUX_MELT_DADES!$V:$V,0)<>0,\"X\",\"\"),\"-\")","v":"-"},{"$f":"+IFERROR(IF(MATCH(CONCATENATE(AK$2,$A44),AUX_MELT_DADES!$V:$V,0)<>0,\"X\",\"\"),\"-\")","v":"-"},{"$f":"+IFERROR(IF(MATCH(CONCATENATE(AL$2,$A44),AUX_MELT_DADES!$V:$V,0)<>0,\"X\",\"\"),\"-\")","v":"-"},{"$f":"IFERROR(VLOOKUP(A44,AUX_PIVOT_MELT!$A$4:$B$250,2,FALSE),\"\")","v":0},false,false,false,false,"-"]
["[mp.if.3]LMH",43,"[mp.if.3]","Mesures de protecció","Protecció d'instal·lacions i infraestructures","Condicionament dels locals",null,null,null,null,null,"X","L","M","H","Els locals on s’ubiquen els sistemes d’informació i els seus components han de disposar d’elements adequats per fer eficaç el funcionament de l’equipament instal·lat.\n•\tCondicions de temperatura i humitat.\n•\tProtecció contra les amenaces identificades a l’anàlisi de risc.\n•\tProtecció del cablejat contra incidents fortuïts o deliberats.",null,"NO",{"$f":"IFERROR(VLOOKUP(A45,AUX_PIVOT_MELT!$A$4:$B$250,2,FALSE),\"\")","v":0},null,null,null,null,{"$f":"+IFERROR(IF(MATCH(CONCATENATE(X$2,$A45),AUX_MELT_DADES!$V:$V,0)<>0,\"X\",\"\"),\"-\")","v":"-"},{"$f":"+IFERROR(IF(MATCH(CONCATENATE(Y$2,$A45),AUX_MELT_DADES!$V:$V,0)<>0,\"X\",\"\"),\"-\")","v":"-"},{"$f":"+IFERROR(IF(MATCH(CONCATENATE(Z$2,$A45),AUX_MELT_DADES!$V:$V,0)<>0,\"X\",\"\"),\"-\")","v":"-"},{"$f":"+IFERROR(IF(MATCH(CONCATENATE(AA$2,$A45),AUX_MELT_DADES!$V:$V,0)<>0,\"X\",\"\"),\"-\")","v":"-"},{"$f":"+IFERROR(IF(MATCH(CONCATENATE(AB$2,$A45),AUX_MELT_DADES!$V:$V,0)<>0,\"X\",\"\"),\"-\")","v":"-"},{"$f":"+IFERROR(IF(MATCH(CONCATENATE(AC$2,$A45),AUX_MELT_DADES!$V:$V,0)<>0,\"X\",\"\"),\"-\")","v":"-"},{"$f":"+IFERROR(IF(MATCH(CONCATENATE(AD$2,$A45),AUX_MELT_DADES!$V:$V,0)<>0,\"X\",\"\"),\"-\")","v":"-"},{"$f":"+IFERROR(IF(MATCH(CONCATENATE(AE$2,$A45),AUX_MELT_DADES!$V:$V,0)<>0,\"X\",\"\"),\"-\")","v":"-"},{"$f":"+IFERROR(IF(MATCH(CONCATENATE(AF$2,$A45),AUX_MELT_DADES!$V:$V,0)<>0,\"X\",\"\"),\"-\")","v":"X"},{"$f":"+IFERROR(IF(MATCH(CONCATENATE(AG$2,$A45),AUX_MELT_DADES!$V:$V,0)<>0,\"X\",\"\"),\"-\")","v":"-"},{"$f":"+IFERROR(IF(MATCH(CONCATENATE(AH$2,$A45),AUX_MELT_DADES!$V:$V,0)<>0,\"X\",\"\"),\"-\")","v":"-"},{"$f":"+IFERROR(IF(MATCH(CONCATENATE(AI$2,$A45),AUX_MELT_DADES!$V:$V,0)<>0,\"X\",\"\"),\"-\")","v":"-"},{"$f":"+IFERROR(IF(MATCH(CONCATENATE(AJ$2,$A45),AUX_MELT_DADES!$V:$V,0)<>0,\"X\",\"\"),\"-\")","v":"-"},{"$f":"+IFERROR(IF(MATCH(CONCATENATE(AK$2,$A45),AUX_MELT_DADES!$V:$V,0)<>0,\"X\",\"\"),\"-\")","v":"-"},{"$f":"+IFERROR(IF(MATCH(CONCATENATE(AL$2,$A45),AUX_MELT_DADES!$V:$V,0)<>0,\"X\",\"\"),\"-\")","v":"-"},{"$f":"IFERROR(VLOOKUP(A45,AUX_PIVOT_MELT!$A$4:$B$250,2,FALSE),\"\")","v":0},false,false,false,false,"-"]
["[mp.if.4]L",44,"[mp.if.4]","Mesures de protecció","Protecció d'instal·lacions i infraestructures","Energia elèctrica",null,null,"X",null,null,null,"L",null,null,"Els locals on s’ubiquen els sistemes d’informació i els seus components han de disposar de l’energia elèctrica necessària per funcionar, de manera que es garanteixi:\n•\tEl subministrament d’energia elèctrica.\n•\tEl funcionament correcte dels llums d’emergència.",null,"NO",{"$f":"IFERROR(VLOOKUP(A46,AUX_PIVOT_MELT!$A$4:$B$250,2,FALSE),\"\")","v":0},null,null,null,null,{"$f":"+IFERROR(IF(MATCH(CONCATENATE(X$2,$A46),AUX_MELT_DADES!$V:$V,0)<>0,\"X\",\"\"),\"-\")","v":"-"},{"$f":"+IFERROR(IF(MATCH(CONCATENATE(Y$2,$A46),AUX_MELT_DADES!$V:$V,0)<>0,\"X\",\"\"),\"-\")","v":"-"},{"$f":"+IFERROR(IF(MATCH(CONCATENATE(Z$2,$A46),AUX_MELT_DADES!$V:$V,0)<>0,\"X\",\"\"),\"-\")","v":"-"},{"$f":"+IFERROR(IF(MATCH(CONCATENATE(AA$2,$A46),AUX_MELT_DADES!$V:$V,0)<>0,\"X\",\"\"),\"-\")","v":"-"},{"$f":"+IFERROR(IF(MATCH(CONCATENATE(AB$2,$A46),AUX_MELT_DADES!$V:$V,0)<>0,\"X\",\"\"),\"-\")","v":"-"},{"$f":"+IFERROR(IF(MATCH(CONCATENATE(AC$2,$A46),AUX_MELT_DADES!$V:$V,0)<>0,\"X\",\"\"),\"-\")","v":"-"},{"$f":"+IFERROR(IF(MATCH(CONCATENATE(AD$2,$A46),AUX_MELT_DADES!$V:$V,0)<>0,\"X\",\"\"),\"-\")","v":"-"},{"$f":"+IFERROR(IF(MATCH(CONCATENATE(AE$2,$A46),AUX_MELT_DADES!$V:$V,0)<>0,\"X\",\"\"),\"-\")","v":"-"},{"$f":"+IFERROR(IF(MATCH(CONCATENATE(AF$2,$A46),AUX_MELT_DADES!$V:$V,0)<>0,\"X\",\"\"),\"-\")","v":"X"},{"$f":"+IFERROR(IF(MATCH(CONCATENATE(AG$2,$A46),AUX_MELT_DADES!$V:$V,0)<>0,\"X\",\"\"),\"-\")","v":"-"},{"$f":"+IFERROR(IF(MATCH(CONCATENATE(AH$2,$A46),AUX_MELT_DADES!$V:$V,0)<>0,\"X\",\"\"),\"-\")","v":"-"},{"$f":"+IFERROR(IF(MATCH(CONCATENATE(AI$2,$A46),AUX_MELT_DADES!$V:$V,0)<>0,\"X\",\"\"),\"-\")","v":"-"},{"$f":"+IFERROR(IF(MATCH(CONCATENATE(AJ$2,$A46),AUX_MELT_DADES!$V:$V,0)<>0,\"X\",\"\"),\"-\")","v":"-"},{"$f":"+IFERROR(IF(MATCH(CONCATENATE(AK$2,$A46),AUX_MELT_DADES!$V:$V,0)<>0,\"X\",\"\"),\"-\")","v":"-"},{"$f":"+IFERROR(IF(MATCH(CONCATENATE(AL$2,$A46),AUX_MELT_DADES!$V:$V,0)<>0,\"X\",\"\"),\"-\")","v":"-"},{"$f":"IFERROR(VLOOKUP(A46,AUX_PIVOT_MELT!$A$4:$B$250,2,FALSE),\"\")","v":0},false,false,false,false,"-"]
["[mp.if.4]MH",45,"[mp.if.4]","Mesures de protecció","Protecció d'instal·lacions i infraestructures","Energia elèctrica",null,null,"X",null,null,null,null,"M","H","Els locals on s’ubiquen els sistemes d’informació i els seus components han de disposar de l’energia elèctrica necessària per funcionar, de manera que es garanteixi:\n•\tEl subministrament d’energia elèctrica.\n•\tEl funcionament correcte dels llums d’emergència.\nEn cas de fallada del subministrament general, cal garantir el subministrament elèctric dels sistemes, amb el temps suficient per fer una apagada ordenada i salvaguardant la informació.",null,"NO",{"$f":"IFERROR(VLOOKUP(A47,AUX_PIVOT_MELT!$A$4:$B$250,2,FALSE),\"\")","v":0},null,null,null,null,{"$f":"+IFERROR(IF(MATCH(CONCATENATE(X$2,$A47),AUX_MELT_DADES!$V:$V,0)<>0,\"X\",\"\"),\"-\")","v":"-"},{"$f":"+IFERROR(IF(MATCH(CONCATENATE(Y$2,$A47),AUX_MELT_DADES!$V:$V,0)<>0,\"X\",\"\"),\"-\")","v":"-"},{"$f":"+IFERROR(IF(MATCH(CONCATENATE(Z$2,$A47),AUX_MELT_DADES!$V:$V,0)<>0,\"X\",\"\"),\"-\")","v":"-"},{"$f":"+IFERROR(IF(MATCH(CONCATENATE(AA$2,$A47),AUX_MELT_DADES!$V:$V,0)<>0,\"X\",\"\"),\"-\")","v":"-"},{"$f":"+IFERROR(IF(MATCH(CONCATENATE(AB$2,$A47),AUX_MELT_DADES!$V:$V,0)<>0,\"X\",\"\"),\"-\")","v":"-"},{"$f":"+IFERROR(IF(MATCH(CONCATENATE(AC$2,$A47),AUX_MELT_DADES!$V:$V,0)<>0,\"X\",\"\"),\"-\")","v":"-"},{"$f":"+IFERROR(IF(MATCH(CONCATENATE(AD$2,$A47),AUX_MELT_DADES!$V:$V,0)<>0,\"X\",\"\"),\"-\")","v":"-"},{"$f":"+IFERROR(IF(MATCH(CONCATENATE(AE$2,$A47),AUX_MELT_DADES!$V:$V,0)<>0,\"X\",\"\"),\"-\")","v":"-"},{"$f":"+IFERROR(IF(MATCH(CONCATENATE(AF$2,$A47),AUX_MELT_DADES!$V:$V,0)<>0,\"X\",\"\"),\"-\")","v":"X"},{"$f":"+IFERROR(IF(MATCH(CONCATENATE(AG$2,$A47),AUX_MELT_DADES!$V:$V,0)<>0,\"X\",\"\"),\"-\")","v":"-"},{"$f":"+IFERROR(IF(MATCH(CONCATENATE(AH$2,$A47),AUX_MELT_DADES!$V:$V,0)<>0,\"X\",\"\"),\"-\")","v":"-"},{"$f":"+IFERROR(IF(MATCH(CONCATENATE(AI$2,$A47),AUX_MELT_DADES!$V:$V,0)<>0,\"X\",\"\"),\"-\")","v":"-"},{"$f":"+IFERROR(IF(MATCH(CONCATENATE(AJ$2,$A47),AUX_MELT_DADES!$V:$V,0)<>0,\"X\",\"\"),\"-\")","v":"-"},{"$f":"+IFERROR(IF(MATCH(CONCATENATE(AK$2,$A47),AUX_MELT_DADES!$V:$V,0)<>0,\"X\",\"\"),\"-\")","v":"-"},{"$f":"+IFERROR(IF(MATCH(CONCATENATE(AL$2,$A47),AUX_MELT_DADES!$V:$V,0)<>0,\"X\",\"\"),\"-\")","v":"-"},{"$f":"IFERROR(VLOOKUP(A47,AUX_PIVOT_MELT!$A$4:$B$250,2,FALSE),\"\")","v":0},false,false,false,false,"-"]
["[mp.if.5]LMH",46,"[mp.if.5]","Mesures de protecció","Protecció d'instal·lacions i infraestructures","Protecció contra incendis",null,null,"X",null,null,null,"L","M","H","Els locals on s’ubiquen els sistemes d’informació i els seus components s’han de protegir contra incendis fortuïts o deliberats.",null,"NO",{"$f":"IFERROR(VLOOKUP(A48,AUX_PIVOT_MELT!$A$4:$B$250,2,FALSE),\"\")","v":0},null,null,null,null,{"$f":"+IFERROR(IF(MATCH(CONCATENATE(X$2,$A48),AUX_MELT_DADES!$V:$V,0)<>0,\"X\",\"\"),\"-\")","v":"-"},{"$f":"+IFERROR(IF(MATCH(CONCATENATE(Y$2,$A48),AUX_MELT_DADES!$V:$V,0)<>0,\"X\",\"\"),\"-\")","v":"-"},{"$f":"+IFERROR(IF(MATCH(CONCATENATE(Z$2,$A48),AUX_MELT_DADES!$V:$V,0)<>0,\"X\",\"\"),\"-\")","v":"-"},{"$f":"+IFERROR(IF(MATCH(CONCATENATE(AA$2,$A48),AUX_MELT_DADES!$V:$V,0)<>0,\"X\",\"\"),\"-\")","v":"-"},{"$f":"+IFERROR(IF(MATCH(CONCATENATE(AB$2,$A48),AUX_MELT_DADES!$V:$V,0)<>0,\"X\",\"\"),\"-\")","v":"-"},{"$f":"+IFERROR(IF(MATCH(CONCATENATE(AC$2,$A48),AUX_MELT_DADES!$V:$V,0)<>0,\"X\",\"\"),\"-\")","v":"-"},{"$f":"+IFERROR(IF(MATCH(CONCATENATE(AD$2,$A48),AUX_MELT_DADES!$V:$V,0)<>0,\"X\",\"\"),\"-\")","v":"-"},{"$f":"+IFERROR(IF(MATCH(CONCATENATE(AE$2,$A48),AUX_MELT_DADES!$V:$V,0)<>0,\"X\",\"\"),\"-\")","v":"-"},{"$f":"+IFERROR(IF(MATCH(CONCATENATE(AF$2,$A48),AUX_MELT_DADES!$V:$V,0)<>0,\"X\",\"\"),\"-\")","v":"X"},{"$f":"+IFERROR(IF(MATCH(CONCATENATE(AG$2,$A48),AUX_MELT_DADES!$V:$V,0)<>0,\"X\",\"\"),\"-\")","v":"-"},{"$f":"+IFERROR(IF(MATCH(CONCATENATE(AH$2,$A48),AUX_MELT_DADES!$V:$V,0)<>0,\"X\",\"\"),\"-\")","v":"-"},{"$f":"+IFERROR(IF(MATCH(CONCATENATE(AI$2,$A48),AUX_MELT_DADES!$V:$V,0)<>0,\"X\",\"\"),\"-\")","v":"-"},{"$f":"+IFERROR(IF(MATCH(CONCATENATE(AJ$2,$A48),AUX_MELT_DADES!$V:$V,0)<>0,\"X\",\"\"),\"-\")","v":"-"},{"$f":"+IFERROR(IF(MATCH(CONCATENATE(AK$2,$A48),AUX_MELT_DADES!$V:$V,0)<>0,\"X\",\"\"),\"-\")","v":"-"},{"$f":"+IFERROR(IF(MATCH(CONCATENATE(AL$2,$A48),AUX_MELT_DADES!$V:$V,0)<>0,\"X\",\"\"),\"-\")","v":"-"},{"$f":"IFERROR(VLOOKUP(A48,AUX_PIVOT_MELT!$A$4:$B$250,2,FALSE),\"\")","v":0},false,false,false,false,"-"]
["[mp.if.6]MH",47,"[mp.if.6]","Mesures de protecció","Protecció d'instal·lacions i infraestructures","Protecció contra inundacions",null,null,"X",null,null,null,null,"M","H","Els locals on s’ubiquen els sistemes d’informació i els seus components s’han de protegir contra incidents fortuïts o deliberats causats per l’aigua.",null,"NO",{"$f":"IFERROR(VLOOKUP(A49,AUX_PIVOT_MELT!$A$4:$B$250,2,FALSE),\"\")","v":0},null,null,null,null,{"$f":"+IFERROR(IF(MATCH(CONCATENATE(X$2,$A49),AUX_MELT_DADES!$V:$V,0)<>0,\"X\",\"\"),\"-\")","v":"-"},{"$f":"+IFERROR(IF(MATCH(CONCATENATE(Y$2,$A49),AUX_MELT_DADES!$V:$V,0)<>0,\"X\",\"\"),\"-\")","v":"-"},{"$f":"+IFERROR(IF(MATCH(CONCATENATE(Z$2,$A49),AUX_MELT_DADES!$V:$V,0)<>0,\"X\",\"\"),\"-\")","v":"-"},{"$f":"+IFERROR(IF(MATCH(CONCATENATE(AA$2,$A49),AUX_MELT_DADES!$V:$V,0)<>0,\"X\",\"\"),\"-\")","v":"-"},{"$f":"+IFERROR(IF(MATCH(CONCATENATE(AB$2,$A49),AUX_MELT_DADES!$V:$V,0)<>0,\"X\",\"\"),\"-\")","v":"-"},{"$f":"+IFERROR(IF(MATCH(CONCATENATE(AC$2,$A49),AUX_MELT_DADES!$V:$V,0)<>0,\"X\",\"\"),\"-\")","v":"-"},{"$f":"+IFERROR(IF(MATCH(CONCATENATE(AD$2,$A49),AUX_MELT_DADES!$V:$V,0)<>0,\"X\",\"\"),\"-\")","v":"-"},{"$f":"+IFERROR(IF(MATCH(CONCATENATE(AE$2,$A49),AUX_MELT_DADES!$V:$V,0)<>0,\"X\",\"\"),\"-\")","v":"-"},{"$f":"+IFERROR(IF(MATCH(CONCATENATE(AF$2,$A49),AUX_MELT_DADES!$V:$V,0)<>0,\"X\",\"\"),\"-\")","v":"X"},{"$f":"+IFERROR(IF(MATCH(CONCATENATE(AG$2,$A49),AUX_MELT_DADES!$V:$V,0)<>0,\"X\",\"\"),\"-\")","v":"-"},{"$f":"+IFERROR(IF(MATCH(CONCATENATE(AH$2,$A49),AUX_MELT_DADES!$V:$V,0)<>0,\"X\",\"\"),\"-\")","v":"-"},{"$f":"+IFERROR(IF(MATCH(CONCATENATE(AI$2,$A49),AUX_MELT_DADES!$V:$V,0)<>0,\"X\",\"\"),\"-\")","v":"-"},{"$f":"+IFERROR(IF(MATCH(CONCATENATE(AJ$2,$A49),AUX_MELT_DADES!$V:$V,0)<>0,\"X\",\"\"),\"-\")","v":"-"},{"$f":"+IFERROR(IF(MATCH(CONCATENATE(AK$2,$A49),AUX_MELT_DADES!$V:$V,0)<>0,\"X\",\"\"),\"-\")","v":"-"},{"$f":"+IFERROR(IF(MATCH(CONCATENATE(AL$2,$A49),AUX_MELT_DADES!$V:$V,0)<>0,\"X\",\"\"),\"-\")","v":"-"},{"$f":"IFERROR(VLOOKUP(A49,AUX_PIVOT_MELT!$A$4:$B$250,2,FALSE),\"\")","v":0},false,false,false,false,"-"]
["[mp.if.7]LMH",48,"[mp.if.7]","Mesures de protecció","Protecció d'instal·lacions i infraestructures","Registre d’entrada i de sortida d’equipament",null,null,null,null,null,"X","L","M","H","S’ha de mantenir un registre detallat de l’entrada i la sortida d’equipament, que inclogui la identificació de la persona que autoritza el moviment.",null,"NO",{"$f":"IFERROR(VLOOKUP(A50,AUX_PIVOT_MELT!$A$4:$B$250,2,FALSE),\"\")","v":0},null,null,null,null,{"$f":"+IFERROR(IF(MATCH(CONCATENATE(X$2,$A50),AUX_MELT_DADES!$V:$V,0)<>0,\"X\",\"\"),\"-\")","v":"-"},{"$f":"+IFERROR(IF(MATCH(CONCATENATE(Y$2,$A50),AUX_MELT_DADES!$V:$V,0)<>0,\"X\",\"\"),\"-\")","v":"-"},{"$f":"+IFERROR(IF(MATCH(CONCATENATE(Z$2,$A50),AUX_MELT_DADES!$V:$V,0)<>0,\"X\",\"\"),\"-\")","v":"-"},{"$f":"+IFERROR(IF(MATCH(CONCATENATE(AA$2,$A50),AUX_MELT_DADES!$V:$V,0)<>0,\"X\",\"\"),\"-\")","v":"-"},{"$f":"+IFERROR(IF(MATCH(CONCATENATE(AB$2,$A50),AUX_MELT_DADES!$V:$V,0)<>0,\"X\",\"\"),\"-\")","v":"-"},{"$f":"+IFERROR(IF(MATCH(CONCATENATE(AC$2,$A50),AUX_MELT_DADES!$V:$V,0)<>0,\"X\",\"\"),\"-\")","v":"-"},{"$f":"+IFERROR(IF(MATCH(CONCATENATE(AD$2,$A50),AUX_MELT_DADES!$V:$V,0)<>0,\"X\",\"\"),\"-\")","v":"X"},{"$f":"+IFERROR(IF(MATCH(CONCATENATE(AE$2,$A50),AUX_MELT_DADES!$V:$V,0)<>0,\"X\",\"\"),\"-\")","v":"-"},{"$f":"+IFERROR(IF(MATCH(CONCATENATE(AF$2,$A50),AUX_MELT_DADES!$V:$V,0)<>0,\"X\",\"\"),\"-\")","v":"X"},{"$f":"+IFERROR(IF(MATCH(CONCATENATE(AG$2,$A50),AUX_MELT_DADES!$V:$V,0)<>0,\"X\",\"\"),\"-\")","v":"-"},{"$f":"+IFERROR(IF(MATCH(CONCATENATE(AH$2,$A50),AUX_MELT_DADES!$V:$V,0)<>0,\"X\",\"\"),\"-\")","v":"-"},{"$f":"+IFERROR(IF(MATCH(CONCATENATE(AI$2,$A50),AUX_MELT_DADES!$V:$V,0)<>0,\"X\",\"\"),\"-\")","v":"-"},{"$f":"+IFERROR(IF(MATCH(CONCATENATE(AJ$2,$A50),AUX_MELT_DADES!$V:$V,0)<>0,\"X\",\"\"),\"-\")","v":"-"},{"$f":"+IFERROR(IF(MATCH(CONCATENATE(AK$2,$A50),AUX_MELT_DADES!$V:$V,0)<>0,\"X\",\"\"),\"-\")","v":"-"},{"$f":"+IFERROR(IF(MATCH(CONCATENATE(AL$2,$A50),AUX_MELT_DADES!$V:$V,0)<>0,\"X\",\"\"),\"-\")","v":"-"},{"$f":"IFERROR(VLOOKUP(A50,AUX_PIVOT_MELT!$A$4:$B$250,2,FALSE),\"\")","v":0},false,false,false,false,"-"]
["[mp.if.8]H",49,"[mp.if.8]","Mesures de protecció","Protecció d'instal·lacions i infraestructures","Instal·lacions alternatives",null,null,"X",null,null,null,null,null,"H","Cal garantir que hi ha instal·lacions alternatives per poder treballar, i que estan disponibles, si les habituals no estan disponibles. Les instal·lacions alternatives han de disposar de les mateixes garanties que les habituals.",null,"NO",{"$f":"IFERROR(VLOOKUP(A51,AUX_PIVOT_MELT!$A$4:$B$250,2,FALSE),\"\")","v":0},null,null,null,null,{"$f":"+IFERROR(IF(MATCH(CONCATENATE(X$2,$A51),AUX_MELT_DADES!$V:$V,0)<>0,\"X\",\"\"),\"-\")","v":"-"},{"$f":"+IFERROR(IF(MATCH(CONCATENATE(Y$2,$A51),AUX_MELT_DADES!$V:$V,0)<>0,\"X\",\"\"),\"-\")","v":"-"},{"$f":"+IFERROR(IF(MATCH(CONCATENATE(Z$2,$A51),AUX_MELT_DADES!$V:$V,0)<>0,\"X\",\"\"),\"-\")","v":"-"},{"$f":"+IFERROR(IF(MATCH(CONCATENATE(AA$2,$A51),AUX_MELT_DADES!$V:$V,0)<>0,\"X\",\"\"),\"-\")","v":"-"},{"$f":"+IFERROR(IF(MATCH(CONCATENATE(AB$2,$A51),AUX_MELT_DADES!$V:$V,0)<>0,\"X\",\"\"),\"-\")","v":"-"},{"$f":"+IFERROR(IF(MATCH(CONCATENATE(AC$2,$A51),AUX_MELT_DADES!$V:$V,0)<>0,\"X\",\"\"),\"-\")","v":"-"},{"$f":"+IFERROR(IF(MATCH(CONCATENATE(AD$2,$A51),AUX_MELT_DADES!$V:$V,0)<>0,\"X\",\"\"),\"-\")","v":"-"},{"$f":"+IFERROR(IF(MATCH(CONCATENATE(AE$2,$A51),AUX_MELT_DADES!$V:$V,0)<>0,\"X\",\"\"),\"-\")","v":"-"},{"$f":"+IFERROR(IF(MATCH(CONCATENATE(AF$2,$A51),AUX_MELT_DADES!$V:$V,0)<>0,\"X\",\"\"),\"-\")","v":"X"},{"$f":"+IFERROR(IF(MATCH(CONCATENATE(AG$2,$A51),AUX_MELT_DADES!$V:$V,0)<>0,\"X\",\"\"),\"-\")","v":"-"},{"$f":"+IFERROR(IF(MATCH(CONCATENATE(AH$2,$A51),AUX_MELT_DADES!$V:$V,0)<>0,\"X\",\"\"),\"-\")","v":"-"},{"$f":"+IFERROR(IF(MATCH(CONCATENATE(AI$2,$A51),AUX_MELT_DADES!$V:$V,0)<>0,\"X\",\"\"),\"-\")","v":"-"},{"$f":"+IFERROR(IF(MATCH(CONCATENATE(AJ$2,$A51),AUX_MELT_DADES!$V:$V,0)<>0,\"X\",\"\"),\"-\")","v":"-"},{"$f":"+IFERROR(IF(MATCH(CONCATENATE(AK$2,$A51),AUX_MELT_DADES!$V:$V,0)<>0,\"X\",\"\"),\"-\")","v":"-"},{"$f":"+IFERROR(IF(MATCH(CONCATENATE(AL$2,$A51),AUX_MELT_DADES!$V:$V,0)<>0,\"X\",\"\"),\"-\")","v":"-"},{"$f":"IFERROR(VLOOKUP(A51,AUX_PIVOT_MELT!$A$4:$B$250,2,FALSE),\"\")","v":0},false,false,false,false,"-"]
["[mp.per.1]MH",50,"[mp.per.1]","Mesures de protecció","Gestió del personal","Caracterització del lloc de treball",null,null,null,null,null,"X",null,"M","H","•\tCal definir les responsabilitats relacionades amb la seguretat en cada lloc de treball.\n•\tCal definir les condicions que han de satisfer les persones que ocupen cada lloc de treball (en particular, respecte de la confidencialitat).\n•\tCal tenir en compte les condicions anteriors en la selecció del personal, inclosa la verificació de la seva vida laboral, formació i altres dades.",null,"NO",{"$f":"IFERROR(VLOOKUP(A52,AUX_PIVOT_MELT!$A$4:$B$250,2,FALSE),\"\")","v":0},null,null,null,null,{"$f":"+IFERROR(IF(MATCH(CONCATENATE(X$2,$A52),AUX_MELT_DADES!$V:$V,0)<>0,\"X\",\"\"),\"-\")","v":"-"},{"$f":"+IFERROR(IF(MATCH(CONCATENATE(Y$2,$A52),AUX_MELT_DADES!$V:$V,0)<>0,\"X\",\"\"),\"-\")","v":"-"},{"$f":"+IFERROR(IF(MATCH(CONCATENATE(Z$2,$A52),AUX_MELT_DADES!$V:$V,0)<>0,\"X\",\"\"),\"-\")","v":"-"},{"$f":"+IFERROR(IF(MATCH(CONCATENATE(AA$2,$A52),AUX_MELT_DADES!$V:$V,0)<>0,\"X\",\"\"),\"-\")","v":"-"},{"$f":"+IFERROR(IF(MATCH(CONCATENATE(AB$2,$A52),AUX_MELT_DADES!$V:$V,0)<>0,\"X\",\"\"),\"-\")","v":"-"},{"$f":"+IFERROR(IF(MATCH(CONCATENATE(AC$2,$A52),AUX_MELT_DADES!$V:$V,0)<>0,\"X\",\"\"),\"-\")","v":"-"},{"$f":"+IFERROR(IF(MATCH(CONCATENATE(AD$2,$A52),AUX_MELT_DADES!$V:$V,0)<>0,\"X\",\"\"),\"-\")","v":"-"},{"$f":"+IFERROR(IF(MATCH(CONCATENATE(AE$2,$A52),AUX_MELT_DADES!$V:$V,0)<>0,\"X\",\"\"),\"-\")","v":"-"},{"$f":"+IFERROR(IF(MATCH(CONCATENATE(AF$2,$A52),AUX_MELT_DADES!$V:$V,0)<>0,\"X\",\"\"),\"-\")","v":"-"},{"$f":"+IFERROR(IF(MATCH(CONCATENATE(AG$2,$A52),AUX_MELT_DADES!$V:$V,0)<>0,\"X\",\"\"),\"-\")","v":"-"},{"$f":"+IFERROR(IF(MATCH(CONCATENATE(AH$2,$A52),AUX_MELT_DADES!$V:$V,0)<>0,\"X\",\"\"),\"-\")","v":"-"},{"$f":"+IFERROR(IF(MATCH(CONCATENATE(AI$2,$A52),AUX_MELT_DADES!$V:$V,0)<>0,\"X\",\"\"),\"-\")","v":"X"},{"$f":"+IFERROR(IF(MATCH(CONCATENATE(AJ$2,$A52),AUX_MELT_DADES!$V:$V,0)<>0,\"X\",\"\"),\"-\")","v":"-"},{"$f":"+IFERROR(IF(MATCH(CONCATENATE(AK$2,$A52),AUX_MELT_DADES!$V:$V,0)<>0,\"X\",\"\"),\"-\")","v":"X"},{"$f":"+IFERROR(IF(MATCH(CONCATENATE(AL$2,$A52),AUX_MELT_DADES!$V:$V,0)<>0,\"X\",\"\"),\"-\")","v":"-"},{"$f":"IFERROR(VLOOKUP(A52,AUX_PIVOT_MELT!$A$4:$B$250,2,FALSE),\"\")","v":0},false,false,false,false,"-"]
["[mp.per.2]LMH",51,"[mp.per.2]","Mesures de protecció","Gestió del personal","Deures i obligacions",null,null,null,null,null,"X","L","M","H","Cal informar cada persona que treballa en el sistema dels deures i les responsabilitats en matèria de seguretat:\n•\tLes mesures disciplinàries.\n•\tLes obligacions tant el període de desenvolupament de la feina com en el cas de finalització o trasllat.\n•\tEl deure de confidencialitat respecte de les dades a què té accés. \nPer al personal contractat a través d’un tercer, cal establir:\n•\tEls deures i les obligacions del personal.\n•\tEls deures i les obligacions de cada part.\n•\tEl procediment per resoldre incidents relacionats amb l’incompliment de les obligacions.",null,"NO",{"$f":"IFERROR(VLOOKUP(A53,AUX_PIVOT_MELT!$A$4:$B$250,2,FALSE),\"\")","v":0},null,null,null,null,{"$f":"+IFERROR(IF(MATCH(CONCATENATE(X$2,$A53),AUX_MELT_DADES!$V:$V,0)<>0,\"X\",\"\"),\"-\")","v":"-"},{"$f":"+IFERROR(IF(MATCH(CONCATENATE(Y$2,$A53),AUX_MELT_DADES!$V:$V,0)<>0,\"X\",\"\"),\"-\")","v":"-"},{"$f":"+IFERROR(IF(MATCH(CONCATENATE(Z$2,$A53),AUX_MELT_DADES!$V:$V,0)<>0,\"X\",\"\"),\"-\")","v":"-"},{"$f":"+IFERROR(IF(MATCH(CONCATENATE(AA$2,$A53),AUX_MELT_DADES!$V:$V,0)<>0,\"X\",\"\"),\"-\")","v":"-"},{"$f":"+IFERROR(IF(MATCH(CONCATENATE(AB$2,$A53),AUX_MELT_DADES!$V:$V,0)<>0,\"X\",\"\"),\"-\")","v":"-"},{"$f":"+IFERROR(IF(MATCH(CONCATENATE(AC$2,$A53),AUX_MELT_DADES!$V:$V,0)<>0,\"X\",\"\"),\"-\")","v":"-"},{"$f":"+IFERROR(IF(MATCH(CONCATENATE(AD$2,$A53),AUX_MELT_DADES!$V:$V,0)<>0,\"X\",\"\"),\"-\")","v":"-"},{"$f":"+IFERROR(IF(MATCH(CONCATENATE(AE$2,$A53),AUX_MELT_DADES!$V:$V,0)<>0,\"X\",\"\"),\"-\")","v":"-"},{"$f":"+IFERROR(IF(MATCH(CONCATENATE(AF$2,$A53),AUX_MELT_DADES!$V:$V,0)<>0,\"X\",\"\"),\"-\")","v":"-"},{"$f":"+IFERROR(IF(MATCH(CONCATENATE(AG$2,$A53),AUX_MELT_DADES!$V:$V,0)<>0,\"X\",\"\"),\"-\")","v":"-"},{"$f":"+IFERROR(IF(MATCH(CONCATENATE(AH$2,$A53),AUX_MELT_DADES!$V:$V,0)<>0,\"X\",\"\"),\"-\")","v":"-"},{"$f":"+IFERROR(IF(MATCH(CONCATENATE(AI$2,$A53),AUX_MELT_DADES!$V:$V,0)<>0,\"X\",\"\"),\"-\")","v":"X"},{"$f":"+IFERROR(IF(MATCH(CONCATENATE(AJ$2,$A53),AUX_MELT_DADES!$V:$V,0)<>0,\"X\",\"\"),\"-\")","v":"-"},{"$f":"+IFERROR(IF(MATCH(CONCATENATE(AK$2,$A53),AUX_MELT_DADES!$V:$V,0)<>0,\"X\",\"\"),\"-\")","v":"X"},{"$f":"+IFERROR(IF(MATCH(CONCATENATE(AL$2,$A53),AUX_MELT_DADES!$V:$V,0)<>0,\"X\",\"\"),\"-\")","v":"-"},{"$f":"IFERROR(VLOOKUP(A53,AUX_PIVOT_MELT!$A$4:$B$250,2,FALSE),\"\")","v":0},false,false,false,false,"-"]
["[mp.per.3]LMH",52,"[mp.per.3]","Mesures de protecció","Gestió del personal","Conscienciació",null,null,null,null,null,"X","L","M","H","Cal fer les accions necessàries per conscienciar regularment el personal respecte del seu paper perquè la seguretat del sistema assoleixi el nivell exigit. En particular, cal recordar:\n•\tLa normativa relativa al bon ús dels sistemes.\n•\tLa identificació d’incidents, activitats o comportaments sospitosos que cal reportar.\n•\tEl procediment per informar d’incidències de seguretat.",null,"NO",{"$f":"IFERROR(VLOOKUP(A54,AUX_PIVOT_MELT!$A$4:$B$250,2,FALSE),\"\")","v":0},null,null,null,null,{"$f":"+IFERROR(IF(MATCH(CONCATENATE(X$2,$A54),AUX_MELT_DADES!$V:$V,0)<>0,\"X\",\"\"),\"-\")","v":"-"},{"$f":"+IFERROR(IF(MATCH(CONCATENATE(Y$2,$A54),AUX_MELT_DADES!$V:$V,0)<>0,\"X\",\"\"),\"-\")","v":"-"},{"$f":"+IFERROR(IF(MATCH(CONCATENATE(Z$2,$A54),AUX_MELT_DADES!$V:$V,0)<>0,\"X\",\"\"),\"-\")","v":"-"},{"$f":"+IFERROR(IF(MATCH(CONCATENATE(AA$2,$A54),AUX_MELT_DADES!$V:$V,0)<>0,\"X\",\"\"),\"-\")","v":"-"},{"$f":"+IFERROR(IF(MATCH(CONCATENATE(AB$2,$A54),AUX_MELT_DADES!$V:$V,0)<>0,\"X\",\"\"),\"-\")","v":"-"},{"$f":"+IFERROR(IF(MATCH(CONCATENATE(AC$2,$A54),AUX_MELT_DADES!$V:$V,0)<>0,\"X\",\"\"),\"-\")","v":"-"},{"$f":"+IFERROR(IF(MATCH(CONCATENATE(AD$2,$A54),AUX_MELT_DADES!$V:$V,0)<>0,\"X\",\"\"),\"-\")","v":"-"},{"$f":"+IFERROR(IF(MATCH(CONCATENATE(AE$2,$A54),AUX_MELT_DADES!$V:$V,0)<>0,\"X\",\"\"),\"-\")","v":"-"},{"$f":"+IFERROR(IF(MATCH(CONCATENATE(AF$2,$A54),AUX_MELT_DADES!$V:$V,0)<>0,\"X\",\"\"),\"-\")","v":"-"},{"$f":"+IFERROR(IF(MATCH(CONCATENATE(AG$2,$A54),AUX_MELT_DADES!$V:$V,0)<>0,\"X\",\"\"),\"-\")","v":"-"},{"$f":"+IFERROR(IF(MATCH(CONCATENATE(AH$2,$A54),AUX_MELT_DADES!$V:$V,0)<>0,\"X\",\"\"),\"-\")","v":"-"},{"$f":"+IFERROR(IF(MATCH(CONCATENATE(AI$2,$A54),AUX_MELT_DADES!$V:$V,0)<>0,\"X\",\"\"),\"-\")","v":"-"},{"$f":"+IFERROR(IF(MATCH(CONCATENATE(AJ$2,$A54),AUX_MELT_DADES!$V:$V,0)<>0,\"X\",\"\"),\"-\")","v":"-"},{"$f":"+IFERROR(IF(MATCH(CONCATENATE(AK$2,$A54),AUX_MELT_DADES!$V:$V,0)<>0,\"X\",\"\"),\"-\")","v":"X"},{"$f":"+IFERROR(IF(MATCH(CONCATENATE(AL$2,$A54),AUX_MELT_DADES!$V:$V,0)<>0,\"X\",\"\"),\"-\")","v":"-"},{"$f":"IFERROR(VLOOKUP(A54,AUX_PIVOT_MELT!$A$4:$B$250,2,FALSE),\"\")","v":0},false,false,false,false,"-"]
["[mp.per.4]LMH",53,"[mp.per.4]","Mesures de protecció","Gestió del personal","Formació",null,null,null,null,null,"X","L","M","H","Cal formar regularment el personal en totes les matèries necessàries per al desenvolupament de les seves funcions, en particular respecte del següent:\n•\tConfiguració del sistema.\n•\tDetecció i reacció a incidents.\n•\tGestió de la informació en qualsevol suport. Cal abastar, com a mínim, les activitats següents: emmagatzematge, transferència, còpia, distribució i destrucció.",null,"NO",{"$f":"IFERROR(VLOOKUP(A55,AUX_PIVOT_MELT!$A$4:$B$250,2,FALSE),\"\")","v":0},null,null,null,null,{"$f":"+IFERROR(IF(MATCH(CONCATENATE(X$2,$A55),AUX_MELT_DADES!$V:$V,0)<>0,\"X\",\"\"),\"-\")","v":"-"},{"$f":"+IFERROR(IF(MATCH(CONCATENATE(Y$2,$A55),AUX_MELT_DADES!$V:$V,0)<>0,\"X\",\"\"),\"-\")","v":"-"},{"$f":"+IFERROR(IF(MATCH(CONCATENATE(Z$2,$A55),AUX_MELT_DADES!$V:$V,0)<>0,\"X\",\"\"),\"-\")","v":"-"},{"$f":"+IFERROR(IF(MATCH(CONCATENATE(AA$2,$A55),AUX_MELT_DADES!$V:$V,0)<>0,\"X\",\"\"),\"-\")","v":"-"},{"$f":"+IFERROR(IF(MATCH(CONCATENATE(AB$2,$A55),AUX_MELT_DADES!$V:$V,0)<>0,\"X\",\"\"),\"-\")","v":"-"},{"$f":"+IFERROR(IF(MATCH(CONCATENATE(AC$2,$A55),AUX_MELT_DADES!$V:$V,0)<>0,\"X\",\"\"),\"-\")","v":"-"},{"$f":"+IFERROR(IF(MATCH(CONCATENATE(AD$2,$A55),AUX_MELT_DADES!$V:$V,0)<>0,\"X\",\"\"),\"-\")","v":"-"},{"$f":"+IFERROR(IF(MATCH(CONCATENATE(AE$2,$A55),AUX_MELT_DADES!$V:$V,0)<>0,\"X\",\"\"),\"-\")","v":"-"},{"$f":"+IFERROR(IF(MATCH(CONCATENATE(AF$2,$A55),AUX_MELT_DADES!$V:$V,0)<>0,\"X\",\"\"),\"-\")","v":"-"},{"$f":"+IFERROR(IF(MATCH(CONCATENATE(AG$2,$A55),AUX_MELT_DADES!$V:$V,0)<>0,\"X\",\"\"),\"-\")","v":"-"},{"$f":"+IFERROR(IF(MATCH(CONCATENATE(AH$2,$A55),AUX_MELT_DADES!$V:$V,0)<>0,\"X\",\"\"),\"-\")","v":"-"},{"$f":"+IFERROR(IF(MATCH(CONCATENATE(AI$2,$A55),AUX_MELT_DADES!$V:$V,0)<>0,\"X\",\"\"),\"-\")","v":"-"},{"$f":"+IFERROR(IF(MATCH(CONCATENATE(AJ$2,$A55),AUX_MELT_DADES!$V:$V,0)<>0,\"X\",\"\"),\"-\")","v":"-"},{"$f":"+IFERROR(IF(MATCH(CONCATENATE(AK$2,$A55),AUX_MELT_DADES!$V:$V,0)<>0,\"X\",\"\"),\"-\")","v":"X"},{"$f":"+IFERROR(IF(MATCH(CONCATENATE(AL$2,$A55),AUX_MELT_DADES!$V:$V,0)<>0,\"X\",\"\"),\"-\")","v":"-"},{"$f":"IFERROR(VLOOKUP(A55,AUX_PIVOT_MELT!$A$4:$B$250,2,FALSE),\"\")","v":0},false,false,false,false,"-"]
["[mp.per.5]H",54,"[mp.per.5]","Mesures de protecció","Gestió del personal","Personal alternatiu",null,null,"X",null,null,null,null,null,"H","Cal garantir la disponibilitat d’altres persones que puguin fer-se càrrec de les funcions, si el personal habitual no està disponible. El personal alternatiu ha d’estar sotmès a les mateixes garanties que l’habitual.",null,"NO",{"$f":"IFERROR(VLOOKUP(A56,AUX_PIVOT_MELT!$A$4:$B$250,2,FALSE),\"\")","v":0},null,null,null,null,{"$f":"+IFERROR(IF(MATCH(CONCATENATE(X$2,$A56),AUX_MELT_DADES!$V:$V,0)<>0,\"X\",\"\"),\"-\")","v":"-"},{"$f":"+IFERROR(IF(MATCH(CONCATENATE(Y$2,$A56),AUX_MELT_DADES!$V:$V,0)<>0,\"X\",\"\"),\"-\")","v":"-"},{"$f":"+IFERROR(IF(MATCH(CONCATENATE(Z$2,$A56),AUX_MELT_DADES!$V:$V,0)<>0,\"X\",\"\"),\"-\")","v":"-"},{"$f":"+IFERROR(IF(MATCH(CONCATENATE(AA$2,$A56),AUX_MELT_DADES!$V:$V,0)<>0,\"X\",\"\"),\"-\")","v":"-"},{"$f":"+IFERROR(IF(MATCH(CONCATENATE(AB$2,$A56),AUX_MELT_DADES!$V:$V,0)<>0,\"X\",\"\"),\"-\")","v":"-"},{"$f":"+IFERROR(IF(MATCH(CONCATENATE(AC$2,$A56),AUX_MELT_DADES!$V:$V,0)<>0,\"X\",\"\"),\"-\")","v":"-"},{"$f":"+IFERROR(IF(MATCH(CONCATENATE(AD$2,$A56),AUX_MELT_DADES!$V:$V,0)<>0,\"X\",\"\"),\"-\")","v":"-"},{"$f":"+IFERROR(IF(MATCH(CONCATENATE(AE$2,$A56),AUX_MELT_DADES!$V:$V,0)<>0,\"X\",\"\"),\"-\")","v":"-"},{"$f":"+IFERROR(IF(MATCH(CONCATENATE(AF$2,$A56),AUX_MELT_DADES!$V:$V,0)<>0,\"X\",\"\"),\"-\")","v":"-"},{"$f":"+IFERROR(IF(MATCH(CONCATENATE(AG$2,$A56),AUX_MELT_DADES!$V:$V,0)<>0,\"X\",\"\"),\"-\")","v":"-"},{"$f":"+IFERROR(IF(MATCH(CONCATENATE(AH$2,$A56),AUX_MELT_DADES!$V:$V,0)<>0,\"X\",\"\"),\"-\")","v":"-"},{"$f":"+IFERROR(IF(MATCH(CONCATENATE(AI$2,$A56),AUX_MELT_DADES!$V:$V,0)<>0,\"X\",\"\"),\"-\")","v":"-"},{"$f":"+IFERROR(IF(MATCH(CONCATENATE(AJ$2,$A56),AUX_MELT_DADES!$V:$V,0)<>0,\"X\",\"\"),\"-\")","v":"-"},{"$f":"+IFERROR(IF(MATCH(CONCATENATE(AK$2,$A56),AUX_MELT_DADES!$V:$V,0)<>0,\"X\",\"\"),\"-\")","v":"X"},{"$f":"+IFERROR(IF(MATCH(CONCATENATE(AL$2,$A56),AUX_MELT_DADES!$V:$V,0)<>0,\"X\",\"\"),\"-\")","v":"-"},{"$f":"IFERROR(VLOOKUP(A56,AUX_PIVOT_MELT!$A$4:$B$250,2,FALSE),\"\")","v":0},false,false,false,false,"-"]
["[mp.eq.1]L",55,"[mp.eq.1]","Mesures de protecció","Protecció d'equips","Lloc de treball buidat",null,null,null,null,null,"X","L",null,null,"•\tS’ha d’exigir que els llocs de treball romanguin buits, sense més material a la taula que el necessari per a l’activitat que s’està fent en cada moment.",null,"NO",{"$f":"IFERROR(VLOOKUP(A57,AUX_PIVOT_MELT!$A$4:$B$250,2,FALSE),\"\")","v":0},null,null,null,null,{"$f":"+IFERROR(IF(MATCH(CONCATENATE(X$2,$A57),AUX_MELT_DADES!$V:$V,0)<>0,\"X\",\"\"),\"-\")","v":"-"},{"$f":"+IFERROR(IF(MATCH(CONCATENATE(Y$2,$A57),AUX_MELT_DADES!$V:$V,0)<>0,\"X\",\"\"),\"-\")","v":"-"},{"$f":"+IFERROR(IF(MATCH(CONCATENATE(Z$2,$A57),AUX_MELT_DADES!$V:$V,0)<>0,\"X\",\"\"),\"-\")","v":"-"},{"$f":"+IFERROR(IF(MATCH(CONCATENATE(AA$2,$A57),AUX_MELT_DADES!$V:$V,0)<>0,\"X\",\"\"),\"-\")","v":"-"},{"$f":"+IFERROR(IF(MATCH(CONCATENATE(AB$2,$A57),AUX_MELT_DADES!$V:$V,0)<>0,\"X\",\"\"),\"-\")","v":"-"},{"$f":"+IFERROR(IF(MATCH(CONCATENATE(AC$2,$A57),AUX_MELT_DADES!$V:$V,0)<>0,\"X\",\"\"),\"-\")","v":"-"},{"$f":"+IFERROR(IF(MATCH(CONCATENATE(AD$2,$A57),AUX_MELT_DADES!$V:$V,0)<>0,\"X\",\"\"),\"-\")","v":"-"},{"$f":"+IFERROR(IF(MATCH(CONCATENATE(AE$2,$A57),AUX_MELT_DADES!$V:$V,0)<>0,\"X\",\"\"),\"-\")","v":"-"},{"$f":"+IFERROR(IF(MATCH(CONCATENATE(AF$2,$A57),AUX_MELT_DADES!$V:$V,0)<>0,\"X\",\"\"),\"-\")","v":"X"},{"$f":"+IFERROR(IF(MATCH(CONCATENATE(AG$2,$A57),AUX_MELT_DADES!$V:$V,0)<>0,\"X\",\"\"),\"-\")","v":"-"},{"$f":"+IFERROR(IF(MATCH(CONCATENATE(AH$2,$A57),AUX_MELT_DADES!$V:$V,0)<>0,\"X\",\"\"),\"-\")","v":"-"},{"$f":"+IFERROR(IF(MATCH(CONCATENATE(AI$2,$A57),AUX_MELT_DADES!$V:$V,0)<>0,\"X\",\"\"),\"-\")","v":"-"},{"$f":"+IFERROR(IF(MATCH(CONCATENATE(AJ$2,$A57),AUX_MELT_DADES!$V:$V,0)<>0,\"X\",\"\"),\"-\")","v":"-"},{"$f":"+IFERROR(IF(MATCH(CONCATENATE(AK$2,$A57),AUX_MELT_DADES!$V:$V,0)<>0,\"X\",\"\"),\"-\")","v":"-"},{"$f":"+IFERROR(IF(MATCH(CONCATENATE(AL$2,$A57),AUX_MELT_DADES!$V:$V,0)<>0,\"X\",\"\"),\"-\")","v":"-"},{"$f":"IFERROR(VLOOKUP(A57,AUX_PIVOT_MELT!$A$4:$B$250,2,FALSE),\"\")","v":0},false,false,false,false,"-"]
["[mp.eq.1]MH",56,"[mp.eq.1]","Mesures de protecció","Protecció d'equips","Lloc de treball buidat",null,null,null,null,null,"X",null,"M","H","•\tS’ha d’exigir que els llocs de treball romanguin buits, sense més material a la taula que el necessari per a l’activitat que s’està fent en cada moment.\n•\tEl material s’ha de desar en un lloc tancat.",null,"NO",{"$f":"IFERROR(VLOOKUP(A58,AUX_PIVOT_MELT!$A$4:$B$250,2,FALSE),\"\")","v":0},null,null,null,null,{"$f":"+IFERROR(IF(MATCH(CONCATENATE(X$2,$A58),AUX_MELT_DADES!$V:$V,0)<>0,\"X\",\"\"),\"-\")","v":"-"},{"$f":"+IFERROR(IF(MATCH(CONCATENATE(Y$2,$A58),AUX_MELT_DADES!$V:$V,0)<>0,\"X\",\"\"),\"-\")","v":"-"},{"$f":"+IFERROR(IF(MATCH(CONCATENATE(Z$2,$A58),AUX_MELT_DADES!$V:$V,0)<>0,\"X\",\"\"),\"-\")","v":"-"},{"$f":"+IFERROR(IF(MATCH(CONCATENATE(AA$2,$A58),AUX_MELT_DADES!$V:$V,0)<>0,\"X\",\"\"),\"-\")","v":"-"},{"$f":"+IFERROR(IF(MATCH(CONCATENATE(AB$2,$A58),AUX_MELT_DADES!$V:$V,0)<>0,\"X\",\"\"),\"-\")","v":"-"},{"$f":"+IFERROR(IF(MATCH(CONCATENATE(AC$2,$A58),AUX_MELT_DADES!$V:$V,0)<>0,\"X\",\"\"),\"-\")","v":"-"},{"$f":"+IFERROR(IF(MATCH(CONCATENATE(AD$2,$A58),AUX_MELT_DADES!$V:$V,0)<>0,\"X\",\"\"),\"-\")","v":"-"},{"$f":"+IFERROR(IF(MATCH(CONCATENATE(AE$2,$A58),AUX_MELT_DADES!$V:$V,0)<>0,\"X\",\"\"),\"-\")","v":"-"},{"$f":"+IFERROR(IF(MATCH(CONCATENATE(AF$2,$A58),AUX_MELT_DADES!$V:$V,0)<>0,\"X\",\"\"),\"-\")","v":"X"},{"$f":"+IFERROR(IF(MATCH(CONCATENATE(AG$2,$A58),AUX_MELT_DADES!$V:$V,0)<>0,\"X\",\"\"),\"-\")","v":"-"},{"$f":"+IFERROR(IF(MATCH(CONCATENATE(AH$2,$A58),AUX_MELT_DADES!$V:$V,0)<>0,\"X\",\"\"),\"-\")","v":"-"},{"$f":"+IFERROR(IF(MATCH(CONCATENATE(AI$2,$A58),AUX_MELT_DADES!$V:$V,0)<>0,\"X\",\"\"),\"-\")","v":"-"},{"$f":"+IFERROR(IF(MATCH(CONCATENATE(AJ$2,$A58),AUX_MELT_DADES!$V:$V,0)<>0,\"X\",\"\"),\"-\")","v":"-"},{"$f":"+IFERROR(IF(MATCH(CONCATENATE(AK$2,$A58),AUX_MELT_DADES!$V:$V,0)<>0,\"X\",\"\"),\"-\")","v":"-"},{"$f":"+IFERROR(IF(MATCH(CONCATENATE(AL$2,$A58),AUX_MELT_DADES!$V:$V,0)<>0,\"X\",\"\"),\"-\")","v":"-"},{"$f":"IFERROR(VLOOKUP(A58,AUX_PIVOT_MELT!$A$4:$B$250,2,FALSE),\"\")","v":0},false,false,false,false,"-"]
["[mp.eq.2]M",57,"[mp.eq.2]","Mesures de protecció","Protecció d'equips","Bloqueig del lloc de treball",null,null,null,null,null,"X",null,"M",null,"•\tEl lloc de treball s’ha de bloquejar al cap d’un temps d’inactivitat i cal requerir l’autenticació de l’usuari per continuar l’activitat.",null,"NO",{"$f":"IFERROR(VLOOKUP(A59,AUX_PIVOT_MELT!$A$4:$B$250,2,FALSE),\"\")","v":0},null,null,null,null,{"$f":"+IFERROR(IF(MATCH(CONCATENATE(X$2,$A59),AUX_MELT_DADES!$V:$V,0)<>0,\"X\",\"\"),\"-\")","v":"-"},{"$f":"+IFERROR(IF(MATCH(CONCATENATE(Y$2,$A59),AUX_MELT_DADES!$V:$V,0)<>0,\"X\",\"\"),\"-\")","v":"-"},{"$f":"+IFERROR(IF(MATCH(CONCATENATE(Z$2,$A59),AUX_MELT_DADES!$V:$V,0)<>0,\"X\",\"\"),\"-\")","v":"X"},{"$f":"+IFERROR(IF(MATCH(CONCATENATE(AA$2,$A59),AUX_MELT_DADES!$V:$V,0)<>0,\"X\",\"\"),\"-\")","v":"-"},{"$f":"+IFERROR(IF(MATCH(CONCATENATE(AB$2,$A59),AUX_MELT_DADES!$V:$V,0)<>0,\"X\",\"\"),\"-\")","v":"-"},{"$f":"+IFERROR(IF(MATCH(CONCATENATE(AC$2,$A59),AUX_MELT_DADES!$V:$V,0)<>0,\"X\",\"\"),\"-\")","v":"-"},{"$f":"+IFERROR(IF(MATCH(CONCATENATE(AD$2,$A59),AUX_MELT_DADES!$V:$V,0)<>0,\"X\",\"\"),\"-\")","v":"-"},{"$f":"+IFERROR(IF(MATCH(CONCATENATE(AE$2,$A59),AUX_MELT_DADES!$V:$V,0)<>0,\"X\",\"\"),\"-\")","v":"-"},{"$f":"+IFERROR(IF(MATCH(CONCATENATE(AF$2,$A59),AUX_MELT_DADES!$V:$V,0)<>0,\"X\",\"\"),\"-\")","v":"-"},{"$f":"+IFERROR(IF(MATCH(CONCATENATE(AG$2,$A59),AUX_MELT_DADES!$V:$V,0)<>0,\"X\",\"\"),\"-\")","v":"-"},{"$f":"+IFERROR(IF(MATCH(CONCATENATE(AH$2,$A59),AUX_MELT_DADES!$V:$V,0)<>0,\"X\",\"\"),\"-\")","v":"-"},{"$f":"+IFERROR(IF(MATCH(CONCATENATE(AI$2,$A59),AUX_MELT_DADES!$V:$V,0)<>0,\"X\",\"\"),\"-\")","v":"-"},{"$f":"+IFERROR(IF(MATCH(CONCATENATE(AJ$2,$A59),AUX_MELT_DADES!$V:$V,0)<>0,\"X\",\"\"),\"-\")","v":"-"},{"$f":"+IFERROR(IF(MATCH(CONCATENATE(AK$2,$A59),AUX_MELT_DADES!$V:$V,0)<>0,\"X\",\"\"),\"-\")","v":"-"},{"$f":"+IFERROR(IF(MATCH(CONCATENATE(AL$2,$A59),AUX_MELT_DADES!$V:$V,0)<>0,\"X\",\"\"),\"-\")","v":"-"},{"$f":"IFERROR(VLOOKUP(A59,AUX_PIVOT_MELT!$A$4:$B$250,2,FALSE),\"\")","v":0},false,false,false,false,"-"]
["[mp.eq.2]H",58,"[mp.eq.2]","Mesures de protecció","Protecció d'equips","Bloqueig del lloc de treball",null,null,null,null,null,"X",null,null,"H","•\tEl lloc de treball s’ha de bloquejar al cap d’un temps d’inactivitat i cal requerir l’autenticació de l’usuari per continuar l’activitat.\n•\tPassat un temps, superior a l’anterior, s’han de tancar les sessions obertes des del lloc de treball.",null,"NO",{"$f":"IFERROR(VLOOKUP(A60,AUX_PIVOT_MELT!$A$4:$B$250,2,FALSE),\"\")","v":0},null,null,null,null,{"$f":"+IFERROR(IF(MATCH(CONCATENATE(X$2,$A60),AUX_MELT_DADES!$V:$V,0)<>0,\"X\",\"\"),\"-\")","v":"-"},{"$f":"+IFERROR(IF(MATCH(CONCATENATE(Y$2,$A60),AUX_MELT_DADES!$V:$V,0)<>0,\"X\",\"\"),\"-\")","v":"-"},{"$f":"+IFERROR(IF(MATCH(CONCATENATE(Z$2,$A60),AUX_MELT_DADES!$V:$V,0)<>0,\"X\",\"\"),\"-\")","v":"X"},{"$f":"+IFERROR(IF(MATCH(CONCATENATE(AA$2,$A60),AUX_MELT_DADES!$V:$V,0)<>0,\"X\",\"\"),\"-\")","v":"-"},{"$f":"+IFERROR(IF(MATCH(CONCATENATE(AB$2,$A60),AUX_MELT_DADES!$V:$V,0)<>0,\"X\",\"\"),\"-\")","v":"-"},{"$f":"+IFERROR(IF(MATCH(CONCATENATE(AC$2,$A60),AUX_MELT_DADES!$V:$V,0)<>0,\"X\",\"\"),\"-\")","v":"-"},{"$f":"+IFERROR(IF(MATCH(CONCATENATE(AD$2,$A60),AUX_MELT_DADES!$V:$V,0)<>0,\"X\",\"\"),\"-\")","v":"-"},{"$f":"+IFERROR(IF(MATCH(CONCATENATE(AE$2,$A60),AUX_MELT_DADES!$V:$V,0)<>0,\"X\",\"\"),\"-\")","v":"-"},{"$f":"+IFERROR(IF(MATCH(CONCATENATE(AF$2,$A60),AUX_MELT_DADES!$V:$V,0)<>0,\"X\",\"\"),\"-\")","v":"-"},{"$f":"+IFERROR(IF(MATCH(CONCATENATE(AG$2,$A60),AUX_MELT_DADES!$V:$V,0)<>0,\"X\",\"\"),\"-\")","v":"-"},{"$f":"+IFERROR(IF(MATCH(CONCATENATE(AH$2,$A60),AUX_MELT_DADES!$V:$V,0)<>0,\"X\",\"\"),\"-\")","v":"-"},{"$f":"+IFERROR(IF(MATCH(CONCATENATE(AI$2,$A60),AUX_MELT_DADES!$V:$V,0)<>0,\"X\",\"\"),\"-\")","v":"-"},{"$f":"+IFERROR(IF(MATCH(CONCATENATE(AJ$2,$A60),AUX_MELT_DADES!$V:$V,0)<>0,\"X\",\"\"),\"-\")","v":"-"},{"$f":"+IFERROR(IF(MATCH(CONCATENATE(AK$2,$A60),AUX_MELT_DADES!$V:$V,0)<>0,\"X\",\"\"),\"-\")","v":"-"},{"$f":"+IFERROR(IF(MATCH(CONCATENATE(AL$2,$A60),AUX_MELT_DADES!$V:$V,0)<>0,\"X\",\"\"),\"-\")","v":"-"},{"$f":"IFERROR(VLOOKUP(A60,AUX_PIVOT_MELT!$A$4:$B$250,2,FALSE),\"\")","v":0},false,false,false,false,"-"]
["[mp.eq.3]LM",59,"[mp.eq.3]","Mesures de protecció","Protecció d'equips","Protecció de portàtils ",null,null,null,null,null,"X","L","M",null,"Els equips que abandonen les instal·lacions s’han de protegir adequadament:\n•\tCal fer un inventari dels equips portàtils, amb la identificació de la persona responsable i control regular que els equips estan sota el seu control.\n•\tCal establir un canal per informar de pèrdues o sostraccions.\n•\tCal que hi hagi un sistema de protecció perimetral, que minimitzi la visibilitat exterior i controli l’accés quan l’equip es connecti a xarxes, en particular a xarxes públiques.\n•\tCal evitar, en la mesura que sigui possible, que l’equip tingui claus d’accés remot a l’organització.",null,"NO",{"$f":"IFERROR(VLOOKUP(A61,AUX_PIVOT_MELT!$A$4:$B$250,2,FALSE),\"\")","v":0},null,null,null,null,{"$f":"+IFERROR(IF(MATCH(CONCATENATE(X$2,$A61),AUX_MELT_DADES!$V:$V,0)<>0,\"X\",\"\"),\"-\")","v":"-"},{"$f":"+IFERROR(IF(MATCH(CONCATENATE(Y$2,$A61),AUX_MELT_DADES!$V:$V,0)<>0,\"X\",\"\"),\"-\")","v":"-"},{"$f":"+IFERROR(IF(MATCH(CONCATENATE(Z$2,$A61),AUX_MELT_DADES!$V:$V,0)<>0,\"X\",\"\"),\"-\")","v":"-"},{"$f":"+IFERROR(IF(MATCH(CONCATENATE(AA$2,$A61),AUX_MELT_DADES!$V:$V,0)<>0,\"X\",\"\"),\"-\")","v":"-"},{"$f":"+IFERROR(IF(MATCH(CONCATENATE(AB$2,$A61),AUX_MELT_DADES!$V:$V,0)<>0,\"X\",\"\"),\"-\")","v":"-"},{"$f":"+IFERROR(IF(MATCH(CONCATENATE(AC$2,$A61),AUX_MELT_DADES!$V:$V,0)<>0,\"X\",\"\"),\"-\")","v":"-"},{"$f":"+IFERROR(IF(MATCH(CONCATENATE(AD$2,$A61),AUX_MELT_DADES!$V:$V,0)<>0,\"X\",\"\"),\"-\")","v":"-"},{"$f":"+IFERROR(IF(MATCH(CONCATENATE(AE$2,$A61),AUX_MELT_DADES!$V:$V,0)<>0,\"X\",\"\"),\"-\")","v":"-"},{"$f":"+IFERROR(IF(MATCH(CONCATENATE(AF$2,$A61),AUX_MELT_DADES!$V:$V,0)<>0,\"X\",\"\"),\"-\")","v":"-"},{"$f":"+IFERROR(IF(MATCH(CONCATENATE(AG$2,$A61),AUX_MELT_DADES!$V:$V,0)<>0,\"X\",\"\"),\"-\")","v":"X"},{"$f":"+IFERROR(IF(MATCH(CONCATENATE(AH$2,$A61),AUX_MELT_DADES!$V:$V,0)<>0,\"X\",\"\"),\"-\")","v":"-"},{"$f":"+IFERROR(IF(MATCH(CONCATENATE(AI$2,$A61),AUX_MELT_DADES!$V:$V,0)<>0,\"X\",\"\"),\"-\")","v":"-"},{"$f":"+IFERROR(IF(MATCH(CONCATENATE(AJ$2,$A61),AUX_MELT_DADES!$V:$V,0)<>0,\"X\",\"\"),\"-\")","v":"-"},{"$f":"+IFERROR(IF(MATCH(CONCATENATE(AK$2,$A61),AUX_MELT_DADES!$V:$V,0)<>0,\"X\",\"\"),\"-\")","v":"-"},{"$f":"+IFERROR(IF(MATCH(CONCATENATE(AL$2,$A61),AUX_MELT_DADES!$V:$V,0)<>0,\"X\",\"\"),\"-\")","v":"-"},{"$f":"IFERROR(VLOOKUP(A61,AUX_PIVOT_MELT!$A$4:$B$250,2,FALSE),\"\")","v":0},false,false,false,false,"-"]
["[mp.eq.3]H",60,"[mp.eq.3]","Mesures de protecció","Protecció d'equips","Protecció de portàtils ",null,null,null,null,null,"X",null,null,"H","Els equips que abandonen les instal·lacions s’han de protegir adequadament:\n•\tCal fer un inventari dels equips portàtils, amb la identificació de la persona responsable i control regular que els equips estan sota el seu control.\n•\tCal establir un canal per informar de pèrdues o sostraccions.\n•\tCal que hi hagi un sistema de protecció perimetral, que minimitzi la visibilitat exterior i controli l’accés quan l’equip es connecti a xarxes, en particular a xarxes públiques.\n•\tCal evitar, en la mesura que sigui possible, que l’equip tingui claus d’accés remot a l’organització.\n•\tL’equip ha de disposar de detectors de violació que permetin saber si l’equip ha estat manipulat.\n•\tLa informació de nivell alt que té emmagatzemada s’ha de xifrar.",null,"NO",{"$f":"IFERROR(VLOOKUP(A62,AUX_PIVOT_MELT!$A$4:$B$250,2,FALSE),\"\")","v":0},null,null,null,null,{"$f":"+IFERROR(IF(MATCH(CONCATENATE(X$2,$A62),AUX_MELT_DADES!$V:$V,0)<>0,\"X\",\"\"),\"-\")","v":"-"},{"$f":"+IFERROR(IF(MATCH(CONCATENATE(Y$2,$A62),AUX_MELT_DADES!$V:$V,0)<>0,\"X\",\"\"),\"-\")","v":"-"},{"$f":"+IFERROR(IF(MATCH(CONCATENATE(Z$2,$A62),AUX_MELT_DADES!$V:$V,0)<>0,\"X\",\"\"),\"-\")","v":"-"},{"$f":"+IFERROR(IF(MATCH(CONCATENATE(AA$2,$A62),AUX_MELT_DADES!$V:$V,0)<>0,\"X\",\"\"),\"-\")","v":"-"},{"$f":"+IFERROR(IF(MATCH(CONCATENATE(AB$2,$A62),AUX_MELT_DADES!$V:$V,0)<>0,\"X\",\"\"),\"-\")","v":"-"},{"$f":"+IFERROR(IF(MATCH(CONCATENATE(AC$2,$A62),AUX_MELT_DADES!$V:$V,0)<>0,\"X\",\"\"),\"-\")","v":"-"},{"$f":"+IFERROR(IF(MATCH(CONCATENATE(AD$2,$A62),AUX_MELT_DADES!$V:$V,0)<>0,\"X\",\"\"),\"-\")","v":"-"},{"$f":"+IFERROR(IF(MATCH(CONCATENATE(AE$2,$A62),AUX_MELT_DADES!$V:$V,0)<>0,\"X\",\"\"),\"-\")","v":"-"},{"$f":"+IFERROR(IF(MATCH(CONCATENATE(AF$2,$A62),AUX_MELT_DADES!$V:$V,0)<>0,\"X\",\"\"),\"-\")","v":"-"},{"$f":"+IFERROR(IF(MATCH(CONCATENATE(AG$2,$A62),AUX_MELT_DADES!$V:$V,0)<>0,\"X\",\"\"),\"-\")","v":"X"},{"$f":"+IFERROR(IF(MATCH(CONCATENATE(AH$2,$A62),AUX_MELT_DADES!$V:$V,0)<>0,\"X\",\"\"),\"-\")","v":"-"},{"$f":"+IFERROR(IF(MATCH(CONCATENATE(AI$2,$A62),AUX_MELT_DADES!$V:$V,0)<>0,\"X\",\"\"),\"-\")","v":"-"},{"$f":"+IFERROR(IF(MATCH(CONCATENATE(AJ$2,$A62),AUX_MELT_DADES!$V:$V,0)<>0,\"X\",\"\"),\"-\")","v":"-"},{"$f":"+IFERROR(IF(MATCH(CONCATENATE(AK$2,$A62),AUX_MELT_DADES!$V:$V,0)<>0,\"X\",\"\"),\"-\")","v":"-"},{"$f":"+IFERROR(IF(MATCH(CONCATENATE(AL$2,$A62),AUX_MELT_DADES!$V:$V,0)<>0,\"X\",\"\"),\"-\")","v":"-"},{"$f":"IFERROR(VLOOKUP(A62,AUX_PIVOT_MELT!$A$4:$B$250,2,FALSE),\"\")","v":0},false,false,false,false,"-"]
["[mp.eq.4]MH",61,"[mp.eq.4]","Mesures de protecció","Protecció d'equips","Mitjans alternatius",null,null,"X",null,null,null,null,"M","H","•\tCal garantir la disponibilitat de mitjans alternatius de tractament de la informació, si els habituals fallen. Aquests mitjans alternatius han d’estar subjectes a les mateixes garanties de protecció.\n•\tCal establir un temps màxim perquè els equips alternatius entrin en funcionament.",null,"NO",{"$f":"IFERROR(VLOOKUP(A63,AUX_PIVOT_MELT!$A$4:$B$250,2,FALSE),\"\")","v":0},null,null,null,null,{"$f":"+IFERROR(IF(MATCH(CONCATENATE(X$2,$A63),AUX_MELT_DADES!$V:$V,0)<>0,\"X\",\"\"),\"-\")","v":"-"},{"$f":"+IFERROR(IF(MATCH(CONCATENATE(Y$2,$A63),AUX_MELT_DADES!$V:$V,0)<>0,\"X\",\"\"),\"-\")","v":"-"},{"$f":"+IFERROR(IF(MATCH(CONCATENATE(Z$2,$A63),AUX_MELT_DADES!$V:$V,0)<>0,\"X\",\"\"),\"-\")","v":"X"},{"$f":"+IFERROR(IF(MATCH(CONCATENATE(AA$2,$A63),AUX_MELT_DADES!$V:$V,0)<>0,\"X\",\"\"),\"-\")","v":"-"},{"$f":"+IFERROR(IF(MATCH(CONCATENATE(AB$2,$A63),AUX_MELT_DADES!$V:$V,0)<>0,\"X\",\"\"),\"-\")","v":"-"},{"$f":"+IFERROR(IF(MATCH(CONCATENATE(AC$2,$A63),AUX_MELT_DADES!$V:$V,0)<>0,\"X\",\"\"),\"-\")","v":"-"},{"$f":"+IFERROR(IF(MATCH(CONCATENATE(AD$2,$A63),AUX_MELT_DADES!$V:$V,0)<>0,\"X\",\"\"),\"-\")","v":"-"},{"$f":"+IFERROR(IF(MATCH(CONCATENATE(AE$2,$A63),AUX_MELT_DADES!$V:$V,0)<>0,\"X\",\"\"),\"-\")","v":"-"},{"$f":"+IFERROR(IF(MATCH(CONCATENATE(AF$2,$A63),AUX_MELT_DADES!$V:$V,0)<>0,\"X\",\"\"),\"-\")","v":"-"},{"$f":"+IFERROR(IF(MATCH(CONCATENATE(AG$2,$A63),AUX_MELT_DADES!$V:$V,0)<>0,\"X\",\"\"),\"-\")","v":"-"},{"$f":"+IFERROR(IF(MATCH(CONCATENATE(AH$2,$A63),AUX_MELT_DADES!$V:$V,0)<>0,\"X\",\"\"),\"-\")","v":"-"},{"$f":"+IFERROR(IF(MATCH(CONCATENATE(AI$2,$A63),AUX_MELT_DADES!$V:$V,0)<>0,\"X\",\"\"),\"-\")","v":"-"},{"$f":"+IFERROR(IF(MATCH(CONCATENATE(AJ$2,$A63),AUX_MELT_DADES!$V:$V,0)<>0,\"X\",\"\"),\"-\")","v":"-"},{"$f":"+IFERROR(IF(MATCH(CONCATENATE(AK$2,$A63),AUX_MELT_DADES!$V:$V,0)<>0,\"X\",\"\"),\"-\")","v":"-"},{"$f":"+IFERROR(IF(MATCH(CONCATENATE(AL$2,$A63),AUX_MELT_DADES!$V:$V,0)<>0,\"X\",\"\"),\"-\")","v":"-"},{"$f":"IFERROR(VLOOKUP(A63,AUX_PIVOT_MELT!$A$4:$B$250,2,FALSE),\"\")","v":0},false,false,false,false,"-"]
["[mp.com.1]LM",62,"[mp.com.1]","Mesures de protecció","Protecció de comunicacions","Perímetre segur",null,null,null,null,null,"X","L","M",null,"•\tCal disposar d’un tallafocs que separi la xarxa interna de l’exterior. Tot el trànsit ha de passar a través del tallafocs, que només ha de permetre els fluxos prèviament autoritzats.",null,"NO",{"$f":"IFERROR(VLOOKUP(A64,AUX_PIVOT_MELT!$A$4:$B$250,2,FALSE),\"\")","v":0},null,null,null,null,{"$f":"+IFERROR(IF(MATCH(CONCATENATE(X$2,$A64),AUX_MELT_DADES!$V:$V,0)<>0,\"X\",\"\"),\"-\")","v":"X"},{"$f":"+IFERROR(IF(MATCH(CONCATENATE(Y$2,$A64),AUX_MELT_DADES!$V:$V,0)<>0,\"X\",\"\"),\"-\")","v":"-"},{"$f":"+IFERROR(IF(MATCH(CONCATENATE(Z$2,$A64),AUX_MELT_DADES!$V:$V,0)<>0,\"X\",\"\"),\"-\")","v":"-"},{"$f":"+IFERROR(IF(MATCH(CONCATENATE(AA$2,$A64),AUX_MELT_DADES!$V:$V,0)<>0,\"X\",\"\"),\"-\")","v":"-"},{"$f":"+IFERROR(IF(MATCH(CONCATENATE(AB$2,$A64),AUX_MELT_DADES!$V:$V,0)<>0,\"X\",\"\"),\"-\")","v":"-"},{"$f":"+IFERROR(IF(MATCH(CONCATENATE(AC$2,$A64),AUX_MELT_DADES!$V:$V,0)<>0,\"X\",\"\"),\"-\")","v":"-"},{"$f":"+IFERROR(IF(MATCH(CONCATENATE(AD$2,$A64),AUX_MELT_DADES!$V:$V,0)<>0,\"X\",\"\"),\"-\")","v":"-"},{"$f":"+IFERROR(IF(MATCH(CONCATENATE(AE$2,$A64),AUX_MELT_DADES!$V:$V,0)<>0,\"X\",\"\"),\"-\")","v":"-"},{"$f":"+IFERROR(IF(MATCH(CONCATENATE(AF$2,$A64),AUX_MELT_DADES!$V:$V,0)<>0,\"X\",\"\"),\"-\")","v":"-"},{"$f":"+IFERROR(IF(MATCH(CONCATENATE(AG$2,$A64),AUX_MELT_DADES!$V:$V,0)<>0,\"X\",\"\"),\"-\")","v":"-"},{"$f":"+IFERROR(IF(MATCH(CONCATENATE(AH$2,$A64),AUX_MELT_DADES!$V:$V,0)<>0,\"X\",\"\"),\"-\")","v":"-"},{"$f":"+IFERROR(IF(MATCH(CONCATENATE(AI$2,$A64),AUX_MELT_DADES!$V:$V,0)<>0,\"X\",\"\"),\"-\")","v":"-"},{"$f":"+IFERROR(IF(MATCH(CONCATENATE(AJ$2,$A64),AUX_MELT_DADES!$V:$V,0)<>0,\"X\",\"\"),\"-\")","v":"-"},{"$f":"+IFERROR(IF(MATCH(CONCATENATE(AK$2,$A64),AUX_MELT_DADES!$V:$V,0)<>0,\"X\",\"\"),\"-\")","v":"-"},{"$f":"+IFERROR(IF(MATCH(CONCATENATE(AL$2,$A64),AUX_MELT_DADES!$V:$V,0)<>0,\"X\",\"\"),\"-\")","v":"-"},{"$f":"IFERROR(VLOOKUP(A64,AUX_PIVOT_MELT!$A$4:$B$250,2,FALSE),\"\")","v":0},false,false,false,false,"-"]
["[mp.com.1]H",63,"[mp.com.1]","Mesures de protecció","Protecció de comunicacions","Perímetre segur",null,null,null,null,null,"X",null,null,"H","•\tCal disposar d’un tallafocs que separi la xarxa interna de l’exterior. Tot el trànsit ha de passar a través del tallafocs, que només ha de permetre els fluxos prèviament autoritzats.\n•\tEl tallafocs ha de constar de dos o més equips de diferents fabricants en cascada.\n•\tCal disposar de sistemes redundants.",null,"NO",{"$f":"IFERROR(VLOOKUP(A65,AUX_PIVOT_MELT!$A$4:$B$250,2,FALSE),\"\")","v":0},null,null,null,null,{"$f":"+IFERROR(IF(MATCH(CONCATENATE(X$2,$A65),AUX_MELT_DADES!$V:$V,0)<>0,\"X\",\"\"),\"-\")","v":"X"},{"$f":"+IFERROR(IF(MATCH(CONCATENATE(Y$2,$A65),AUX_MELT_DADES!$V:$V,0)<>0,\"X\",\"\"),\"-\")","v":"-"},{"$f":"+IFERROR(IF(MATCH(CONCATENATE(Z$2,$A65),AUX_MELT_DADES!$V:$V,0)<>0,\"X\",\"\"),\"-\")","v":"-"},{"$f":"+IFERROR(IF(MATCH(CONCATENATE(AA$2,$A65),AUX_MELT_DADES!$V:$V,0)<>0,\"X\",\"\"),\"-\")","v":"-"},{"$f":"+IFERROR(IF(MATCH(CONCATENATE(AB$2,$A65),AUX_MELT_DADES!$V:$V,0)<>0,\"X\",\"\"),\"-\")","v":"-"},{"$f":"+IFERROR(IF(MATCH(CONCATENATE(AC$2,$A65),AUX_MELT_DADES!$V:$V,0)<>0,\"X\",\"\"),\"-\")","v":"-"},{"$f":"+IFERROR(IF(MATCH(CONCATENATE(AD$2,$A65),AUX_MELT_DADES!$V:$V,0)<>0,\"X\",\"\"),\"-\")","v":"-"},{"$f":"+IFERROR(IF(MATCH(CONCATENATE(AE$2,$A65),AUX_MELT_DADES!$V:$V,0)<>0,\"X\",\"\"),\"-\")","v":"-"},{"$f":"+IFERROR(IF(MATCH(CONCATENATE(AF$2,$A65),AUX_MELT_DADES!$V:$V,0)<>0,\"X\",\"\"),\"-\")","v":"-"},{"$f":"+IFERROR(IF(MATCH(CONCATENATE(AG$2,$A65),AUX_MELT_DADES!$V:$V,0)<>0,\"X\",\"\"),\"-\")","v":"-"},{"$f":"+IFERROR(IF(MATCH(CONCATENATE(AH$2,$A65),AUX_MELT_DADES!$V:$V,0)<>0,\"X\",\"\"),\"-\")","v":"-"},{"$f":"+IFERROR(IF(MATCH(CONCATENATE(AI$2,$A65),AUX_MELT_DADES!$V:$V,0)<>0,\"X\",\"\"),\"-\")","v":"-"},{"$f":"+IFERROR(IF(MATCH(CONCATENATE(AJ$2,$A65),AUX_MELT_DADES!$V:$V,0)<>0,\"X\",\"\"),\"-\")","v":"-"},{"$f":"+IFERROR(IF(MATCH(CONCATENATE(AK$2,$A65),AUX_MELT_DADES!$V:$V,0)<>0,\"X\",\"\"),\"-\")","v":"-"},{"$f":"+IFERROR(IF(MATCH(CONCATENATE(AL$2,$A65),AUX_MELT_DADES!$V:$V,0)<>0,\"X\",\"\"),\"-\")","v":"-"},{"$f":"IFERROR(VLOOKUP(A65,AUX_PIVOT_MELT!$A$4:$B$250,2,FALSE),\"\")","v":0},false,false,false,false,"-"]
["[mp.com.2]M",64,"[mp.com.2]","Mesures de protecció","Protecció de comunicacions","Protecció de la confidencialitat","X",null,null,null,null,null,null,"M",null,"•\tCal utilitzar una VPN, quan la comunicació passi per fora del domini de seguretat.\n•\tCal utilitzar algorismes acreditats pel CCN.",null,"NO",{"$f":"IFERROR(VLOOKUP(A66,AUX_PIVOT_MELT!$A$4:$B$250,2,FALSE),\"\")","v":0},null,null,null,null,{"$f":"+IFERROR(IF(MATCH(CONCATENATE(X$2,$A66),AUX_MELT_DADES!$V:$V,0)<>0,\"X\",\"\"),\"-\")","v":"X"},{"$f":"+IFERROR(IF(MATCH(CONCATENATE(Y$2,$A66),AUX_MELT_DADES!$V:$V,0)<>0,\"X\",\"\"),\"-\")","v":"-"},{"$f":"+IFERROR(IF(MATCH(CONCATENATE(Z$2,$A66),AUX_MELT_DADES!$V:$V,0)<>0,\"X\",\"\"),\"-\")","v":"-"},{"$f":"+IFERROR(IF(MATCH(CONCATENATE(AA$2,$A66),AUX_MELT_DADES!$V:$V,0)<>0,\"X\",\"\"),\"-\")","v":"-"},{"$f":"+IFERROR(IF(MATCH(CONCATENATE(AB$2,$A66),AUX_MELT_DADES!$V:$V,0)<>0,\"X\",\"\"),\"-\")","v":"-"},{"$f":"+IFERROR(IF(MATCH(CONCATENATE(AC$2,$A66),AUX_MELT_DADES!$V:$V,0)<>0,\"X\",\"\"),\"-\")","v":"-"},{"$f":"+IFERROR(IF(MATCH(CONCATENATE(AD$2,$A66),AUX_MELT_DADES!$V:$V,0)<>0,\"X\",\"\"),\"-\")","v":"-"},{"$f":"+IFERROR(IF(MATCH(CONCATENATE(AE$2,$A66),AUX_MELT_DADES!$V:$V,0)<>0,\"X\",\"\"),\"-\")","v":"-"},{"$f":"+IFERROR(IF(MATCH(CONCATENATE(AF$2,$A66),AUX_MELT_DADES!$V:$V,0)<>0,\"X\",\"\"),\"-\")","v":"-"},{"$f":"+IFERROR(IF(MATCH(CONCATENATE(AG$2,$A66),AUX_MELT_DADES!$V:$V,0)<>0,\"X\",\"\"),\"-\")","v":"-"},{"$f":"+IFERROR(IF(MATCH(CONCATENATE(AH$2,$A66),AUX_MELT_DADES!$V:$V,0)<>0,\"X\",\"\"),\"-\")","v":"-"},{"$f":"+IFERROR(IF(MATCH(CONCATENATE(AI$2,$A66),AUX_MELT_DADES!$V:$V,0)<>0,\"X\",\"\"),\"-\")","v":"-"},{"$f":"+IFERROR(IF(MATCH(CONCATENATE(AJ$2,$A66),AUX_MELT_DADES!$V:$V,0)<>0,\"X\",\"\"),\"-\")","v":"-"},{"$f":"+IFERROR(IF(MATCH(CONCATENATE(AK$2,$A66),AUX_MELT_DADES!$V:$V,0)<>0,\"X\",\"\"),\"-\")","v":"-"},{"$f":"+IFERROR(IF(MATCH(CONCATENATE(AL$2,$A66),AUX_MELT_DADES!$V:$V,0)<>0,\"X\",\"\"),\"-\")","v":"-"},{"$f":"IFERROR(VLOOKUP(A66,AUX_PIVOT_MELT!$A$4:$B$250,2,FALSE),\"\")","v":0},false,false,false,false,"-"]
[{"$f":"+C67&M67&N67&O67","v":"[mp.com.2]H"},65,"[mp.com.2]","Mesures de protecció","Protecció de comunicacions","Protecció de la confidencialitat","X",null,null,null,null,null,null,null,"H","•\tCal utilitzar una VPN, quan la comunicació passi per fora del domini de seguretat.\n•\tCal utilitzar algorismes acreditats pel CCN.\n•\tPreferentment, cal utilitzar dispositius de maquinari per establir i utilitzar la VPN.\n•\tPreferentment, cal utilitzar productes certificats.",null,"NO",{"$f":"IFERROR(VLOOKUP(A67,AUX_PIVOT_MELT!$A$4:$B$250,2,FALSE),\"\")","v":0},null,null,null,null,{"$f":"+IFERROR(IF(MATCH(CONCATENATE(X$2,$A67),AUX_MELT_DADES!$V:$V,0)<>0,\"X\",\"\"),\"-\")","v":"X"},{"$f":"+IFERROR(IF(MATCH(CONCATENATE(Y$2,$A67),AUX_MELT_DADES!$V:$V,0)<>0,\"X\",\"\"),\"-\")","v":"-"},{"$f":"+IFERROR(IF(MATCH(CONCATENATE(Z$2,$A67),AUX_MELT_DADES!$V:$V,0)<>0,\"X\",\"\"),\"-\")","v":"-"},{"$f":"+IFERROR(IF(MATCH(CONCATENATE(AA$2,$A67),AUX_MELT_DADES!$V:$V,0)<>0,\"X\",\"\"),\"-\")","v":"-"},{"$f":"+IFERROR(IF(MATCH(CONCATENATE(AB$2,$A67),AUX_MELT_DADES!$V:$V,0)<>0,\"X\",\"\"),\"-\")","v":"-"},{"$f":"+IFERROR(IF(MATCH(CONCATENATE(AC$2,$A67),AUX_MELT_DADES!$V:$V,0)<>0,\"X\",\"\"),\"-\")","v":"-"},{"$f":"+IFERROR(IF(MATCH(CONCATENATE(AD$2,$A67),AUX_MELT_DADES!$V:$V,0)<>0,\"X\",\"\"),\"-\")","v":"-"},{"$f":"+IFERROR(IF(MATCH(CONCATENATE(AE$2,$A67),AUX_MELT_DADES!$V:$V,0)<>0,\"X\",\"\"),\"-\")","v":"-"},{"$f":"+IFERROR(IF(MATCH(CONCATENATE(AF$2,$A67),AUX_MELT_DADES!$V:$V,0)<>0,\"X\",\"\"),\"-\")","v":"-"},{"$f":"+IFERROR(IF(MATCH(CONCATENATE(AG$2,$A67),AUX_MELT_DADES!$V:$V,0)<>0,\"X\",\"\"),\"-\")","v":"-"},{"$f":"+IFERROR(IF(MATCH(CONCATENATE(AH$2,$A67),AUX_MELT_DADES!$V:$V,0)<>0,\"X\",\"\"),\"-\")","v":"-"},{"$f":"+IFERROR(IF(MATCH(CONCATENATE(AI$2,$A67),AUX_MELT_DADES!$V:$V,0)<>0,\"X\",\"\"),\"-\")","v":"-"},{"$f":"+IFERROR(IF(MATCH(CONCATENATE(AJ$2,$A67),AUX_MELT_DADES!$V:$V,0)<>0,\"X\",\"\"),\"-\")","v":"-"},{"$f":"+IFERROR(IF(MATCH(CONCATENATE(AK$2,$A67),AUX_MELT_DADES!$V:$V,0)<>0,\"X\",\"\"),\"-\")","v":"-"},{"$f":"+IFERROR(IF(MATCH(CONCATENATE(AL$2,$A67),AUX_MELT_DADES!$V:$V,0)<>0,\"X\",\"\"),\"-\")","v":"-"},{"$f":"IFERROR(VLOOKUP(A67,AUX_PIVOT_MELT!$A$4:$B$250,2,FALSE),\"\")","v":0},false,false,false,false,"-"]
["[mp.com.3]L",66,"[mp.com.3]","Mesures de protecció","Protecció de comunicacions","Protecció de l’autenticitat i de la integritat",null,"X",null,"X",null,null,"L",null,null,"•\tCal garantir l’autenticitat de l’altre extrem d’un canal de comunicació, abans d’intercanviar informació.\n•\tCal prevenir atacs actius i garantir que, com a mínim, es detectin. Es consideren atacs actius: l’alteració de la informació en trànsit, la introducció d’informació espúria i el segrest de la sessió per una tercera part.",null,{"$f":"+IF(AM68>3,\"SI - MOLT ALTA\",IF(AM68=3,\"SI - ALTA\",IF(AM68=2,\"SI - MITJANA\",IF(AM68=1,\"SI - BAIXA\",\"NO\"))))","v":"NO"},{"$f":"IFERROR(VLOOKUP(A68,AUX_PIVOT_MELT!$A$4:$B$250,2,FALSE),\"\")","v":0},null,null,null,null,{"$f":"+IFERROR(IF(MATCH(CONCATENATE(X$2,$A68),AUX_MELT_DADES!$V:$V,0)<>0,\"X\",\"\"),\"-\")","v":"X"},{"$f":"+IFERROR(IF(MATCH(CONCATENATE(Y$2,$A68),AUX_MELT_DADES!$V:$V,0)<>0,\"X\",\"\"),\"-\")","v":"-"},{"$f":"+IFERROR(IF(MATCH(CONCATENATE(Z$2,$A68),AUX_MELT_DADES!$V:$V,0)<>0,\"X\",\"\"),\"-\")","v":"-"},{"$f":"+IFERROR(IF(MATCH(CONCATENATE(AA$2,$A68),AUX_MELT_DADES!$V:$V,0)<>0,\"X\",\"\"),\"-\")","v":"-"},{"$f":"+IFERROR(IF(MATCH(CONCATENATE(AB$2,$A68),AUX_MELT_DADES!$V:$V,0)<>0,\"X\",\"\"),\"-\")","v":"-"},{"$f":"+IFERROR(IF(MATCH(CONCATENATE(AC$2,$A68),AUX_MELT_DADES!$V:$V,0)<>0,\"X\",\"\"),\"-\")","v":"-"},{"$f":"+IFERROR(IF(MATCH(CONCATENATE(AD$2,$A68),AUX_MELT_DADES!$V:$V,0)<>0,\"X\",\"\"),\"-\")","v":"-"},{"$f":"+IFERROR(IF(MATCH(CONCATENATE(AE$2,$A68),AUX_MELT_DADES!$V:$V,0)<>0,\"X\",\"\"),\"-\")","v":"-"},{"$f":"+IFERROR(IF(MATCH(CONCATENATE(AF$2,$A68),AUX_MELT_DADES!$V:$V,0)<>0,\"X\",\"\"),\"-\")","v":"-"},{"$f":"+IFERROR(IF(MATCH(CONCATENATE(AG$2,$A68),AUX_MELT_DADES!$V:$V,0)<>0,\"X\",\"\"),\"-\")","v":"-"},{"$f":"+IFERROR(IF(MATCH(CONCATENATE(AH$2,$A68),AUX_MELT_DADES!$V:$V,0)<>0,\"X\",\"\"),\"-\")","v":"-"},{"$f":"+IFERROR(IF(MATCH(CONCATENATE(AI$2,$A68),AUX_MELT_DADES!$V:$V,0)<>0,\"X\",\"\"),\"-\")","v":"-"},{"$f":"+IFERROR(IF(MATCH(CONCATENATE(AJ$2,$A68),AUX_MELT_DADES!$V:$V,0)<>0,\"X\",\"\"),\"-\")","v":"-"},{"$f":"+IFERROR(IF(MATCH(CONCATENATE(AK$2,$A68),AUX_MELT_DADES!$V:$V,0)<>0,\"X\",\"\"),\"-\")","v":"-"},{"$f":"+IFERROR(IF(MATCH(CONCATENATE(AL$2,$A68),AUX_MELT_DADES!$V:$V,0)<>0,\"X\",\"\"),\"-\")","v":"-"},{"$f":"IFERROR(VLOOKUP(A68,AUX_PIVOT_MELT!$A$4:$B$250,2,FALSE),\"\")","v":0},{"$f":"+AND(S68=2,T68=\"Rebutjada\")","v":false},{"$f":"+AND(S68>=3,T68=\"Rebutjada\")","v":false},{"$f":"+AND(S68=2,OR(T68=\"Pendent\",T68=\"\"))","v":false},{"$f":"+AND(S68>=3,OR(T68=\"Pendent\",T68=\"\"))","v":false},{"$f":"IF(U68<>\"\",U68<TODAY(),\"-\")","v":"-"}]
["[mp.com.3]M",67,"[mp.com.3]","Mesures de protecció","Protecció de comunicacions","Protecció de l’autenticitat i de la integritat",null,"X",null,"X",null,null,null,"M",null,"•\tCal garantir l’autenticitat de l’altre extrem d’un canal de comunicació, abans d’intercanviar informació.\n•\tCal prevenir atacs actius i garantir que, com a mínim, es detectin. Es consideren atacs actius: l’alteració de la informació en trànsit, la introducció d’informació espúria i el segrest de la sessió per una tercera part.\n•\tCal utilitzar una VPN, quan la comunicació passi per fora del domini de seguretat.\n•\tCal utilitzar algorismes acreditats pel CCN.",null,"NO",{"$f":"IFERROR(VLOOKUP(A69,AUX_PIVOT_MELT!$A$4:$B$250,2,FALSE),\"\")","v":0},null,null,null,null,{"$f":"+IFERROR(IF(MATCH(CONCATENATE(X$2,$A69),AUX_MELT_DADES!$V:$V,0)<>0,\"X\",\"\"),\"-\")","v":"X"},{"$f":"+IFERROR(IF(MATCH(CONCATENATE(Y$2,$A69),AUX_MELT_DADES!$V:$V,0)<>0,\"X\",\"\"),\"-\")","v":"-"},{"$f":"+IFERROR(IF(MATCH(CONCATENATE(Z$2,$A69),AUX_MELT_DADES!$V:$V,0)<>0,\"X\",\"\"),\"-\")","v":"-"},{"$f":"+IFERROR(IF(MATCH(CONCATENATE(AA$2,$A69),AUX_MELT_DADES!$V:$V,0)<>0,\"X\",\"\"),\"-\")","v":"-"},{"$f":"+IFERROR(IF(MATCH(CONCATENATE(AB$2,$A69),AUX_MELT_DADES!$V:$V,0)<>0,\"X\",\"\"),\"-\")","v":"-"},{"$f":"+IFERROR(IF(MATCH(CONCATENATE(AC$2,$A69),AUX_MELT_DADES!$V:$V,0)<>0,\"X\",\"\"),\"-\")","v":"-"},{"$f":"+IFERROR(IF(MATCH(CONCATENATE(AD$2,$A69),AUX_MELT_DADES!$V:$V,0)<>0,\"X\",\"\"),\"-\")","v":"-"},{"$f":"+IFERROR(IF(MATCH(CONCATENATE(AE$2,$A69),AUX_MELT_DADES!$V:$V,0)<>0,\"X\",\"\"),\"-\")","v":"-"},{"$f":"+IFERROR(IF(MATCH(CONCATENATE(AF$2,$A69),AUX_MELT_DADES!$V:$V,0)<>0,\"X\",\"\"),\"-\")","v":"-"},{"$f":"+IFERROR(IF(MATCH(CONCATENATE(AG$2,$A69),AUX_MELT_DADES!$V:$V,0)<>0,\"X\",\"\"),\"-\")","v":"-"},{"$f":"+IFERROR(IF(MATCH(CONCATENATE(AH$2,$A69),AUX_MELT_DADES!$V:$V,0)<>0,\"X\",\"\"),\"-\")","v":"-"},{"$f":"+IFERROR(IF(MATCH(CONCATENATE(AI$2,$A69),AUX_MELT_DADES!$V:$V,0)<>0,\"X\",\"\"),\"-\")","v":"-"},{"$f":"+IFERROR(IF(MATCH(CONCATENATE(AJ$2,$A69),AUX_MELT_DADES!$V:$V,0)<>0,\"X\",\"\"),\"-\")","v":"-"},{"$f":"+IFERROR(IF(MATCH(CONCATENATE(AK$2,$A69),AUX_MELT_DADES!$V:$V,0)<>0,\"X\",\"\"),\"-\")","v":"-"},{"$f":"+IFERROR(IF(MATCH(CONCATENATE(AL$2,$A69),AUX_MELT_DADES!$V:$V,0)<>0,\"X\",\"\"),\"-\")","v":"-"},{"$f":"IFERROR(VLOOKUP(A69,AUX_PIVOT_MELT!$A$4:$B$250,2,FALSE),\"\")","v":0},false,false,false,false,"-"]
["[mp.com.3]H",68,"[mp.com.3]","Mesures de protecció","Protecció de comunicacions","Protecció de l’autenticitat i de la integritat",null,"X",null,"X",null,null,null,null,"H","•\tCal garantir l’autenticitat de l’altre extrem d’un canal de comunicació, abans d’intercanviar informació.\n•\tCal prevenir atacs actius i garantir que, com a mínim, es detectin. Es consideren atacs actius: l’alteració de la informació en trànsit, la introducció d’informació espúria i el segrest de la sessió per una tercera part.\n•\tCal utilitzar una VPN, quan la comunicació passi per fora del domini de seguretat.\n•\tCal utilitzar algorismes acreditats pel CCN.\n•\tS’ha de valorar positivament l’ús de dispositius de maquinari a l’hora d’establir la VPN.\n•\tPreferentment, cal utilitzar productes certificats.",null,"NO",{"$f":"IFERROR(VLOOKUP(A70,AUX_PIVOT_MELT!$A$4:$B$250,2,FALSE),\"\")","v":0},null,null,null,null,{"$f":"+IFERROR(IF(MATCH(CONCATENATE(X$2,$A70),AUX_MELT_DADES!$V:$V,0)<>0,\"X\",\"\"),\"-\")","v":"X"},{"$f":"+IFERROR(IF(MATCH(CONCATENATE(Y$2,$A70),AUX_MELT_DADES!$V:$V,0)<>0,\"X\",\"\"),\"-\")","v":"-"},{"$f":"+IFERROR(IF(MATCH(CONCATENATE(Z$2,$A70),AUX_MELT_DADES!$V:$V,0)<>0,\"X\",\"\"),\"-\")","v":"-"},{"$f":"+IFERROR(IF(MATCH(CONCATENATE(AA$2,$A70),AUX_MELT_DADES!$V:$V,0)<>0,\"X\",\"\"),\"-\")","v":"-"},{"$f":"+IFERROR(IF(MATCH(CONCATENATE(AB$2,$A70),AUX_MELT_DADES!$V:$V,0)<>0,\"X\",\"\"),\"-\")","v":"-"},{"$f":"+IFERROR(IF(MATCH(CONCATENATE(AC$2,$A70),AUX_MELT_DADES!$V:$V,0)<>0,\"X\",\"\"),\"-\")","v":"-"},{"$f":"+IFERROR(IF(MATCH(CONCATENATE(AD$2,$A70),AUX_MELT_DADES!$V:$V,0)<>0,\"X\",\"\"),\"-\")","v":"-"},{"$f":"+IFERROR(IF(MATCH(CONCATENATE(AE$2,$A70),AUX_MELT_DADES!$V:$V,0)<>0,\"X\",\"\"),\"-\")","v":"-"},{"$f":"+IFERROR(IF(MATCH(CONCATENATE(AF$2,$A70),AUX_MELT_DADES!$V:$V,0)<>0,\"X\",\"\"),\"-\")","v":"-"},{"$f":"+IFERROR(IF(MATCH(CONCATENATE(AG$2,$A70),AUX_MELT_DADES!$V:$V,0)<>0,\"X\",\"\"),\"-\")","v":"-"},{"$f":"+IFERROR(IF(MATCH(CONCATENATE(AH$2,$A70),AUX_MELT_DADES!$V:$V,0)<>0,\"X\",\"\"),\"-\")","v":"-"},{"$f":"+IFERROR(IF(MATCH(CONCATENATE(AI$2,$A70),AUX_MELT_DADES!$V:$V,0)<>0,\"X\",\"\"),\"-\")","v":"-"},{"$f":"+IFERROR(IF(MATCH(CONCATENATE(AJ$2,$A70),AUX_MELT_DADES!$V:$V,0)<>0,\"X\",\"\"),\"-\")","v":"-"},{"$f":"+IFERROR(IF(MATCH(CONCATENATE(AK$2,$A70),AUX_MELT_DADES!$V:$V,0)<>0,\"X\",\"\"),\"-\")","v":"-"},{"$f":"+IFERROR(IF(MATCH(CONCATENATE(AL$2,$A70),AUX_MELT_DADES!$V:$V,0)<>0,\"X\",\"\"),\"-\")","v":"-"},{"$f":"IFERROR(VLOOKUP(A70,AUX_PIVOT_MELT!$A$4:$B$250,2,FALSE),\"\")","v":0},false,false,false,false,"-"]
["[mp.com.4]H",69,"[mp.com.4]","Mesures de protecció","Protecció de comunicacions","Segregació de xarxes",null,null,null,null,null,"X",null,null,"H","La segregació de xarxes limita la propagació dels incidents de seguretat, que queden restringits a l’entorn on tenen lloc.\nLa xarxa s’ha de segmentar, de manera que hi hagi:\n•\tControl d’entrada dels usuaris a cada segment.\n•\tControl de sortida de la informació de cada segment.\n•\tEls punts d’interconnexió (físic o lògic) han d’estar particularment assegurats, mantinguts i monitoritzats.",null,"NO",{"$f":"IFERROR(VLOOKUP(A71,AUX_PIVOT_MELT!$A$4:$B$250,2,FALSE),\"\")","v":0},null,null,null,null,{"$f":"+IFERROR(IF(MATCH(CONCATENATE(X$2,$A71),AUX_MELT_DADES!$V:$V,0)<>0,\"X\",\"\"),\"-\")","v":"-"},{"$f":"+IFERROR(IF(MATCH(CONCATENATE(Y$2,$A71),AUX_MELT_DADES!$V:$V,0)<>0,\"X\",\"\"),\"-\")","v":"-"},{"$f":"+IFERROR(IF(MATCH(CONCATENATE(Z$2,$A71),AUX_MELT_DADES!$V:$V,0)<>0,\"X\",\"\"),\"-\")","v":"X"},{"$f":"+IFERROR(IF(MATCH(CONCATENATE(AA$2,$A71),AUX_MELT_DADES!$V:$V,0)<>0,\"X\",\"\"),\"-\")","v":"-"},{"$f":"+IFERROR(IF(MATCH(CONCATENATE(AB$2,$A71),AUX_MELT_DADES!$V:$V,0)<>0,\"X\",\"\"),\"-\")","v":"-"},{"$f":"+IFERROR(IF(MATCH(CONCATENATE(AC$2,$A71),AUX_MELT_DADES!$V:$V,0)<>0,\"X\",\"\"),\"-\")","v":"-"},{"$f":"+IFERROR(IF(MATCH(CONCATENATE(AD$2,$A71),AUX_MELT_DADES!$V:$V,0)<>0,\"X\",\"\"),\"-\")","v":"-"},{"$f":"+IFERROR(IF(MATCH(CONCATENATE(AE$2,$A71),AUX_MELT_DADES!$V:$V,0)<>0,\"X\",\"\"),\"-\")","v":"-"},{"$f":"+IFERROR(IF(MATCH(CONCATENATE(AF$2,$A71),AUX_MELT_DADES!$V:$V,0)<>0,\"X\",\"\"),\"-\")","v":"-"},{"$f":"+IFERROR(IF(MATCH(CONCATENATE(AG$2,$A71),AUX_MELT_DADES!$V:$V,0)<>0,\"X\",\"\"),\"-\")","v":"-"},{"$f":"+IFERROR(IF(MATCH(CONCATENATE(AH$2,$A71),AUX_MELT_DADES!$V:$V,0)<>0,\"X\",\"\"),\"-\")","v":"-"},{"$f":"+IFERROR(IF(MATCH(CONCATENATE(AI$2,$A71),AUX_MELT_DADES!$V:$V,0)<>0,\"X\",\"\"),\"-\")","v":"-"},{"$f":"+IFERROR(IF(MATCH(CONCATENATE(AJ$2,$A71),AUX_MELT_DADES!$V:$V,0)<>0,\"X\",\"\"),\"-\")","v":"-"},{"$f":"+IFERROR(IF(MATCH(CONCATENATE(AK$2,$A71),AUX_MELT_DADES!$V:$V,0)<>0,\"X\",\"\"),\"-\")","v":"-"},{"$f":"+IFERROR(IF(MATCH(CONCATENATE(AL$2,$A71),AUX_MELT_DADES!$V:$V,0)<>0,\"X\",\"\"),\"-\")","v":"-"},{"$f":"IFERROR(VLOOKUP(A71,AUX_PIVOT_MELT!$A$4:$B$250,2,FALSE),\"\")","v":0},false,false,false,false,"-"]
["[mp.com.5]H",70,"[mp.com.5]","Mesures de protecció","Protecció de comunicacions","Mitjans alternatius",null,null,"X",null,null,null,null,null,"H","Cal garantir que hi ha mitjans de comunicació alternatius si els habituals fallen, i que estan disponibles. Cal que els mitjans alternatius:\n•\tEstiguin subjectes a les mateixes garanties de protecció que els habituals.\n•\tGaranteixin un temps màxim d’entrada en funcionament.",null,"NO",{"$f":"IFERROR(VLOOKUP(A72,AUX_PIVOT_MELT!$A$4:$B$250,2,FALSE),\"\")","v":0},null,null,null,null,{"$f":"+IFERROR(IF(MATCH(CONCATENATE(X$2,$A72),AUX_MELT_DADES!$V:$V,0)<>0,\"X\",\"\"),\"-\")","v":"X"},{"$f":"+IFERROR(IF(MATCH(CONCATENATE(Y$2,$A72),AUX_MELT_DADES!$V:$V,0)<>0,\"X\",\"\"),\"-\")","v":"-"},{"$f":"+IFERROR(IF(MATCH(CONCATENATE(Z$2,$A72),AUX_MELT_DADES!$V:$V,0)<>0,\"X\",\"\"),\"-\")","v":"-"},{"$f":"+IFERROR(IF(MATCH(CONCATENATE(AA$2,$A72),AUX_MELT_DADES!$V:$V,0)<>0,\"X\",\"\"),\"-\")","v":"-"},{"$f":"+IFERROR(IF(MATCH(CONCATENATE(AB$2,$A72),AUX_MELT_DADES!$V:$V,0)<>0,\"X\",\"\"),\"-\")","v":"-"},{"$f":"+IFERROR(IF(MATCH(CONCATENATE(AC$2,$A72),AUX_MELT_DADES!$V:$V,0)<>0,\"X\",\"\"),\"-\")","v":"-"},{"$f":"+IFERROR(IF(MATCH(CONCATENATE(AD$2,$A72),AUX_MELT_DADES!$V:$V,0)<>0,\"X\",\"\"),\"-\")","v":"-"},{"$f":"+IFERROR(IF(MATCH(CONCATENATE(AE$2,$A72),AUX_MELT_DADES!$V:$V,0)<>0,\"X\",\"\"),\"-\")","v":"-"},{"$f":"+IFERROR(IF(MATCH(CONCATENATE(AF$2,$A72),AUX_MELT_DADES!$V:$V,0)<>0,\"X\",\"\"),\"-\")","v":"-"},{"$f":"+IFERROR(IF(MATCH(CONCATENATE(AG$2,$A72),AUX_MELT_DADES!$V:$V,0)<>0,\"X\",\"\"),\"-\")","v":"-"},{"$f":"+IFERROR(IF(MATCH(CONCATENATE(AH$2,$A72),AUX_MELT_DADES!$V:$V,0)<>0,\"X\",\"\"),\"-\")","v":"-"},{"$f":"+IFERROR(IF(MATCH(CONCATENATE(AI$2,$A72),AUX_MELT_DADES!$V:$V,0)<>0,\"X\",\"\"),\"-\")","v":"-"},{"$f":"+IFERROR(IF(MATCH(CONCATENATE(AJ$2,$A72),AUX_MELT_DADES!$V:$V,0)<>0,\"X\",\"\"),\"-\")","v":"-"},{"$f":"+IFERROR(IF(MATCH(CONCATENATE(AK$2,$A72),AUX_MELT_DADES!$V:$V,0)<>0,\"X\",\"\"),\"-\")","v":"-"},{"$f":"+IFERROR(IF(MATCH(CONCATENATE(AL$2,$A72),AUX_MELT_DADES!$V:$V,0)<>0,\"X\",\"\"),\"-\")","v":"-"},{"$f":"IFERROR(VLOOKUP(A72,AUX_PIVOT_MELT!$A$4:$B$250,2,FALSE),\"\")","v":0},false,false,false,false,"-"]
["[mp.si.1]LMH",71,"[mp.si.1]","Mesures de protecció","Protecció de suports d'informació","Etiquetat","X",null,null,null,null,null,"L","M","H","•\tEls suports d’informació s’han d’etiquetar de manera que, sense revelar-ne el contingut, s’indiqui el nivell de seguretat de la informació continguda.\n•\tEls usuaris han d’estar capacitats per entendre el significat de les etiquetes.",null,"NO",{"$f":"IFERROR(VLOOKUP(A73,AUX_PIVOT_MELT!$A$4:$B$250,2,FALSE),\"\")","v":0},null,null,null,null,{"$f":"+IFERROR(IF(MATCH(CONCATENATE(X$2,$A73),AUX_MELT_DADES!$V:$V,0)<>0,\"X\",\"\"),\"-\")","v":"-"},{"$f":"+IFERROR(IF(MATCH(CONCATENATE(Y$2,$A73),AUX_MELT_DADES!$V:$V,0)<>0,\"X\",\"\"),\"-\")","v":"-"},{"$f":"+IFERROR(IF(MATCH(CONCATENATE(Z$2,$A73),AUX_MELT_DADES!$V:$V,0)<>0,\"X\",\"\"),\"-\")","v":"-"},{"$f":"+IFERROR(IF(MATCH(CONCATENATE(AA$2,$A73),AUX_MELT_DADES!$V:$V,0)<>0,\"X\",\"\"),\"-\")","v":"X"},{"$f":"+IFERROR(IF(MATCH(CONCATENATE(AB$2,$A73),AUX_MELT_DADES!$V:$V,0)<>0,\"X\",\"\"),\"-\")","v":"-"},{"$f":"+IFERROR(IF(MATCH(CONCATENATE(AC$2,$A73),AUX_MELT_DADES!$V:$V,0)<>0,\"X\",\"\"),\"-\")","v":"-"},{"$f":"+IFERROR(IF(MATCH(CONCATENATE(AD$2,$A73),AUX_MELT_DADES!$V:$V,0)<>0,\"X\",\"\"),\"-\")","v":"-"},{"$f":"+IFERROR(IF(MATCH(CONCATENATE(AE$2,$A73),AUX_MELT_DADES!$V:$V,0)<>0,\"X\",\"\"),\"-\")","v":"-"},{"$f":"+IFERROR(IF(MATCH(CONCATENATE(AF$2,$A73),AUX_MELT_DADES!$V:$V,0)<>0,\"X\",\"\"),\"-\")","v":"-"},{"$f":"+IFERROR(IF(MATCH(CONCATENATE(AG$2,$A73),AUX_MELT_DADES!$V:$V,0)<>0,\"X\",\"\"),\"-\")","v":"-"},{"$f":"+IFERROR(IF(MATCH(CONCATENATE(AH$2,$A73),AUX_MELT_DADES!$V:$V,0)<>0,\"X\",\"\"),\"-\")","v":"-"},{"$f":"+IFERROR(IF(MATCH(CONCATENATE(AI$2,$A73),AUX_MELT_DADES!$V:$V,0)<>0,\"X\",\"\"),\"-\")","v":"-"},{"$f":"+IFERROR(IF(MATCH(CONCATENATE(AJ$2,$A73),AUX_MELT_DADES!$V:$V,0)<>0,\"X\",\"\"),\"-\")","v":"-"},{"$f":"+IFERROR(IF(MATCH(CONCATENATE(AK$2,$A73),AUX_MELT_DADES!$V:$V,0)<>0,\"X\",\"\"),\"-\")","v":"-"},{"$f":"+IFERROR(IF(MATCH(CONCATENATE(AL$2,$A73),AUX_MELT_DADES!$V:$V,0)<>0,\"X\",\"\"),\"-\")","v":"-"},{"$f":"IFERROR(VLOOKUP(A73,AUX_PIVOT_MELT!$A$4:$B$250,2,FALSE),\"\")","v":0},false,false,false,false,"-"]
["[mp.si.2]M",72,"[mp.si.2]","Mesures de protecció","Protecció de suports d'informació","Criptografia","X","X",null,null,null,null,null,"M",null,"Aquesta mesura s’aplica, en particular, a tots els dispositius extraïbles (CD, DVD, discs USB i altres d’anàlegs).\n•\tCal aplicar mecanismes criptogràfics que garanteixin la integritat i la confidencialitat de la informació continguda.",null,"NO",{"$f":"IFERROR(VLOOKUP(A74,AUX_PIVOT_MELT!$A$4:$B$250,2,FALSE),\"\")","v":0},null,null,null,null,{"$f":"+IFERROR(IF(MATCH(CONCATENATE(X$2,$A74),AUX_MELT_DADES!$V:$V,0)<>0,\"X\",\"\"),\"-\")","v":"-"},{"$f":"+IFERROR(IF(MATCH(CONCATENATE(Y$2,$A74),AUX_MELT_DADES!$V:$V,0)<>0,\"X\",\"\"),\"-\")","v":"-"},{"$f":"+IFERROR(IF(MATCH(CONCATENATE(Z$2,$A74),AUX_MELT_DADES!$V:$V,0)<>0,\"X\",\"\"),\"-\")","v":"-"},{"$f":"+IFERROR(IF(MATCH(CONCATENATE(AA$2,$A74),AUX_MELT_DADES!$V:$V,0)<>0,\"X\",\"\"),\"-\")","v":"X"},{"$f":"+IFERROR(IF(MATCH(CONCATENATE(AB$2,$A74),AUX_MELT_DADES!$V:$V,0)<>0,\"X\",\"\"),\"-\")","v":"-"},{"$f":"+IFERROR(IF(MATCH(CONCATENATE(AC$2,$A74),AUX_MELT_DADES!$V:$V,0)<>0,\"X\",\"\"),\"-\")","v":"-"},{"$f":"+IFERROR(IF(MATCH(CONCATENATE(AD$2,$A74),AUX_MELT_DADES!$V:$V,0)<>0,\"X\",\"\"),\"-\")","v":"-"},{"$f":"+IFERROR(IF(MATCH(CONCATENATE(AE$2,$A74),AUX_MELT_DADES!$V:$V,0)<>0,\"X\",\"\"),\"-\")","v":"-"},{"$f":"+IFERROR(IF(MATCH(CONCATENATE(AF$2,$A74),AUX_MELT_DADES!$V:$V,0)<>0,\"X\",\"\"),\"-\")","v":"-"},{"$f":"+IFERROR(IF(MATCH(CONCATENATE(AG$2,$A74),AUX_MELT_DADES!$V:$V,0)<>0,\"X\",\"\"),\"-\")","v":"-"},{"$f":"+IFERROR(IF(MATCH(CONCATENATE(AH$2,$A74),AUX_MELT_DADES!$V:$V,0)<>0,\"X\",\"\"),\"-\")","v":"X"},{"$f":"+IFERROR(IF(MATCH(CONCATENATE(AI$2,$A74),AUX_MELT_DADES!$V:$V,0)<>0,\"X\",\"\"),\"-\")","v":"-"},{"$f":"+IFERROR(IF(MATCH(CONCATENATE(AJ$2,$A74),AUX_MELT_DADES!$V:$V,0)<>0,\"X\",\"\"),\"-\")","v":"-"},{"$f":"+IFERROR(IF(MATCH(CONCATENATE(AK$2,$A74),AUX_MELT_DADES!$V:$V,0)<>0,\"X\",\"\"),\"-\")","v":"-"},{"$f":"+IFERROR(IF(MATCH(CONCATENATE(AL$2,$A74),AUX_MELT_DADES!$V:$V,0)<>0,\"X\",\"\"),\"-\")","v":"-"},{"$f":"IFERROR(VLOOKUP(A74,AUX_PIVOT_MELT!$A$4:$B$250,2,FALSE),\"\")","v":0},false,false,false,false,"-"]
["[mp.si.2]H",73,"[mp.si.2]","Mesures de protecció","Protecció de suports d'informació","Criptografia","X","X",null,null,null,null,null,null,"H","Aquesta mesura s’aplica, en particular, a tots els dispositius extraïbles (CD, DVD, discs USB i altres d’anàlegs).\n•\tCal aplicar mecanismes criptogràfics que garanteixin la integritat i la confidencialitat de la informació continguda.\n•\tCal utilitzar algorismes acreditats pel CCN.\n•\tCal utilitzar, preferentment, productes certificats.",null,"NO",{"$f":"IFERROR(VLOOKUP(A75,AUX_PIVOT_MELT!$A$4:$B$250,2,FALSE),\"\")","v":0},null,null,null,null,{"$f":"+IFERROR(IF(MATCH(CONCATENATE(X$2,$A75),AUX_MELT_DADES!$V:$V,0)<>0,\"X\",\"\"),\"-\")","v":"-"},{"$f":"+IFERROR(IF(MATCH(CONCATENATE(Y$2,$A75),AUX_MELT_DADES!$V:$V,0)<>0,\"X\",\"\"),\"-\")","v":"-"},{"$f":"+IFERROR(IF(MATCH(CONCATENATE(Z$2,$A75),AUX_MELT_DADES!$V:$V,0)<>0,\"X\",\"\"),\"-\")","v":"-"},{"$f":"+IFERROR(IF(MATCH(CONCATENATE(AA$2,$A75),AUX_MELT_DADES!$V:$V,0)<>0,\"X\",\"\"),\"-\")","v":"X"},{"$f":"+IFERROR(IF(MATCH(CONCATENATE(AB$2,$A75),AUX_MELT_DADES!$V:$V,0)<>0,\"X\",\"\"),\"-\")","v":"-"},{"$f":"+IFERROR(IF(MATCH(CONCATENATE(AC$2,$A75),AUX_MELT_DADES!$V:$V,0)<>0,\"X\",\"\"),\"-\")","v":"-"},{"$f":"+IFERROR(IF(MATCH(CONCATENATE(AD$2,$A75),AUX_MELT_DADES!$V:$V,0)<>0,\"X\",\"\"),\"-\")","v":"-"},{"$f":"+IFERROR(IF(MATCH(CONCATENATE(AE$2,$A75),AUX_MELT_DADES!$V:$V,0)<>0,\"X\",\"\"),\"-\")","v":"-"},{"$f":"+IFERROR(IF(MATCH(CONCATENATE(AF$2,$A75),AUX_MELT_DADES!$V:$V,0)<>0,\"X\",\"\"),\"-\")","v":"-"},{"$f":"+IFERROR(IF(MATCH(CONCATENATE(AG$2,$A75),AUX_MELT_DADES!$V:$V,0)<>0,\"X\",\"\"),\"-\")","v":"-"},{"$f":"+IFERROR(IF(MATCH(CONCATENATE(AH$2,$A75),AUX_MELT_DADES!$V:$V,0)<>0,\"X\",\"\"),\"-\")","v":"X"},{"$f":"+IFERROR(IF(MATCH(CONCATENATE(AI$2,$A75),AUX_MELT_DADES!$V:$V,0)<>0,\"X\",\"\"),\"-\")","v":"-"},{"$f":"+IFERROR(IF(MATCH(CONCATENATE(AJ$2,$A75),AUX_MELT_DADES!$V:$V,0)<>0,\"X\",\"\"),\"-\")","v":"-"},{"$f":"+IFERROR(IF(MATCH(CONCATENATE(AK$2,$A75),AUX_MELT_DADES!$V:$V,0)<>0,\"X\",\"\"),\"-\")","v":"-"},{"$f":"+IFERROR(IF(MATCH(CONCATENATE(AL$2,$A75),AUX_MELT_DADES!$V:$V,0)<>0,\"X\",\"\"),\"-\")","v":"-"},{"$f":"IFERROR(VLOOKUP(A75,AUX_PIVOT_MELT!$A$4:$B$250,2,FALSE),\"\")","v":0},false,false,false,false,"-"]
["[mp.si.3]LMH",74,"[mp.si.3]","Mesures de protecció","Protecció de suports d'informació","Custodia",null,null,null,null,null,"X","L","M","H","Cal aplicar la diligència i el control adequats als suports d’informació que estan sota la responsabilitat de l’organització.\n•\tCal garantir el control d’accés amb mesures físiques, lògiques o ambdues.\n•\tCal garantir que es respecten les exigències de manteniment del fabricant.",null,"NO",{"$f":"IFERROR(VLOOKUP(A76,AUX_PIVOT_MELT!$A$4:$B$250,2,FALSE),\"\")","v":0},null,null,null,null,{"$f":"+IFERROR(IF(MATCH(CONCATENATE(X$2,$A76),AUX_MELT_DADES!$V:$V,0)<>0,\"X\",\"\"),\"-\")","v":"-"},{"$f":"+IFERROR(IF(MATCH(CONCATENATE(Y$2,$A76),AUX_MELT_DADES!$V:$V,0)<>0,\"X\",\"\"),\"-\")","v":"-"},{"$f":"+IFERROR(IF(MATCH(CONCATENATE(Z$2,$A76),AUX_MELT_DADES!$V:$V,0)<>0,\"X\",\"\"),\"-\")","v":"-"},{"$f":"+IFERROR(IF(MATCH(CONCATENATE(AA$2,$A76),AUX_MELT_DADES!$V:$V,0)<>0,\"X\",\"\"),\"-\")","v":"X"},{"$f":"+IFERROR(IF(MATCH(CONCATENATE(AB$2,$A76),AUX_MELT_DADES!$V:$V,0)<>0,\"X\",\"\"),\"-\")","v":"-"},{"$f":"+IFERROR(IF(MATCH(CONCATENATE(AC$2,$A76),AUX_MELT_DADES!$V:$V,0)<>0,\"X\",\"\"),\"-\")","v":"-"},{"$f":"+IFERROR(IF(MATCH(CONCATENATE(AD$2,$A76),AUX_MELT_DADES!$V:$V,0)<>0,\"X\",\"\"),\"-\")","v":"-"},{"$f":"+IFERROR(IF(MATCH(CONCATENATE(AE$2,$A76),AUX_MELT_DADES!$V:$V,0)<>0,\"X\",\"\"),\"-\")","v":"-"},{"$f":"+IFERROR(IF(MATCH(CONCATENATE(AF$2,$A76),AUX_MELT_DADES!$V:$V,0)<>0,\"X\",\"\"),\"-\")","v":"-"},{"$f":"+IFERROR(IF(MATCH(CONCATENATE(AG$2,$A76),AUX_MELT_DADES!$V:$V,0)<>0,\"X\",\"\"),\"-\")","v":"-"},{"$f":"+IFERROR(IF(MATCH(CONCATENATE(AH$2,$A76),AUX_MELT_DADES!$V:$V,0)<>0,\"X\",\"\"),\"-\")","v":"-"},{"$f":"+IFERROR(IF(MATCH(CONCATENATE(AI$2,$A76),AUX_MELT_DADES!$V:$V,0)<>0,\"X\",\"\"),\"-\")","v":"-"},{"$f":"+IFERROR(IF(MATCH(CONCATENATE(AJ$2,$A76),AUX_MELT_DADES!$V:$V,0)<>0,\"X\",\"\"),\"-\")","v":"-"},{"$f":"+IFERROR(IF(MATCH(CONCATENATE(AK$2,$A76),AUX_MELT_DADES!$V:$V,0)<>0,\"X\",\"\"),\"-\")","v":"-"},{"$f":"+IFERROR(IF(MATCH(CONCATENATE(AL$2,$A76),AUX_MELT_DADES!$V:$V,0)<>0,\"X\",\"\"),\"-\")","v":"-"},{"$f":"IFERROR(VLOOKUP(A76,AUX_PIVOT_MELT!$A$4:$B$250,2,FALSE),\"\")","v":0},false,false,false,false,"-"]
["[mp.si.4]LMH",75,"[mp.si.4]","Mesures de protecció","Protecció de suports d'informació","Transport",null,null,null,null,null,"X","L","M","H","El responsable de sistemes ha de garantir que, mentre es desplacen, els dispositius estan sota control i que es compleixen els requisits de seguretat. Cal:\n•\tDisposar d’un registre de sortida que identifiqui el transportista que rep el suport.\n•\tDisposar d’un registre d’entrada que identifiqui el transportista que l’entrega.\n•\tDisposar d’un procediment que compari entrades i sortides. Si es detecta algun incident, s’han d’activar les alarmes.\n•\tUtilitzar mitjans criptogràfics d’acord amb [mp.si.2].\n•\tGestionar les claus d’acord amb [op.exp.11].",null,"NO",{"$f":"IFERROR(VLOOKUP(A77,AUX_PIVOT_MELT!$A$4:$B$250,2,FALSE),\"\")","v":0},null,null,null,null,{"$f":"+IFERROR(IF(MATCH(CONCATENATE(X$2,$A77),AUX_MELT_DADES!$V:$V,0)<>0,\"X\",\"\"),\"-\")","v":"-"},{"$f":"+IFERROR(IF(MATCH(CONCATENATE(Y$2,$A77),AUX_MELT_DADES!$V:$V,0)<>0,\"X\",\"\"),\"-\")","v":"-"},{"$f":"+IFERROR(IF(MATCH(CONCATENATE(Z$2,$A77),AUX_MELT_DADES!$V:$V,0)<>0,\"X\",\"\"),\"-\")","v":"-"},{"$f":"+IFERROR(IF(MATCH(CONCATENATE(AA$2,$A77),AUX_MELT_DADES!$V:$V,0)<>0,\"X\",\"\"),\"-\")","v":"X"},{"$f":"+IFERROR(IF(MATCH(CONCATENATE(AB$2,$A77),AUX_MELT_DADES!$V:$V,0)<>0,\"X\",\"\"),\"-\")","v":"-"},{"$f":"+IFERROR(IF(MATCH(CONCATENATE(AC$2,$A77),AUX_MELT_DADES!$V:$V,0)<>0,\"X\",\"\"),\"-\")","v":"-"},{"$f":"+IFERROR(IF(MATCH(CONCATENATE(AD$2,$A77),AUX_MELT_DADES!$V:$V,0)<>0,\"X\",\"\"),\"-\")","v":"-"},{"$f":"+IFERROR(IF(MATCH(CONCATENATE(AE$2,$A77),AUX_MELT_DADES!$V:$V,0)<>0,\"X\",\"\"),\"-\")","v":"-"},{"$f":"+IFERROR(IF(MATCH(CONCATENATE(AF$2,$A77),AUX_MELT_DADES!$V:$V,0)<>0,\"X\",\"\"),\"-\")","v":"-"},{"$f":"+IFERROR(IF(MATCH(CONCATENATE(AG$2,$A77),AUX_MELT_DADES!$V:$V,0)<>0,\"X\",\"\"),\"-\")","v":"-"},{"$f":"+IFERROR(IF(MATCH(CONCATENATE(AH$2,$A77),AUX_MELT_DADES!$V:$V,0)<>0,\"X\",\"\"),\"-\")","v":"-"},{"$f":"+IFERROR(IF(MATCH(CONCATENATE(AI$2,$A77),AUX_MELT_DADES!$V:$V,0)<>0,\"X\",\"\"),\"-\")","v":"-"},{"$f":"+IFERROR(IF(MATCH(CONCATENATE(AJ$2,$A77),AUX_MELT_DADES!$V:$V,0)<>0,\"X\",\"\"),\"-\")","v":"-"},{"$f":"+IFERROR(IF(MATCH(CONCATENATE(AK$2,$A77),AUX_MELT_DADES!$V:$V,0)<>0,\"X\",\"\"),\"-\")","v":"-"},{"$f":"+IFERROR(IF(MATCH(CONCATENATE(AL$2,$A77),AUX_MELT_DADES!$V:$V,0)<>0,\"X\",\"\"),\"-\")","v":"-"},{"$f":"IFERROR(VLOOKUP(A77,AUX_PIVOT_MELT!$A$4:$B$250,2,FALSE),\"\")","v":0},false,false,false,false,"-"]
["[mp.si.5]MH",76,"[mp.si.5]","Mesures de protecció","Protecció de suports d'informació","Esborrat i destrucció","X",null,null,null,null,null,null,"M","H","L’esborrat i destrucció del suport de la informació s’ha d’aplicar a qualsevol tipus\nd’equip susceptible d’emmagatzemar informació.\n \n•\tEls suports que s’han de reutilitzar o lliurar a una altra organització han de ser objecte d’un esborrat segur.\n•\tCal destruir els suports de forma segura, quan la naturalesa del suport no permeti un esborrat segur i així ho requereixi el procediment associat a la informació continguda.",null,"NO",{"$f":"IFERROR(VLOOKUP(A78,AUX_PIVOT_MELT!$A$4:$B$250,2,FALSE),\"\")","v":0},null,null,null,null,{"$f":"+IFERROR(IF(MATCH(CONCATENATE(X$2,$A78),AUX_MELT_DADES!$V:$V,0)<>0,\"X\",\"\"),\"-\")","v":"-"},{"$f":"+IFERROR(IF(MATCH(CONCATENATE(Y$2,$A78),AUX_MELT_DADES!$V:$V,0)<>0,\"X\",\"\"),\"-\")","v":"-"},{"$f":"+IFERROR(IF(MATCH(CONCATENATE(Z$2,$A78),AUX_MELT_DADES!$V:$V,0)<>0,\"X\",\"\"),\"-\")","v":"-"},{"$f":"+IFERROR(IF(MATCH(CONCATENATE(AA$2,$A78),AUX_MELT_DADES!$V:$V,0)<>0,\"X\",\"\"),\"-\")","v":"X"},{"$f":"+IFERROR(IF(MATCH(CONCATENATE(AB$2,$A78),AUX_MELT_DADES!$V:$V,0)<>0,\"X\",\"\"),\"-\")","v":"-"},{"$f":"+IFERROR(IF(MATCH(CONCATENATE(AC$2,$A78),AUX_MELT_DADES!$V:$V,0)<>0,\"X\",\"\"),\"-\")","v":"-"},{"$f":"+IFERROR(IF(MATCH(CONCATENATE(AD$2,$A78),AUX_MELT_DADES!$V:$V,0)<>0,\"X\",\"\"),\"-\")","v":"-"},{"$f":"+IFERROR(IF(MATCH(CONCATENATE(AE$2,$A78),AUX_MELT_DADES!$V:$V,0)<>0,\"X\",\"\"),\"-\")","v":"-"},{"$f":"+IFERROR(IF(MATCH(CONCATENATE(AF$2,$A78),AUX_MELT_DADES!$V:$V,0)<>0,\"X\",\"\"),\"-\")","v":"-"},{"$f":"+IFERROR(IF(MATCH(CONCATENATE(AG$2,$A78),AUX_MELT_DADES!$V:$V,0)<>0,\"X\",\"\"),\"-\")","v":"-"},{"$f":"+IFERROR(IF(MATCH(CONCATENATE(AH$2,$A78),AUX_MELT_DADES!$V:$V,0)<>0,\"X\",\"\"),\"-\")","v":"X"},{"$f":"+IFERROR(IF(MATCH(CONCATENATE(AI$2,$A78),AUX_MELT_DADES!$V:$V,0)<>0,\"X\",\"\"),\"-\")","v":"-"},{"$f":"+IFERROR(IF(MATCH(CONCATENATE(AJ$2,$A78),AUX_MELT_DADES!$V:$V,0)<>0,\"X\",\"\"),\"-\")","v":"-"},{"$f":"+IFERROR(IF(MATCH(CONCATENATE(AK$2,$A78),AUX_MELT_DADES!$V:$V,0)<>0,\"X\",\"\"),\"-\")","v":"-"},{"$f":"+IFERROR(IF(MATCH(CONCATENATE(AL$2,$A78),AUX_MELT_DADES!$V:$V,0)<>0,\"X\",\"\"),\"-\")","v":"-"},{"$f":"IFERROR(VLOOKUP(A78,AUX_PIVOT_MELT!$A$4:$B$250,2,FALSE),\"\")","v":0},false,false,false,false,"-"]
["[mp.sw.1]MH",77,"[mp.sw.1]","Mesures de protecció","Protecció d'aplicacions informàtiques","Desenvolupament d’aplicacions",null,null,null,null,null,"X",null,"M","H","•\tEl desenvolupament d’aplicacions s’ha de fer sobre un sistema diferent i separat del de producció. No hi ha d’haver eines o dades de desenvolupament a l’entorn de producció.\n•\tCal aplicar una metodologia de desenvolupament reconeguda, que:\n     - Prengui en consideració els aspectes de seguretat al llarg de tot el cicle de vida.\n     - Tracti específicament les dades utilitzades a les proves.\n     - Permeti la inspecció del codi font.\n•\tEls elements següents han de ser part integral del disseny del sistema:\n     - Mecanismes d’identificació i autenticació.\n     - Mecanismes de protecció de la informació tractada.\n     - La generació i el tractament de pistes d’auditoria.\n•\tLes proves no s’han de fer amb dades reals, llevat que s’asseguri el nivell de seguretat corresponent.",null,"NO",{"$f":"IFERROR(VLOOKUP(A79,AUX_PIVOT_MELT!$A$4:$B$250,2,FALSE),\"\")","v":0},null,null,null,null,{"$f":"+IFERROR(IF(MATCH(CONCATENATE(X$2,$A79),AUX_MELT_DADES!$V:$V,0)<>0,\"X\",\"\"),\"-\")","v":"-"},{"$f":"+IFERROR(IF(MATCH(CONCATENATE(Y$2,$A79),AUX_MELT_DADES!$V:$V,0)<>0,\"X\",\"\"),\"-\")","v":"-"},{"$f":"+IFERROR(IF(MATCH(CONCATENATE(Z$2,$A79),AUX_MELT_DADES!$V:$V,0)<>0,\"X\",\"\"),\"-\")","v":"X"},{"$f":"+IFERROR(IF(MATCH(CONCATENATE(AA$2,$A79),AUX_MELT_DADES!$V:$V,0)<>0,\"X\",\"\"),\"-\")","v":"-"},{"$f":"+IFERROR(IF(MATCH(CONCATENATE(AB$2,$A79),AUX_MELT_DADES!$V:$V,0)<>0,\"X\",\"\"),\"-\")","v":"-"},{"$f":"+IFERROR(IF(MATCH(CONCATENATE(AC$2,$A79),AUX_MELT_DADES!$V:$V,0)<>0,\"X\",\"\"),\"-\")","v":"-"},{"$f":"+IFERROR(IF(MATCH(CONCATENATE(AD$2,$A79),AUX_MELT_DADES!$V:$V,0)<>0,\"X\",\"\"),\"-\")","v":"-"},{"$f":"+IFERROR(IF(MATCH(CONCATENATE(AE$2,$A79),AUX_MELT_DADES!$V:$V,0)<>0,\"X\",\"\"),\"-\")","v":"-"},{"$f":"+IFERROR(IF(MATCH(CONCATENATE(AF$2,$A79),AUX_MELT_DADES!$V:$V,0)<>0,\"X\",\"\"),\"-\")","v":"-"},{"$f":"+IFERROR(IF(MATCH(CONCATENATE(AG$2,$A79),AUX_MELT_DADES!$V:$V,0)<>0,\"X\",\"\"),\"-\")","v":"-"},{"$f":"+IFERROR(IF(MATCH(CONCATENATE(AH$2,$A79),AUX_MELT_DADES!$V:$V,0)<>0,\"X\",\"\"),\"-\")","v":"-"},{"$f":"+IFERROR(IF(MATCH(CONCATENATE(AI$2,$A79),AUX_MELT_DADES!$V:$V,0)<>0,\"X\",\"\"),\"-\")","v":"-"},{"$f":"+IFERROR(IF(MATCH(CONCATENATE(AJ$2,$A79),AUX_MELT_DADES!$V:$V,0)<>0,\"X\",\"\"),\"-\")","v":"-"},{"$f":"+IFERROR(IF(MATCH(CONCATENATE(AK$2,$A79),AUX_MELT_DADES!$V:$V,0)<>0,\"X\",\"\"),\"-\")","v":"-"},{"$f":"+IFERROR(IF(MATCH(CONCATENATE(AL$2,$A79),AUX_MELT_DADES!$V:$V,0)<>0,\"X\",\"\"),\"-\")","v":"-"},{"$f":"IFERROR(VLOOKUP(A79,AUX_PIVOT_MELT!$A$4:$B$250,2,FALSE),\"\")","v":0},false,false,false,false,"-"]
["[mp.sw.2]L",78,"[mp.sw.2]","Mesures de protecció","Protecció d'aplicacions informàtiques","Acceptació i posada en servei",null,null,null,null,null,"X","L",null,null,"Abans de passar a producció, cal comprovar que l’aplicació funciona correctament:\n•\tS’ha de comprovar que es compleixen els criteris d’acceptació en matèria de seguretat i que no es deteriora la seguretat dels altres components del servei.\n•\tLes proves s’han de fer en un entorn aïllat (preproducció).\n•\tLes proves no s’han de fer amb dades reals, llevat que se’n pugui garantir la seguretat.",null,"NO",{"$f":"IFERROR(VLOOKUP(A80,AUX_PIVOT_MELT!$A$4:$B$250,2,FALSE),\"\")","v":0},null,null,null,null,{"$f":"+IFERROR(IF(MATCH(CONCATENATE(X$2,$A80),AUX_MELT_DADES!$V:$V,0)<>0,\"X\",\"\"),\"-\")","v":"-"},{"$f":"+IFERROR(IF(MATCH(CONCATENATE(Y$2,$A80),AUX_MELT_DADES!$V:$V,0)<>0,\"X\",\"\"),\"-\")","v":"-"},{"$f":"+IFERROR(IF(MATCH(CONCATENATE(Z$2,$A80),AUX_MELT_DADES!$V:$V,0)<>0,\"X\",\"\"),\"-\")","v":"X"},{"$f":"+IFERROR(IF(MATCH(CONCATENATE(AA$2,$A80),AUX_MELT_DADES!$V:$V,0)<>0,\"X\",\"\"),\"-\")","v":"-"},{"$f":"+IFERROR(IF(MATCH(CONCATENATE(AB$2,$A80),AUX_MELT_DADES!$V:$V,0)<>0,\"X\",\"\"),\"-\")","v":"-"},{"$f":"+IFERROR(IF(MATCH(CONCATENATE(AC$2,$A80),AUX_MELT_DADES!$V:$V,0)<>0,\"X\",\"\"),\"-\")","v":"-"},{"$f":"+IFERROR(IF(MATCH(CONCATENATE(AD$2,$A80),AUX_MELT_DADES!$V:$V,0)<>0,\"X\",\"\"),\"-\")","v":"-"},{"$f":"+IFERROR(IF(MATCH(CONCATENATE(AE$2,$A80),AUX_MELT_DADES!$V:$V,0)<>0,\"X\",\"\"),\"-\")","v":"-"},{"$f":"+IFERROR(IF(MATCH(CONCATENATE(AF$2,$A80),AUX_MELT_DADES!$V:$V,0)<>0,\"X\",\"\"),\"-\")","v":"-"},{"$f":"+IFERROR(IF(MATCH(CONCATENATE(AG$2,$A80),AUX_MELT_DADES!$V:$V,0)<>0,\"X\",\"\"),\"-\")","v":"-"},{"$f":"+IFERROR(IF(MATCH(CONCATENATE(AH$2,$A80),AUX_MELT_DADES!$V:$V,0)<>0,\"X\",\"\"),\"-\")","v":"-"},{"$f":"+IFERROR(IF(MATCH(CONCATENATE(AI$2,$A80),AUX_MELT_DADES!$V:$V,0)<>0,\"X\",\"\"),\"-\")","v":"-"},{"$f":"+IFERROR(IF(MATCH(CONCATENATE(AJ$2,$A80),AUX_MELT_DADES!$V:$V,0)<>0,\"X\",\"\"),\"-\")","v":"-"},{"$f":"+IFERROR(IF(MATCH(CONCATENATE(AK$2,$A80),AUX_MELT_DADES!$V:$V,0)<>0,\"X\",\"\"),\"-\")","v":"-"},{"$f":"+IFERROR(IF(MATCH(CONCATENATE(AL$2,$A80),AUX_MELT_DADES!$V:$V,0)<>0,\"X\",\"\"),\"-\")","v":"-"},{"$f":"IFERROR(VLOOKUP(A80,AUX_PIVOT_MELT!$A$4:$B$250,2,FALSE),\"\")","v":0},false,false,false,false,"-"]
["[mp.sw.2]M",79,"[mp.sw.2]","Mesures de protecció","Protecció d'aplicacions informàtiques","Acceptació i posada en servei",null,null,null,null,null,"X",null,"M",null,"Abans de passar a producció, cal comprovar que l’aplicació funciona correctament:\n•\tS’ha de comprovar que es compleixen els criteris d’acceptació en matèria de seguretat i que no es deteriora la seguretat dels altres components del servei.\n•\tLes proves s’han de fer en un entorn aïllat (preproducció).\n•\tLes proves no s’han de fer amb dades reals, llevat que se’n pugui garantir la seguretat.\nAbans de la posada en funcionament, cal fer les inspeccions següents:\n•\tAnàlisi de vulnerabilitats.\n•\tProves de penetració.",null,"NO",{"$f":"IFERROR(VLOOKUP(A81,AUX_PIVOT_MELT!$A$4:$B$250,2,FALSE),\"\")","v":0},null,null,null,null,{"$f":"+IFERROR(IF(MATCH(CONCATENATE(X$2,$A81),AUX_MELT_DADES!$V:$V,0)<>0,\"X\",\"\"),\"-\")","v":"-"},{"$f":"+IFERROR(IF(MATCH(CONCATENATE(Y$2,$A81),AUX_MELT_DADES!$V:$V,0)<>0,\"X\",\"\"),\"-\")","v":"-"},{"$f":"+IFERROR(IF(MATCH(CONCATENATE(Z$2,$A81),AUX_MELT_DADES!$V:$V,0)<>0,\"X\",\"\"),\"-\")","v":"X"},{"$f":"+IFERROR(IF(MATCH(CONCATENATE(AA$2,$A81),AUX_MELT_DADES!$V:$V,0)<>0,\"X\",\"\"),\"-\")","v":"-"},{"$f":"+IFERROR(IF(MATCH(CONCATENATE(AB$2,$A81),AUX_MELT_DADES!$V:$V,0)<>0,\"X\",\"\"),\"-\")","v":"-"},{"$f":"+IFERROR(IF(MATCH(CONCATENATE(AC$2,$A81),AUX_MELT_DADES!$V:$V,0)<>0,\"X\",\"\"),\"-\")","v":"-"},{"$f":"+IFERROR(IF(MATCH(CONCATENATE(AD$2,$A81),AUX_MELT_DADES!$V:$V,0)<>0,\"X\",\"\"),\"-\")","v":"-"},{"$f":"+IFERROR(IF(MATCH(CONCATENATE(AE$2,$A81),AUX_MELT_DADES!$V:$V,0)<>0,\"X\",\"\"),\"-\")","v":"-"},{"$f":"+IFERROR(IF(MATCH(CONCATENATE(AF$2,$A81),AUX_MELT_DADES!$V:$V,0)<>0,\"X\",\"\"),\"-\")","v":"-"},{"$f":"+IFERROR(IF(MATCH(CONCATENATE(AG$2,$A81),AUX_MELT_DADES!$V:$V,0)<>0,\"X\",\"\"),\"-\")","v":"-"},{"$f":"+IFERROR(IF(MATCH(CONCATENATE(AH$2,$A81),AUX_MELT_DADES!$V:$V,0)<>0,\"X\",\"\"),\"-\")","v":"-"},{"$f":"+IFERROR(IF(MATCH(CONCATENATE(AI$2,$A81),AUX_MELT_DADES!$V:$V,0)<>0,\"X\",\"\"),\"-\")","v":"-"},{"$f":"+IFERROR(IF(MATCH(CONCATENATE(AJ$2,$A81),AUX_MELT_DADES!$V:$V,0)<>0,\"X\",\"\"),\"-\")","v":"-"},{"$f":"+IFERROR(IF(MATCH(CONCATENATE(AK$2,$A81),AUX_MELT_DADES!$V:$V,0)<>0,\"X\",\"\"),\"-\")","v":"-"},{"$f":"+IFERROR(IF(MATCH(CONCATENATE(AL$2,$A81),AUX_MELT_DADES!$V:$V,0)<>0,\"X\",\"\"),\"-\")","v":"-"},{"$f":"IFERROR(VLOOKUP(A81,AUX_PIVOT_MELT!$A$4:$B$250,2,FALSE),\"\")","v":0},false,false,false,false,"-"]
["[mp.sw.2]H",80,"[mp.sw.2]","Mesures de protecció","Protecció d'aplicacions informàtiques","Acceptació i posada en servei",null,null,null,null,null,"X",null,null,"H","Abans de passar a producció, cal comprovar que l’aplicació funciona correctament:\n•\tS’ha de comprovar que es compleixen els criteris d’acceptació en matèria de seguretat i que no es deteriora la seguretat dels altres components del servei.\n•\tLes proves s’han de fer en un entorn aïllat (preproducció).\n•\tLes proves no s’han de fer amb dades reals, llevat que se’n pugui garantir la seguretat.\nAbans de la posada en funcionament, cal fer les inspeccions següents:\n•\tAnàlisi de vulnerabilitats.\n•\tProves de penetració.\n•\tAnàlisi de la coherència en la integració dels processos.\n•\tConsiderar l’oportunitat de fer una auditoria del codi font.",null,"NO",{"$f":"IFERROR(VLOOKUP(A82,AUX_PIVOT_MELT!$A$4:$B$250,2,FALSE),\"\")","v":0},null,null,null,null,{"$f":"+IFERROR(IF(MATCH(CONCATENATE(X$2,$A82),AUX_MELT_DADES!$V:$V,0)<>0,\"X\",\"\"),\"-\")","v":"-"},{"$f":"+IFERROR(IF(MATCH(CONCATENATE(Y$2,$A82),AUX_MELT_DADES!$V:$V,0)<>0,\"X\",\"\"),\"-\")","v":"-"},{"$f":"+IFERROR(IF(MATCH(CONCATENATE(Z$2,$A82),AUX_MELT_DADES!$V:$V,0)<>0,\"X\",\"\"),\"-\")","v":"X"},{"$f":"+IFERROR(IF(MATCH(CONCATENATE(AA$2,$A82),AUX_MELT_DADES!$V:$V,0)<>0,\"X\",\"\"),\"-\")","v":"-"},{"$f":"+IFERROR(IF(MATCH(CONCATENATE(AB$2,$A82),AUX_MELT_DADES!$V:$V,0)<>0,\"X\",\"\"),\"-\")","v":"-"},{"$f":"+IFERROR(IF(MATCH(CONCATENATE(AC$2,$A82),AUX_MELT_DADES!$V:$V,0)<>0,\"X\",\"\"),\"-\")","v":"-"},{"$f":"+IFERROR(IF(MATCH(CONCATENATE(AD$2,$A82),AUX_MELT_DADES!$V:$V,0)<>0,\"X\",\"\"),\"-\")","v":"-"},{"$f":"+IFERROR(IF(MATCH(CONCATENATE(AE$2,$A82),AUX_MELT_DADES!$V:$V,0)<>0,\"X\",\"\"),\"-\")","v":"-"},{"$f":"+IFERROR(IF(MATCH(CONCATENATE(AF$2,$A82),AUX_MELT_DADES!$V:$V,0)<>0,\"X\",\"\"),\"-\")","v":"-"},{"$f":"+IFERROR(IF(MATCH(CONCATENATE(AG$2,$A82),AUX_MELT_DADES!$V:$V,0)<>0,\"X\",\"\"),\"-\")","v":"-"},{"$f":"+IFERROR(IF(MATCH(CONCATENATE(AH$2,$A82),AUX_MELT_DADES!$V:$V,0)<>0,\"X\",\"\"),\"-\")","v":"-"},{"$f":"+IFERROR(IF(MATCH(CONCATENATE(AI$2,$A82),AUX_MELT_DADES!$V:$V,0)<>0,\"X\",\"\"),\"-\")","v":"-"},{"$f":"+IFERROR(IF(MATCH(CONCATENATE(AJ$2,$A82),AUX_MELT_DADES!$V:$V,0)<>0,\"X\",\"\"),\"-\")","v":"-"},{"$f":"+IFERROR(IF(MATCH(CONCATENATE(AK$2,$A82),AUX_MELT_DADES!$V:$V,0)<>0,\"X\",\"\"),\"-\")","v":"-"},{"$f":"+IFERROR(IF(MATCH(CONCATENATE(AL$2,$A82),AUX_MELT_DADES!$V:$V,0)<>0,\"X\",\"\"),\"-\")","v":"-"},{"$f":"IFERROR(VLOOKUP(A82,AUX_PIVOT_MELT!$A$4:$B$250,2,FALSE),\"\")","v":0},false,false,false,false,"-"]
["[mp.info.2]L",81,"[mp.info.2]","Mesures de protecció","Protecció de la informació","Qualificació de la informació","X",null,null,null,null,null,"L",null,null,"•\tPer qualificar la informació, cal tenir en compte la seva naturalesa.\n•\tLa política de seguretat ha d’establir el responsable de cada informació.\n•\tLa política de seguretat ha de contenir els criteris que determinen el nivell de seguretat requerit.\n•\tAmb els criteris anteriors, el responsable de cada informació ha d’assignar a cada informació el nivell de seguretat requerit.\n•\tEl responsable de cada informació ha de tenir en exclusiva la potestat de modificar el nivell de seguretat requerit.",null,"NO",{"$f":"IFERROR(VLOOKUP(A83,AUX_PIVOT_MELT!$A$4:$B$250,2,FALSE),\"\")","v":0},null,null,null,null,{"$f":"+IFERROR(IF(MATCH(CONCATENATE(X$2,$A83),AUX_MELT_DADES!$V:$V,0)<>0,\"X\",\"\"),\"-\")","v":"-"},{"$f":"+IFERROR(IF(MATCH(CONCATENATE(Y$2,$A83),AUX_MELT_DADES!$V:$V,0)<>0,\"X\",\"\"),\"-\")","v":"-"},{"$f":"+IFERROR(IF(MATCH(CONCATENATE(Z$2,$A83),AUX_MELT_DADES!$V:$V,0)<>0,\"X\",\"\"),\"-\")","v":"-"},{"$f":"+IFERROR(IF(MATCH(CONCATENATE(AA$2,$A83),AUX_MELT_DADES!$V:$V,0)<>0,\"X\",\"\"),\"-\")","v":"-"},{"$f":"+IFERROR(IF(MATCH(CONCATENATE(AB$2,$A83),AUX_MELT_DADES!$V:$V,0)<>0,\"X\",\"\"),\"-\")","v":"-"},{"$f":"+IFERROR(IF(MATCH(CONCATENATE(AC$2,$A83),AUX_MELT_DADES!$V:$V,0)<>0,\"X\",\"\"),\"-\")","v":"-"},{"$f":"+IFERROR(IF(MATCH(CONCATENATE(AD$2,$A83),AUX_MELT_DADES!$V:$V,0)<>0,\"X\",\"\"),\"-\")","v":"-"},{"$f":"+IFERROR(IF(MATCH(CONCATENATE(AE$2,$A83),AUX_MELT_DADES!$V:$V,0)<>0,\"X\",\"\"),\"-\")","v":"-"},{"$f":"+IFERROR(IF(MATCH(CONCATENATE(AF$2,$A83),AUX_MELT_DADES!$V:$V,0)<>0,\"X\",\"\"),\"-\")","v":"-"},{"$f":"+IFERROR(IF(MATCH(CONCATENATE(AG$2,$A83),AUX_MELT_DADES!$V:$V,0)<>0,\"X\",\"\"),\"-\")","v":"-"},{"$f":"+IFERROR(IF(MATCH(CONCATENATE(AH$2,$A83),AUX_MELT_DADES!$V:$V,0)<>0,\"X\",\"\"),\"-\")","v":"-"},{"$f":"+IFERROR(IF(MATCH(CONCATENATE(AI$2,$A83),AUX_MELT_DADES!$V:$V,0)<>0,\"X\",\"\"),\"-\")","v":"X"},{"$f":"+IFERROR(IF(MATCH(CONCATENATE(AJ$2,$A83),AUX_MELT_DADES!$V:$V,0)<>0,\"X\",\"\"),\"-\")","v":"X"},{"$f":"+IFERROR(IF(MATCH(CONCATENATE(AK$2,$A83),AUX_MELT_DADES!$V:$V,0)<>0,\"X\",\"\"),\"-\")","v":"-"},{"$f":"+IFERROR(IF(MATCH(CONCATENATE(AL$2,$A83),AUX_MELT_DADES!$V:$V,0)<>0,\"X\",\"\"),\"-\")","v":"-"},{"$f":"IFERROR(VLOOKUP(A83,AUX_PIVOT_MELT!$A$4:$B$250,2,FALSE),\"\")","v":0},false,false,false,false,"-"]
["[mp.info.2]MH",82,"[mp.info.2]","Mesures de protecció","Protecció de la informació","Qualificació de la informació","X",null,null,null,null,null,null,"M","H","•\tPer qualificar la informació, cal tenir en compte la seva naturalesa.\n•\tLa política de seguretat ha d’establir el responsable de cada informació.\n•\tLa política de seguretat ha de contenir els criteris que determinen el nivell de seguretat requerit.\n•\tAmb els criteris anteriors, el responsable de cada informació ha d’assignar a cada informació el nivell de seguretat requerit.\n•\tEl responsable de cada informació ha de tenir en exclusiva la potestat de modificar el nivell de seguretat requerit.\nCal redactar els procediments que descriguin com etiquetar i tractar la informació, segons el seu nivell de seguretat. En particular, com cal fer:\n•\tEl control d’accés.\n•\tL’emmagatzematge.\n•\tLes còpies.\n•\tL’etiquetat del suports.\n•\tLa transmissió telemàtica.",null,"NO",{"$f":"IFERROR(VLOOKUP(A84,AUX_PIVOT_MELT!$A$4:$B$250,2,FALSE),\"\")","v":0},null,null,null,null,{"$f":"+IFERROR(IF(MATCH(CONCATENATE(X$2,$A84),AUX_MELT_DADES!$V:$V,0)<>0,\"X\",\"\"),\"-\")","v":"-"},{"$f":"+IFERROR(IF(MATCH(CONCATENATE(Y$2,$A84),AUX_MELT_DADES!$V:$V,0)<>0,\"X\",\"\"),\"-\")","v":"-"},{"$f":"+IFERROR(IF(MATCH(CONCATENATE(Z$2,$A84),AUX_MELT_DADES!$V:$V,0)<>0,\"X\",\"\"),\"-\")","v":"-"},{"$f":"+IFERROR(IF(MATCH(CONCATENATE(AA$2,$A84),AUX_MELT_DADES!$V:$V,0)<>0,\"X\",\"\"),\"-\")","v":"-"},{"$f":"+IFERROR(IF(MATCH(CONCATENATE(AB$2,$A84),AUX_MELT_DADES!$V:$V,0)<>0,\"X\",\"\"),\"-\")","v":"-"},{"$f":"+IFERROR(IF(MATCH(CONCATENATE(AC$2,$A84),AUX_MELT_DADES!$V:$V,0)<>0,\"X\",\"\"),\"-\")","v":"-"},{"$f":"+IFERROR(IF(MATCH(CONCATENATE(AD$2,$A84),AUX_MELT_DADES!$V:$V,0)<>0,\"X\",\"\"),\"-\")","v":"-"},{"$f":"+IFERROR(IF(MATCH(CONCATENATE(AE$2,$A84),AUX_MELT_DADES!$V:$V,0)<>0,\"X\",\"\"),\"-\")","v":"-"},{"$f":"+IFERROR(IF(MATCH(CONCATENATE(AF$2,$A84),AUX_MELT_DADES!$V:$V,0)<>0,\"X\",\"\"),\"-\")","v":"-"},{"$f":"+IFERROR(IF(MATCH(CONCATENATE(AG$2,$A84),AUX_MELT_DADES!$V:$V,0)<>0,\"X\",\"\"),\"-\")","v":"-"},{"$f":"+IFERROR(IF(MATCH(CONCATENATE(AH$2,$A84),AUX_MELT_DADES!$V:$V,0)<>0,\"X\",\"\"),\"-\")","v":"-"},{"$f":"+IFERROR(IF(MATCH(CONCATENATE(AI$2,$A84),AUX_MELT_DADES!$V:$V,0)<>0,\"X\",\"\"),\"-\")","v":"X"},{"$f":"+IFERROR(IF(MATCH(CONCATENATE(AJ$2,$A84),AUX_MELT_DADES!$V:$V,0)<>0,\"X\",\"\"),\"-\")","v":"X"},{"$f":"+IFERROR(IF(MATCH(CONCATENATE(AK$2,$A84),AUX_MELT_DADES!$V:$V,0)<>0,\"X\",\"\"),\"-\")","v":"-"},{"$f":"+IFERROR(IF(MATCH(CONCATENATE(AL$2,$A84),AUX_MELT_DADES!$V:$V,0)<>0,\"X\",\"\"),\"-\")","v":"-"},{"$f":"IFERROR(VLOOKUP(A84,AUX_PIVOT_MELT!$A$4:$B$250,2,FALSE),\"\")","v":0},false,false,false,false,"-"]
["[mp.info.3]MH",83,"[mp.info.3]","Mesures de protecció","Protecció de la informació","Xifrat de la informació","X",null,null,null,null,null,null,"M","H","•\tLa informació amb un nivell alt de confidencialitat s’ha de xifrar, durant l’emmagatzematge i la transmissió. Només ha d’estar en clar quan s’estigui utilitzant.\n•\tL’ús de criptografia en les comunicacions s’ha de fer d’acord amb [mp.com.2].\n•\tL’ús de criptografia en els suports s’ha de fer d’acord amb [mp.si.2].",null,"NO",{"$f":"IFERROR(VLOOKUP(A85,AUX_PIVOT_MELT!$A$4:$B$250,2,FALSE),\"\")","v":0},null,null,null,null,{"$f":"+IFERROR(IF(MATCH(CONCATENATE(X$2,$A85),AUX_MELT_DADES!$V:$V,0)<>0,\"X\",\"\"),\"-\")","v":"X"},{"$f":"+IFERROR(IF(MATCH(CONCATENATE(Y$2,$A85),AUX_MELT_DADES!$V:$V,0)<>0,\"X\",\"\"),\"-\")","v":"-"},{"$f":"+IFERROR(IF(MATCH(CONCATENATE(Z$2,$A85),AUX_MELT_DADES!$V:$V,0)<>0,\"X\",\"\"),\"-\")","v":"-"},{"$f":"+IFERROR(IF(MATCH(CONCATENATE(AA$2,$A85),AUX_MELT_DADES!$V:$V,0)<>0,\"X\",\"\"),\"-\")","v":"-"},{"$f":"+IFERROR(IF(MATCH(CONCATENATE(AB$2,$A85),AUX_MELT_DADES!$V:$V,0)<>0,\"X\",\"\"),\"-\")","v":"-"},{"$f":"+IFERROR(IF(MATCH(CONCATENATE(AC$2,$A85),AUX_MELT_DADES!$V:$V,0)<>0,\"X\",\"\"),\"-\")","v":"-"},{"$f":"+IFERROR(IF(MATCH(CONCATENATE(AD$2,$A85),AUX_MELT_DADES!$V:$V,0)<>0,\"X\",\"\"),\"-\")","v":"-"},{"$f":"+IFERROR(IF(MATCH(CONCATENATE(AE$2,$A85),AUX_MELT_DADES!$V:$V,0)<>0,\"X\",\"\"),\"-\")","v":"-"},{"$f":"+IFERROR(IF(MATCH(CONCATENATE(AF$2,$A85),AUX_MELT_DADES!$V:$V,0)<>0,\"X\",\"\"),\"-\")","v":"-"},{"$f":"+IFERROR(IF(MATCH(CONCATENATE(AG$2,$A85),AUX_MELT_DADES!$V:$V,0)<>0,\"X\",\"\"),\"-\")","v":"-"},{"$f":"+IFERROR(IF(MATCH(CONCATENATE(AH$2,$A85),AUX_MELT_DADES!$V:$V,0)<>0,\"X\",\"\"),\"-\")","v":"X"},{"$f":"+IFERROR(IF(MATCH(CONCATENATE(AI$2,$A85),AUX_MELT_DADES!$V:$V,0)<>0,\"X\",\"\"),\"-\")","v":"-"},{"$f":"+IFERROR(IF(MATCH(CONCATENATE(AJ$2,$A85),AUX_MELT_DADES!$V:$V,0)<>0,\"X\",\"\"),\"-\")","v":"-"},{"$f":"+IFERROR(IF(MATCH(CONCATENATE(AK$2,$A85),AUX_MELT_DADES!$V:$V,0)<>0,\"X\",\"\"),\"-\")","v":"-"},{"$f":"+IFERROR(IF(MATCH(CONCATENATE(AL$2,$A85),AUX_MELT_DADES!$V:$V,0)<>0,\"X\",\"\"),\"-\")","v":"-"},{"$f":"IFERROR(VLOOKUP(A85,AUX_PIVOT_MELT!$A$4:$B$250,2,FALSE),\"\")","v":0},false,false,false,false,"-"]
["[mp.info.4]L",84,"[mp.info.4]","Mesures de protecció","Protecció de la informació","Signatura electrònica",null,"X",null,"X",null,null,"L",null,null,"La signatura electrònica garanteix l’autenticitat del signatari i la integritat del contingut.\nTambé és un mecanisme de prevenció del repudi.\nEs pot utilitzar qualsevol mitjà de signatura electrònica.",null,"NO",{"$f":"IFERROR(VLOOKUP(A86,AUX_PIVOT_MELT!$A$4:$B$250,2,FALSE),\"\")","v":0},null,null,null,null,{"$f":"+IFERROR(IF(MATCH(CONCATENATE(X$2,$A86),AUX_MELT_DADES!$V:$V,0)<>0,\"X\",\"\"),\"-\")","v":"-"},{"$f":"+IFERROR(IF(MATCH(CONCATENATE(Y$2,$A86),AUX_MELT_DADES!$V:$V,0)<>0,\"X\",\"\"),\"-\")","v":"-"},{"$f":"+IFERROR(IF(MATCH(CONCATENATE(Z$2,$A86),AUX_MELT_DADES!$V:$V,0)<>0,\"X\",\"\"),\"-\")","v":"X"},{"$f":"+IFERROR(IF(MATCH(CONCATENATE(AA$2,$A86),AUX_MELT_DADES!$V:$V,0)<>0,\"X\",\"\"),\"-\")","v":"-"},{"$f":"+IFERROR(IF(MATCH(CONCATENATE(AB$2,$A86),AUX_MELT_DADES!$V:$V,0)<>0,\"X\",\"\"),\"-\")","v":"-"},{"$f":"+IFERROR(IF(MATCH(CONCATENATE(AC$2,$A86),AUX_MELT_DADES!$V:$V,0)<>0,\"X\",\"\"),\"-\")","v":"-"},{"$f":"+IFERROR(IF(MATCH(CONCATENATE(AD$2,$A86),AUX_MELT_DADES!$V:$V,0)<>0,\"X\",\"\"),\"-\")","v":"-"},{"$f":"+IFERROR(IF(MATCH(CONCATENATE(AE$2,$A86),AUX_MELT_DADES!$V:$V,0)<>0,\"X\",\"\"),\"-\")","v":"-"},{"$f":"+IFERROR(IF(MATCH(CONCATENATE(AF$2,$A86),AUX_MELT_DADES!$V:$V,0)<>0,\"X\",\"\"),\"-\")","v":"-"},{"$f":"+IFERROR(IF(MATCH(CONCATENATE(AG$2,$A86),AUX_MELT_DADES!$V:$V,0)<>0,\"X\",\"\"),\"-\")","v":"-"},{"$f":"+IFERROR(IF(MATCH(CONCATENATE(AH$2,$A86),AUX_MELT_DADES!$V:$V,0)<>0,\"X\",\"\"),\"-\")","v":"-"},{"$f":"+IFERROR(IF(MATCH(CONCATENATE(AI$2,$A86),AUX_MELT_DADES!$V:$V,0)<>0,\"X\",\"\"),\"-\")","v":"-"},{"$f":"+IFERROR(IF(MATCH(CONCATENATE(AJ$2,$A86),AUX_MELT_DADES!$V:$V,0)<>0,\"X\",\"\"),\"-\")","v":"-"},{"$f":"+IFERROR(IF(MATCH(CONCATENATE(AK$2,$A86),AUX_MELT_DADES!$V:$V,0)<>0,\"X\",\"\"),\"-\")","v":"-"},{"$f":"+IFERROR(IF(MATCH(CONCATENATE(AL$2,$A86),AUX_MELT_DADES!$V:$V,0)<>0,\"X\",\"\"),\"-\")","v":"-"},{"$f":"IFERROR(VLOOKUP(A86,AUX_PIVOT_MELT!$A$4:$B$250,2,FALSE),\"\")","v":0},false,false,false,false,"-"]
["[mp.info.4]MH",85,"[mp.info.4]","Mesures de protecció","Protecció de la informació","Signatura electrònica",null,"X",null,"X",null,null,null,"M","H","Els mitjans de signatura electrònica han de ser proporcionals a la qualificació de la informació tractada. En qualsevol cas, cal utilitzar:\n•\tAlgorismes acreditats pel CCN.\n•\tCertificats reconeguts, preferentment.\n•\tDispositius segurs de signatura, preferentment.\nS’ha de garantir la verificació i la validació de la signatura. Amb aquesta finalitat:\n•\tS’ha d’adjuntar a la signatura tota la informació pertinent: certificats i dades de verificació i de validació.\n•\tS’ha de protegir la signatura amb un segell temporal.\n•\tL’organisme que recull els documents signats ha de verificar i validar la signatura, en el moment de recepció.",null,"NO",{"$f":"IFERROR(VLOOKUP(A87,AUX_PIVOT_MELT!$A$4:$B$250,2,FALSE),\"\")","v":0},null,null,null,null,{"$f":"+IFERROR(IF(MATCH(CONCATENATE(X$2,$A87),AUX_MELT_DADES!$V:$V,0)<>0,\"X\",\"\"),\"-\")","v":"-"},{"$f":"+IFERROR(IF(MATCH(CONCATENATE(Y$2,$A87),AUX_MELT_DADES!$V:$V,0)<>0,\"X\",\"\"),\"-\")","v":"-"},{"$f":"+IFERROR(IF(MATCH(CONCATENATE(Z$2,$A87),AUX_MELT_DADES!$V:$V,0)<>0,\"X\",\"\"),\"-\")","v":"X"},{"$f":"+IFERROR(IF(MATCH(CONCATENATE(AA$2,$A87),AUX_MELT_DADES!$V:$V,0)<>0,\"X\",\"\"),\"-\")","v":"-"},{"$f":"+IFERROR(IF(MATCH(CONCATENATE(AB$2,$A87),AUX_MELT_DADES!$V:$V,0)<>0,\"X\",\"\"),\"-\")","v":"-"},{"$f":"+IFERROR(IF(MATCH(CONCATENATE(AC$2,$A87),AUX_MELT_DADES!$V:$V,0)<>0,\"X\",\"\"),\"-\")","v":"-"},{"$f":"+IFERROR(IF(MATCH(CONCATENATE(AD$2,$A87),AUX_MELT_DADES!$V:$V,0)<>0,\"X\",\"\"),\"-\")","v":"-"},{"$f":"+IFERROR(IF(MATCH(CONCATENATE(AE$2,$A87),AUX_MELT_DADES!$V:$V,0)<>0,\"X\",\"\"),\"-\")","v":"-"},{"$f":"+IFERROR(IF(MATCH(CONCATENATE(AF$2,$A87),AUX_MELT_DADES!$V:$V,0)<>0,\"X\",\"\"),\"-\")","v":"-"},{"$f":"+IFERROR(IF(MATCH(CONCATENATE(AG$2,$A87),AUX_MELT_DADES!$V:$V,0)<>0,\"X\",\"\"),\"-\")","v":"-"},{"$f":"+IFERROR(IF(MATCH(CONCATENATE(AH$2,$A87),AUX_MELT_DADES!$V:$V,0)<>0,\"X\",\"\"),\"-\")","v":"-"},{"$f":"+IFERROR(IF(MATCH(CONCATENATE(AI$2,$A87),AUX_MELT_DADES!$V:$V,0)<>0,\"X\",\"\"),\"-\")","v":"-"},{"$f":"+IFERROR(IF(MATCH(CONCATENATE(AJ$2,$A87),AUX_MELT_DADES!$V:$V,0)<>0,\"X\",\"\"),\"-\")","v":"-"},{"$f":"+IFERROR(IF(MATCH(CONCATENATE(AK$2,$A87),AUX_MELT_DADES!$V:$V,0)<>0,\"X\",\"\"),\"-\")","v":"-"},{"$f":"+IFERROR(IF(MATCH(CONCATENATE(AL$2,$A87),AUX_MELT_DADES!$V:$V,0)<>0,\"X\",\"\"),\"-\")","v":"-"},{"$f":"IFERROR(VLOOKUP(A87,AUX_PIVOT_MELT!$A$4:$B$250,2,FALSE),\"\")","v":0},false,false,false,false,"-"]
["[mp.info.4]H",86,"[mp.info.4]","Mesures de protecció","Protecció de la informació","Signatura electrònica",null,"X",null,"X",null,null,null,null,"H","•\tCal utilitzar certificats reconeguts.\n•\tCal utilitzar dispositius segurs de creació de signatures.\n•\tCal utilitzar, preferentment, productes certificats.",null,"NO",{"$f":"IFERROR(VLOOKUP(A88,AUX_PIVOT_MELT!$A$4:$B$250,2,FALSE),\"\")","v":0},null,null,null,null,{"$f":"+IFERROR(IF(MATCH(CONCATENATE(X$2,$A88),AUX_MELT_DADES!$V:$V,0)<>0,\"X\",\"\"),\"-\")","v":"-"},{"$f":"+IFERROR(IF(MATCH(CONCATENATE(Y$2,$A88),AUX_MELT_DADES!$V:$V,0)<>0,\"X\",\"\"),\"-\")","v":"-"},{"$f":"+IFERROR(IF(MATCH(CONCATENATE(Z$2,$A88),AUX_MELT_DADES!$V:$V,0)<>0,\"X\",\"\"),\"-\")","v":"X"},{"$f":"+IFERROR(IF(MATCH(CONCATENATE(AA$2,$A88),AUX_MELT_DADES!$V:$V,0)<>0,\"X\",\"\"),\"-\")","v":"-"},{"$f":"+IFERROR(IF(MATCH(CONCATENATE(AB$2,$A88),AUX_MELT_DADES!$V:$V,0)<>0,\"X\",\"\"),\"-\")","v":"-"},{"$f":"+IFERROR(IF(MATCH(CONCATENATE(AC$2,$A88),AUX_MELT_DADES!$V:$V,0)<>0,\"X\",\"\"),\"-\")","v":"-"},{"$f":"+IFERROR(IF(MATCH(CONCATENATE(AD$2,$A88),AUX_MELT_DADES!$V:$V,0)<>0,\"X\",\"\"),\"-\")","v":"-"},{"$f":"+IFERROR(IF(MATCH(CONCATENATE(AE$2,$A88),AUX_MELT_DADES!$V:$V,0)<>0,\"X\",\"\"),\"-\")","v":"-"},{"$f":"+IFERROR(IF(MATCH(CONCATENATE(AF$2,$A88),AUX_MELT_DADES!$V:$V,0)<>0,\"X\",\"\"),\"-\")","v":"-"},{"$f":"+IFERROR(IF(MATCH(CONCATENATE(AG$2,$A88),AUX_MELT_DADES!$V:$V,0)<>0,\"X\",\"\"),\"-\")","v":"-"},{"$f":"+IFERROR(IF(MATCH(CONCATENATE(AH$2,$A88),AUX_MELT_DADES!$V:$V,0)<>0,\"X\",\"\"),\"-\")","v":"-"},{"$f":"+IFERROR(IF(MATCH(CONCATENATE(AI$2,$A88),AUX_MELT_DADES!$V:$V,0)<>0,\"X\",\"\"),\"-\")","v":"-"},{"$f":"+IFERROR(IF(MATCH(CONCATENATE(AJ$2,$A88),AUX_MELT_DADES!$V:$V,0)<>0,\"X\",\"\"),\"-\")","v":"-"},{"$f":"+IFERROR(IF(MATCH(CONCATENATE(AK$2,$A88),AUX_MELT_DADES!$V:$V,0)<>0,\"X\",\"\"),\"-\")","v":"-"},{"$f":"+IFERROR(IF(MATCH(CONCATENATE(AL$2,$A88),AUX_MELT_DADES!$V:$V,0)<>0,\"X\",\"\"),\"-\")","v":"-"},{"$f":"IFERROR(VLOOKUP(A88,AUX_PIVOT_MELT!$A$4:$B$250,2,FALSE),\"\")","v":0},false,false,false,false,"-"]
["[mp.info.5]H",87,"[mp.info.5]","Mesures de protecció","Protecció de la informació","Segells temporals",null,null,null,null,"X",null,null,null,"H","Els segells temporals eviten la possibilitat de repudi posterior:\n•\tS’han d’aplicar a la informació que pugui ser utilitzada com a evidència electrònica en el futur.\n•\tLes dades per verificar la data s’han de tractar amb la mateixa seguretat que la informació.\n•\tCal utilitzar productes certificats o serveis externs admesos.",null,"NO",{"$f":"IFERROR(VLOOKUP(A89,AUX_PIVOT_MELT!$A$4:$B$250,2,FALSE),\"\")","v":0},null,null,null,null,{"$f":"+IFERROR(IF(MATCH(CONCATENATE(X$2,$A89),AUX_MELT_DADES!$V:$V,0)<>0,\"X\",\"\"),\"-\")","v":"-"},{"$f":"+IFERROR(IF(MATCH(CONCATENATE(Y$2,$A89),AUX_MELT_DADES!$V:$V,0)<>0,\"X\",\"\"),\"-\")","v":"-"},{"$f":"+IFERROR(IF(MATCH(CONCATENATE(Z$2,$A89),AUX_MELT_DADES!$V:$V,0)<>0,\"X\",\"\"),\"-\")","v":"-"},{"$f":"+IFERROR(IF(MATCH(CONCATENATE(AA$2,$A89),AUX_MELT_DADES!$V:$V,0)<>0,\"X\",\"\"),\"-\")","v":"-"},{"$f":"+IFERROR(IF(MATCH(CONCATENATE(AB$2,$A89),AUX_MELT_DADES!$V:$V,0)<>0,\"X\",\"\"),\"-\")","v":"-"},{"$f":"+IFERROR(IF(MATCH(CONCATENATE(AC$2,$A89),AUX_MELT_DADES!$V:$V,0)<>0,\"X\",\"\"),\"-\")","v":"-"},{"$f":"+IFERROR(IF(MATCH(CONCATENATE(AD$2,$A89),AUX_MELT_DADES!$V:$V,0)<>0,\"X\",\"\"),\"-\")","v":"X"},{"$f":"+IFERROR(IF(MATCH(CONCATENATE(AE$2,$A89),AUX_MELT_DADES!$V:$V,0)<>0,\"X\",\"\"),\"-\")","v":"-"},{"$f":"+IFERROR(IF(MATCH(CONCATENATE(AF$2,$A89),AUX_MELT_DADES!$V:$V,0)<>0,\"X\",\"\"),\"-\")","v":"-"},{"$f":"+IFERROR(IF(MATCH(CONCATENATE(AG$2,$A89),AUX_MELT_DADES!$V:$V,0)<>0,\"X\",\"\"),\"-\")","v":"-"},{"$f":"+IFERROR(IF(MATCH(CONCATENATE(AH$2,$A89),AUX_MELT_DADES!$V:$V,0)<>0,\"X\",\"\"),\"-\")","v":"-"},{"$f":"+IFERROR(IF(MATCH(CONCATENATE(AI$2,$A89),AUX_MELT_DADES!$V:$V,0)<>0,\"X\",\"\"),\"-\")","v":"-"},{"$f":"+IFERROR(IF(MATCH(CONCATENATE(AJ$2,$A89),AUX_MELT_DADES!$V:$V,0)<>0,\"X\",\"\"),\"-\")","v":"-"},{"$f":"+IFERROR(IF(MATCH(CONCATENATE(AK$2,$A89),AUX_MELT_DADES!$V:$V,0)<>0,\"X\",\"\"),\"-\")","v":"-"},{"$f":"+IFERROR(IF(MATCH(CONCATENATE(AL$2,$A89),AUX_MELT_DADES!$V:$V,0)<>0,\"X\",\"\"),\"-\")","v":"-"},{"$f":"IFERROR(VLOOKUP(A89,AUX_PIVOT_MELT!$A$4:$B$250,2,FALSE),\"\")","v":0},false,false,false,false,"-"]
["[mp.info.6]LMH",88,"[mp.info.6]","Mesures de protecció","Protecció de la informació","Neteja de documents","X",null,null,null,null,null,"L","M","H","El procés de neteja de documents ha d’eliminar tota la informació addicional que hi hagi en camps ocults, meta-dades, comentaris o revisions anteriors, llevat de si aquesta informació és pertinent al receptor.\nAquesta mesura és especialment rellevant quan el document es difon àmpliament.",null,"NO",{"$f":"IFERROR(VLOOKUP(A90,AUX_PIVOT_MELT!$A$4:$B$250,2,FALSE),\"\")","v":0},null,null,null,null,{"$f":"+IFERROR(IF(MATCH(CONCATENATE(X$2,$A90),AUX_MELT_DADES!$V:$V,0)<>0,\"X\",\"\"),\"-\")","v":"-"},{"$f":"+IFERROR(IF(MATCH(CONCATENATE(Y$2,$A90),AUX_MELT_DADES!$V:$V,0)<>0,\"X\",\"\"),\"-\")","v":"-"},{"$f":"+IFERROR(IF(MATCH(CONCATENATE(Z$2,$A90),AUX_MELT_DADES!$V:$V,0)<>0,\"X\",\"\"),\"-\")","v":"-"},{"$f":"+IFERROR(IF(MATCH(CONCATENATE(AA$2,$A90),AUX_MELT_DADES!$V:$V,0)<>0,\"X\",\"\"),\"-\")","v":"-"},{"$f":"+IFERROR(IF(MATCH(CONCATENATE(AB$2,$A90),AUX_MELT_DADES!$V:$V,0)<>0,\"X\",\"\"),\"-\")","v":"-"},{"$f":"+IFERROR(IF(MATCH(CONCATENATE(AC$2,$A90),AUX_MELT_DADES!$V:$V,0)<>0,\"X\",\"\"),\"-\")","v":"-"},{"$f":"+IFERROR(IF(MATCH(CONCATENATE(AD$2,$A90),AUX_MELT_DADES!$V:$V,0)<>0,\"X\",\"\"),\"-\")","v":"-"},{"$f":"+IFERROR(IF(MATCH(CONCATENATE(AE$2,$A90),AUX_MELT_DADES!$V:$V,0)<>0,\"X\",\"\"),\"-\")","v":"-"},{"$f":"+IFERROR(IF(MATCH(CONCATENATE(AF$2,$A90),AUX_MELT_DADES!$V:$V,0)<>0,\"X\",\"\"),\"-\")","v":"-"},{"$f":"+IFERROR(IF(MATCH(CONCATENATE(AG$2,$A90),AUX_MELT_DADES!$V:$V,0)<>0,\"X\",\"\"),\"-\")","v":"-"},{"$f":"+IFERROR(IF(MATCH(CONCATENATE(AH$2,$A90),AUX_MELT_DADES!$V:$V,0)<>0,\"X\",\"\"),\"-\")","v":"-"},{"$f":"+IFERROR(IF(MATCH(CONCATENATE(AI$2,$A90),AUX_MELT_DADES!$V:$V,0)<>0,\"X\",\"\"),\"-\")","v":"X"},{"$f":"+IFERROR(IF(MATCH(CONCATENATE(AJ$2,$A90),AUX_MELT_DADES!$V:$V,0)<>0,\"X\",\"\"),\"-\")","v":"X"},{"$f":"+IFERROR(IF(MATCH(CONCATENATE(AK$2,$A90),AUX_MELT_DADES!$V:$V,0)<>0,\"X\",\"\"),\"-\")","v":"-"},{"$f":"+IFERROR(IF(MATCH(CONCATENATE(AL$2,$A90),AUX_MELT_DADES!$V:$V,0)<>0,\"X\",\"\"),\"-\")","v":"-"},{"$f":"IFERROR(VLOOKUP(A90,AUX_PIVOT_MELT!$A$4:$B$250,2,FALSE),\"\")","v":0},false,false,false,false,"-"]
["[mp.info.7]MH",89,"[mp.info.7]","Mesures de protecció","Protecció de la informació","Còpies de seguretat",null,null,"X",null,null,null,null,"M","H","Cal fer còpies de seguretat que permetin recuperar dades perdudes accidentalment o intencionadament.\nLes còpies han de tenir la mateixa seguretat que les dades inicials. En particular, cal considerar la necessitat que estiguin xifrades.\nLes còpies han de contenir:\n•\tInformació de treball de l’organització.\n•\tLes aplicacions en explotació, inclosos els sistemes operatius.\n•\tLes dades de configuració, serveis, aplicacions, equips i altres d’anàlegs.\n•\tLes claus utilitzades per preservar la confidencialitat de la informació.",null,"NO",{"$f":"IFERROR(VLOOKUP(A91,AUX_PIVOT_MELT!$A$4:$B$250,2,FALSE),\"\")","v":0},null,null,null,null,{"$f":"+IFERROR(IF(MATCH(CONCATENATE(X$2,$A91),AUX_MELT_DADES!$V:$V,0)<>0,\"X\",\"\"),\"-\")","v":"-"},{"$f":"+IFERROR(IF(MATCH(CONCATENATE(Y$2,$A91),AUX_MELT_DADES!$V:$V,0)<>0,\"X\",\"\"),\"-\")","v":"-"},{"$f":"+IFERROR(IF(MATCH(CONCATENATE(Z$2,$A91),AUX_MELT_DADES!$V:$V,0)<>0,\"X\",\"\"),\"-\")","v":"-"},{"$f":"+IFERROR(IF(MATCH(CONCATENATE(AA$2,$A91),AUX_MELT_DADES!$V:$V,0)<>0,\"X\",\"\"),\"-\")","v":"-"},{"$f":"+IFERROR(IF(MATCH(CONCATENATE(AB$2,$A91),AUX_MELT_DADES!$V:$V,0)<>0,\"X\",\"\"),\"-\")","v":"X"},{"$f":"+IFERROR(IF(MATCH(CONCATENATE(AC$2,$A91),AUX_MELT_DADES!$V:$V,0)<>0,\"X\",\"\"),\"-\")","v":"X"},{"$f":"+IFERROR(IF(MATCH(CONCATENATE(AD$2,$A91),AUX_MELT_DADES!$V:$V,0)<>0,\"X\",\"\"),\"-\")","v":"-"},{"$f":"+IFERROR(IF(MATCH(CONCATENATE(AE$2,$A91),AUX_MELT_DADES!$V:$V,0)<>0,\"X\",\"\"),\"-\")","v":"-"},{"$f":"+IFERROR(IF(MATCH(CONCATENATE(AF$2,$A91),AUX_MELT_DADES!$V:$V,0)<>0,\"X\",\"\"),\"-\")","v":"-"},{"$f":"+IFERROR(IF(MATCH(CONCATENATE(AG$2,$A91),AUX_MELT_DADES!$V:$V,0)<>0,\"X\",\"\"),\"-\")","v":"-"},{"$f":"+IFERROR(IF(MATCH(CONCATENATE(AH$2,$A91),AUX_MELT_DADES!$V:$V,0)<>0,\"X\",\"\"),\"-\")","v":"-"},{"$f":"+IFERROR(IF(MATCH(CONCATENATE(AI$2,$A91),AUX_MELT_DADES!$V:$V,0)<>0,\"X\",\"\"),\"-\")","v":"-"},{"$f":"+IFERROR(IF(MATCH(CONCATENATE(AJ$2,$A91),AUX_MELT_DADES!$V:$V,0)<>0,\"X\",\"\"),\"-\")","v":"-"},{"$f":"+IFERROR(IF(MATCH(CONCATENATE(AK$2,$A91),AUX_MELT_DADES!$V:$V,0)<>0,\"X\",\"\"),\"-\")","v":"-"},{"$f":"+IFERROR(IF(MATCH(CONCATENATE(AL$2,$A91),AUX_MELT_DADES!$V:$V,0)<>0,\"X\",\"\"),\"-\")","v":"-"},{"$f":"IFERROR(VLOOKUP(A91,AUX_PIVOT_MELT!$A$4:$B$250,2,FALSE),\"\")","v":0},false,false,false,false,"-"]
["[mp.s.1]LMH",90,"[mp.s.1]","Mesures de protecció","Protecció dels serveis","Protecció del correu electrònic",null,null,null,null,null,"X","L","M","H","•\tLa informació distribuïda per correu electrònic s’ha de protegir, tant al cos com als annexos.\n•\tS’ha de protegir la informació d’encaminament de missatges i establiment de connexions.\n•\tS’ha de protegir l’organització de problemes que es materialitzen per correu electrònic: correu brossa, programari maliciós (virus, cucs, etc.), codi.\n•\tS’han d’establir normes per l’ús apropiat del correu electrònic. Aquestes normes han de tenir: limitacions d’ús i activitats de formació i conscienciació.",null,"NO",{"$f":"IFERROR(VLOOKUP(A92,AUX_PIVOT_MELT!$A$4:$B$250,2,FALSE),\"\")","v":0},null,null,null,null,{"$f":"+IFERROR(IF(MATCH(CONCATENATE(X$2,$A92),AUX_MELT_DADES!$V:$V,0)<>0,\"X\",\"\"),\"-\")","v":"-"},{"$f":"+IFERROR(IF(MATCH(CONCATENATE(Y$2,$A92),AUX_MELT_DADES!$V:$V,0)<>0,\"X\",\"\"),\"-\")","v":"X"},{"$f":"+IFERROR(IF(MATCH(CONCATENATE(Z$2,$A92),AUX_MELT_DADES!$V:$V,0)<>0,\"X\",\"\"),\"-\")","v":"-"},{"$f":"+IFERROR(IF(MATCH(CONCATENATE(AA$2,$A92),AUX_MELT_DADES!$V:$V,0)<>0,\"X\",\"\"),\"-\")","v":"-"},{"$f":"+IFERROR(IF(MATCH(CONCATENATE(AB$2,$A92),AUX_MELT_DADES!$V:$V,0)<>0,\"X\",\"\"),\"-\")","v":"-"},{"$f":"+IFERROR(IF(MATCH(CONCATENATE(AC$2,$A92),AUX_MELT_DADES!$V:$V,0)<>0,\"X\",\"\"),\"-\")","v":"-"},{"$f":"+IFERROR(IF(MATCH(CONCATENATE(AD$2,$A92),AUX_MELT_DADES!$V:$V,0)<>0,\"X\",\"\"),\"-\")","v":"-"},{"$f":"+IFERROR(IF(MATCH(CONCATENATE(AE$2,$A92),AUX_MELT_DADES!$V:$V,0)<>0,\"X\",\"\"),\"-\")","v":"-"},{"$f":"+IFERROR(IF(MATCH(CONCATENATE(AF$2,$A92),AUX_MELT_DADES!$V:$V,0)<>0,\"X\",\"\"),\"-\")","v":"-"},{"$f":"+IFERROR(IF(MATCH(CONCATENATE(AG$2,$A92),AUX_MELT_DADES!$V:$V,0)<>0,\"X\",\"\"),\"-\")","v":"-"},{"$f":"+IFERROR(IF(MATCH(CONCATENATE(AH$2,$A92),AUX_MELT_DADES!$V:$V,0)<>0,\"X\",\"\"),\"-\")","v":"-"},{"$f":"+IFERROR(IF(MATCH(CONCATENATE(AI$2,$A92),AUX_MELT_DADES!$V:$V,0)<>0,\"X\",\"\"),\"-\")","v":"X"},{"$f":"+IFERROR(IF(MATCH(CONCATENATE(AJ$2,$A92),AUX_MELT_DADES!$V:$V,0)<>0,\"X\",\"\"),\"-\")","v":"-"},{"$f":"+IFERROR(IF(MATCH(CONCATENATE(AK$2,$A92),AUX_MELT_DADES!$V:$V,0)<>0,\"X\",\"\"),\"-\")","v":"-"},{"$f":"+IFERROR(IF(MATCH(CONCATENATE(AL$2,$A92),AUX_MELT_DADES!$V:$V,0)<>0,\"X\",\"\"),\"-\")","v":"-"},{"$f":"IFERROR(VLOOKUP(A92,AUX_PIVOT_MELT!$A$4:$B$250,2,FALSE),\"\")","v":0},false,false,false,false,"-"]
["[mp.s.2]LMH",91,"[mp.s.2]","Mesures de protecció","Protecció dels serveis","Protecció de serveis i aplicacions web",null,null,null,null,null,"X","L","M","H","Quan la informació tingui algun tipus de control d’accés, cal garantir la impossibilitat\nd’accedir a la informació sense autenticar-se. En particular, cal:\n•\tEvitar que el servidor ofereixi accés als documents per vies alternatives.\n•\tPrevenir atacs de manipulació d’URL.\n•\tPrevenir atacs de manipulació de galetes.\n•\tPrevenir atacs d’injecció de codi.\n•\tPrevenir els intents d’escalada de privilegis.\n•\tPrevenir els atacs de XSS.\n•\tPrevenir els atacs de manipulació de servidors intermedis (proxy) i de memòria cau (caché).",null,"NO",{"$f":"IFERROR(VLOOKUP(A93,AUX_PIVOT_MELT!$A$4:$B$250,2,FALSE),\"\")","v":0},null,null,null,null,{"$f":"+IFERROR(IF(MATCH(CONCATENATE(X$2,$A93),AUX_MELT_DADES!$V:$V,0)<>0,\"X\",\"\"),\"-\")","v":"X"},{"$f":"+IFERROR(IF(MATCH(CONCATENATE(Y$2,$A93),AUX_MELT_DADES!$V:$V,0)<>0,\"X\",\"\"),\"-\")","v":"-"},{"$f":"+IFERROR(IF(MATCH(CONCATENATE(Z$2,$A93),AUX_MELT_DADES!$V:$V,0)<>0,\"X\",\"\"),\"-\")","v":"-"},{"$f":"+IFERROR(IF(MATCH(CONCATENATE(AA$2,$A93),AUX_MELT_DADES!$V:$V,0)<>0,\"X\",\"\"),\"-\")","v":"-"},{"$f":"+IFERROR(IF(MATCH(CONCATENATE(AB$2,$A93),AUX_MELT_DADES!$V:$V,0)<>0,\"X\",\"\"),\"-\")","v":"-"},{"$f":"+IFERROR(IF(MATCH(CONCATENATE(AC$2,$A93),AUX_MELT_DADES!$V:$V,0)<>0,\"X\",\"\"),\"-\")","v":"-"},{"$f":"+IFERROR(IF(MATCH(CONCATENATE(AD$2,$A93),AUX_MELT_DADES!$V:$V,0)<>0,\"X\",\"\"),\"-\")","v":"-"},{"$f":"+IFERROR(IF(MATCH(CONCATENATE(AE$2,$A93),AUX_MELT_DADES!$V:$V,0)<>0,\"X\",\"\"),\"-\")","v":"-"},{"$f":"+IFERROR(IF(MATCH(CONCATENATE(AF$2,$A93),AUX_MELT_DADES!$V:$V,0)<>0,\"X\",\"\"),\"-\")","v":"-"},{"$f":"+IFERROR(IF(MATCH(CONCATENATE(AG$2,$A93),AUX_MELT_DADES!$V:$V,0)<>0,\"X\",\"\"),\"-\")","v":"-"},{"$f":"+IFERROR(IF(MATCH(CONCATENATE(AH$2,$A93),AUX_MELT_DADES!$V:$V,0)<>0,\"X\",\"\"),\"-\")","v":"-"},{"$f":"+IFERROR(IF(MATCH(CONCATENATE(AI$2,$A93),AUX_MELT_DADES!$V:$V,0)<>0,\"X\",\"\"),\"-\")","v":"-"},{"$f":"+IFERROR(IF(MATCH(CONCATENATE(AJ$2,$A93),AUX_MELT_DADES!$V:$V,0)<>0,\"X\",\"\"),\"-\")","v":"-"},{"$f":"+IFERROR(IF(MATCH(CONCATENATE(AK$2,$A93),AUX_MELT_DADES!$V:$V,0)<>0,\"X\",\"\"),\"-\")","v":"-"},{"$f":"+IFERROR(IF(MATCH(CONCATENATE(AL$2,$A93),AUX_MELT_DADES!$V:$V,0)<>0,\"X\",\"\"),\"-\")","v":"-"},{"$f":"IFERROR(VLOOKUP(A93,AUX_PIVOT_MELT!$A$4:$B$250,2,FALSE),\"\")","v":0},false,false,false,false,"-"]
["[mp.s.3]M",92,"[mp.s.3]","Mesures de protecció","Protecció dels serveis","Protecció contra la denegació de servei",null,null,"X",null,null,null,null,"M",null,"S’han d’establir mesures preventives i reactives contra els atacs de denegació de servei:\n•\tDotar el sistema de la capacitat suficient per atendre la càrrega prevista.\n•\tDesplegar tecnologies per prevenir els atacs coneguts.",null,"NO",{"$f":"IFERROR(VLOOKUP(A94,AUX_PIVOT_MELT!$A$4:$B$250,2,FALSE),\"\")","v":0},null,null,null,null,{"$f":"+IFERROR(IF(MATCH(CONCATENATE(X$2,$A94),AUX_MELT_DADES!$V:$V,0)<>0,\"X\",\"\"),\"-\")","v":"-"},{"$f":"+IFERROR(IF(MATCH(CONCATENATE(Y$2,$A94),AUX_MELT_DADES!$V:$V,0)<>0,\"X\",\"\"),\"-\")","v":"-"},{"$f":"+IFERROR(IF(MATCH(CONCATENATE(Z$2,$A94),AUX_MELT_DADES!$V:$V,0)<>0,\"X\",\"\"),\"-\")","v":"X"},{"$f":"+IFERROR(IF(MATCH(CONCATENATE(AA$2,$A94),AUX_MELT_DADES!$V:$V,0)<>0,\"X\",\"\"),\"-\")","v":"-"},{"$f":"+IFERROR(IF(MATCH(CONCATENATE(AB$2,$A94),AUX_MELT_DADES!$V:$V,0)<>0,\"X\",\"\"),\"-\")","v":"-"},{"$f":"+IFERROR(IF(MATCH(CONCATENATE(AC$2,$A94),AUX_MELT_DADES!$V:$V,0)<>0,\"X\",\"\"),\"-\")","v":"-"},{"$f":"+IFERROR(IF(MATCH(CONCATENATE(AD$2,$A94),AUX_MELT_DADES!$V:$V,0)<>0,\"X\",\"\"),\"-\")","v":"-"},{"$f":"+IFERROR(IF(MATCH(CONCATENATE(AE$2,$A94),AUX_MELT_DADES!$V:$V,0)<>0,\"X\",\"\"),\"-\")","v":"X"},{"$f":"+IFERROR(IF(MATCH(CONCATENATE(AF$2,$A94),AUX_MELT_DADES!$V:$V,0)<>0,\"X\",\"\"),\"-\")","v":"-"},{"$f":"+IFERROR(IF(MATCH(CONCATENATE(AG$2,$A94),AUX_MELT_DADES!$V:$V,0)<>0,\"X\",\"\"),\"-\")","v":"-"},{"$f":"+IFERROR(IF(MATCH(CONCATENATE(AH$2,$A94),AUX_MELT_DADES!$V:$V,0)<>0,\"X\",\"\"),\"-\")","v":"-"},{"$f":"+IFERROR(IF(MATCH(CONCATENATE(AI$2,$A94),AUX_MELT_DADES!$V:$V,0)<>0,\"X\",\"\"),\"-\")","v":"-"},{"$f":"+IFERROR(IF(MATCH(CONCATENATE(AJ$2,$A94),AUX_MELT_DADES!$V:$V,0)<>0,\"X\",\"\"),\"-\")","v":"-"},{"$f":"+IFERROR(IF(MATCH(CONCATENATE(AK$2,$A94),AUX_MELT_DADES!$V:$V,0)<>0,\"X\",\"\"),\"-\")","v":"-"},{"$f":"+IFERROR(IF(MATCH(CONCATENATE(AL$2,$A94),AUX_MELT_DADES!$V:$V,0)<>0,\"X\",\"\"),\"-\")","v":"-"},{"$f":"IFERROR(VLOOKUP(A94,AUX_PIVOT_MELT!$A$4:$B$250,2,FALSE),\"\")","v":0},false,false,false,false,"-"]
["[mp.s.3]H",93,"[mp.s.3]","Mesures de protecció","Protecció dels serveis","Protecció contra la denegació de servei",null,null,"X",null,null,null,null,null,"H","S’han d’establir mesures preventives i reactives contra els atacs de denegació de servei:\n•\tDotar el sistema de la capacitat suficient per atendre la càrrega prevista.\n•\tDesplegar tecnologies per prevenir els atacs coneguts.\n•\tCal establir un sistema de detecció dels atacs de denegació de servei.\n•\tCal establir procediments de reacció als atacs, inclosa la comunicació amb el proveïdor de comunicacions.\n•\tCal impedir que es llancin atacs des de les pròpies instal·lacions.",null,"NO",{"$f":"IFERROR(VLOOKUP(A95,AUX_PIVOT_MELT!$A$4:$B$250,2,FALSE),\"\")","v":0},null,null,null,null,{"$f":"+IFERROR(IF(MATCH(CONCATENATE(X$2,$A95),AUX_MELT_DADES!$V:$V,0)<>0,\"X\",\"\"),\"-\")","v":"-"},{"$f":"+IFERROR(IF(MATCH(CONCATENATE(Y$2,$A95),AUX_MELT_DADES!$V:$V,0)<>0,\"X\",\"\"),\"-\")","v":"-"},{"$f":"+IFERROR(IF(MATCH(CONCATENATE(Z$2,$A95),AUX_MELT_DADES!$V:$V,0)<>0,\"X\",\"\"),\"-\")","v":"X"},{"$f":"+IFERROR(IF(MATCH(CONCATENATE(AA$2,$A95),AUX_MELT_DADES!$V:$V,0)<>0,\"X\",\"\"),\"-\")","v":"-"},{"$f":"+IFERROR(IF(MATCH(CONCATENATE(AB$2,$A95),AUX_MELT_DADES!$V:$V,0)<>0,\"X\",\"\"),\"-\")","v":"-"},{"$f":"+IFERROR(IF(MATCH(CONCATENATE(AC$2,$A95),AUX_MELT_DADES!$V:$V,0)<>0,\"X\",\"\"),\"-\")","v":"-"},{"$f":"+IFERROR(IF(MATCH(CONCATENATE(AD$2,$A95),AUX_MELT_DADES!$V:$V,0)<>0,\"X\",\"\"),\"-\")","v":"-"},{"$f":"+IFERROR(IF(MATCH(CONCATENATE(AE$2,$A95),AUX_MELT_DADES!$V:$V,0)<>0,\"X\",\"\"),\"-\")","v":"X"},{"$f":"+IFERROR(IF(MATCH(CONCATENATE(AF$2,$A95),AUX_MELT_DADES!$V:$V,0)<>0,\"X\",\"\"),\"-\")","v":"-"},{"$f":"+IFERROR(IF(MATCH(CONCATENATE(AG$2,$A95),AUX_MELT_DADES!$V:$V,0)<>0,\"X\",\"\"),\"-\")","v":"-"},{"$f":"+IFERROR(IF(MATCH(CONCATENATE(AH$2,$A95),AUX_MELT_DADES!$V:$V,0)<>0,\"X\",\"\"),\"-\")","v":"-"},{"$f":"+IFERROR(IF(MATCH(CONCATENATE(AI$2,$A95),AUX_MELT_DADES!$V:$V,0)<>0,\"X\",\"\"),\"-\")","v":"-"},{"$f":"+IFERROR(IF(MATCH(CONCATENATE(AJ$2,$A95),AUX_MELT_DADES!$V:$V,0)<>0,\"X\",\"\"),\"-\")","v":"-"},{"$f":"+IFERROR(IF(MATCH(CONCATENATE(AK$2,$A95),AUX_MELT_DADES!$V:$V,0)<>0,\"X\",\"\"),\"-\")","v":"-"},{"$f":"+IFERROR(IF(MATCH(CONCATENATE(AL$2,$A95),AUX_MELT_DADES!$V:$V,0)<>0,\"X\",\"\"),\"-\")","v":"-"},{"$f":"IFERROR(VLOOKUP(A95,AUX_PIVOT_MELT!$A$4:$B$250,2,FALSE),\"\")","v":0},false,false,false,false,"-"]
["[mp.s.4]H",94,"[mp.s.4]","Mesures de protecció","Protecció dels serveis","Mitjans alternatius (NOMES IMPACTE)",null,null,"X",null,null,null,null,null,"H","Cal garantir que hi ha mitjans alternatius si els habituals fallen, i que estan disponibles. Aquests mitjans alternatius han de tenir les mateixes garanties de protecció que els habituals.",null,"NO",{"$f":"IFERROR(VLOOKUP(A96,AUX_PIVOT_MELT!$A$4:$B$250,2,FALSE),\"\")","v":0},null,null,null,null,{"$f":"+IFERROR(IF(MATCH(CONCATENATE(X$2,$A96),AUX_MELT_DADES!$V:$V,0)<>0,\"X\",\"\"),\"-\")","v":"X"},{"$f":"+IFERROR(IF(MATCH(CONCATENATE(Y$2,$A96),AUX_MELT_DADES!$V:$V,0)<>0,\"X\",\"\"),\"-\")","v":"-"},{"$f":"+IFERROR(IF(MATCH(CONCATENATE(Z$2,$A96),AUX_MELT_DADES!$V:$V,0)<>0,\"X\",\"\"),\"-\")","v":"X"},{"$f":"+IFERROR(IF(MATCH(CONCATENATE(AA$2,$A96),AUX_MELT_DADES!$V:$V,0)<>0,\"X\",\"\"),\"-\")","v":"-"},{"$f":"+IFERROR(IF(MATCH(CONCATENATE(AB$2,$A96),AUX_MELT_DADES!$V:$V,0)<>0,\"X\",\"\"),\"-\")","v":"-"},{"$f":"+IFERROR(IF(MATCH(CONCATENATE(AC$2,$A96),AUX_MELT_DADES!$V:$V,0)<>0,\"X\",\"\"),\"-\")","v":"-"},{"$f":"+IFERROR(IF(MATCH(CONCATENATE(AD$2,$A96),AUX_MELT_DADES!$V:$V,0)<>0,\"X\",\"\"),\"-\")","v":"-"},{"$f":"+IFERROR(IF(MATCH(CONCATENATE(AE$2,$A96),AUX_MELT_DADES!$V:$V,0)<>0,\"X\",\"\"),\"-\")","v":"-"},{"$f":"+IFERROR(IF(MATCH(CONCATENATE(AF$2,$A96),AUX_MELT_DADES!$V:$V,0)<>0,\"X\",\"\"),\"-\")","v":"-"},{"$f":"+IFERROR(IF(MATCH(CONCATENATE(AG$2,$A96),AUX_MELT_DADES!$V:$V,0)<>0,\"X\",\"\"),\"-\")","v":"-"},{"$f":"+IFERROR(IF(MATCH(CONCATENATE(AH$2,$A96),AUX_MELT_DADES!$V:$V,0)<>0,\"X\",\"\"),\"-\")","v":"-"},{"$f":"+IFERROR(IF(MATCH(CONCATENATE(AI$2,$A96),AUX_MELT_DADES!$V:$V,0)<>0,\"X\",\"\"),\"-\")","v":"-"},{"$f":"+IFERROR(IF(MATCH(CONCATENATE(AJ$2,$A96),AUX_MELT_DADES!$V:$V,0)<>0,\"X\",\"\"),\"-\")","v":"-"},{"$f":"+IFERROR(IF(MATCH(CONCATENATE(AK$2,$A96),AUX_MELT_DADES!$V:$V,0)<>0,\"X\",\"\"),\"-\")","v":"-"},{"$f":"+IFERROR(IF(MATCH(CONCATENATE(AL$2,$A96),AUX_MELT_DADES!$V:$V,0)<>0,\"X\",\"\"),\"-\")","v":"-"},{"$f":"IFERROR(VLOOKUP(A96,AUX_PIVOT_MELT!$A$4:$B$250,2,FALSE),\"\")","v":0},false,false,false,false,"-"]
[]
[]
[]
[null,null,null,null,null,null,null,null,null,null,null,null,null,null,null,null,null,null,null,null,null,null,null,{"$f":"+IF(VLOOKUP(X2,'4B.RISCOS DADES'!$C$9:$F$23,4,FALSE)=\"SI\",\"AMBER\",\"N/A\")","v":"N/A"},{"$f":"+IF(VLOOKUP(Y2,'4B.RISCOS DADES'!$C$9:$F$23,4,FALSE)=\"SI\",\"AMBER\",\"N/A\")","v":"N/A"},{"$f":"+IF(VLOOKUP(Z2,'4B.RISCOS DADES'!$C$9:$F$23,4,FALSE)=\"SI\",\"AMBER\",\"N/A\")","v":"N/A"},{"$f":"+IF(VLOOKUP(AA2,'4B.RISCOS DADES'!$C$9:$F$23,4,FALSE)=\"SI\",\"AMBER\",\"N/A\")","v":"N/A"},{"$f":"+IF(VLOOKUP(AB2,'4B.RISCOS DADES'!$C$9:$F$23,4,FALSE)=\"SI\",\"AMBER\",\"N/A\")","v":"N/A"},{"$f":"+IF(VLOOKUP(AC2,'4B.RISCOS DADES'!$C$9:$F$23,4,FALSE)=\"SI\",\"AMBER\",\"N/A\")","v":"N/A"},{"$f":"+IF(VLOOKUP(AD2,'4B.RISCOS DADES'!$C$9:$F$23,4,FALSE)=\"SI\",\"AMBER\",\"N/A\")","v":"N/A"},{"$f":"+IF(VLOOKUP(AE2,'4B.RISCOS DADES'!$C$9:$F$23,4,FALSE)=\"SI\",\"AMBER\",\"N/A\")","v":"N/A"},{"$f":"+IF(VLOOKUP(AF2,'4B.RISCOS DADES'!$C$9:$F$23,4,FALSE)=\"SI\",\"AMBER\",\"N/A\")","v":"N/A"},{"$f":"+IF(VLOOKUP(AG2,'4B.RISCOS DADES'!$C$9:$F$23,4,FALSE)=\"SI\",\"AMBER\",\"N/A\")","v":"N/A"},{"$f":"+IF(VLOOKUP(AH2,'4B.RISCOS DADES'!$C$9:$F$23,4,FALSE)=\"SI\",\"AMBER\",\"N/A\")","v":"N/A"},{"$f":"+IF(VLOOKUP(AI2,'4B.RISCOS DADES'!$C$9:$F$23,4,FALSE)=\"SI\",\"AMBER\",\"N/A\")","v":"N/A"},{"$f":"+IF(VLOOKUP(AJ2,'4B.RISCOS DADES'!$C$9:$F$23,4,FALSE)=\"SI\",\"AMBER\",\"N/A\")","v":"N/A"},{"$f":"+IF(VLOOKUP(AK2,'4B.RISCOS DADES'!$C$9:$F$23,4,FALSE)=\"SI\",\"AMBER\",\"N/A\")","v":"N/A"},{"$f":"+IF(VLOOKUP(AL2,'4B.RISCOS DADES'!$C$9:$F$23,4,FALSE)=\"SI\",\"AMBER\",\"N/A\")","v":"N/A"},null,{"$f":"COUNTIF(AN3:AN96,TRUE)","v":0},{"$f":"COUNTIF(AO3:AO96,TRUE)","v":0},{"$f":"COUNTIF(AP3:AP96,TRUE)","v":0},{"$f":"COUNTIF(AQ3:AQ96,TRUE)","v":0},{"$f":"COUNTIF(AR3:AR96,TRUE)","v":0}]

{"sheet":"VISTA ANNEXOS","index":12,"n_rows":44,"n_cols":19,"rows_kept":44,"cut":false,"hidden":false,"merged":[[5,2,10,2],[12,2,29,2],[31,2,36,2],[38,2,43,2],[2,2,2,5],[8,3,10,3],[27,3,29,3],[34,3,36,3],[41,3,43,3],[3,2,3,3],[3,4,3,5]]}
[]
[]
[null,null,{"$f":"+AUX_RESUM!D54","v":0}]
[null,null,"RESUM - DOCUMENTACIÓ ANNEXADA",null,null,null,null,null,null,null,null,null,null,null,"CELL FORMATS1","CELL FORMATS2","COMPL STATUS1","COMPL STATUS2"]
[null,null,"ÀREA","Document","Annexat?","Data prevista de signatura?"]
[null,null,"AIPDs PRÈVIES","AIPD prèvia",{"$f":"IF('0.REQUISITS'!D12=\"\",\"\",'0.REQUISITS'!D12)","v":""},null,null,null,null,null,null,null,null,null,{"$f":"+'0.REQUISITS'!N12","v":"N/A"},{"$f":"+'0.REQUISITS'!P12","v":"N"},null,null,"0.REQUISITS'!C11"]
[null,null,null,"Informe Favorable del Comitè d'Ètica de Recerca corresponent",{"$f":"IF('0.REQUISITS'!D13=\"\",\"\",'0.REQUISITS'!D13)","v":""},null,null,null,null,null,null,null,null,null,{"$f":"+'0.REQUISITS'!N13","v":"N/A"},{"$f":"+'0.REQUISITS'!P13","v":"N"}]
[null,null,null,"Altres:",{"$f":"IF('0.REQUISITS'!D14=\"\",\"\",'0.REQUISITS'!D14)","v":""},null,null,null,null,null,null,null,null,null,{"$f":"+'0.REQUISITS'!N14","v":"N/A"},{"$f":"+'0.REQUISITS'!P14","v":"N"}]
[null,null,null,{"$f":"IF('0.REQUISITS'!E14=\"\",\"\",'0.REQUISITS'!E14)","v":""},null,null,null,null,null,null,null,null,null,null,{"$f":"+'0.REQUISITS'!O14","v":"N/A"},{"$f":"+'0.REQUISITS'!Q14","v":"N"}]
[null,null,null,{"$f":"IF('0.REQUISITS'!#REF!=\"\",\"\",'0.REQUISITS'!#REF!)","v":{"$error":"#REF!"}}]
[null,null,null,{"$f":"IF('0.REQUISITS'!#REF!=\"\",\"\",'0.REQUISITS'!#REF!)","v":{"$error":"#REF!"}}]
[null,null,null,"Documentació annexada del Tractament: ","SI/NO"]
[null,null,"TRACTAMENT DE DADES","Protocol",{"$f":"IF('1.TRACT'!E16=\"\",\"\",'1.TRACT'!E16)","v":""},null,null,null,null,null,null,null,null,null,{"$f":"+'1.TRACT'!O16","v":"INPUT REQ"},null,{"$f":"+'1.TRACT'!Q16","v":"BLANK"},null,"1.TRACT'!C15"]
[null,null,null,"Full d'informació i consentiment informat",{"$f":"IF('1.TRACT'!E17=\"\",\"\",'1.TRACT'!E17)","v":""},null,null,null,null,null,null,null,null,null,{"$f":"+'1.TRACT'!O17","v":"INPUT REQ"},null,{"$f":"+'1.TRACT'!Q17","v":"BLANK"}]
[null,null,null,"DMP (Data Management Plan) de recerca",{"$f":"IF('1.TRACT'!E18=\"\",\"\",'1.TRACT'!E18)","v":""},null,null,null,null,null,null,null,null,null,{"$f":"+'1.TRACT'!O18","v":"INPUT REQ"},null,{"$f":"+'1.TRACT'!Q18","v":"BLANK"}]
[null,null,null,"Avís Legal",{"$f":"IF('1.TRACT'!E19=\"\",\"\",'1.TRACT'!E19)","v":""},null,null,null,null,null,null,null,null,null,{"$f":"+'1.TRACT'!O19","v":"INPUT REQ"},null,{"$f":"+'1.TRACT'!Q19","v":"BLANK"}]
[null,null,null,"Condicions d'ús",{"$f":"IF('1.TRACT'!E20=\"\",\"\",'1.TRACT'!E20)","v":""},null,null,null,null,null,null,null,null,null,{"$f":"+'1.TRACT'!O20","v":"INPUT REQ"},null,{"$f":"+'1.TRACT'!Q20","v":"BLANK"}]
[null,null,null,"Diagrama de Flux del cicle de dades",{"$f":"IF('1.TRACT'!E21=\"\",\"\",'1.TRACT'!E21)","v":""},null,null,null,null,null,null,null,null,null,{"$f":"+'1.TRACT'!O21","v":"INPUT REQ"},null,{"$f":"+'1.TRACT'!Q21","v":"BLANK"}]
[null,null,null,"Documentació tècnica del projecte",{"$f":"IF('1.TRACT'!E22=\"\",\"\",'1.TRACT'!E22)","v":""},null,null,null,null,null,null,null,null,null,{"$f":"+'1.TRACT'!O22","v":"INPUT REQ"},null,{"$f":"+'1.TRACT'!Q22","v":"BLANK"}]
[null,null,null,"Documentació funcional del projecte",{"$f":"IF('1.TRACT'!E23=\"\",\"\",'1.TRACT'!E23)","v":""},null,null,null,null,null,null,null,null,null,{"$f":"+'1.TRACT'!O23","v":"INPUT REQ"},null,{"$f":"+'1.TRACT'!Q23","v":"BLANK"}]
[null,null,null,"Document Gestió d'usuaris i permisos",{"$f":"IF('1.TRACT'!E24=\"\",\"\",'1.TRACT'!E24)","v":""},null,null,null,null,null,null,null,null,null,{"$f":"+'1.TRACT'!O24","v":"INPUT REQ"},null,{"$f":"+'1.TRACT'!Q24","v":"BLANK"}]
[null,null,null,"Procediment per a l'exercici de drets (ARCOPOL)",{"$f":"IF('1.TRACT'!E25=\"\",\"\",'1.TRACT'!E25)","v":""},null,null,null,null,null,null,null,null,null,{"$f":"+'1.TRACT'!O25","v":"INPUT REQ"},null,{"$f":"+'1.TRACT'!Q25","v":"BLANK"}]
[null,null,null,"Política de privacitat",{"$f":"IF('1.TRACT'!E26=\"\",\"\",'1.TRACT'!E26)","v":""},null,null,null,null,null,null,null,null,null,{"$f":"+'1.TRACT'!O26","v":"INPUT REQ"},null,{"$f":"+'1.TRACT'!Q26","v":"BLANK"}]
[null,null,null,"Acords de Tractament de Dades",{"$f":"IF('1.TRACT'!E27=\"\",\"\",'1.TRACT'!E27)","v":""},null,null,null,null,null,null,null,null,null,{"$f":"+'1.TRACT'!O27","v":"INPUT REQ"},null,{"$f":"+'1.TRACT'!Q27","v":"BLANK"}]
[null,null,null,"Acords de Transferència de Dades (DTA)",{"$f":"IF('1.TRACT'!E28=\"\",\"\",'1.TRACT'!E28)","v":""},null,null,null,null,null,null,null,null,null,{"$f":"+'1.TRACT'!O28","v":"INPUT REQ"},null,{"$f":"+'1.TRACT'!Q28","v":"BLANK"}]
[null,null,null,"Acords de Transferència de Material Biològic Humà (MTA)",{"$f":"IF('1.TRACT'!E29=\"\",\"\",'1.TRACT'!E29)","v":""},null,null,null,null,null,null,null,null,null,{"$f":"+'1.TRACT'!O29","v":"INPUT REQ"},null,{"$f":"+'1.TRACT'!Q29","v":"BLANK"}]
[null,null,null,"Altres:",{"$f":"IF('1.TRACT'!E30=\"\",\"\",'1.TRACT'!E30)","v":""},null,null,null,null,null,null,null,null,null,{"$f":"+'1.TRACT'!O30","v":"INPUT REQ"},null,{"$f":"+'1.TRACT'!Q30","v":"BLANK"}]
[null,null,null,{"$f":"IF('1.TRACT'!F30=\"\",\"\",'1.TRACT'!F30)","v":""},null,null,null,null,null,null,null,null,null,null,{"$f":"+'1.TRACT'!P30","v":"N/A"},null,{"$f":"+'1.TRACT'!R30","v":"N"}]
[null,null,null,{"$f":"IF('1.TRACT'!#REF!=\"\",\"\",'1.TRACT'!#REF!)","v":{"$error":"#REF!"}}]
[null,null,null,{"$f":"IF('1.TRACT'!#REF!=\"\",\"\",'1.TRACT'!#REF!)","v":{"$error":"#REF!"}},null,"Data prevista de signatura?"]
[null,null,null,"Documentació annexada de Rols i Responsabilitats: ","SI/NO","Data prevista de signatura:"]
[null,null,"ROLS I RESPONSABILITATS","Acord de Corresponsabilitat",{"$f":"IF('1.TRACT'!E47=\"\",\"\",'1.TRACT'!E47)","v":""},{"$f":"IF('1.TRACT'!F47=\"\",\"\",'1.TRACT'!F47)","v":""},null,null,null,null,null,null,null,null,{"$f":"+'1.TRACT'!O47","v":"N/A"},{"$f":"+'1.TRACT'!P47","v":"N/A"},{"$f":"+'1.TRACT'!Q47","v":"N"},{"$f":"+'1.TRACT'!R47","v":"N"},"1.TRACT'!C43"]
[null,null,null,"Acord d'Encarregat de Tractament",{"$f":"IF('1.TRACT'!E48=\"\",\"\",'1.TRACT'!E48)","v":""},{"$f":"IF('1.TRACT'!F48=\"\",\"\",'1.TRACT'!F48)","v":""},null,null,null,null,null,null,null,null,{"$f":"+'1.TRACT'!O48","v":"N/A"},{"$f":"+'1.TRACT'!P48","v":"N/A"},{"$f":"+'1.TRACT'!Q48","v":"N"},{"$f":"+'1.TRACT'!R48","v":"N"}]
[null,null,null,"Altres:",{"$f":"IF('1.TRACT'!E49=\"\",\"\",'1.TRACT'!E49)","v":""},null,null,null,null,null,null,null,null,null,{"$f":"+'1.TRACT'!O49","v":"INPUT REQ"},null,{"$f":"+'1.TRACT'!Q49","v":"BLANK"}]
[null,null,null,{"$f":"IF('1.TRACT'!G49=\"\",\"\",'1.TRACT'!G49)","v":""},null,null,null,null,null,null,null,null,null,null,{"$f":"+'1.TRACT'!P49","v":"N/A"},null,{"$f":"+'1.TRACT'!R49","v":"N"}]
[null,null,null,{"$f":"IF('1.TRACT'!#REF!=\"\",\"\",'1.TRACT'!#REF!)","v":{"$error":"#REF!"}}]
[null,null,null,{"$f":"IF('1.TRACT'!#REF!=\"\",\"\",'1.TRACT'!#REF!)","v":{"$error":"#REF!"}},null,"Data prevista de signatura?"]
[null,null,null,"Documentació annexada de Transferències: ","SI/NO","Data prevista de signatura:"]
[null,null,"TRANSFERÈNCIES DE DADES","Clàusules contractuals estàndar de la Unió Europea",{"$f":"IF('1.TRACT'!E148=\"\",\"\",'1.TRACT'!E148)","v":""},{"$f":"IF('1.TRACT'!F148=\"\",\"\",'1.TRACT'!F148)","v":""},null,null,null,null,null,null,null,null,{"$f":"+'1.TRACT'!O148","v":"N/A"},{"$f":"+'1.TRACT'!P148","v":"N/A"},{"$f":"+'1.TRACT'!Q148","v":"N"},{"$f":"+'1.TRACT'!R148","v":"N"},"1.TRACT'!C141"]
[null,null,null,"Certificació EU-US Privacy Shield",{"$f":"IF('1.TRACT'!E149=\"\",\"\",'1.TRACT'!E149)","v":""},{"$f":"IF('1.TRACT'!F149=\"\",\"\",'1.TRACT'!F149)","v":""},null,null,null,null,null,null,null,null,{"$f":"+'1.TRACT'!O149","v":"N/A"},{"$f":"+'1.TRACT'!P149","v":"N/A"},{"$f":"+'1.TRACT'!Q149","v":"N"},{"$f":"+'1.TRACT'!R149","v":"N"}]
[null,null,null,"Altres:",{"$f":"IF('1.TRACT'!E150=\"\",\"\",'1.TRACT'!E150)","v":""},null,null,null,null,null,null,null,null,null,{"$f":"+'1.TRACT'!O150","v":"N/A"}]
[null,null,null,{"$f":"IF('1.TRACT'!G150=\"\",\"\",'1.TRACT'!G150)","v":""},null,null,null,null,null,null,null,null,null,null,{"$f":"+'1.TRACT'!P150","v":"N/A"}]
[null,null,null,{"$f":"IF('1.TRACT'!#REF!=\"\",\"\",'1.TRACT'!#REF!)","v":{"$error":"#REF!"}}]
[null,null,null,{"$f":"IF('1.TRACT'!#REF!=\"\",\"\",'1.TRACT'!#REF!)","v":{"$error":"#REF!"}}]

{"sheet":"VALORACIÓ","index":13,"n_rows":26,"n_cols":18,"rows_kept":26,"cut":false,"hidden":false,"merged":[[24,2,24,3],[22,2,22,3],[23,2,23,3],[25,2,25,3],[1,1,1,4],[7,2,7,3],[3,2,3,3],[17,2,17,3],[15,2,15,3],[13,2,13,3],[11,2,11,3],[9,2,9,3],[6,2,6,3],[4,2,4,3]]}
[null,null,null,null,null,null,null,null,null,null,null,null,null,null,"CELL FORMATS1",null,"COMPL STATUS1"]
[null,"A emplenar exclusivament per part de l'AVALUADOR"]
[]
[null,null,{"$f":"AUX_RESUM!D56","v":0}]
[null,null,"RESUM - VISTA VALORACIÓ"]
[null,null,"VALORACIÓ GLOBAL","PENDENT DE VALORACIÓ",null,null,null,null,null,null,null,null,null,null,{"$f":"+IF(OR(D6=\"\",D6=\"PENDENT DE VALORACIÓ\"),\"INPUT REQ\",IF(D6=\"Acceptada\",\"GREEN\",IF(D6=\"Denegada\",\"RED\",\"AMBER\")))","v":"INPUT REQ"},null,{"$f":"+IF(O6=\"N/A\",\"N\",IF(O6=\"INPUT REQ\",\"BLANK\",\"OK\"))","v":"BLANK"}]
[null,null,null,null,null,null,null,null,null,null,null,null,null,null,{"$f":"+IF(C7<>\"\",\"OK\",\"INPUT REQ\")","v":"INPUT REQ"},null,{"$f":"+IF(O7=\"N/A\",\"N\",IF(O7=\"INPUT REQ\",\"BLANK\",\"OK\"))","v":"BLANK"}]
[null,null,"VALORACIÓ DE CADA SECCIÓ (modificar a la secció corresponent)"]
[null,null,"0. Anàlisi de la Necessitat de fer l'AIPD",{"$f":"+IF('0.REQUISITS'!C39=\"\",\"PENDENT DE VALORACIÓ\",'0.REQUISITS'!C39)","v":"PENDENT DE VALORACIÓ"},null,null,null,null,null,null,null,null,null,null,{"$f":"+IF(OR(D9=\"\",D9=\"PENDENT DE VALORACIÓ\"),\"INPUT REQ\",IF(D9=\"Acceptada\",\"GREEN\",IF(D9=\"Denegada\",\"RED\",\"AMBER\")))","v":"INPUT REQ"},null,{"$f":"+IF(O9=\"N/A\",\"N\",IF(O9=\"INPUT REQ\",\"BLANK\",\"OK\"))","v":"BLANK"},"0.REQUISITS'!C34"]
[null,null,{"$f":"+IF('0.REQUISITS'!C41<>\"\",'0.REQUISITS'!C41,\"Pendent d'emplenar\")","v":"Pendent d'emplenar"},null,null,null,null,null,null,null,null,null,null,null,{"$f":"+'0.REQUISITS'!N41","v":"INPUT REQ"},null,"BLANK"]
[null,null,"1. Descripció del Tractament",{"$f":"+IF('1.TRACT'!D157=\"\",\"PENDENT DE VALORACIÓ\",'1.TRACT'!D157)","v":"PENDENT DE VALORACIÓ"},null,null,null,null,null,null,null,null,null,null,{"$f":"+IF(OR(D11=\"\",D11=\"PENDENT DE VALORACIÓ\"),\"INPUT REQ\",IF(D11=\"Acceptada\",\"GREEN\",IF(D11=\"Denegada\",\"RED\",\"AMBER\")))","v":"INPUT REQ"},null,"BLANK","1.TRACT'!C152"]
[null,null,{"$f":"+IF('1.TRACT'!D159<>\"\",'1.TRACT'!D159,\"Pendent d'emplenar\")","v":"Pendent d'emplenar"},null,null,null,null,null,null,null,null,null,null,null,{"$f":"+'1.TRACT'!O159","v":"INPUT REQ"},null,"BLANK"]
[null,null,"2. Necessitat i Proporcionalitat",{"$f":"+IF('2.NECES i PROP'!D95=\"\",\"PENDENT DE VALORACIÓ\",'2.NECES i PROP'!D95)","v":"PENDENT DE VALORACIÓ"},null,null,null,null,null,null,null,null,null,null,{"$f":"+IF(OR(D13=\"\",D13=\"PENDENT DE VALORACIÓ\"),\"INPUT REQ\",IF(D13=\"Acceptada\",\"GREEN\",IF(D13=\"Denegada\",\"RED\",\"AMBER\")))","v":"INPUT REQ"},null,"BLANK","2.NECES i PROP'!C93"]
[null,null,{"$f":"+IF('2.NECES i PROP'!D97<>\"\",'2.NECES i PROP'!D97,\"Pendent d'emplenar\")","v":"Pendent d'emplenar"},null,null,null,null,null,null,null,null,null,null,null,{"$f":"+'2.NECES i PROP'!O97","v":"INPUT REQ"},null,"BLANK"]
[null,null,"3. Controls per Garantir els Drets de les Persones",{"$f":"+IF('3.DRETS'!D56=\"\",\"PENDENT DE VALORACIÓ\",'3.DRETS'!D56)","v":"PENDENT DE VALORACIÓ"},null,null,null,null,null,null,null,null,null,null,{"$f":"+IF(OR(D15=\"\",D15=\"PENDENT DE VALORACIÓ\"),\"INPUT REQ\",IF(D15=\"Acceptada\",\"GREEN\",IF(D15=\"Denegada\",\"RED\",\"AMBER\")))","v":"INPUT REQ"},null,"BLANK","3.DRETS'!C54"]
[null,null,{"$f":"+IF('3.DRETS'!D58<>\"\",'3.DRETS'!D58,\"Pendent d'emplenar\")","v":"Pendent d'emplenar"},null,null,null,null,null,null,null,null,null,null,null,{"$f":"+'3.DRETS'!O58","v":"INPUT REQ"},null,"BLANK"]
[null,null,"4B. Riscos en la Seguretat de les Dades",{"$f":"+IF('4B.RISCOS DADES'!D73=\"\",\"PENDENT DE VALORACIÓ\",'4B.RISCOS DADES'!D73)","v":"PENDENT DE VALORACIÓ"},null,null,null,null,null,null,null,null,null,null,{"$f":"+IF(OR(D17=\"\",D17=\"PENDENT DE VALORACIÓ\"),\"INPUT REQ\",IF(D17=\"Acceptada\",\"GREEN\",IF(D17=\"Denegada\",\"RED\",\"AMBER\")))","v":"INPUT REQ"},null,"BLANK","4.SEGURETAT'!$D$133"]
[null,null,{"$f":"+IF('4B.RISCOS DADES'!D75<>\"\",'4B.RISCOS DADES'!D75,\"Pendent d'emplenar\")","v":"Pendent d'emplenar"},null,null,null,null,null,null,null,null,null,null,null,{"$f":"+'4B.RISCOS DADES'!$O$75","v":"INPUT REQ"},null,"BLANK"]
[]
[]
[]
[null,null,"S’ha comptat amb l’assessorament del DPD en la realització de l’AIPD?",null,null,null,null,null,null,null,null,null,null,null,{"$f":"+IF(D22=\"\",\"INPUT REQ\",IF(D22=\"NO\",\"AMBER\",\"OK\"))","v":"INPUT REQ"},null,{"$f":"+IF(O22=\"N/A\",\"N\",IF(O22=\"INPUT REQ\",\"BLANK\",\"OK\"))","v":"BLANK"}]
[null,null,"En cas afirmatiu, quina és l'opinió del DPD respecte de la valoració global?",null,null,null,null,null,null,null,null,null,null,null,null,null,{"$f":"+IF(O24=\"N/A\",\"N\",IF(O24=\"INPUT REQ\",\"BLANK\",\"OK\"))","v":"N"}]
[null,null,null,null,null,null,null,null,null,null,null,null,null,null,{"$f":"IF(D22<>\"SI\",\"N/A\",IF(C24=\"\",\"INPUT REQ\",\"OK\"))","v":"N/A"}]
[null,null,"En cas contrari, justifiqueu perquè no s’ha comptat amb el DPD",null,null,null,null,null,null,null,null,null,null,null,null,null,{"$f":"+IF(O26=\"N/A\",\"N\",IF(O26=\"INPUT REQ\",\"BLANK\",\"OK\"))","v":"N"}]
[null,null,null,null,null,null,null,null,null,null,null,null,null,null,{"$f":"IF(D22<>\"NO\",\"N/A\",IF(C26=\"\",\"INPUT REQ\",\"OK\"))","v":"N/A"}]

{"sheet":"AUX_PLA CONTROLS","index":14,"n_rows":8,"n_cols":10,"rows_kept":8,"cut":false,"hidden":true,"merged":[[1,2,1,3],[1,5,1,6],[1,8,1,9]]}
[]
[null,null,"ACCIONS PROPOSADES\n(per prioritat)",null,null,"ACCIONS PLANIFICADES",null,null,"ACCIONS NO PLANIFICADES \nO EXPIRADES"]
[null,null,"SI - MOLT ALTA",{"$f":"COUNTIF('PLA CONTROLS'!$R$3:$R$96,C3)","v":0},null,"Rebutjada",{"$f":"COUNTIF('PLA CONTROLS'!$T$3:$T$96,F3)","v":0},null,"Accions Rebutjades Crítiques ",{"$f":"+'PLA CONTROLS'!AO100","v":0}]
[null,null,"SI - ALTA",{"$f":"COUNTIF('PLA CONTROLS'!$R$3:$R$96,C4)","v":0},null,"Pendent",{"$f":"COUNTIF('PLA CONTROLS'!$T$3:$T$96,F4)","v":0},null,"Accions Rebutjades Rellevants",{"$f":"+'PLA CONTROLS'!AN100","v":0}]
[null,null,"SI - MITJANA",{"$f":"COUNTIF('PLA CONTROLS'!$R$3:$R$96,C5)","v":0},null,"Planificada",{"$f":"COUNTIF('PLA CONTROLS'!$T$3:$T$96,F5)","v":0},null,"Accions No Planif. Crítiques ",{"$f":"+'PLA CONTROLS'!AQ100","v":0}]
[null,null,"SI - BAIXA",{"$f":"COUNTIF('PLA CONTROLS'!$R$3:$R$96,C6)","v":0},null,"En progrés",{"$f":"COUNTIF('PLA CONTROLS'!$T$3:$T$96,F6)","v":0},null,"Accions No Planif. Rellevants",{"$f":"+'PLA CONTROLS'!AP100","v":0}]
[null,null,"NO",{"$f":"COUNTIF('PLA CONTROLS'!$R$3:$R$96,C7)","v":94},null,"Finalitzada",{"$f":"COUNTIF('PLA CONTROLS'!$T$3:$T$96,F7)","v":0},null,"Dates Planificades Expirades",{"$f":"+'PLA CONTROLS'!AR100","v":0}]
[null,null,"TOTAL",{"$f":"SUM(D3:D6)","v":0},null,"TOTAL",{"$f":"SUBTOTAL(9,G4:G7)","v":0},null,"TOTAL",{"$f":"SUM(J3:J7)","v":0}]

{"sheet":"ANALYTICS","index":15,"n_rows":8,"n_cols":5,"rows_kept":8,"cut":false,"hidden":true,"merged":[]}
[]
["QUÈ?","PERQUÈ","PRIOR","COMPLEXITAT","COM?"]
["% Completion","Per secció + subsecció (excel només per secció!)\nTambé validació transversal (i.e. documentació o validació)","MVP",null,"Incloure subsecció als marcadors de status"]
["Segmentacions","Qualsevol resposta tabulada ha de permetre segmentació ","MVP",null,"Taules estructurades a SQL - anàlisi adhoc i creació de charts standard per criteris més rellevants"]
["Llistats agrupats","Per ENTITAT, per CREADOR, per AVALUADOR","MVP"]
["Control de Dates Expedient DPIA","Per medir SLAs de servei de revisió i validació, temps de caducitat (després de 6 mesos de creació ha de generar una alerta), temps de resposta (des d'enviament de mail d'assignació d'expedient fins al primer accés)",1,null,"Control de dates - Requereix STATUS de la DPIA (creació, revisió, dictamen…)\nGeneració d'alertes segons triggers definits per cada mesura"]
["Control de Dates Planificades","Cal avisar al creador / validador quan alguna de les dates planificades (pla d'acció, data prevista de signatura d'acords de transferència…)",2]
["Respostes no tabulades","Identificar respostes obertes, per afinar la taula de normalització",3,"Facil","Exemple: País (ara només EU, USA, CH, i podem anar incloent), Tipus de dada, Tipus de Tractament..."]

{"sheet":"AUX DATA VALIDATION","index":16,"n_rows":286,"n_cols":59,"rows_kept":286,"cut":false,"hidden":true,"merged":[[0,2,0,35]]}
["CONTROL",null,"DESCRIPCIÓ DEL TRACTAMENT"]
[]
["ROL DPIA (segons annex rols)",null,"ROL TRACTAMENT \n(segons annex rols)","DEFINICIÓ",null,"TIPUS DADES","CATEGORIA DADES","DESCRIPCIÓ TIPUS DADES",null,"FORMA DE RECOLLIDA",null,"TERMINI DE CONSERVACIÓ",null,"PROCEDÈNCIA DADES",null,"CATEGORIES D'INTERESSATS",null,"COL·LECTIUS VULNERABLES",null,"TIPUS DE RECERCA",null,"VOLUMETRIA INTERESSATS",null,"VOLUMETRIA DADES",null,"TIPUS DE TRACTAMENT","EXEMPLES DE TRACTAMENTS",null,"FORMA DE TRACTAMENT",null,"CONDICIÓ QUE PERMET LA TRANSFERÈNCIA DE DADES",null,"País (descr)","País (Codi)","UE / no-UE","PAÏSOS",null,"RISC (DRETS)","ACCIÓ","FORMAT",null,"RISC (AVISOS)","ACCIÓ","FORMAT",null,"AMENAÇA","AMENAÇA+DESCRIPCIÓ","DESCRIPCIÓ IMPACTE","IMPACTE",null,"CONTROL_ID","ALERTA","FILTRE (REQ MESURA)",null,"DICTAMEN AIPD",null,"SI/NO",null,"SI/NO/n/a"]
["Responsable del Tractament",null,"Responsable del Tractament","Persona física o jurídica, autoritat pública, servei o un altre òrgan que, sol o juntament amb altres, determina les finalitats i mitjans del tractament.",null,"Afiliació Sindical","ESPECIAL","Incorporació o pertinença d'un treballador a un sindicat determinat",null,"Captació amb sensors",null,"NO S'EMMAGATZEMA",null,"Interessat  (directament)",null,"Beneficiaris",null,"Majors de 65",null,"Biomedicina",null,"de 0 a 100.000 interessats",null,"0-5 dades de cada interessat",null,"1. Captura","Procés d'obtenció de dades per al seu emmagatzematge i posterior tractament: dades d'estudis previs, obtenció de mostres, qüestionaris, formularis web, formularis en paper, entrevistes, observació directa, xarxes socials, captació mitjançant sensors, enregistrament digital (gravació d'àudio digital, subtítol de vídeo digital...), etc",null,"Manual",null,"Decisió d’adequació CE",null,"Alemanya","DE","UE",{"$f":"+CONCATENATE(AG4,\" (\",AH4,\")\")","v":"Alemanya (DE)"},null,"PENDENT","COMPLETAR TAULA","N/A",null,0,"COMPLETEU","N/A",null,"Augment de Costos",{"$f":"+AUX.AmenacesImpacte[[#This Row],[AMENAÇA]]&AUX.AmenacesImpacte[[#This Row],[DESCRIPCIÓ IMPACTE]]","v":"Augment de Costos (inconvenients importants, superable amb algunes dificultats)"}," (inconvenients importants, superable amb algunes dificultats)","Mitjà",null,{"$f":"+'1.TRACT'!A3","v":"T10"},{"$f":"+'1.TRACT'!O3","v":0},{"$f":"+IF(Table41[[#This Row],[ALERTA]]=\"RED\",2,IF(Table41[[#This Row],[ALERTA]]=\"AMBER\",1,0))","v":0},null,"PENDENT DE VALORACIÓ",null,"SI",null,"SI"]
["DPD",null,"Representant del Responsable","Persona natural o jurídica establerta en la Unió que, havent estat designat per escrit pel responsable del tractament d'acord amb l'article 27, representa el responsable del tractament pel que fa a les seves obligacions en virtut d'aquest Reglament.",null,"Biomètriques","ESPECIAL","Empremta dactilar; reconeixement facial; veu; dades proporcionades per comptadors intel·ligents…",null,"Dispositius mòbils",null,"< 3 MESOS",null,"Biobanc / Biorepositoris",null,"Ciutadans i residents",null,"Menors d'edat (Espanya: <16 anys)",null,"Ciències humanes i socials",null,"de 100.000 a 1.000.000 interessats",null,"5-10 dades de cada interessat",null,"2. Desidentificació","Tècniques de anonimització / pseudonimització, com: codificació (hash), encriptació, agregació, afegir soroll, eliminar variables / categories, etc",null,"Automàtica",null,"Clàusules contractuals tipus CE",null,"Àustria","AT","UE",{"$f":"+CONCATENATE(AG5,\" (\",AH5,\")\")","v":"Àustria (AT)"},null,"RISC BAIX","NO ÉS NECESSÀRIA CAP ACCIÓ ADDICIONAL","OK",null,1,"NO S'HAN IDENTIFICAT ELEMENTS DE RISC","OK",null,"Danys Físics LLEUS",{"$f":"+AUX.AmenacesImpacte[[#This Row],[AMENAÇA]]&AUX.AmenacesImpacte[[#This Row],[DESCRIPCIÓ IMPACTE]]","v":"Danys Físics LLEUS (inconvenients importants, superable amb algunes dificultats)"}," (inconvenients importants, superable amb algunes dificultats)","Mitjà",null,{"$f":"+'1.TRACT'!A4","v":"T10"},{"$f":"+'1.TRACT'!O4","v":"N/A"},{"$f":"+IF(Table41[[#This Row],[ALERTA]]=\"RED\",2,IF(Table41[[#This Row],[ALERTA]]=\"AMBER\",1,0))","v":0},null,"ACCEPTADA",null,"NO",null,"NO"]
["Encarregat ",null,"Corresponsable","Persona física o jurídica, autoritat pública, servei o un altre òrgan que, sol o juntament amb altres, determina les finalitats i mitjans del tractament (total o parcial) junt amb el responsable.",null,"Conviccions Religioses/Filosòfiques","ESPECIAL","Creences; pràctiques o confessions religioses o espirituals; valors morals; …",null,"Enquestes",null,"3 - 24 MESOS ",null,"HC3",null,"Empleats",null,"Pacients",null,null,null,"Més de 1.000.000 d'interessats",null,"10-20 dades de cada interessat",null,"3. Preparació","Exemples: \n- Combinació (consolidar dades de diferents fitxers)\n- Harmonització / Estandarització (transformar les dades en un conjunt de dades cohesionat)\n- Modificació (selecció, classificació, neteja, correcció de dades amb objectiu diferent a la desidentificació)\n- Determinació de la seqüència del genoma amb tècniques de laboratori\n...",null,"Combinada",null,"Acords de Transferència de dades (DTA)",null,"Bèlgica","BE","UE","Bèlgica (BE)",null,"RISC MITJÀ","ÉS RECOMANABLE BUSCAR MESURES PER REDUÏR EL RISC","AMBER",null,2,"RISCOS IDENTIFICATS - ÉS RECOMANABLE ESTABLIR MESURES PER REDUÏR-LOS (SECCIÓ 4A)","AMBER",null,"Danys Físics MODERATS",{"$f":"+AUX.AmenacesImpacte[[#This Row],[AMENAÇA]]&AUX.AmenacesImpacte[[#This Row],[DESCRIPCIÓ IMPACTE]]","v":"Danys Físics MODERATS (conseqüències importants, superable amb dificultats importants)"}," (conseqüències importants, superable amb dificultats importants)","Alt",null,{"$f":"+'1.TRACT'!A5","v":"T10"},{"$f":"+'1.TRACT'!O5","v":"N/A"},{"$f":"+IF(Table41[[#This Row],[ALERTA]]=\"RED\",2,IF(Table41[[#This Row],[ALERTA]]=\"AMBER\",1,0))","v":0},null,"ACCIONS PENDENTS",null,null,null,"N/A"]
["Altres (escriure)",null,"Encarregat","És la persona natural o jurídica, l'autoritat pública, el servei o un altre òrgan que tracta les dades personals en nom del responsable del tractament.",null,"Ètnic/Racial","ESPECIAL","Dades personals que revelin l'origen ètnic o racial",null,"Enregistrament Digital (àudio, vídeo)",null,"2 - 10 ANYS",null,"Història Clínica",null,"Immigrants",null,"Persones amb discapacitats físiques o intel·lectuals",null,null,null,null,null,"20-40 dades de cada interessat",null,"4a. Explotació: Consulta","Recuperació o accés a dades crues o resultats",null,null,null,"Acords de Transferència de Material Biològic  Humà (MTA)",null,"Bulgària","BG","UE","Bulgària (BG)",null,"RISC ALT","ÉS IMPRESCINDIBLE BUSCAR MESURES PER REDUÏR EL RISC. \nSi no és possible, abans de començar el tractament cal consultar l’autoritat de protecció de dades competent sobre la idoneïtat del tractament","RED",null,3,"RISCOS GREUS IDENTIFICATS - ABANS DE CONTINUAR ÉS IMPRECINDIBLE ESTABLIR MESURES PER ELIMINAR-LOS (SECCIÓ 4A)","RED",null,"Danys Físics GREUS",{"$f":"+AUX.AmenacesImpacte[[#This Row],[AMENAÇA]]&AUX.AmenacesImpacte[[#This Row],[DESCRIPCIÓ IMPACTE]]","v":"Danys Físics GREUS (conseqüències greus, no superables)"}," (conseqüències greus, no superables)","Molt Alt",null,{"$f":"+'1.TRACT'!A6","v":"T10"},{"$f":"+'1.TRACT'!O6","v":"INPUT REQ"},{"$f":"+IF(Table41[[#This Row],[ALERTA]]=\"RED\",2,IF(Table41[[#This Row],[ALERTA]]=\"AMBER\",1,0))","v":0},null,"DENEGADA"]
["Avaluador (Responsable)",null,"Subencarregat","És la persona natural o jurídica, l'autoritat pública, el servei o un altre òrgan que tracta les dades personals, subcontractat per l'encarregat del tractament.",null,"Opinions Polítiques","ESPECIAL","Opinions polítiques",null,"Entrevistes",null,"> 10 ANYS",null,"Registre Central d'Assegurats",null,"Persones de contacte",null,"Presos o expresidiaris",null,null,null,null,null,"Més de 40 dades de cada interessat",null,"4b. Explotació: Anàlisi","Analítica de dades mitjançant tècniques diferents a l'IA: exploració de les dades, models estadístics…",null,null,null,"Altres (escriure)",null,"Croàcia","HR","UE","Croàcia (HR)",null,null,null,null,null,null,null,null,null,"Danys per a la Reputació",{"$f":"+AUX.AmenacesImpacte[[#This Row],[AMENAÇA]]&AUX.AmenacesImpacte[[#This Row],[DESCRIPCIÓ IMPACTE]]","v":"Danys per a la Reputació (conseqüències importants, superable amb dificultats importants)"}," (conseqüències importants, superable amb dificultats importants)","Alt",null,{"$f":"+'1.TRACT'!A7","v":"T10"},{"$f":"+'1.TRACT'!O7","v":"INPUT REQ"},{"$f":"+IF(Table41[[#This Row],[ALERTA]]=\"RED\",2,IF(Table41[[#This Row],[ALERTA]]=\"AMBER\",1,0))","v":0}]
["Avaluador (Equip)",null,null,null,null,"Orientació i vida Sexual","ESPECIAL","Orientació sexual; Conjunt d'interessos, fantasies i inclinacions eròtiques, i conducta sexual ",null,"Estudis previs (dades / mostres)",null,"INDEFINIT",null,"ALTRES (descriure)",null,"Proveïdors",null,"Sol·licitants d'asil",null,null,null,null,null,null,null,"4c. Explotació: Algorismes d'IA","Perfilats, mineria de dades, presa de decisions automatitzades, algorismes d'auto-aprenentatge ",null,null,null,null,null,"Dinamarca","DK","UE","Dinamarca (DK)",null,null,null,null,null,null,null,null,null,"Danys Psicològics LLEUS / MODERATS",{"$f":"+AUX.AmenacesImpacte[[#This Row],[AMENAÇA]]&AUX.AmenacesImpacte[[#This Row],[DESCRIPCIÓ IMPACTE]]","v":"Danys Psicològics LLEUS / MODERATS (conseqüències importants, superable amb dificultats importants)"}," (conseqüències importants, superable amb dificultats importants)","Alt",null,{"$f":"+'1.TRACT'!A8","v":"T10"},{"$f":"+'1.TRACT'!O8","v":"INPUT REQ"},{"$f":"+IF(Table41[[#This Row],[ALERTA]]=\"RED\",2,IF(Table41[[#This Row],[ALERTA]]=\"AMBER\",1,0))","v":0}]
[null,null,null,null,null,"Condemnes i infraccions penals","NO ESPECIAL","Antecedents; delictes i condemnes.",null,"Formulari en paper",null,null,null,null,null,"Representants legals",null,"Víctimes de violència de gènere",null,null,null,null,null,null,null,"5. Allotjament","Organització, estructuració, emmagatzematge, conservació, incloses còpies de seguretat a través de qualsevol mitjà, inclosos: servidors físics, núvol virtual, LAN o WAN, disc dur, dispositius externs (llapis de memòria, telèfon, disc dur extern)",null,null,null,null,null,"Eslovàquia","SK","UE","Eslovàquia (SK)",null,"RISC 4 (INICIAL)","ACCIÓ","FORMAT",null,"RISC RESIDUAL (AVISOS)","ACCIÓ","FORMAT",null,"Danys Psicològics GREUS",{"$f":"+AUX.AmenacesImpacte[[#This Row],[AMENAÇA]]&AUX.AmenacesImpacte[[#This Row],[DESCRIPCIÓ IMPACTE]]","v":"Danys Psicològics GREUS (conseqüències greus, no superables)"}," (conseqüències greus, no superables)","Molt Alt",null,{"$f":"+'1.TRACT'!A9","v":"T10"},{"$f":"+'1.TRACT'!O9","v":"INPUT REQ"},{"$f":"+IF(Table41[[#This Row],[ALERTA]]=\"RED\",2,IF(Table41[[#This Row],[ALERTA]]=\"AMBER\",1,0))","v":0}]
[null,null,null,null,null,"Salut","ESPECIAL","Història clínica; Dades clíniques; Targeta Sanitària (CIP); Dades genètiques; Discapacitats físiques o intel·lectuals; Necessitats educatives especials; Imatge mèdica i genòmica; Resultats de proves; Grup sanguini; Receptes mèdiques; Estat fisiològic;....",null,"Formulari online",null,null,null,null,null,"Sol·licitants",null,"Altres ",null,null,null,null,null,null,null,"6a. Comunicacions a Tercers","Cessió de dades a un tercer, definit com aquella persona física o jurídica, pública o privada o òrgan administratiu. Inclou l'entrega, comunicació, consulta, interconnexió, difusió o qualsevol altra forma d'accés a les dades.",null,null,null,null,null,"Eslovènia","SI","UE","Eslovènia (SI)",null,"PENDENT","Cal completar les seccions anteriors per poder determinar el Risc INICIAL a partir de l'Impacte i la Probabilitat inicials.","N/A",null,"PENDENT","Cal completar les seccions inferiors per poder determinar el Risc RESIDUAL.","N/A",null,"Discriminació",{"$f":"+AUX.AmenacesImpacte[[#This Row],[AMENAÇA]]&AUX.AmenacesImpacte[[#This Row],[DESCRIPCIÓ IMPACTE]]","v":"Discriminació (conseqüències importants, superable amb dificultats importants)"}," (conseqüències importants, superable amb dificultats importants)","Alt",null,{"$f":"+'1.TRACT'!A10","v":"T10"},{"$f":"+'1.TRACT'!O10","v":"INPUT REQ"},{"$f":"+IF(Table41[[#This Row],[ALERTA]]=\"RED\",2,IF(Table41[[#This Row],[ALERTA]]=\"AMBER\",1,0))","v":0}]
[null,null,null,null,null,"Identificatives","NO ESPECIAL","Nom; Pseudònim; Número d’identificació (NIF / DNI / Passaport / NIE); Adreça postal o electrònica; Num SS / Mutualitat; Telèfon; Marques Físiques; Nom i cognoms; Signatura electrònica; Signatura manuscrita; Número de registre personal; Geolocalització (telèfon mòbil, sistemes de posicionament, dades d’ubicació, adreça del Protocol d’Internet (IP), identificador de cookie...)",null,"Obtenció de mostres biològiques",null,null,null,null,null,"Voluntaris",null,null,null,null,null,null,null,null,null,"6b. Transferència internacional","Cessió de dades quan inclou la transferència a un país tercer (fora de la UE)",null,null,null,null,null,"Espanya","ES","UE","Espanya (ES)",null,"RISC BAIX","No és necessària cap acció addicional.\nNo cal determinar controls de seguretat ni estimar el Risc RESIDUAL","OK",null,"RISC BAIX","No és necessària cap acció addicional.","OK",null,"Empitjorament de la Salut",{"$f":"+AUX.AmenacesImpacte[[#This Row],[AMENAÇA]]&AUX.AmenacesImpacte[[#This Row],[DESCRIPCIÓ IMPACTE]]","v":"Empitjorament de la Salut (conseqüències importants, superable amb dificultats importants)"}," (conseqüències importants, superable amb dificultats importants)","Alt",null,{"$f":"+'1.TRACT'!A11","v":"T10"},{"$f":"+'1.TRACT'!O11","v":"INPUT REQ"},{"$f":"+IF(Table41[[#This Row],[ALERTA]]=\"RED\",2,IF(Table41[[#This Row],[ALERTA]]=\"AMBER\",1,0))","v":0}]
[null,null,null,null,null,"Professionals i acadèmiques","NO ESPECIAL","Formació i titulacions; Historial acadèmic; Experiència professional; Col·legis o associacions professionals; Cos, escala; Categoria, grau; Llocs de treball; Historial laboral, CV; Dades no econòmiques de nòmina; Creacions artístiques, científiques;",null,"ALTRES (descriure)",null,null,null,null,null,"Altres",null,null,null,null,null,null,null,null,null,"7. Destrucció","Supressió, eliminació, esborrat de les dades que puguin estar contingudes en sistemes o arxius, de forma que no puguin ser recuperats dels suports d'emmagatzematge",null,null,null,null,null,"Estònia","EE","UE","Estònia (EE)",null,"RISC MITJÀ","És RECOMANABLE planificar i implementar Controls de Seguretat (secció 4B.4) que minimitzin l'Impacte dels riscos identificats, o eliminar la casuística (secció 4B.2) que n'augmenta la Probabilitat.","AMBER",null,"RISC MITJÀ","És RECOMANABLE proposar nous controls addicionals per reduir el RISC RESIDUAL.","AMBER",null,"Enuig",{"$f":"+AUX.AmenacesImpacte[[#This Row],[AMENAÇA]]&AUX.AmenacesImpacte[[#This Row],[DESCRIPCIÓ IMPACTE]]","v":"Enuig (molèstia menor, superable sense dificultats)"}," (molèstia menor, superable sense dificultats)","Baix",null,{"$f":"+'1.TRACT'!A12","v":"T10"},{"$f":"+'1.TRACT'!O12","v":"INPUT REQ"},{"$f":"+IF(Table41[[#This Row],[ALERTA]]=\"RED\",2,IF(Table41[[#This Row],[ALERTA]]=\"AMBER\",1,0))","v":0}]
[null,null,null,null,null,"Sociodemogràfiques","NO ESPECIAL","Edat; Sexe; Nacionalitat; Estat Civil; Codi postal; Dades familiars; Data de naixement; Lloc de naixement; Llengua Materna; Característiques físiques o antropomètriques; Allotjament o habitatge; Situació militar; Aficions i estils de vida; Clubs i associacions; Llicències, permisos, autoritzacions; ",null,null,null,null,null,null,null,null,null,null,null,null,null,null,null,null,null,"Altres (escriure)",null,null,null,null,null,null,"Finlàndia","FI","UE","Finlàndia (FI)",null,"RISC ALT","És IMPRESCINDIBLE planificar i implementar Controls de Seguretat (secció 4B.4) que minimitzin l'Impacte dels riscos identificats, o eliminar la casuística (secció 4B.2) que n'augmenta la Probabilitat.","RED",null,"RISC ALT","És IMPRESCINDIBLE proposar nous controls per reduir el RISC RESIDUAL. ","RED",null,"Estrès",{"$f":"+AUX.AmenacesImpacte[[#This Row],[AMENAÇA]]&AUX.AmenacesImpacte[[#This Row],[DESCRIPCIÓ IMPACTE]]","v":"Estrès (inconvenients importants, superable amb algunes dificultats)"}," (inconvenients importants, superable amb algunes dificultats)","Mitjà",null,{"$f":"+'1.TRACT'!A13","v":"T10"},{"$f":"+'1.TRACT'!O13","v":0},{"$f":"+IF(Table41[[#This Row],[ALERTA]]=\"RED\",2,IF(Table41[[#This Row],[ALERTA]]=\"AMBER\",1,0))","v":0}]
[null,null,null,null,null,"Socioeconòmiques","NO ESPECIAL","Ingressos, rendes; Inversions, patrimoni; Crèdits, préstecs, avals; Dades bancàries; Assegurances; Dades de nòmina; Impostos, deduccions; Plans de pensió, jubilació; Hipoteques; Subsidis, beneficis; Historial, crèdits; Targetes de crèdit; Propietats o possessions; Béns subministrats; Béns rebuts; Transaccions financeres; Compensacions, indemnitzacions; Activitats i negocis; Llicències comercials; Subscripcions a publicacions; ",null,null,null,null,null,null,null,null,null,null,null,null,null,null,null,null,null,null,null,null,null,null,null,null,"França","FR","UE","França (FR)",null,null,null,null,null,null,null,null,null,"Falta de Comprensió",{"$f":"+AUX.AmenacesImpacte[[#This Row],[AMENAÇA]]&AUX.AmenacesImpacte[[#This Row],[DESCRIPCIÓ IMPACTE]]","v":"Falta de Comprensió (inconvenients importants, superable amb algunes dificultats)"}," (inconvenients importants, superable amb algunes dificultats)","Mitjà",null,{"$f":"+'1.TRACT'!A14","v":"T10"},{"$f":"+'1.TRACT'!O14","v":0},{"$f":"+IF(Table41[[#This Row],[ALERTA]]=\"RED\",2,IF(Table41[[#This Row],[ALERTA]]=\"AMBER\",1,0))","v":0}]
[null,null,null,null,null,"ALTRES (escriure)","NO ESPECIAL","Infraccions administratives; …",null,null,null,null,null,null,null,null,null,null,null,null,null,null,null,null,null,null,null,null,null,null,null,null,"Grècia","EL","UE","Grècia (EL)",null,null,null,null,null,null,null,null,null,"Impossibilitat d’accedir a algun Servei",{"$f":"+AUX.AmenacesImpacte[[#This Row],[AMENAÇA]]&AUX.AmenacesImpacte[[#This Row],[DESCRIPCIÓ IMPACTE]]","v":"Impossibilitat d’accedir a algun Servei (inconvenients importants, superable amb algunes dificultats)"}," (inconvenients importants, superable amb algunes dificultats)","Mitjà",null,{"$f":"+'1.TRACT'!A15","v":"T10"},{"$f":"+'1.TRACT'!O15","v":0},{"$f":"+IF(Table41[[#This Row],[ALERTA]]=\"RED\",2,IF(Table41[[#This Row],[ALERTA]]=\"AMBER\",1,0))","v":0}]
[null,null,null,null,null,null,null,null,null,null,null,null,null,null,null,null,null,null,null,null,null,null,null,null,null,null,null,null,null,null,null,null,"Hongria","HU","UE","Hongria (HU)",null,"RISC 4 (RESIDUAL)","ACCIÓ","FORMAT",null,"RISC (AVISOS)","ACCIÓ","FORMAT",null,"Mort",{"$f":"+AUX.AmenacesImpacte[[#This Row],[AMENAÇA]]&AUX.AmenacesImpacte[[#This Row],[DESCRIPCIÓ IMPACTE]]","v":"Mort (conseqüències greus, no superables)"}," (conseqüències greus, no superables)","Molt Alt",null,{"$f":"+'1.TRACT'!A16","v":"T10"},{"$f":"+'1.TRACT'!O16","v":"INPUT REQ"},{"$f":"+IF(Table41[[#This Row],[ALERTA]]=\"RED\",2,IF(Table41[[#This Row],[ALERTA]]=\"AMBER\",1,0))","v":0}]
[null,null,null,null,null,null,null,null,null,null,null,null,null,null,null,null,null,null,null,null,null,null,null,null,null,null,null,null,null,null,null,null,"Irlanda","IE","UE","Irlanda (IE)",null,"PENDENT","Cal completar les seccions anteriors per poder determinar el Risc RESIDUAL a partir de l'Impacte i la Probabilitat residuals.","N/A",null,0,"COMPLETEU","N/A",null,"Pèrdua de la Feina",{"$f":"+AUX.AmenacesImpacte[[#This Row],[AMENAÇA]]&AUX.AmenacesImpacte[[#This Row],[DESCRIPCIÓ IMPACTE]]","v":"Pèrdua de la Feina (conseqüències importants, superable amb dificultats importants)"}," (conseqüències importants, superable amb dificultats importants)","Alt",null,{"$f":"+'1.TRACT'!A17","v":"T10"},{"$f":"+'1.TRACT'!O17","v":"INPUT REQ"},{"$f":"+IF(Table41[[#This Row],[ALERTA]]=\"RED\",2,IF(Table41[[#This Row],[ALERTA]]=\"AMBER\",1,0))","v":0}]
[null,null,null,null,null,null,null,null,null,null,null,null,null,null,null,null,null,null,null,null,null,null,null,null,null,null,null,null,null,null,null,null,"Itàlia","IT","UE","Itàlia (IT)",null,"RISC BAIX","No és necessària cap acció addicional.","OK",null,1,"NO S'HAN IDENTIFICAT ELEMENTS DE RISC","OK",null,"Pèrdua de Temps",{"$f":"+AUX.AmenacesImpacte[[#This Row],[AMENAÇA]]&AUX.AmenacesImpacte[[#This Row],[DESCRIPCIÓ IMPACTE]]","v":"Pèrdua de Temps (molèstia menor, superable sense dificultats)"}," (molèstia menor, superable sense dificultats)","Baix",null,{"$f":"+'1.TRACT'!A18","v":"T10"},{"$f":"+'1.TRACT'!O18","v":"INPUT REQ"},{"$f":"+IF(Table41[[#This Row],[ALERTA]]=\"RED\",2,IF(Table41[[#This Row],[ALERTA]]=\"AMBER\",1,0))","v":0}]
[null,null,null,null,null,null,null,null,null,null,null,null,null,null,null,null,null,null,null,null,null,null,null,null,null,null,null,null,null,null,null,null,"Letònia","LV","UE","Letònia (LV)",null,"RISC MITJÀ","És RECOMANABLE proposar nous controls addicionals per reduir el RISC RESIDUAL.","AMBER",null,2,"RISCOS IDENTIFICATS - ÉS RECOMANABLE ESTABLIR CONTROLS DE SEGURETAT PER REDUÏR-LOS","AMBER",null,"Pèrdues Econòmiques",{"$f":"+AUX.AmenacesImpacte[[#This Row],[AMENAÇA]]&AUX.AmenacesImpacte[[#This Row],[DESCRIPCIÓ IMPACTE]]","v":"Pèrdues Econòmiques (conseqüències importants, superable amb dificultats importants)"}," (conseqüències importants, superable amb dificultats importants)","Alt",null,{"$f":"+'1.TRACT'!A19","v":"T10"},{"$f":"+'1.TRACT'!O19","v":"INPUT REQ"},{"$f":"+IF(Table41[[#This Row],[ALERTA]]=\"RED\",2,IF(Table41[[#This Row],[ALERTA]]=\"AMBER\",1,0))","v":0}]
[null,null,null,null,null,null,null,null,null,null,null,null,null,null,null,null,null,null,null,null,null,null,null,null,null,null,null,null,null,null,null,null,"Lituània","LT","UE","Lituània (LT)",null,"RISC ALT","És IMPRESCINDIBLE  proposar nous controls per reduir el RISC RESIDUAL. \nSi no és possible reduir-lo, abans d’iniciar el tractament cal consultar l’autoritat de protecció de dades competent sobre la seva idoneïtat.","RED",null,3,"RISCOS GREUS IDENTIFICATS - ÉS IMPRECINDIBLE ESTABLIR CONTROLS DE SEGURETAT PER ELIMINAR-LOS","RED",null,"Robatori de la Identitat",{"$f":"+AUX.AmenacesImpacte[[#This Row],[AMENAÇA]]&AUX.AmenacesImpacte[[#This Row],[DESCRIPCIÓ IMPACTE]]","v":"Robatori de la Identitat (conseqüències importants, superable amb dificultats importants)"}," (conseqüències importants, superable amb dificultats importants)","Alt",null,{"$f":"+'1.TRACT'!A20","v":"T10"},{"$f":"+'1.TRACT'!O20","v":"INPUT REQ"},{"$f":"+IF(Table41[[#This Row],[ALERTA]]=\"RED\",2,IF(Table41[[#This Row],[ALERTA]]=\"AMBER\",1,0))","v":0}]
[null,null,null,null,null,null,null,null,null,null,null,null,null,null,null,null,null,null,null,null,null,null,null,null,null,null,null,null,null,null,null,null,"Luxemburg","LU","UE","Luxemburg (LU)",null,null,null,null,null,null,null,null,null,null,null,null,null,null,{"$f":"+'1.TRACT'!A21","v":"T10"},{"$f":"+'1.TRACT'!O21","v":"INPUT REQ"},{"$f":"+IF(Table41[[#This Row],[ALERTA]]=\"RED\",2,IF(Table41[[#This Row],[ALERTA]]=\"AMBER\",1,0))","v":0}]
[null,null,null,null,null,null,null,null,null,null,null,null,null,null,null,null,null,null,null,null,null,null,null,null,null,null,null,null,null,null,null,null,"República de Malta","MT","UE","República de Malta (MT)",null,null,null,null,null,null,null,null,null,null,null,null,null,null,{"$f":"+'1.TRACT'!A22","v":"T10"},{"$f":"+'1.TRACT'!O22","v":"INPUT REQ"},{"$f":"+IF(Table41[[#This Row],[ALERTA]]=\"RED\",2,IF(Table41[[#This Row],[ALERTA]]=\"AMBER\",1,0))","v":0}]
[null,null,null,null,null,null,null,null,null,null,null,null,null,null,null,null,null,null,null,null,null,null,null,null,null,null,null,null,null,null,null,null,"Països Baixos","NL","UE","Països Baixos (NL)",null,null,null,null,null,null,null,null,null,null,null,null,null,null,{"$f":"+'1.TRACT'!A23","v":"T10"},{"$f":"+'1.TRACT'!O23","v":"INPUT REQ"},{"$f":"+IF(Table41[[#This Row],[ALERTA]]=\"RED\",2,IF(Table41[[#This Row],[ALERTA]]=\"AMBER\",1,0))","v":0}]
[null,null,null,null,null,null,null,null,null,null,null,null,null,null,null,null,null,null,null,null,null,null,null,null,null,null,null,null,null,null,null,null,"Polònia","PL","UE","Polònia (PL)",null,null,null,null,null,null,null,null,null,null,null,null,null,null,{"$f":"+'1.TRACT'!A24","v":"T10"},{"$f":"+'1.TRACT'!O24","v":"INPUT REQ"},{"$f":"+IF(Table41[[#This Row],[ALERTA]]=\"RED\",2,IF(Table41[[#This Row],[ALERTA]]=\"AMBER\",1,0))","v":0}]
[null,null,null,null,null,null,null,null,null,null,null,null,null,null,null,null,null,null,null,null,null,null,null,null,null,null,null,null,null,null,null,null,"Portugal","PT","UE","Portugal (PT)",null,null,null,null,null,null,null,null,null,null,null,null,null,null,{"$f":"+'1.TRACT'!A25","v":"T10"},{"$f":"+'1.TRACT'!O25","v":"INPUT REQ"},{"$f":"+IF(Table41[[#This Row],[ALERTA]]=\"RED\",2,IF(Table41[[#This Row],[ALERTA]]=\"AMBER\",1,0))","v":0}]
[null,null,null,null,null,null,null,null,null,null,null,null,null,null,null,null,null,null,null,null,null,null,null,null,null,null,null,null,null,null,null,null,"República Txeca","CZ","UE","República Txeca (CZ)",null,null,null,null,null,null,null,null,null,null,null,null,null,null,{"$f":"+'1.TRACT'!A26","v":"T10"},{"$f":"+'1.TRACT'!O26","v":"INPUT REQ"},{"$f":"+IF(Table41[[#This Row],[ALERTA]]=\"RED\",2,IF(Table41[[#This Row],[ALERTA]]=\"AMBER\",1,0))","v":0}]
[null,null,null,null,null,null,null,null,null,null,null,null,null,null,null,null,null,null,null,null,null,null,null,null,null,null,null,null,null,null,null,null,"Romania","RO","UE","Romania (RO)",null,null,null,null,null,null,null,null,null,null,null,null,null,null,{"$f":"+'1.TRACT'!A30","v":"T10"},{"$f":"+'1.TRACT'!O30","v":"INPUT REQ"},{"$f":"+IF(Table41[[#This Row],[ALERTA]]=\"RED\",2,IF(Table41[[#This Row],[ALERTA]]=\"AMBER\",1,0))","v":0}]
[null,null,null,null,null,null,null,null,null,null,null,null,null,null,null,null,null,null,null,null,null,null,null,null,null,null,null,null,null,null,null,null,"Suècia","SE","UE","Suècia (SE)",null,null,null,null,null,null,null,null,null,null,null,null,null,null,{"$f":"+'1.TRACT'!A31","v":"T20"},{"$f":"+'1.TRACT'!O31","v":0},{"$f":"+IF(Table41[[#This Row],[ALERTA]]=\"RED\",2,IF(Table41[[#This Row],[ALERTA]]=\"AMBER\",1,0))","v":0}]
[null,null,null,null,null,null,null,null,null,null,null,null,null,null,null,null,null,null,null,null,null,null,null,null,null,null,null,null,null,null,null,null,"Xipre","CY","UE","Xipre (CY)",null,null,null,null,null,null,null,null,null,null,null,null,null,null,{"$f":"+'1.TRACT'!A32","v":"T20"},{"$f":"+'1.TRACT'!O32","v":0},{"$f":"+IF(Table41[[#This Row],[ALERTA]]=\"RED\",2,IF(Table41[[#This Row],[ALERTA]]=\"AMBER\",1,0))","v":0}]
[null,null,null,null,null,null,null,null,null,null,null,null,null,null,null,null,null,null,null,null,null,null,null,null,null,null,null,null,null,null,null,null,"Suïssa","CH","NO-UE","Suïssa (CH)",null,null,null,null,null,null,null,null,null,null,null,null,null,null,{"$f":"+'1.TRACT'!A33","v":"T20"},{"$f":"+'1.TRACT'!O33","v":"INPUT REQ"},{"$f":"+IF(Table41[[#This Row],[ALERTA]]=\"RED\",2,IF(Table41[[#This Row],[ALERTA]]=\"AMBER\",1,0))","v":0}]
[null,null,null,null,null,null,null,null,null,null,null,null,null,null,null,null,null,null,null,null,null,null,null,null,null,null,null,null,null,null,null,null,"Estats Units","EEUU","NO-UE","Estats Units (EEUU)",null,null,null,null,null,null,null,null,null,null,null,null,null,null,{"$f":"+'1.TRACT'!A34","v":"T20"},{"$f":"+'1.TRACT'!O34","v":0},{"$f":"+IF(Table41[[#This Row],[ALERTA]]=\"RED\",2,IF(Table41[[#This Row],[ALERTA]]=\"AMBER\",1,0))","v":0}]
[null,null,null,null,null,null,null,null,null,null,null,null,null,null,null,null,null,null,null,null,null,null,null,null,null,null,null,null,null,null,null,null,"ALTRES (ESCRIURE)",null,null,null,null,null,null,null,null,null,null,null,null,null,null,null,null,null,{"$f":"+'1.TRACT'!A35","v":"T20"},{"$f":"+'1.TRACT'!O35","v":0},{"$f":"+IF(Table41[[#This Row],[ALERTA]]=\"RED\",2,IF(Table41[[#This Row],[ALERTA]]=\"AMBER\",1,0))","v":0}]
[null,null,null,null,null,null,null,null,null,null,null,null,null,null,null,null,null,null,null,null,null,null,null,null,null,null,null,null,null,null,null,null,null,null,null,null,null,null,null,null,null,null,null,null,null,null,null,null,null,null,{"$f":"+'1.TRACT'!A36","v":"T20"},{"$f":"+'1.TRACT'!O36","v":0},{"$f":"+IF(Table41[[#This Row],[ALERTA]]=\"RED\",2,IF(Table41[[#This Row],[ALERTA]]=\"AMBER\",1,0))","v":0}]
[null,null,null,null,null,null,null,null,null,null,null,null,null,null,null,null,null,null,null,null,null,null,null,null,null,null,null,null,null,null,null,null,null,null,null,null,null,null,null,null,null,null,null,null,null,null,null,null,null,null,{"$f":"+'1.TRACT'!A37","v":"T20"},{"$f":"+'1.TRACT'!O37","v":0},{"$f":"+IF(Table41[[#This Row],[ALERTA]]=\"RED\",2,IF(Table41[[#This Row],[ALERTA]]=\"AMBER\",1,0))","v":0}]
[null,null,null,null,null,null,null,null,null,null,null,null,null,null,null,null,null,null,null,null,null,null,null,null,null,null,null,null,null,null,null,null,null,null,null,null,null,null,null,null,null,null,null,null,null,null,null,null,null,null,{"$f":"+'1.TRACT'!A38","v":"T20"},{"$f":"+'1.TRACT'!O38","v":0},{"$f":"+IF(Table41[[#This Row],[ALERTA]]=\"RED\",2,IF(Table41[[#This Row],[ALERTA]]=\"AMBER\",1,0))","v":0}]
[null,null,null,null,null,null,null,null,null,null,null,null,null,null,null,null,null,null,null,null,null,null,null,null,null,null,null,null,null,null,null,null,null,null,null,null,null,null,null,null,null,null,null,null,null,null,null,null,null,null,{"$f":"+'1.TRACT'!A39","v":"T20"},{"$f":"+'1.TRACT'!O39","v":0},{"$f":"+IF(Table41[[#This Row],[ALERTA]]=\"RED\",2,IF(Table41[[#This Row],[ALERTA]]=\"AMBER\",1,0))","v":0}]
[null,null,null,null,null,null,null,null,null,null,null,null,null,null,null,null,null,null,null,null,null,null,null,null,null,null,null,null,null,null,null,null,null,null,null,null,null,null,null,null,null,null,null,null,null,null,null,null,null,null,{"$f":"+'1.TRACT'!A40","v":"T20"},{"$f":"+'1.TRACT'!O40","v":0},{"$f":"+IF(Table41[[#This Row],[ALERTA]]=\"RED\",2,IF(Table41[[#This Row],[ALERTA]]=\"AMBER\",1,0))","v":0}]
[null,null,null,null,null,null,null,null,null,null,null,null,null,null,null,null,null,null,null,null,null,null,null,null,null,null,null,null,null,null,null,null,null,null,null,null,null,null,null,null,null,null,null,null,null,null,null,null,null,null,{"$f":"+'1.TRACT'!A41","v":"T20"},{"$f":"+'1.TRACT'!O41","v":0},{"$f":"+IF(Table41[[#This Row],[ALERTA]]=\"RED\",2,IF(Table41[[#This Row],[ALERTA]]=\"AMBER\",1,0))","v":0}]
[null,null,null,null,null,null,null,null,null,null,null,null,null,null,null,null,null,null,null,null,null,null,null,null,null,null,null,null,null,null,null,null,null,null,null,null,null,null,null,null,null,null,null,null,null,null,null,null,null,null,{"$f":"+'1.TRACT'!A42","v":"T20"},{"$f":"+'1.TRACT'!O42","v":0},{"$f":"+IF(Table41[[#This Row],[ALERTA]]=\"RED\",2,IF(Table41[[#This Row],[ALERTA]]=\"AMBER\",1,0))","v":0}]
[null,null,null,null,null,null,null,null,null,null,null,null,null,null,null,null,null,null,null,null,null,null,null,null,null,null,null,null,null,null,null,null,null,null,null,null,null,null,null,null,null,null,null,null,null,null,null,null,null,null,{"$f":"+'1.TRACT'!A43","v":"T20"},{"$f":"+'1.TRACT'!O43","v":0},{"$f":"+IF(Table41[[#This Row],[ALERTA]]=\"RED\",2,IF(Table41[[#This Row],[ALERTA]]=\"AMBER\",1,0))","v":0}]
[null,null,null,null,null,null,null,null,null,null,null,null,null,null,null,null,null,null,null,null,null,null,null,null,null,null,null,null,null,null,null,null,null,null,null,null,null,null,null,null,null,null,null,null,null,null,null,null,null,null,{"$f":"+'1.TRACT'!A44","v":"T20"},{"$f":"+'1.TRACT'!O44","v":0},{"$f":"+IF(Table41[[#This Row],[ALERTA]]=\"RED\",2,IF(Table41[[#This Row],[ALERTA]]=\"AMBER\",1,0))","v":0}]
[null,null,null,null,null,null,null,null,null,null,null,null,null,null,null,null,null,null,null,null,null,null,null,null,null,null,null,null,null,null,null,null,null,null,null,null,null,null,null,null,null,null,null,null,null,null,null,null,null,null,{"$f":"+'1.TRACT'!A45","v":"T20"},{"$f":"+'1.TRACT'!O45","v":0},{"$f":"+IF(Table41[[#This Row],[ALERTA]]=\"RED\",2,IF(Table41[[#This Row],[ALERTA]]=\"AMBER\",1,0))","v":0}]
[null,null,null,null,null,null,null,null,null,null,null,null,null,null,null,null,null,null,null,null,null,null,null,null,null,null,null,null,null,null,null,null,null,null,null,null,null,null,null,null,null,null,null,null,null,null,null,null,null,null,{"$f":"+'1.TRACT'!A46","v":"T20"},{"$f":"+'1.TRACT'!O46","v":0},{"$f":"+IF(Table41[[#This Row],[ALERTA]]=\"RED\",2,IF(Table41[[#This Row],[ALERTA]]=\"AMBER\",1,0))","v":0}]
[null,null,null,null,null,null,null,null,null,null,null,null,null,null,null,null,null,null,null,null,null,null,null,null,null,null,null,null,null,null,null,null,null,null,null,null,null,null,null,null,null,null,null,null,null,null,null,null,null,null,{"$f":"+'1.TRACT'!A47","v":"T20"},{"$f":"+'1.TRACT'!O47","v":"N/A"},{"$f":"+IF(Table41[[#This Row],[ALERTA]]=\"RED\",2,IF(Table41[[#This Row],[ALERTA]]=\"AMBER\",1,0))","v":0}]
[null,null,null,null,null,null,null,null,null,null,null,null,null,null,null,null,null,null,null,null,null,null,null,null,null,null,null,null,null,null,null,null,null,null,null,null,null,null,null,null,null,null,null,null,null,null,null,null,null,null,{"$f":"+'1.TRACT'!A48","v":"T20"},{"$f":"+'1.TRACT'!O48","v":"N/A"},{"$f":"+IF(Table41[[#This Row],[ALERTA]]=\"RED\",2,IF(Table41[[#This Row],[ALERTA]]=\"AMBER\",1,0))","v":0}]
[null,null,null,null,null,null,null,null,null,null,null,null,null,null,null,null,null,null,null,null,null,null,null,null,null,null,null,null,null,null,null,null,null,null,null,null,null,null,null,null,null,null,null,null,null,null,null,null,null,null,{"$f":"+'1.TRACT'!A49","v":"T20"},{"$f":"+'1.TRACT'!O49","v":"INPUT REQ"},{"$f":"+IF(Table41[[#This Row],[ALERTA]]=\"RED\",2,IF(Table41[[#This Row],[ALERTA]]=\"AMBER\",1,0))","v":0}]
[null,null,null,null,null,null,null,null,null,null,null,null,null,null,null,null,null,null,null,null,null,null,null,null,null,null,null,null,null,null,null,null,null,null,null,null,null,null,null,null,null,null,null,null,null,null,null,null,null,null,{"$f":"+'1.TRACT'!A50","v":"T20"},{"$f":"+'1.TRACT'!O50","v":0},{"$f":"+IF(Table41[[#This Row],[ALERTA]]=\"RED\",2,IF(Table41[[#This Row],[ALERTA]]=\"AMBER\",1,0))","v":0}]
[null,null,null,null,null,null,null,null,null,null,null,null,null,null,null,null,null,null,null,null,null,null,null,null,null,null,null,null,null,null,null,null,null,null,null,null,null,null,null,null,null,null,null,null,null,null,null,null,null,null,{"$f":"+'1.TRACT'!A51","v":"T20"},{"$f":"+'1.TRACT'!O51","v":0},{"$f":"+IF(Table41[[#This Row],[ALERTA]]=\"RED\",2,IF(Table41[[#This Row],[ALERTA]]=\"AMBER\",1,0))","v":0}]
[null,null,null,null,null,null,null,null,null,null,null,null,null,null,null,null,null,null,null,null,null,null,null,null,null,null,null,null,null,null,null,null,null,null,null,null,null,null,null,null,null,null,null,null,null,null,null,null,null,null,{"$f":"+'1.TRACT'!A52","v":"T20"},{"$f":"+'1.TRACT'!O52","v":"OK"},{"$f":"+IF(Table41[[#This Row],[ALERTA]]=\"RED\",2,IF(Table41[[#This Row],[ALERTA]]=\"AMBER\",1,0))","v":0}]
[null,null,null,null,null,null,null,null,null,null,null,null,null,null,null,null,null,null,null,null,null,null,null,null,null,null,null,null,null,null,null,null,null,null,null,null,null,null,null,null,null,null,null,null,null,null,null,null,null,null,{"$f":"+'1.TRACT'!A53","v":"T20"},{"$f":"+'1.TRACT'!O53","v":"N/A"},{"$f":"+IF(Table41[[#This Row],[ALERTA]]=\"RED\",2,IF(Table41[[#This Row],[ALERTA]]=\"AMBER\",1,0))","v":0}]
[null,null,null,null,null,null,null,null,null,null,null,null,null,null,null,null,null,null,null,null,null,null,null,null,null,null,null,null,null,null,null,null,null,null,null,null,null,null,null,null,null,null,null,null,null,null,null,null,null,null,{"$f":"+'1.TRACT'!A54","v":"T20"},{"$f":"+'1.TRACT'!O54","v":"N/A"},{"$f":"+IF(Table41[[#This Row],[ALERTA]]=\"RED\",2,IF(Table41[[#This Row],[ALERTA]]=\"AMBER\",1,0))","v":0}]
[null,null,null,null,null,null,null,null,null,null,null,null,null,null,null,null,null,null,null,null,null,null,null,null,null,null,null,null,null,null,null,null,null,null,null,null,null,null,null,null,null,null,null,null,null,null,null,null,null,null,{"$f":"+'1.TRACT'!A55","v":"T20"},{"$f":"+'1.TRACT'!O55","v":0},{"$f":"+IF(Table41[[#This Row],[ALERTA]]=\"RED\",2,IF(Table41[[#This Row],[ALERTA]]=\"AMBER\",1,0))","v":0}]
[null,null,null,null,null,null,null,null,null,null,null,null,null,null,null,null,null,null,null,null,null,null,null,null,null,null,null,null,null,null,null,null,null,null,null,null,null,null,null,null,null,null,null,null,null,null,null,null,null,null,{"$f":"+'1.TRACT'!A56","v":"T20"},{"$f":"+'1.TRACT'!O56","v":"OK"},{"$f":"+IF(Table41[[#This Row],[ALERTA]]=\"RED\",2,IF(Table41[[#This Row],[ALERTA]]=\"AMBER\",1,0))","v":0}]
[null,null,null,null,null,null,null,null,null,null,null,null,null,null,null,null,null,null,null,null,null,null,null,null,null,null,null,null,null,null,null,null,null,null,null,null,null,null,null,null,null,null,null,null,null,null,null,null,null,null,{"$f":"+'1.TRACT'!A57","v":"T20"},{"$f":"+'1.TRACT'!O57","v":"N/A"},{"$f":"+IF(Table41[[#This Row],[ALERTA]]=\"RED\",2,IF(Table41[[#This Row],[ALERTA]]=\"AMBER\",1,0))","v":0}]
[null,null,null,null,null,null,null,null,null,null,null,null,null,null,null,null,null,null,null,null,null,null,null,null,null,null,null,null,null,null,null,null,null,null,null,null,null,null,null,null,null,null,null,null,null,null,null,null,null,null,{"$f":"+'1.TRACT'!A58","v":"T20"},{"$f":"+'1.TRACT'!O58","v":"N/A"},{"$f":"+IF(Table41[[#This Row],[ALERTA]]=\"RED\",2,IF(Table41[[#This Row],[ALERTA]]=\"AMBER\",1,0))","v":0}]
[null,null,null,null,null,null,null,null,null,null,null,null,null,null,null,null,null,null,null,null,null,null,null,null,null,null,null,null,null,null,null,null,null,null,null,null,null,null,null,null,null,null,null,null,null,null,null,null,null,null,{"$f":"+'1.TRACT'!A59","v":"T20"},{"$f":"+'1.TRACT'!O59","v":"N/A"},{"$f":"+IF(Table41[[#This Row],[ALERTA]]=\"RED\",2,IF(Table41[[#This Row],[ALERTA]]=\"AMBER\",1,0))","v":0}]
[null,null,null,null,null,null,null,null,null,null,null,null,null,null,null,null,null,null,null,null,null,null,null,null,null,null,null,null,null,null,null,null,null,null,null,null,null,null,null,null,null,null,null,null,null,null,null,null,null,null,{"$f":"+'1.TRACT'!A60","v":"T30"},{"$f":"+'1.TRACT'!O60","v":0},{"$f":"+IF(Table41[[#This Row],[ALERTA]]=\"RED\",2,IF(Table41[[#This Row],[ALERTA]]=\"AMBER\",1,0))","v":0}]
[null,null,null,null,null,null,null,null,null,null,null,null,null,null,null,null,null,null,null,null,null,null,null,null,null,null,null,null,null,null,null,null,null,null,null,null,null,null,null,null,null,null,null,null,null,null,null,null,null,null,{"$f":"+'1.TRACT'!A61","v":"T30"},{"$f":"+'1.TRACT'!N61","v":0},{"$f":"+IF(Table41[[#This Row],[ALERTA]]=\"RED\",2,IF(Table41[[#This Row],[ALERTA]]=\"AMBER\",1,0))","v":0}]
[null,null,null,null,null,null,null,null,null,null,null,null,null,null,null,null,null,null,null,null,null,null,null,null,null,null,null,null,null,null,null,null,null,null,null,null,null,null,null,null,null,null,null,null,null,null,null,null,null,null,{"$f":"+'1.TRACT'!A62","v":"T30"},{"$f":"+'1.TRACT'!O62","v":"INPUT REQ"},{"$f":"+IF(Table41[[#This Row],[ALERTA]]=\"RED\",2,IF(Table41[[#This Row],[ALERTA]]=\"AMBER\",1,0))","v":0}]
[null,null,null,null,null,null,null,null,null,null,null,null,null,null,null,null,null,null,null,null,null,null,null,null,null,null,null,null,null,null,null,null,null,null,null,null,null,null,null,null,null,null,null,null,null,null,null,null,null,null,{"$f":"+'1.TRACT'!A63","v":"T30"},{"$f":"+'1.TRACT'!N63","v":0},{"$f":"+IF(Table41[[#This Row],[ALERTA]]=\"RED\",2,IF(Table41[[#This Row],[ALERTA]]=\"AMBER\",1,0))","v":0}]
[null,null,null,null,null,null,null,null,null,null,null,null,null,null,null,null,null,null,null,null,null,null,null,null,null,null,null,null,null,null,null,null,null,null,null,null,null,null,null,null,null,null,null,null,null,null,null,null,null,null,{"$f":"+'1.TRACT'!A64","v":"T30"},{"$f":"+'1.TRACT'!N64","v":0},{"$f":"+IF(Table41[[#This Row],[ALERTA]]=\"RED\",2,IF(Table41[[#This Row],[ALERTA]]=\"AMBER\",1,0))","v":0}]
[null,null,null,null,null,null,null,null,null,null,null,null,null,null,null,null,null,null,null,null,null,null,null,null,null,null,null,null,null,null,null,null,null,null,null,null,null,null,null,null,null,null,null,null,null,null,null,null,null,null,{"$f":"+'1.TRACT'!A65","v":"T30"},{"$f":"+'1.TRACT'!N65","v":0},{"$f":"+IF(Table41[[#This Row],[ALERTA]]=\"RED\",2,IF(Table41[[#This Row],[ALERTA]]=\"AMBER\",1,0))","v":0}]
[null,null,null,null,null,null,null,null,null,null,null,null,null,null,null,null,null,null,null,null,null,null,null,null,null,null,null,null,null,null,null,null,null,null,null,null,null,null,null,null,null,null,null,null,null,null,null,null,null,null,{"$f":"+'1.TRACT'!A66","v":"T30"},{"$f":"+'1.TRACT'!N66","v":0},{"$f":"+IF(Table41[[#This Row],[ALERTA]]=\"RED\",2,IF(Table41[[#This Row],[ALERTA]]=\"AMBER\",1,0))","v":0}]
[null,null,null,null,null,null,null,null,null,null,null,null,null,null,null,null,null,null,null,null,null,null,null,null,null,null,null,null,null,null,null,null,null,null,null,null,null,null,null,null,null,null,null,null,null,null,null,null,null,null,{"$f":"+'1.TRACT'!A67","v":"T30"},{"$f":"+'1.TRACT'!N67","v":0},{"$f":"+IF(Table41[[#This Row],[ALERTA]]=\"RED\",2,IF(Table41[[#This Row],[ALERTA]]=\"AMBER\",1,0))","v":0}]
[null,null,null,null,null,null,null,null,null,null,null,null,null,null,null,null,null,null,null,null,null,null,null,null,null,null,null,null,null,null,null,null,null,null,null,null,null,null,null,null,null,null,null,null,null,null,null,null,null,null,{"$f":"+'1.TRACT'!A68","v":"T30"},{"$f":"+'1.TRACT'!N68","v":0},{"$f":"+IF(Table41[[#This Row],[ALERTA]]=\"RED\",2,IF(Table41[[#This Row],[ALERTA]]=\"AMBER\",1,0))","v":0}]
[null,null,null,null,null,null,null,null,null,null,null,null,null,null,null,null,null,null,null,null,null,null,null,null,null,null,null,null,null,null,null,null,null,null,null,null,null,null,null,null,null,null,null,null,null,null,null,null,null,null,{"$f":"+'1.TRACT'!A69","v":"T30"},{"$f":"+'1.TRACT'!N69","v":0},{"$f":"+IF(Table41[[#This Row],[ALERTA]]=\"RED\",2,IF(Table41[[#This Row],[ALERTA]]=\"AMBER\",1,0))","v":0}]
[null,null,null,null,null,null,null,null,null,null,null,null,null,null,null,null,null,null,null,null,null,null,null,null,null,null,null,null,null,null,null,null,null,null,null,null,null,null,null,null,null,null,null,null,null,null,null,null,null,null,{"$f":"+'1.TRACT'!A70","v":"T30"},{"$f":"+'1.TRACT'!N70","v":0},{"$f":"+IF(Table41[[#This Row],[ALERTA]]=\"RED\",2,IF(Table41[[#This Row],[ALERTA]]=\"AMBER\",1,0))","v":0}]
[null,null,null,null,null,null,null,null,null,null,null,null,null,null,null,null,null,null,null,null,null,null,null,null,null,null,null,null,null,null,null,null,null,null,null,null,null,null,null,null,null,null,null,null,null,null,null,null,null,null,{"$f":"+'1.TRACT'!A71","v":"T30"},{"$f":"+'1.TRACT'!N71","v":0},{"$f":"+IF(Table41[[#This Row],[ALERTA]]=\"RED\",2,IF(Table41[[#This Row],[ALERTA]]=\"AMBER\",1,0))","v":0}]
[null,null,null,null,null,null,null,null,null,null,null,null,null,null,null,null,null,null,null,null,null,null,null,null,null,null,null,null,null,null,null,null,null,null,null,null,null,null,null,null,null,null,null,null,null,null,null,null,null,null,{"$f":"+'1.TRACT'!A72","v":"T30"},{"$f":"+'1.TRACT'!N72","v":0},{"$f":"+IF(Table41[[#This Row],[ALERTA]]=\"RED\",2,IF(Table41[[#This Row],[ALERTA]]=\"AMBER\",1,0))","v":0}]
[null,null,null,null,null,null,null,null,null,null,null,null,null,null,null,null,null,null,null,null,null,null,null,null,null,null,null,null,null,null,null,null,null,null,null,null,null,null,null,null,null,null,null,null,null,null,null,null,null,null,{"$f":"+'1.TRACT'!A73","v":"T30"},{"$f":"+'1.TRACT'!N73","v":0},{"$f":"+IF(Table41[[#This Row],[ALERTA]]=\"RED\",2,IF(Table41[[#This Row],[ALERTA]]=\"AMBER\",1,0))","v":0}]
[null,null,null,null,null,null,null,null,null,null,null,null,null,null,null,null,null,null,null,null,null,null,null,null,null,null,null,null,null,null,null,null,null,null,null,null,null,null,null,null,null,null,null,null,null,null,null,null,null,null,{"$f":"+'1.TRACT'!A74","v":"T30"},{"$f":"+'1.TRACT'!N74","v":0},{"$f":"+IF(Table41[[#This Row],[ALERTA]]=\"RED\",2,IF(Table41[[#This Row],[ALERTA]]=\"AMBER\",1,0))","v":0}]
[null,null,null,null,null,null,null,null,null,null,null,null,null,null,null,null,null,null,null,null,null,null,null,null,null,null,null,null,null,null,null,null,null,null,null,null,null,null,null,null,null,null,null,null,null,null,null,null,null,null,{"$f":"+'1.TRACT'!A75","v":"T30"},{"$f":"+'1.TRACT'!N75","v":0},{"$f":"+IF(Table41[[#This Row],[ALERTA]]=\"RED\",2,IF(Table41[[#This Row],[ALERTA]]=\"AMBER\",1,0))","v":0}]
[null,null,null,null,null,null,null,null,null,null,null,null,null,null,null,null,null,null,null,null,null,null,null,null,null,null,null,null,null,null,null,null,null,null,null,null,null,null,null,null,null,null,null,null,null,null,null,null,null,null,{"$f":"+'1.TRACT'!A76","v":"T30"},{"$f":"+'1.TRACT'!N76","v":0},{"$f":"+IF(Table41[[#This Row],[ALERTA]]=\"RED\",2,IF(Table41[[#This Row],[ALERTA]]=\"AMBER\",1,0))","v":0}]
[null,null,null,null,null,null,null,null,null,null,null,null,null,null,null,null,null,null,null,null,null,null,null,null,null,null,null,null,null,null,null,null,null,null,null,null,null,null,null,null,null,null,null,null,null,null,null,null,null,null,{"$f":"+'1.TRACT'!A77","v":"T30"},{"$f":"+'1.TRACT'!N77","v":0},{"$f":"+IF(Table41[[#This Row],[ALERTA]]=\"RED\",2,IF(Table41[[#This Row],[ALERTA]]=\"AMBER\",1,0))","v":0}]
[null,null,null,null,null,null,null,null,null,null,null,null,null,null,null,null,null,null,null,null,null,null,null,null,null,null,null,null,null,null,null,null,null,null,null,null,null,null,null,null,null,null,null,null,null,null,null,null,null,null,{"$f":"+'1.TRACT'!A78","v":"T30"},{"$f":"+'1.TRACT'!N78","v":0},{"$f":"+IF(Table41[[#This Row],[ALERTA]]=\"RED\",2,IF(Table41[[#This Row],[ALERTA]]=\"AMBER\",1,0))","v":0}]
[null,null,null,null,null,null,null,null,null,null,null,null,null,null,null,null,null,null,null,null,null,null,null,null,null,null,null,null,null,null,null,null,null,null,null,null,null,null,null,null,null,null,null,null,null,null,null,null,null,null,{"$f":"+'1.TRACT'!A79","v":"T30"},{"$f":"+'1.TRACT'!N79","v":0},{"$f":"+IF(Table41[[#This Row],[ALERTA]]=\"RED\",2,IF(Table41[[#This Row],[ALERTA]]=\"AMBER\",1,0))","v":0}]
[null,null,null,null,null,null,null,null,null,null,null,null,null,null,null,null,null,null,null,null,null,null,null,null,null,null,null,null,null,null,null,null,null,null,null,null,null,null,null,null,null,null,null,null,null,null,null,null,null,null,{"$f":"+'1.TRACT'!A80","v":"T30"},{"$f":"+'1.TRACT'!N80","v":0},{"$f":"+IF(Table41[[#This Row],[ALERTA]]=\"RED\",2,IF(Table41[[#This Row],[ALERTA]]=\"AMBER\",1,0))","v":0}]
[null,null,null,null,null,null,null,null,null,null,null,null,null,null,null,null,null,null,null,null,null,null,null,null,null,null,null,null,null,null,null,null,null,null,null,null,null,null,null,null,null,null,null,null,null,null,null,null,null,null,{"$f":"+'1.TRACT'!A81","v":"T30"},{"$f":"+'1.TRACT'!N81","v":0},{"$f":"+IF(Table41[[#This Row],[ALERTA]]=\"RED\",2,IF(Table41[[#This Row],[ALERTA]]=\"AMBER\",1,0))","v":0}]
[null,null,null,null,null,null,null,null,null,null,null,null,null,null,null,null,null,null,null,null,null,null,null,null,null,null,null,null,null,null,null,null,null,null,null,null,null,null,null,null,null,null,null,null,null,null,null,null,null,null,{"$f":"+'1.TRACT'!A82","v":"T30"},{"$f":"+'1.TRACT'!N82","v":0},{"$f":"+IF(Table41[[#This Row],[ALERTA]]=\"RED\",2,IF(Table41[[#This Row],[ALERTA]]=\"AMBER\",1,0))","v":0}]
[null,null,null,null,null,null,null,null,null,null,null,null,null,null,null,null,null,null,null,null,null,null,null,null,null,null,null,null,null,null,null,null,null,null,null,null,null,null,null,null,null,null,null,null,null,null,null,null,null,null,{"$f":"+'1.TRACT'!A83","v":"T30"},{"$f":"+'1.TRACT'!N83","v":0},{"$f":"+IF(Table41[[#This Row],[ALERTA]]=\"RED\",2,IF(Table41[[#This Row],[ALERTA]]=\"AMBER\",1,0))","v":0}]
[null,null,null,null,null,null,null,null,null,null,null,null,null,null,null,null,null,null,null,null,null,null,null,null,null,null,null,null,null,null,null,null,null,null,null,null,null,null,null,null,null,null,null,null,null,null,null,null,null,null,{"$f":"+'1.TRACT'!A84","v":"T30"},{"$f":"+'1.TRACT'!N84","v":0},{"$f":"+IF(Table41[[#This Row],[ALERTA]]=\"RED\",2,IF(Table41[[#This Row],[ALERTA]]=\"AMBER\",1,0))","v":0}]
[null,null,null,null,null,null,null,null,null,null,null,null,null,null,null,null,null,null,null,null,null,null,null,null,null,null,null,null,null,null,null,null,null,null,null,null,null,null,null,null,null,null,null,null,null,null,null,null,null,null,{"$f":"+'1.TRACT'!A85","v":"T30"},{"$f":"+'1.TRACT'!N85","v":0},{"$f":"+IF(Table41[[#This Row],[ALERTA]]=\"RED\",2,IF(Table41[[#This Row],[ALERTA]]=\"AMBER\",1,0))","v":0}]
[null,null,null,null,null,null,null,null,null,null,null,null,null,null,null,null,null,null,null,null,null,null,null,null,null,null,null,null,null,null,null,null,null,null,null,null,null,null,null,null,null,null,null,null,null,null,null,null,null,null,{"$f":"+'1.TRACT'!A86","v":"T30"},{"$f":"+'1.TRACT'!N86","v":0},{"$f":"+IF(Table41[[#This Row],[ALERTA]]=\"RED\",2,IF(Table41[[#This Row],[ALERTA]]=\"AMBER\",1,0))","v":0}]
[null,null,null,null,null,null,null,null,null,null,null,null,null,null,null,null,null,null,null,null,null,null,null,null,null,null,null,null,null,null,null,null,null,null,null,null,null,null,null,null,null,null,null,null,null,null,null,null,null,null,{"$f":"+'1.TRACT'!A87","v":"T30"},{"$f":"+'1.TRACT'!N87","v":0},{"$f":"+IF(Table41[[#This Row],[ALERTA]]=\"RED\",2,IF(Table41[[#This Row],[ALERTA]]=\"AMBER\",1,0))","v":0}]
[null,null,null,null,null,null,null,null,null,null,null,null,null,null,null,null,null,null,null,null,null,null,null,null,null,null,null,null,null,null,null,null,null,null,null,null,null,null,null,null,null,null,null,null,null,null,null,null,null,null,{"$f":"+'1.TRACT'!A88","v":"T30"},{"$f":"+'1.TRACT'!N88","v":0},{"$f":"+IF(Table41[[#This Row],[ALERTA]]=\"RED\",2,IF(Table41[[#This Row],[ALERTA]]=\"AMBER\",1,0))","v":0}]
[null,null,null,null,null,null,null,null,null,null,null,null,null,null,null,null,null,null,null,null,null,null,null,null,null,null,null,null,null,null,null,null,null,null,null,null,null,null,null,null,null,null,null,null,null,null,null,null,null,null,{"$f":"+'1.TRACT'!A89","v":"T30"},{"$f":"+'1.TRACT'!N89","v":0},{"$f":"+IF(Table41[[#This Row],[ALERTA]]=\"RED\",2,IF(Table41[[#This Row],[ALERTA]]=\"AMBER\",1,0))","v":0}]
[null,null,null,null,null,null,null,null,null,null,null,null,null,null,null,null,null,null,null,null,null,null,null,null,null,null,null,null,null,null,null,null,null,null,null,null,null,null,null,null,null,null,null,null,null,null,null,null,null,null,{"$f":"+'1.TRACT'!A90","v":"T30"},{"$f":"+'1.TRACT'!N90","v":0},{"$f":"+IF(Table41[[#This Row],[ALERTA]]=\"RED\",2,IF(Table41[[#This Row],[ALERTA]]=\"AMBER\",1,0))","v":0}]
[null,null,null,null,null,null,null,null,null,null,null,null,null,null,null,null,null,null,null,null,null,null,null,null,null,null,null,null,null,null,null,null,null,null,null,null,null,null,null,null,null,null,null,null,null,null,null,null,null,null,{"$f":"+'1.TRACT'!A91","v":"T30"},{"$f":"+'1.TRACT'!N91","v":0},{"$f":"+IF(Table41[[#This Row],[ALERTA]]=\"RED\",2,IF(Table41[[#This Row],[ALERTA]]=\"AMBER\",1,0))","v":0}]
[null,null,null,null,null,null,null,null,null,null,null,null,null,null,null,null,null,null,null,null,null,null,null,null,null,null,null,null,null,null,null,null,null,null,null,null,null,null,null,null,null,null,null,null,null,null,null,null,null,null,{"$f":"+'1.TRACT'!A92","v":"T30"},{"$f":"+'1.TRACT'!N92","v":0},{"$f":"+IF(Table41[[#This Row],[ALERTA]]=\"RED\",2,IF(Table41[[#This Row],[ALERTA]]=\"AMBER\",1,0))","v":0}]
[null,null,null,null,null,null,null,null,null,null,null,null,null,null,null,null,null,null,null,null,null,null,null,null,null,null,null,null,null,null,null,null,null,null,null,null,null,null,null,null,null,null,null,null,null,null,null,null,null,null,{"$f":"+'1.TRACT'!A93","v":"T30"},{"$f":"+'1.TRACT'!N93","v":0},{"$f":"+IF(Table41[[#This Row],[ALERTA]]=\"RED\",2,IF(Table41[[#This Row],[ALERTA]]=\"AMBER\",1,0))","v":0}]
[null,null,null,null,null,null,null,null,null,null,null,null,null,null,null,null,null,null,null,null,null,null,null,null,null,null,null,null,null,null,null,null,null,null,null,null,null,null,null,null,null,null,null,null,null,null,null,null,null,null,{"$f":"+'1.TRACT'!A94","v":"T30"},{"$f":"+'1.TRACT'!N94","v":0},{"$f":"+IF(Table41[[#This Row],[ALERTA]]=\"RED\",2,IF(Table41[[#This Row],[ALERTA]]=\"AMBER\",1,0))","v":0}]
[null,null,null,null,null,null,null,null,null,null,null,null,null,null,null,null,null,null,null,null,null,null,null,null,null,null,null,null,null,null,null,null,null,null,null,null,null,null,null,null,null,null,null,null,null,null,null,null,null,null,{"$f":"+'1.TRACT'!A95","v":"T30"},{"$f":"+'1.TRACT'!N95","v":0},{"$f":"+IF(Table41[[#This Row],[ALERTA]]=\"RED\",2,IF(Table41[[#This Row],[ALERTA]]=\"AMBER\",1,0))","v":0}]
[null,null,null,null,null,null,null,null,null,null,null,null,null,null,null,null,null,null,null,null,null,null,null,null,null,null,null,null,null,null,null,null,null,null,null,null,null,null,null,null,null,null,null,null,null,null,null,null,null,null,{"$f":"+'1.TRACT'!A96","v":"T30"},{"$f":"+'1.TRACT'!N96","v":0},{"$f":"+IF(Table41[[#This Row],[ALERTA]]=\"RED\",2,IF(Table41[[#This Row],[ALERTA]]=\"AMBER\",1,0))","v":0}]
[null,null,null,null,null,null,null,null,null,null,null,null,null,null,null,null,null,null,null,null,null,null,null,null,null,null,null,null,null,null,null,null,null,null,null,null,null,null,null,null,null,null,null,null,null,null,null,null,null,null,{"$f":"+'1.TRACT'!A97","v":"T30"},{"$f":"+'1.TRACT'!N97","v":0},{"$f":"+IF(Table41[[#This Row],[ALERTA]]=\"RED\",2,IF(Table41[[#This Row],[ALERTA]]=\"AMBER\",1,0))","v":0}]
[null,null,null,null,null,null,null,null,null,null,null,null,null,null,null,null,null,null,null,null,null,null,null,null,null,null,null,null,null,null,null,null,null,null,null,null,null,null,null,null,null,null,null,null,null,null,null,null,null,null,{"$f":"+'1.TRACT'!A98","v":"T30"},{"$f":"+'1.TRACT'!N98","v":0},{"$f":"+IF(Table41[[#This Row],[ALERTA]]=\"RED\",2,IF(Table41[[#This Row],[ALERTA]]=\"AMBER\",1,0))","v":0}]
[null,null,null,null,null,null,null,null,null,null,null,null,null,null,null,null,null,null,null,null,null,null,null,null,null,null,null,null,null,null,null,null,null,null,null,null,null,null,null,null,null,null,null,null,null,null,null,null,null,null,{"$f":"+'1.TRACT'!A99","v":"T30"},{"$f":"+'1.TRACT'!N99","v":0},{"$f":"+IF(Table41[[#This Row],[ALERTA]]=\"RED\",2,IF(Table41[[#This Row],[ALERTA]]=\"AMBER\",1,0))","v":0}]
[null,null,null,null,null,null,null,null,null,null,null,null,null,null,null,null,null,null,null,null,null,null,null,null,null,null,null,null,null,null,null,null,null,null,null,null,null,null,null,null,null,null,null,null,null,null,null,null,null,null,{"$f":"+'1.TRACT'!A100","v":"T30"},{"$f":"+'1.TRACT'!N100","v":0},{"$f":"+IF(Table41[[#This Row],[ALERTA]]=\"RED\",2,IF(Table41[[#This Row],[ALERTA]]=\"AMBER\",1,0))","v":0}]
[null,null,null,null,null,null,null,null,null,null,null,null,null,null,null,null,null,null,null,null,null,null,null,null,null,null,null,null,null,null,null,null,null,null,null,null,null,null,null,null,null,null,null,null,null,null,null,null,null,null,{"$f":"+'1.TRACT'!A101","v":"T30"},{"$f":"+'1.TRACT'!N101","v":0},{"$f":"+IF(Table41[[#This Row],[ALERTA]]=\"RED\",2,IF(Table41[[#This Row],[ALERTA]]=\"AMBER\",1,0))","v":0}]
[null,null,null,null,null,null,null,null,null,null,null,null,null,null,null,null,null,null,null,null,null,null,null,null,null,null,null,null,null,null,null,null,null,null,null,null,null,null,null,null,null,null,null,null,null,null,null,null,null,null,{"$f":"+'1.TRACT'!A102","v":"T40"},{"$f":"+'1.TRACT'!N102","v":0},{"$f":"+IF(Table41[[#This Row],[ALERTA]]=\"RED\",2,IF(Table41[[#This Row],[ALERTA]]=\"AMBER\",1,0))","v":0}]
[null,null,null,null,null,null,null,null,null,null,null,null,null,null,null,null,null,null,null,null,null,null,null,null,null,null,null,null,null,null,null,null,null,null,null,null,null,null,null,null,null,null,null,null,null,null,null,null,null,null,{"$f":"+'1.TRACT'!A102","v":"T40"},{"$f":"+'1.TRACT'!O102","v":0},{"$f":"+IF(Table41[[#This Row],[ALERTA]]=\"RED\",2,IF(Table41[[#This Row],[ALERTA]]=\"AMBER\",1,0))","v":0}]
[null,null,null,null,null,null,null,null,null,null,null,null,null,null,null,null,null,null,null,null,null,null,null,null,null,null,null,null,null,null,null,null,null,null,null,null,null,null,null,null,null,null,null,null,null,null,null,null,null,null,{"$f":"+'1.TRACT'!A103","v":"T40"},{"$f":"+'1.TRACT'!O103","v":0},{"$f":"+IF(Table41[[#This Row],[ALERTA]]=\"RED\",2,IF(Table41[[#This Row],[ALERTA]]=\"AMBER\",1,0))","v":0}]
[null,null,null,null,null,null,null,null,null,null,null,null,null,null,null,null,null,null,null,null,null,null,null,null,null,null,null,null,null,null,null,null,null,null,null,null,null,null,null,null,null,null,null,null,null,null,null,null,null,null,{"$f":"+'1.TRACT'!A104","v":"T40"},{"$f":"+'1.TRACT'!O104","v":"INPUT REQ"},{"$f":"+IF(Table41[[#This Row],[ALERTA]]=\"RED\",2,IF(Table41[[#This Row],[ALERTA]]=\"AMBER\",1,0))","v":0}]
[null,null,null,null,null,null,null,null,null,null,null,null,null,null,null,null,null,null,null,null,null,null,null,null,null,null,null,null,null,null,null,null,null,null,null,null,null,null,null,null,null,null,null,null,null,null,null,null,null,null,{"$f":"+'1.TRACT'!A106","v":"T40"},{"$f":"+'1.TRACT'!O106","v":0},{"$f":"+IF(Table41[[#This Row],[ALERTA]]=\"RED\",2,IF(Table41[[#This Row],[ALERTA]]=\"AMBER\",1,0))","v":0}]
[null,null,null,null,null,null,null,null,null,null,null,null,null,null,null,null,null,null,null,null,null,null,null,null,null,null,null,null,null,null,null,null,null,null,null,null,null,null,null,null,null,null,null,null,null,null,null,null,null,null,{"$f":"+'1.TRACT'!A107","v":"T40"},{"$f":"+'1.TRACT'!O107","v":0},{"$f":"+IF(Table41[[#This Row],[ALERTA]]=\"RED\",2,IF(Table41[[#This Row],[ALERTA]]=\"AMBER\",1,0))","v":0}]
[null,null,null,null,null,null,null,null,null,null,null,null,null,null,null,null,null,null,null,null,null,null,null,null,null,null,null,null,null,null,null,null,null,null,null,null,null,null,null,null,null,null,null,null,null,null,null,null,null,null,{"$f":"+'1.TRACT'!A108","v":"T40"},{"$f":"+'1.TRACT'!O108","v":0},{"$f":"+IF(Table41[[#This Row],[ALERTA]]=\"RED\",2,IF(Table41[[#This Row],[ALERTA]]=\"AMBER\",1,0))","v":0}]
[null,null,null,null,null,null,null,null,null,null,null,null,null,null,null,null,null,null,null,null,null,null,null,null,null,null,null,null,null,null,null,null,null,null,null,null,null,null,null,null,null,null,null,null,null,null,null,null,null,null,{"$f":"+'1.TRACT'!A109","v":"T40"},{"$f":"+'1.TRACT'!O109","v":0},{"$f":"+IF(Table41[[#This Row],[ALERTA]]=\"RED\",2,IF(Table41[[#This Row],[ALERTA]]=\"AMBER\",1,0))","v":0}]
[null,null,null,null,null,null,null,null,null,null,null,null,null,null,null,null,null,null,null,null,null,null,null,null,null,null,null,null,null,null,null,null,null,null,null,null,null,null,null,null,null,null,null,null,null,null,null,null,null,null,{"$f":"+'1.TRACT'!A110","v":"T40"},{"$f":"+'1.TRACT'!O110","v":0},{"$f":"+IF(Table41[[#This Row],[ALERTA]]=\"RED\",2,IF(Table41[[#This Row],[ALERTA]]=\"AMBER\",1,0))","v":0}]
[null,null,null,null,null,null,null,null,null,null,null,null,null,null,null,null,null,null,null,null,null,null,null,null,null,null,null,null,null,null,null,null,null,null,null,null,null,null,null,null,null,null,null,null,null,null,null,null,null,null,{"$f":"+'1.TRACT'!A111","v":"T40"},{"$f":"+'1.TRACT'!O111","v":0},{"$f":"+IF(Table41[[#This Row],[ALERTA]]=\"RED\",2,IF(Table41[[#This Row],[ALERTA]]=\"AMBER\",1,0))","v":0}]
[null,null,null,null,null,null,null,null,null,null,null,null,null,null,null,null,null,null,null,null,null,null,null,null,null,null,null,null,null,null,null,null,null,null,null,null,null,null,null,null,null,null,null,null,null,null,null,null,null,null,{"$f":"+'1.TRACT'!A112","v":"T40"},{"$f":"+'1.TRACT'!O112","v":0},{"$f":"+IF(Table41[[#This Row],[ALERTA]]=\"RED\",2,IF(Table41[[#This Row],[ALERTA]]=\"AMBER\",1,0))","v":0}]
[null,null,null,null,null,null,null,null,null,null,null,null,null,null,null,null,null,null,null,null,null,null,null,null,null,null,null,null,null,null,null,null,null,null,null,null,null,null,null,null,null,null,null,null,null,null,null,null,null,null,{"$f":"+'1.TRACT'!A113","v":"T40"},{"$f":"+'1.TRACT'!O113","v":0},{"$f":"+IF(Table41[[#This Row],[ALERTA]]=\"RED\",2,IF(Table41[[#This Row],[ALERTA]]=\"AMBER\",1,0))","v":0}]
[null,null,null,null,null,null,null,null,null,null,null,null,null,null,null,null,null,null,null,null,null,null,null,null,null,null,null,null,null,null,null,null,null,null,null,null,null,null,null,null,null,null,null,null,null,null,null,null,null,null,{"$f":"+'1.TRACT'!A114","v":"T40"},{"$f":"+'1.TRACT'!O114","v":0},{"$f":"+IF(Table41[[#This Row],[ALERTA]]=\"RED\",2,IF(Table41[[#This Row],[ALERTA]]=\"AMBER\",1,0))","v":0}]
[null,null,null,null,null,null,null,null,null,null,null,null,null,null,null,null,null,null,null,null,null,null,null,null,null,null,null,null,null,null,null,null,null,null,null,null,null,null,null,null,null,null,null,null,null,null,null,null,null,null,{"$f":"+'1.TRACT'!A115","v":"T40"},{"$f":"+'1.TRACT'!O115","v":0},{"$f":"+IF(Table41[[#This Row],[ALERTA]]=\"RED\",2,IF(Table41[[#This Row],[ALERTA]]=\"AMBER\",1,0))","v":0}]
[null,null,null,null,null,null,null,null,null,null,null,null,null,null,null,null,null,null,null,null,null,null,null,null,null,null,null,null,null,null,null,null,null,null,null,null,null,null,null,null,null,null,null,null,null,null,null,null,null,null,{"$f":"+'1.TRACT'!A116","v":"T40"},{"$f":"+'1.TRACT'!O116","v":0},{"$f":"+IF(Table41[[#This Row],[ALERTA]]=\"RED\",2,IF(Table41[[#This Row],[ALERTA]]=\"AMBER\",1,0))","v":0}]
[null,null,null,null,null,null,null,null,null,null,null,null,null,null,null,null,null,null,null,null,null,null,null,null,null,null,null,null,null,null,null,null,null,null,null,null,null,null,null,null,null,null,null,null,null,null,null,null,null,null,{"$f":"+'1.TRACT'!A117","v":"T50"},{"$f":"+'1.TRACT'!O117","v":0},{"$f":"+IF(Table41[[#This Row],[ALERTA]]=\"RED\",2,IF(Table41[[#This Row],[ALERTA]]=\"AMBER\",1,0))","v":0}]
[null,null,null,null,null,null,null,null,null,null,null,null,null,null,null,null,null,null,null,null,null,null,null,null,null,null,null,null,null,null,null,null,null,null,null,null,null,null,null,null,null,null,null,null,null,null,null,null,null,null,{"$f":"+'1.TRACT'!A118","v":"T50"},{"$f":"+'1.TRACT'!O118","v":0},{"$f":"+IF(Table41[[#This Row],[ALERTA]]=\"RED\",2,IF(Table41[[#This Row],[ALERTA]]=\"AMBER\",1,0))","v":0}]
[null,null,null,null,null,null,null,null,null,null,null,null,null,null,null,null,null,null,null,null,null,null,null,null,null,null,null,null,null,null,null,null,null,null,null,null,null,null,null,null,null,null,null,null,null,null,null,null,null,null,{"$f":"+'1.TRACT'!A119","v":"T50"},{"$f":"+'1.TRACT'!O119","v":"N/A"},{"$f":"+IF(Table41[[#This Row],[ALERTA]]=\"RED\",2,IF(Table41[[#This Row],[ALERTA]]=\"AMBER\",1,0))","v":0}]
[null,null,null,null,null,null,null,null,null,null,null,null,null,null,null,null,null,null,null,null,null,null,null,null,null,null,null,null,null,null,null,null,null,null,null,null,null,null,null,null,null,null,null,null,null,null,null,null,null,null,{"$f":"+'1.TRACT'!A120","v":"T50"},{"$f":"+'1.TRACT'!O120","v":0},{"$f":"+IF(Table41[[#This Row],[ALERTA]]=\"RED\",2,IF(Table41[[#This Row],[ALERTA]]=\"AMBER\",1,0))","v":0}]
[null,null,null,null,null,null,null,null,null,null,null,null,null,null,null,null,null,null,null,null,null,null,null,null,null,null,null,null,null,null,null,null,null,null,null,null,null,null,null,null,null,null,null,null,null,null,null,null,null,null,{"$f":"+'1.TRACT'!A121","v":"T50"},{"$f":"+'1.TRACT'!O121","v":0},{"$f":"+IF(Table41[[#This Row],[ALERTA]]=\"RED\",2,IF(Table41[[#This Row],[ALERTA]]=\"AMBER\",1,0))","v":0}]
[null,null,null,null,null,null,null,null,null,null,null,null,null,null,null,null,null,null,null,null,null,null,null,null,null,null,null,null,null,null,null,null,null,null,null,null,null,null,null,null,null,null,null,null,null,null,null,null,null,null,{"$f":"+'1.TRACT'!A122","v":"T50"},{"$f":"+'1.TRACT'!O122","v":0},{"$f":"+IF(Table41[[#This Row],[ALERTA]]=\"RED\",2,IF(Table41[[#This Row],[ALERTA]]=\"AMBER\",1,0))","v":0}]
[null,null,null,null,null,null,null,null,null,null,null,null,null,null,null,null,null,null,null,null,null,null,null,null,null,null,null,null,null,null,null,null,null,null,null,null,null,null,null,null,null,null,null,null,null,null,null,null,null,null,{"$f":"+'1.TRACT'!A123","v":"T50"},{"$f":"+'1.TRACT'!O123","v":0},{"$f":"+IF(Table41[[#This Row],[ALERTA]]=\"RED\",2,IF(Table41[[#This Row],[ALERTA]]=\"AMBER\",1,0))","v":0}]
[null,null,null,null,null,null,null,null,null,null,null,null,null,null,null,null,null,null,null,null,null,null,null,null,null,null,null,null,null,null,null,null,null,null,null,null,null,null,null,null,null,null,null,null,null,null,null,null,null,null,{"$f":"+'1.TRACT'!A124","v":"T50"},{"$f":"+'1.TRACT'!O124","v":0},{"$f":"+IF(Table41[[#This Row],[ALERTA]]=\"RED\",2,IF(Table41[[#This Row],[ALERTA]]=\"AMBER\",1,0))","v":0}]
[null,null,null,null,null,null,null,null,null,null,null,null,null,null,null,null,null,null,null,null,null,null,null,null,null,null,null,null,null,null,null,null,null,null,null,null,null,null,null,null,null,null,null,null,null,null,null,null,null,null,{"$f":"+'1.TRACT'!A125","v":"T50"},{"$f":"+'1.TRACT'!O125","v":0},{"$f":"+IF(Table41[[#This Row],[ALERTA]]=\"RED\",2,IF(Table41[[#This Row],[ALERTA]]=\"AMBER\",1,0))","v":0}]
[null,null,null,null,null,null,null,null,null,null,null,null,null,null,null,null,null,null,null,null,null,null,null,null,null,null,null,null,null,null,null,null,null,null,null,null,null,null,null,null,null,null,null,null,null,null,null,null,null,null,{"$f":"+'1.TRACT'!A126","v":"T50"},{"$f":"+'1.TRACT'!O126","v":0},{"$f":"+IF(Table41[[#This Row],[ALERTA]]=\"RED\",2,IF(Table41[[#This Row],[ALERTA]]=\"AMBER\",1,0))","v":0}]
[null,null,null,null,null,null,null,null,null,null,null,null,null,null,null,null,null,null,null,null,null,null,null,null,null,null,null,null,null,null,null,null,null,null,null,null,null,null,null,null,null,null,null,null,null,null,null,null,null,null,{"$f":"+'1.TRACT'!A127","v":"T50"},{"$f":"+'1.TRACT'!O127","v":0},{"$f":"+IF(Table41[[#This Row],[ALERTA]]=\"RED\",2,IF(Table41[[#This Row],[ALERTA]]=\"AMBER\",1,0))","v":0}]
[null,null,null,null,null,null,null,null,null,null,null,null,null,null,null,null,null,null,null,null,null,null,null,null,null,null,null,null,null,null,null,null,null,null,null,null,null,null,null,null,null,null,null,null,null,null,null,null,null,null,{"$f":"+'1.TRACT'!A128","v":"T50"},{"$f":"+'1.TRACT'!O128","v":0},{"$f":"+IF(Table41[[#This Row],[ALERTA]]=\"RED\",2,IF(Table41[[#This Row],[ALERTA]]=\"AMBER\",1,0))","v":0}]
[null,null,null,null,null,null,null,null,null,null,null,null,null,null,null,null,null,null,null,null,null,null,null,null,null,null,null,null,null,null,null,null,null,null,null,null,null,null,null,null,null,null,null,null,null,null,null,null,null,null,{"$f":"+'1.TRACT'!A129","v":"T50"},{"$f":"+'1.TRACT'!O129","v":0},{"$f":"+IF(Table41[[#This Row],[ALERTA]]=\"RED\",2,IF(Table41[[#This Row],[ALERTA]]=\"AMBER\",1,0))","v":0}]
[null,null,null,null,null,null,null,null,null,null,null,null,null,null,null,null,null,null,null,null,null,null,null,null,null,null,null,null,null,null,null,null,null,null,null,null,null,null,null,null,null,null,null,null,null,null,null,null,null,null,{"$f":"+'1.TRACT'!A130","v":"T50"},{"$f":"+'1.TRACT'!O130","v":0},{"$f":"+IF(Table41[[#This Row],[ALERTA]]=\"RED\",2,IF(Table41[[#This Row],[ALERTA]]=\"AMBER\",1,0))","v":0}]
[null,null,null,null,null,null,null,null,null,null,null,null,null,null,null,null,null,null,null,null,null,null,null,null,null,null,null,null,null,null,null,null,null,null,null,null,null,null,null,null,null,null,null,null,null,null,null,null,null,null,{"$f":"+'1.TRACT'!A131","v":"T60"},{"$f":"+'1.TRACT'!O131","v":0},{"$f":"+IF(Table41[[#This Row],[ALERTA]]=\"RED\",2,IF(Table41[[#This Row],[ALERTA]]=\"AMBER\",1,0))","v":0}]
[null,null,null,null,null,null,null,null,null,null,null,null,null,null,null,null,null,null,null,null,null,null,null,null,null,null,null,null,null,null,null,null,null,null,null,null,null,null,null,null,null,null,null,null,null,null,null,null,null,null,{"$f":"+'1.TRACT'!A132","v":"T60"},{"$f":"+'1.TRACT'!O132","v":0},{"$f":"+IF(Table41[[#This Row],[ALERTA]]=\"RED\",2,IF(Table41[[#This Row],[ALERTA]]=\"AMBER\",1,0))","v":0}]
[null,null,null,null,null,null,null,null,null,null,null,null,null,null,null,null,null,null,null,null,null,null,null,null,null,null,null,null,null,null,null,null,null,null,null,null,null,null,null,null,null,null,null,null,null,null,null,null,null,null,{"$f":"+'1.TRACT'!A133","v":"T60"},{"$f":"+'1.TRACT'!O133","v":"N/A"},{"$f":"+IF(Table41[[#This Row],[ALERTA]]=\"RED\",2,IF(Table41[[#This Row],[ALERTA]]=\"AMBER\",1,0))","v":0}]
[null,null,null,null,null,null,null,null,null,null,null,null,null,null,null,null,null,null,null,null,null,null,null,null,null,null,null,null,null,null,null,null,null,null,null,null,null,null,null,null,null,null,null,null,null,null,null,null,null,null,{"$f":"+'1.TRACT'!A135","v":"T60"},{"$f":"+'1.TRACT'!O135","v":0},{"$f":"+IF(Table41[[#This Row],[ALERTA]]=\"RED\",2,IF(Table41[[#This Row],[ALERTA]]=\"AMBER\",1,0))","v":0}]
[null,null,null,null,null,null,null,null,null,null,null,null,null,null,null,null,null,null,null,null,null,null,null,null,null,null,null,null,null,null,null,null,null,null,null,null,null,null,null,null,null,null,null,null,null,null,null,null,null,null,{"$f":"+'1.TRACT'!A136","v":"T60"},{"$f":"+'1.TRACT'!O136","v":0},{"$f":"+IF(Table41[[#This Row],[ALERTA]]=\"RED\",2,IF(Table41[[#This Row],[ALERTA]]=\"AMBER\",1,0))","v":0}]
[null,null,null,null,null,null,null,null,null,null,null,null,null,null,null,null,null,null,null,null,null,null,null,null,null,null,null,null,null,null,null,null,null,null,null,null,null,null,null,null,null,null,null,null,null,null,null,null,null,null,{"$f":"+'1.TRACT'!A137","v":"T60"},{"$f":"+'1.TRACT'!O137","v":0},{"$f":"+IF(Table41[[#This Row],[ALERTA]]=\"RED\",2,IF(Table41[[#This Row],[ALERTA]]=\"AMBER\",1,0))","v":0}]
[null,null,null,null,null,null,null,null,null,null,null,null,null,null,null,null,null,null,null,null,null,null,null,null,null,null,null,null,null,null,null,null,null,null,null,null,null,null,null,null,null,null,null,null,null,null,null,null,null,null,{"$f":"+'1.TRACT'!A138","v":"T60"},{"$f":"+'1.TRACT'!O138","v":0},{"$f":"+IF(Table41[[#This Row],[ALERTA]]=\"RED\",2,IF(Table41[[#This Row],[ALERTA]]=\"AMBER\",1,0))","v":0}]
[null,null,null,null,null,null,null,null,null,null,null,null,null,null,null,null,null,null,null,null,null,null,null,null,null,null,null,null,null,null,null,null,null,null,null,null,null,null,null,null,null,null,null,null,null,null,null,null,null,null,{"$f":"+'1.TRACT'!A139","v":"T60"},{"$f":"+'1.TRACT'!O139","v":0},{"$f":"+IF(Table41[[#This Row],[ALERTA]]=\"RED\",2,IF(Table41[[#This Row],[ALERTA]]=\"AMBER\",1,0))","v":0}]
[null,null,null,null,null,null,null,null,null,null,null,null,null,null,null,null,null,null,null,null,null,null,null,null,null,null,null,null,null,null,null,null,null,null,null,null,null,null,null,null,null,null,null,null,null,null,null,null,null,null,{"$f":"+'1.TRACT'!A141","v":"T60"},{"$f":"+'1.TRACT'!O141","v":0},{"$f":"+IF(Table41[[#This Row],[ALERTA]]=\"RED\",2,IF(Table41[[#This Row],[ALERTA]]=\"AMBER\",1,0))","v":0}]
[null,null,null,null,null,null,null,null,null,null,null,null,null,null,null,null,null,null,null,null,null,null,null,null,null,null,null,null,null,null,null,null,null,null,null,null,null,null,null,null,null,null,null,null,null,null,null,null,null,null,{"$f":"+'1.TRACT'!A142","v":"T60"},{"$f":"+'1.TRACT'!O142","v":0},{"$f":"+IF(Table41[[#This Row],[ALERTA]]=\"RED\",2,IF(Table41[[#This Row],[ALERTA]]=\"AMBER\",1,0))","v":0}]
[null,null,null,null,null,null,null,null,null,null,null,null,null,null,null,null,null,null,null,null,null,null,null,null,null,null,null,null,null,null,null,null,null,null,null,null,null,null,null,null,null,null,null,null,null,null,null,null,null,null,{"$f":"+'1.TRACT'!A143","v":"T60"},{"$f":"+'1.TRACT'!O143","v":0},{"$f":"+IF(Table41[[#This Row],[ALERTA]]=\"RED\",2,IF(Table41[[#This Row],[ALERTA]]=\"AMBER\",1,0))","v":0}]
[null,null,null,null,null,null,null,null,null,null,null,null,null,null,null,null,null,null,null,null,null,null,null,null,null,null,null,null,null,null,null,null,null,null,null,null,null,null,null,null,null,null,null,null,null,null,null,null,null,null,{"$f":"+'1.TRACT'!A144","v":"T60"},{"$f":"+'1.TRACT'!O144","v":0},{"$f":"+IF(Table41[[#This Row],[ALERTA]]=\"RED\",2,IF(Table41[[#This Row],[ALERTA]]=\"AMBER\",1,0))","v":0}]
[null,null,null,null,null,null,null,null,null,null,null,null,null,null,null,null,null,null,null,null,null,null,null,null,null,null,null,null,null,null,null,null,null,null,null,null,null,null,null,null,null,null,null,null,null,null,null,null,null,null,{"$f":"+'1.TRACT'!A146","v":"T60"},{"$f":"+'1.TRACT'!O146","v":0},{"$f":"+IF(Table41[[#This Row],[ALERTA]]=\"RED\",2,IF(Table41[[#This Row],[ALERTA]]=\"AMBER\",1,0))","v":0}]
[null,null,null,null,null,null,null,null,null,null,null,null,null,null,null,null,null,null,null,null,null,null,null,null,null,null,null,null,null,null,null,null,null,null,null,null,null,null,null,null,null,null,null,null,null,null,null,null,null,null,{"$f":"+'1.TRACT'!A147","v":"T60"},{"$f":"+'1.TRACT'!O147","v":0},{"$f":"+IF(Table41[[#This Row],[ALERTA]]=\"RED\",2,IF(Table41[[#This Row],[ALERTA]]=\"AMBER\",1,0))","v":0}]
[null,null,null,null,null,null,null,null,null,null,null,null,null,null,null,null,null,null,null,null,null,null,null,null,null,null,null,null,null,null,null,null,null,null,null,null,null,null,null,null,null,null,null,null,null,null,null,null,null,null,{"$f":"+'1.TRACT'!A148","v":"T60"},{"$f":"+'1.TRACT'!O148","v":"N/A"},{"$f":"+IF(Table41[[#This Row],[ALERTA]]=\"RED\",2,IF(Table41[[#This Row],[ALERTA]]=\"AMBER\",1,0))","v":0}]
[null,null,null,null,null,null,null,null,null,null,null,null,null,null,null,null,null,null,null,null,null,null,null,null,null,null,null,null,null,null,null,null,null,null,null,null,null,null,null,null,null,null,null,null,null,null,null,null,null,null,{"$f":"+'1.TRACT'!A149","v":"T60"},{"$f":"+'1.TRACT'!O149","v":"N/A"},{"$f":"+IF(Table41[[#This Row],[ALERTA]]=\"RED\",2,IF(Table41[[#This Row],[ALERTA]]=\"AMBER\",1,0))","v":0}]
[null,null,null,null,null,null,null,null,null,null,null,null,null,null,null,null,null,null,null,null,null,null,null,null,null,null,null,null,null,null,null,null,null,null,null,null,null,null,null,null,null,null,null,null,null,null,null,null,null,null,{"$f":"+'1.TRACT'!A150","v":"T60"},{"$f":"+'1.TRACT'!O150","v":"N/A"},{"$f":"+IF(Table41[[#This Row],[ALERTA]]=\"RED\",2,IF(Table41[[#This Row],[ALERTA]]=\"AMBER\",1,0))","v":0}]
[null,null,null,null,null,null,null,null,null,null,null,null,null,null,null,null,null,null,null,null,null,null,null,null,null,null,null,null,null,null,null,null,null,null,null,null,null,null,null,null,null,null,null,null,null,null,null,null,null,null,{"$f":"+'1.TRACT'!A148","v":"T60"},{"$f":"+'1.TRACT'!O148","v":"N/A"},{"$f":"+IF(Table41[[#This Row],[ALERTA]]=\"RED\",2,IF(Table41[[#This Row],[ALERTA]]=\"AMBER\",1,0))","v":0}]
[null,null,null,null,null,null,null,null,null,null,null,null,null,null,null,null,null,null,null,null,null,null,null,null,null,null,null,null,null,null,null,null,null,null,null,null,null,null,null,null,null,null,null,null,null,null,null,null,null,null,{"$f":"+'1.TRACT'!A149","v":"T60"},{"$f":"+'1.TRACT'!O149","v":"N/A"},{"$f":"+IF(Table41[[#This Row],[ALERTA]]=\"RED\",2,IF(Table41[[#This Row],[ALERTA]]=\"AMBER\",1,0))","v":0}]
[null,null,null,null,null,null,null,null,null,null,null,null,null,null,null,null,null,null,null,null,null,null,null,null,null,null,null,null,null,null,null,null,null,null,null,null,null,null,null,null,null,null,null,null,null,null,null,null,null,null,{"$f":"+'1.TRACT'!A150","v":"T60"},{"$f":"+'1.TRACT'!O150","v":"N/A"},{"$f":"+IF(Table41[[#This Row],[ALERTA]]=\"RED\",2,IF(Table41[[#This Row],[ALERTA]]=\"AMBER\",1,0))","v":0}]
[null,null,null,null,null,null,null,null,null,null,null,null,null,null,null,null,null,null,null,null,null,null,null,null,null,null,null,null,null,null,null,null,null,null,null,null,null,null,null,null,null,null,null,null,null,null,null,null,null,null,{"$f":"+'1.TRACT'!A151","v":0},{"$f":"+'1.TRACT'!O151","v":0},{"$f":"+IF(Table41[[#This Row],[ALERTA]]=\"RED\",2,IF(Table41[[#This Row],[ALERTA]]=\"AMBER\",1,0))","v":0}]
[null,null,null,null,null,null,null,null,null,null,null,null,null,null,null,null,null,null,null,null,null,null,null,null,null,null,null,null,null,null,null,null,null,null,null,null,null,null,null,null,null,null,null,null,null,null,null,null,null,null,{"$f":"+'1.TRACT'!A152","v":0},{"$f":"+'1.TRACT'!O152","v":0},{"$f":"+IF(Table41[[#This Row],[ALERTA]]=\"RED\",2,IF(Table41[[#This Row],[ALERTA]]=\"AMBER\",1,0))","v":0}]
[null,null,null,null,null,null,null,null,null,null,null,null,null,null,null,null,null,null,null,null,null,null,null,null,null,null,null,null,null,null,null,null,null,null,null,null,null,null,null,null,null,null,null,null,null,null,null,null,null,null,{"$f":"+'1.TRACT'!A153","v":0},{"$f":"+'1.TRACT'!O153","v":0},{"$f":"+IF(Table41[[#This Row],[ALERTA]]=\"RED\",2,IF(Table41[[#This Row],[ALERTA]]=\"AMBER\",1,0))","v":0}]
[null,null,null,null,null,null,null,null,null,null,null,null,null,null,null,null,null,null,null,null,null,null,null,null,null,null,null,null,null,null,null,null,null,null,null,null,null,null,null,null,null,null,null,null,null,null,null,null,null,null,{"$f":"+'1.TRACT'!A154","v":0},{"$f":"+'1.TRACT'!O154","v":0},{"$f":"+IF(Table41[[#This Row],[ALERTA]]=\"RED\",2,IF(Table41[[#This Row],[ALERTA]]=\"AMBER\",1,0))","v":0}]
[null,null,null,null,null,null,null,null,null,null,null,null,null,null,null,null,null,null,null,null,null,null,null,null,null,null,null,null,null,null,null,null,null,null,null,null,null,null,null,null,null,null,null,null,null,null,null,null,null,null,{"$f":"+'1.TRACT'!A155","v":0},{"$f":"+'1.TRACT'!O155","v":0},{"$f":"+IF(Table41[[#This Row],[ALERTA]]=\"RED\",2,IF(Table41[[#This Row],[ALERTA]]=\"AMBER\",1,0))","v":0}]
[null,null,null,null,null,null,null,null,null,null,null,null,null,null,null,null,null,null,null,null,null,null,null,null,null,null,null,null,null,null,null,null,null,null,null,null,null,null,null,null,null,null,null,null,null,null,null,null,null,null,{"$f":"+'1.TRACT'!A156","v":0},{"$f":"+'1.TRACT'!O156","v":0},{"$f":"+IF(Table41[[#This Row],[ALERTA]]=\"RED\",2,IF(Table41[[#This Row],[ALERTA]]=\"AMBER\",1,0))","v":0}]
[null,null,null,null,null,null,null,null,null,null,null,null,null,null,null,null,null,null,null,null,null,null,null,null,null,null,null,null,null,null,null,null,null,null,null,null,null,null,null,null,null,null,null,null,null,null,null,null,null,null,{"$f":"+'2.NECES i PROP'!A4","v":"P11"},{"$f":"+'2.NECES i PROP'!O4","v":0},{"$f":"+IF(Table41[[#This Row],[ALERTA]]=\"RED\",2,IF(Table41[[#This Row],[ALERTA]]=\"AMBER\",1,0))","v":0}]
[null,null,null,null,null,null,null,null,null,null,null,null,null,null,null,null,null,null,null,null,null,null,null,null,null,null,null,null,null,null,null,null,null,null,null,null,null,null,null,null,null,null,null,null,null,null,null,null,null,null,{"$f":"+'2.NECES i PROP'!A5","v":"P11"},{"$f":"+'2.NECES i PROP'!O5","v":"INPUT REQ"},{"$f":"+IF(Table41[[#This Row],[ALERTA]]=\"RED\",2,IF(Table41[[#This Row],[ALERTA]]=\"AMBER\",1,0))","v":0}]
[null,null,null,null,null,null,null,null,null,null,null,null,null,null,null,null,null,null,null,null,null,null,null,null,null,null,null,null,null,null,null,null,null,null,null,null,null,null,null,null,null,null,null,null,null,null,null,null,null,null,{"$f":"+'2.NECES i PROP'!A6","v":"P11"},{"$f":"+'2.NECES i PROP'!O6","v":"INPUT REQ"},{"$f":"+IF(Table41[[#This Row],[ALERTA]]=\"RED\",2,IF(Table41[[#This Row],[ALERTA]]=\"AMBER\",1,0))","v":0}]
[null,null,null,null,null,null,null,null,null,null,null,null,null,null,null,null,null,null,null,null,null,null,null,null,null,null,null,null,null,null,null,null,null,null,null,null,null,null,null,null,null,null,null,null,null,null,null,null,null,null,{"$f":"+'2.NECES i PROP'!A7","v":"P11"},{"$f":"+'2.NECES i PROP'!O7","v":"INPUT REQ"},{"$f":"+IF(Table41[[#This Row],[ALERTA]]=\"RED\",2,IF(Table41[[#This Row],[ALERTA]]=\"AMBER\",1,0))","v":0}]
[null,null,null,null,null,null,null,null,null,null,null,null,null,null,null,null,null,null,null,null,null,null,null,null,null,null,null,null,null,null,null,null,null,null,null,null,null,null,null,null,null,null,null,null,null,null,null,null,null,null,{"$f":"+'2.NECES i PROP'!A8","v":"P11"},{"$f":"+'2.NECES i PROP'!O8","v":"INPUT REQ"},{"$f":"+IF(Table41[[#This Row],[ALERTA]]=\"RED\",2,IF(Table41[[#This Row],[ALERTA]]=\"AMBER\",1,0))","v":0}]
[null,null,null,null,null,null,null,null,null,null,null,null,null,null,null,null,null,null,null,null,null,null,null,null,null,null,null,null,null,null,null,null,null,null,null,null,null,null,null,null,null,null,null,null,null,null,null,null,null,null,{"$f":"+'2.NECES i PROP'!A9","v":"P11"},{"$f":"+'2.NECES i PROP'!O9","v":"INPUT REQ"},{"$f":"+IF(Table41[[#This Row],[ALERTA]]=\"RED\",2,IF(Table41[[#This Row],[ALERTA]]=\"AMBER\",1,0))","v":0}]
[null,null,null,null,null,null,null,null,null,null,null,null,null,null,null,null,null,null,null,null,null,null,null,null,null,null,null,null,null,null,null,null,null,null,null,null,null,null,null,null,null,null,null,null,null,null,null,null,null,null,{"$f":"+'2.NECES i PROP'!A10","v":"P11"},{"$f":"+'2.NECES i PROP'!O10","v":"INPUT REQ"},{"$f":"+IF(Table41[[#This Row],[ALERTA]]=\"RED\",2,IF(Table41[[#This Row],[ALERTA]]=\"AMBER\",1,0))","v":0}]
[null,null,null,null,null,null,null,null,null,null,null,null,null,null,null,null,null,null,null,null,null,null,null,null,null,null,null,null,null,null,null,null,null,null,null,null,null,null,null,null,null,null,null,null,null,null,null,null,null,null,{"$f":"+'2.NECES i PROP'!A11","v":"P11"},{"$f":"+'2.NECES i PROP'!O11","v":"INPUT REQ"},{"$f":"+IF(Table41[[#This Row],[ALERTA]]=\"RED\",2,IF(Table41[[#This Row],[ALERTA]]=\"AMBER\",1,0))","v":0}]
[null,null,null,null,null,null,null,null,null,null,null,null,null,null,null,null,null,null,null,null,null,null,null,null,null,null,null,null,null,null,null,null,null,null,null,null,null,null,null,null,null,null,null,null,null,null,null,null,null,null,{"$f":"+'2.NECES i PROP'!A12","v":"P11"},{"$f":"+'2.NECES i PROP'!O12","v":"INPUT REQ"},{"$f":"+IF(Table41[[#This Row],[ALERTA]]=\"RED\",2,IF(Table41[[#This Row],[ALERTA]]=\"AMBER\",1,0))","v":0}]
[null,null,null,null,null,null,null,null,null,null,null,null,null,null,null,null,null,null,null,null,null,null,null,null,null,null,null,null,null,null,null,null,null,null,null,null,null,null,null,null,null,null,null,null,null,null,null,null,null,null,{"$f":"+'2.NECES i PROP'!A13","v":"P11"},{"$f":"+'2.NECES i PROP'!O13","v":"N/A"},{"$f":"+IF(Table41[[#This Row],[ALERTA]]=\"RED\",2,IF(Table41[[#This Row],[ALERTA]]=\"AMBER\",1,0))","v":0}]
[null,null,null,null,null,null,null,null,null,null,null,null,null,null,null,null,null,null,null,null,null,null,null,null,null,null,null,null,null,null,null,null,null,null,null,null,null,null,null,null,null,null,null,null,null,null,null,null,null,null,{"$f":"+'2.NECES i PROP'!A14","v":"P12"},{"$f":"+'2.NECES i PROP'!O14","v":0},{"$f":"+IF(Table41[[#This Row],[ALERTA]]=\"RED\",2,IF(Table41[[#This Row],[ALERTA]]=\"AMBER\",1,0))","v":0}]
[null,null,null,null,null,null,null,null,null,null,null,null,null,null,null,null,null,null,null,null,null,null,null,null,null,null,null,null,null,null,null,null,null,null,null,null,null,null,null,null,null,null,null,null,null,null,null,null,null,null,{"$f":"+'2.NECES i PROP'!A15","v":"P12"},{"$f":"+'2.NECES i PROP'!O15","v":"N/A"},{"$f":"+IF(Table41[[#This Row],[ALERTA]]=\"RED\",2,IF(Table41[[#This Row],[ALERTA]]=\"AMBER\",1,0))","v":0}]
[null,null,null,null,null,null,null,null,null,null,null,null,null,null,null,null,null,null,null,null,null,null,null,null,null,null,null,null,null,null,null,null,null,null,null,null,null,null,null,null,null,null,null,null,null,null,null,null,null,null,{"$f":"+'2.NECES i PROP'!A16","v":"P12"},{"$f":"+'2.NECES i PROP'!O16","v":"N/A"},{"$f":"+IF(Table41[[#This Row],[ALERTA]]=\"RED\",2,IF(Table41[[#This Row],[ALERTA]]=\"AMBER\",1,0))","v":0}]
[null,null,null,null,null,null,null,null,null,null,null,null,null,null,null,null,null,null,null,null,null,null,null,null,null,null,null,null,null,null,null,null,null,null,null,null,null,null,null,null,null,null,null,null,null,null,null,null,null,null,{"$f":"+'2.NECES i PROP'!A17","v":"P12"},{"$f":"+'2.NECES i PROP'!O17","v":"N/A"},{"$f":"+IF(Table41[[#This Row],[ALERTA]]=\"RED\",2,IF(Table41[[#This Row],[ALERTA]]=\"AMBER\",1,0))","v":0}]
[null,null,null,null,null,null,null,null,null,null,null,null,null,null,null,null,null,null,null,null,null,null,null,null,null,null,null,null,null,null,null,null,null,null,null,null,null,null,null,null,null,null,null,null,null,null,null,null,null,null,{"$f":"+'2.NECES i PROP'!A18","v":"P12"},{"$f":"+'2.NECES i PROP'!O18","v":"N/A"},{"$f":"+IF(Table41[[#This Row],[ALERTA]]=\"RED\",2,IF(Table41[[#This Row],[ALERTA]]=\"AMBER\",1,0))","v":0}]
[null,null,null,null,null,null,null,null,null,null,null,null,null,null,null,null,null,null,null,null,null,null,null,null,null,null,null,null,null,null,null,null,null,null,null,null,null,null,null,null,null,null,null,null,null,null,null,null,null,null,{"$f":"+'2.NECES i PROP'!A19","v":"P12"},{"$f":"+'2.NECES i PROP'!O19","v":0},{"$f":"+IF(Table41[[#This Row],[ALERTA]]=\"RED\",2,IF(Table41[[#This Row],[ALERTA]]=\"AMBER\",1,0))","v":0}]
[null,null,null,null,null,null,null,null,null,null,null,null,null,null,null,null,null,null,null,null,null,null,null,null,null,null,null,null,null,null,null,null,null,null,null,null,null,null,null,null,null,null,null,null,null,null,null,null,null,null,{"$f":"+'2.NECES i PROP'!A20","v":"P12"},{"$f":"+'2.NECES i PROP'!O20","v":0},{"$f":"+IF(Table41[[#This Row],[ALERTA]]=\"RED\",2,IF(Table41[[#This Row],[ALERTA]]=\"AMBER\",1,0))","v":0}]
[null,null,null,null,null,null,null,null,null,null,null,null,null,null,null,null,null,null,null,null,null,null,null,null,null,null,null,null,null,null,null,null,null,null,null,null,null,null,null,null,null,null,null,null,null,null,null,null,null,null,{"$f":"+'2.NECES i PROP'!A21","v":"P12"},{"$f":"+'2.NECES i PROP'!O21","v":0},{"$f":"+IF(Table41[[#This Row],[ALERTA]]=\"RED\",2,IF(Table41[[#This Row],[ALERTA]]=\"AMBER\",1,0))","v":0}]
[null,null,null,null,null,null,null,null,null,null,null,null,null,null,null,null,null,null,null,null,null,null,null,null,null,null,null,null,null,null,null,null,null,null,null,null,null,null,null,null,null,null,null,null,null,null,null,null,null,null,{"$f":"+'2.NECES i PROP'!A22","v":"P12"},{"$f":"+'2.NECES i PROP'!O22","v":0},{"$f":"+IF(Table41[[#This Row],[ALERTA]]=\"RED\",2,IF(Table41[[#This Row],[ALERTA]]=\"AMBER\",1,0))","v":0}]
[null,null,null,null,null,null,null,null,null,null,null,null,null,null,null,null,null,null,null,null,null,null,null,null,null,null,null,null,null,null,null,null,null,null,null,null,null,null,null,null,null,null,null,null,null,null,null,null,null,null,{"$f":"+'2.NECES i PROP'!A23","v":"P12"},{"$f":"+'2.NECES i PROP'!O23","v":0},{"$f":"+IF(Table41[[#This Row],[ALERTA]]=\"RED\",2,IF(Table41[[#This Row],[ALERTA]]=\"AMBER\",1,0))","v":0}]
[null,null,null,null,null,null,null,null,null,null,null,null,null,null,null,null,null,null,null,null,null,null,null,null,null,null,null,null,null,null,null,null,null,null,null,null,null,null,null,null,null,null,null,null,null,null,null,null,null,null,{"$f":"+'2.NECES i PROP'!A24","v":"P12"},{"$f":"+'2.NECES i PROP'!O24","v":0},{"$f":"+IF(Table41[[#This Row],[ALERTA]]=\"RED\",2,IF(Table41[[#This Row],[ALERTA]]=\"AMBER\",1,0))","v":0}]
[null,null,null,null,null,null,null,null,null,null,null,null,null,null,null,null,null,null,null,null,null,null,null,null,null,null,null,null,null,null,null,null,null,null,null,null,null,null,null,null,null,null,null,null,null,null,null,null,null,null,{"$f":"+'2.NECES i PROP'!A25","v":"P12"},{"$f":"+'2.NECES i PROP'!O25","v":0},{"$f":"+IF(Table41[[#This Row],[ALERTA]]=\"RED\",2,IF(Table41[[#This Row],[ALERTA]]=\"AMBER\",1,0))","v":0}]
[null,null,null,null,null,null,null,null,null,null,null,null,null,null,null,null,null,null,null,null,null,null,null,null,null,null,null,null,null,null,null,null,null,null,null,null,null,null,null,null,null,null,null,null,null,null,null,null,null,null,{"$f":"+'2.NECES i PROP'!A26","v":"P12"},{"$f":"+'2.NECES i PROP'!O26","v":0},{"$f":"+IF(Table41[[#This Row],[ALERTA]]=\"RED\",2,IF(Table41[[#This Row],[ALERTA]]=\"AMBER\",1,0))","v":0}]
[null,null,null,null,null,null,null,null,null,null,null,null,null,null,null,null,null,null,null,null,null,null,null,null,null,null,null,null,null,null,null,null,null,null,null,null,null,null,null,null,null,null,null,null,null,null,null,null,null,null,{"$f":"+'2.NECES i PROP'!A27","v":"P12"},{"$f":"+'2.NECES i PROP'!O27","v":0},{"$f":"+IF(Table41[[#This Row],[ALERTA]]=\"RED\",2,IF(Table41[[#This Row],[ALERTA]]=\"AMBER\",1,0))","v":0}]
[null,null,null,null,null,null,null,null,null,null,null,null,null,null,null,null,null,null,null,null,null,null,null,null,null,null,null,null,null,null,null,null,null,null,null,null,null,null,null,null,null,null,null,null,null,null,null,null,null,null,{"$f":"+'2.NECES i PROP'!A28","v":"P13"},{"$f":"+'2.NECES i PROP'!O28","v":0},{"$f":"+IF(Table41[[#This Row],[ALERTA]]=\"RED\",2,IF(Table41[[#This Row],[ALERTA]]=\"AMBER\",1,0))","v":0}]
[null,null,null,null,null,null,null,null,null,null,null,null,null,null,null,null,null,null,null,null,null,null,null,null,null,null,null,null,null,null,null,null,null,null,null,null,null,null,null,null,null,null,null,null,null,null,null,null,null,null,{"$f":"+'2.NECES i PROP'!A29","v":"P13"},{"$f":"+'2.NECES i PROP'!O29","v":"N/A"},{"$f":"+IF(Table41[[#This Row],[ALERTA]]=\"RED\",2,IF(Table41[[#This Row],[ALERTA]]=\"AMBER\",1,0))","v":0}]
[null,null,null,null,null,null,null,null,null,null,null,null,null,null,null,null,null,null,null,null,null,null,null,null,null,null,null,null,null,null,null,null,null,null,null,null,null,null,null,null,null,null,null,null,null,null,null,null,null,null,{"$f":"+'2.NECES i PROP'!A30","v":"P13"},{"$f":"+'2.NECES i PROP'!O30","v":"N/A"},{"$f":"+IF(Table41[[#This Row],[ALERTA]]=\"RED\",2,IF(Table41[[#This Row],[ALERTA]]=\"AMBER\",1,0))","v":0}]
[null,null,null,null,null,null,null,null,null,null,null,null,null,null,null,null,null,null,null,null,null,null,null,null,null,null,null,null,null,null,null,null,null,null,null,null,null,null,null,null,null,null,null,null,null,null,null,null,null,null,{"$f":"+'2.NECES i PROP'!A31","v":"P13"},{"$f":"+'2.NECES i PROP'!O31","v":"N/A"},{"$f":"+IF(Table41[[#This Row],[ALERTA]]=\"RED\",2,IF(Table41[[#This Row],[ALERTA]]=\"AMBER\",1,0))","v":0}]
[null,null,null,null,null,null,null,null,null,null,null,null,null,null,null,null,null,null,null,null,null,null,null,null,null,null,null,null,null,null,null,null,null,null,null,null,null,null,null,null,null,null,null,null,null,null,null,null,null,null,{"$f":"+'2.NECES i PROP'!A32","v":"P13"},{"$f":"+'2.NECES i PROP'!O32","v":"N/A"},{"$f":"+IF(Table41[[#This Row],[ALERTA]]=\"RED\",2,IF(Table41[[#This Row],[ALERTA]]=\"AMBER\",1,0))","v":0}]
[null,null,null,null,null,null,null,null,null,null,null,null,null,null,null,null,null,null,null,null,null,null,null,null,null,null,null,null,null,null,null,null,null,null,null,null,null,null,null,null,null,null,null,null,null,null,null,null,null,null,{"$f":"+'2.NECES i PROP'!A33","v":"P13"},{"$f":"+'2.NECES i PROP'!O33","v":"N/A"},{"$f":"+IF(Table41[[#This Row],[ALERTA]]=\"RED\",2,IF(Table41[[#This Row],[ALERTA]]=\"AMBER\",1,0))","v":0}]
[null,null,null,null,null,null,null,null,null,null,null,null,null,null,null,null,null,null,null,null,null,null,null,null,null,null,null,null,null,null,null,null,null,null,null,null,null,null,null,null,null,null,null,null,null,null,null,null,null,null,{"$f":"+'2.NECES i PROP'!A34","v":"P13"},{"$f":"+'2.NECES i PROP'!O34","v":"N/A"},{"$f":"+IF(Table41[[#This Row],[ALERTA]]=\"RED\",2,IF(Table41[[#This Row],[ALERTA]]=\"AMBER\",1,0))","v":0}]
[null,null,null,null,null,null,null,null,null,null,null,null,null,null,null,null,null,null,null,null,null,null,null,null,null,null,null,null,null,null,null,null,null,null,null,null,null,null,null,null,null,null,null,null,null,null,null,null,null,null,{"$f":"+'2.NECES i PROP'!A35","v":"P13"},{"$f":"+'2.NECES i PROP'!O35","v":"N/A"},{"$f":"+IF(Table41[[#This Row],[ALERTA]]=\"RED\",2,IF(Table41[[#This Row],[ALERTA]]=\"AMBER\",1,0))","v":0}]
[null,null,null,null,null,null,null,null,null,null,null,null,null,null,null,null,null,null,null,null,null,null,null,null,null,null,null,null,null,null,null,null,null,null,null,null,null,null,null,null,null,null,null,null,null,null,null,null,null,null,{"$f":"+'2.NECES i PROP'!A36","v":"P13"},{"$f":"+'2.NECES i PROP'!O36","v":"N/A"},{"$f":"+IF(Table41[[#This Row],[ALERTA]]=\"RED\",2,IF(Table41[[#This Row],[ALERTA]]=\"AMBER\",1,0))","v":0}]
[null,null,null,null,null,null,null,null,null,null,null,null,null,null,null,null,null,null,null,null,null,null,null,null,null,null,null,null,null,null,null,null,null,null,null,null,null,null,null,null,null,null,null,null,null,null,null,null,null,null,{"$f":"+'2.NECES i PROP'!A37","v":"P13"},{"$f":"+'2.NECES i PROP'!O37","v":"N/A"},{"$f":"+IF(Table41[[#This Row],[ALERTA]]=\"RED\",2,IF(Table41[[#This Row],[ALERTA]]=\"AMBER\",1,0))","v":0}]
[null,null,null,null,null,null,null,null,null,null,null,null,null,null,null,null,null,null,null,null,null,null,null,null,null,null,null,null,null,null,null,null,null,null,null,null,null,null,null,null,null,null,null,null,null,null,null,null,null,null,{"$f":"+'2.NECES i PROP'!A38","v":"P13"},{"$f":"+'2.NECES i PROP'!O38","v":"N/A"},{"$f":"+IF(Table41[[#This Row],[ALERTA]]=\"RED\",2,IF(Table41[[#This Row],[ALERTA]]=\"AMBER\",1,0))","v":0}]
[null,null,null,null,null,null,null,null,null,null,null,null,null,null,null,null,null,null,null,null,null,null,null,null,null,null,null,null,null,null,null,null,null,null,null,null,null,null,null,null,null,null,null,null,null,null,null,null,null,null,{"$f":"+'2.NECES i PROP'!A39","v":"P14"},{"$f":"+'2.NECES i PROP'!O39","v":0},{"$f":"+IF(Table41[[#This Row],[ALERTA]]=\"RED\",2,IF(Table41[[#This Row],[ALERTA]]=\"AMBER\",1,0))","v":0}]
[null,null,null,null,null,null,null,null,null,null,null,null,null,null,null,null,null,null,null,null,null,null,null,null,null,null,null,null,null,null,null,null,null,null,null,null,null,null,null,null,null,null,null,null,null,null,null,null,null,null,{"$f":"+'2.NECES i PROP'!A40","v":"P14"},{"$f":"+'2.NECES i PROP'!O40","v":"GREEN"},{"$f":"+IF(Table41[[#This Row],[ALERTA]]=\"RED\",2,IF(Table41[[#This Row],[ALERTA]]=\"AMBER\",1,0))","v":0}]
[null,null,null,null,null,null,null,null,null,null,null,null,null,null,null,null,null,null,null,null,null,null,null,null,null,null,null,null,null,null,null,null,null,null,null,null,null,null,null,null,null,null,null,null,null,null,null,null,null,null,{"$f":"+'2.NECES i PROP'!A41","v":"P14"},{"$f":"+'2.NECES i PROP'!O41","v":"N/A"},{"$f":"+IF(Table41[[#This Row],[ALERTA]]=\"RED\",2,IF(Table41[[#This Row],[ALERTA]]=\"AMBER\",1,0))","v":0}]
[null,null,null,null,null,null,null,null,null,null,null,null,null,null,null,null,null,null,null,null,null,null,null,null,null,null,null,null,null,null,null,null,null,null,null,null,null,null,null,null,null,null,null,null,null,null,null,null,null,null,{"$f":"+'2.NECES i PROP'!A42","v":"P14"},{"$f":"+'2.NECES i PROP'!O42","v":"N/A"},{"$f":"+IF(Table41[[#This Row],[ALERTA]]=\"RED\",2,IF(Table41[[#This Row],[ALERTA]]=\"AMBER\",1,0))","v":0}]
[null,null,null,null,null,null,null,null,null,null,null,null,null,null,null,null,null,null,null,null,null,null,null,null,null,null,null,null,null,null,null,null,null,null,null,null,null,null,null,null,null,null,null,null,null,null,null,null,null,null,{"$f":"+'2.NECES i PROP'!A43","v":"P14"},{"$f":"+'2.NECES i PROP'!O43","v":"N/A"},{"$f":"+IF(Table41[[#This Row],[ALERTA]]=\"RED\",2,IF(Table41[[#This Row],[ALERTA]]=\"AMBER\",1,0))","v":0}]
[null,null,null,null,null,null,null,null,null,null,null,null,null,null,null,null,null,null,null,null,null,null,null,null,null,null,null,null,null,null,null,null,null,null,null,null,null,null,null,null,null,null,null,null,null,null,null,null,null,null,{"$f":"+'2.NECES i PROP'!A44","v":"P15"},{"$f":"+'2.NECES i PROP'!O44","v":0},{"$f":"+IF(Table41[[#This Row],[ALERTA]]=\"RED\",2,IF(Table41[[#This Row],[ALERTA]]=\"AMBER\",1,0))","v":0}]
[null,null,null,null,null,null,null,null,null,null,null,null,null,null,null,null,null,null,null,null,null,null,null,null,null,null,null,null,null,null,null,null,null,null,null,null,null,null,null,null,null,null,null,null,null,null,null,null,null,null,{"$f":"+'2.NECES i PROP'!A45","v":"P15"},{"$f":"+'2.NECES i PROP'!O45","v":"GREEN"},{"$f":"+IF(Table41[[#This Row],[ALERTA]]=\"RED\",2,IF(Table41[[#This Row],[ALERTA]]=\"AMBER\",1,0))","v":0}]
[null,null,null,null,null,null,null,null,null,null,null,null,null,null,null,null,null,null,null,null,null,null,null,null,null,null,null,null,null,null,null,null,null,null,null,null,null,null,null,null,null,null,null,null,null,null,null,null,null,null,{"$f":"+'2.NECES i PROP'!A46","v":"P15"},{"$f":"+'2.NECES i PROP'!O46","v":"N/A"},{"$f":"+IF(Table41[[#This Row],[ALERTA]]=\"RED\",2,IF(Table41[[#This Row],[ALERTA]]=\"AMBER\",1,0))","v":0}]
[null,null,null,null,null,null,null,null,null,null,null,null,null,null,null,null,null,null,null,null,null,null,null,null,null,null,null,null,null,null,null,null,null,null,null,null,null,null,null,null,null,null,null,null,null,null,null,null,null,null,{"$f":"+'2.NECES i PROP'!A47","v":"P15"},{"$f":"+'2.NECES i PROP'!O47","v":"N/A"},{"$f":"+IF(Table41[[#This Row],[ALERTA]]=\"RED\",2,IF(Table41[[#This Row],[ALERTA]]=\"AMBER\",1,0))","v":0}]
[null,null,null,null,null,null,null,null,null,null,null,null,null,null,null,null,null,null,null,null,null,null,null,null,null,null,null,null,null,null,null,null,null,null,null,null,null,null,null,null,null,null,null,null,null,null,null,null,null,null,{"$f":"+'2.NECES i PROP'!A48","v":"P15"},{"$f":"+'2.NECES i PROP'!O48","v":"N/A"},{"$f":"+IF(Table41[[#This Row],[ALERTA]]=\"RED\",2,IF(Table41[[#This Row],[ALERTA]]=\"AMBER\",1,0))","v":0}]
[null,null,null,null,null,null,null,null,null,null,null,null,null,null,null,null,null,null,null,null,null,null,null,null,null,null,null,null,null,null,null,null,null,null,null,null,null,null,null,null,null,null,null,null,null,null,null,null,null,null,{"$f":"+'2.NECES i PROP'!A49","v":"P15"},{"$f":"+'2.NECES i PROP'!O49","v":"N/A"},{"$f":"+IF(Table41[[#This Row],[ALERTA]]=\"RED\",2,IF(Table41[[#This Row],[ALERTA]]=\"AMBER\",1,0))","v":0}]
[null,null,null,null,null,null,null,null,null,null,null,null,null,null,null,null,null,null,null,null,null,null,null,null,null,null,null,null,null,null,null,null,null,null,null,null,null,null,null,null,null,null,null,null,null,null,null,null,null,null,{"$f":"+'2.NECES i PROP'!A50","v":"P15"},{"$f":"+'2.NECES i PROP'!O50","v":"N/A"},{"$f":"+IF(Table41[[#This Row],[ALERTA]]=\"RED\",2,IF(Table41[[#This Row],[ALERTA]]=\"AMBER\",1,0))","v":0}]
[null,null,null,null,null,null,null,null,null,null,null,null,null,null,null,null,null,null,null,null,null,null,null,null,null,null,null,null,null,null,null,null,null,null,null,null,null,null,null,null,null,null,null,null,null,null,null,null,null,null,{"$f":"+'2.NECES i PROP'!A51","v":"P15"},{"$f":"+'2.NECES i PROP'!O51","v":"N/A"},{"$f":"+IF(Table41[[#This Row],[ALERTA]]=\"RED\",2,IF(Table41[[#This Row],[ALERTA]]=\"AMBER\",1,0))","v":0}]
[null,null,null,null,null,null,null,null,null,null,null,null,null,null,null,null,null,null,null,null,null,null,null,null,null,null,null,null,null,null,null,null,null,null,null,null,null,null,null,null,null,null,null,null,null,null,null,null,null,null,{"$f":"+'2.NECES i PROP'!A52","v":"P15"},{"$f":"+'2.NECES i PROP'!O52","v":"N/A"},{"$f":"+IF(Table41[[#This Row],[ALERTA]]=\"RED\",2,IF(Table41[[#This Row],[ALERTA]]=\"AMBER\",1,0))","v":0}]
[null,null,null,null,null,null,null,null,null,null,null,null,null,null,null,null,null,null,null,null,null,null,null,null,null,null,null,null,null,null,null,null,null,null,null,null,null,null,null,null,null,null,null,null,null,null,null,null,null,null,{"$f":"+'2.NECES i PROP'!A53","v":"P15"},{"$f":"+'2.NECES i PROP'!O53","v":"N/A"},{"$f":"+IF(Table41[[#This Row],[ALERTA]]=\"RED\",2,IF(Table41[[#This Row],[ALERTA]]=\"AMBER\",1,0))","v":0}]
[null,null,null,null,null,null,null,null,null,null,null,null,null,null,null,null,null,null,null,null,null,null,null,null,null,null,null,null,null,null,null,null,null,null,null,null,null,null,null,null,null,null,null,null,null,null,null,null,null,null,{"$f":"+'2.NECES i PROP'!A54","v":"P15"},{"$f":"+'2.NECES i PROP'!O54","v":"N/A"},{"$f":"+IF(Table41[[#This Row],[ALERTA]]=\"RED\",2,IF(Table41[[#This Row],[ALERTA]]=\"AMBER\",1,0))","v":0}]
[null,null,null,null,null,null,null,null,null,null,null,null,null,null,null,null,null,null,null,null,null,null,null,null,null,null,null,null,null,null,null,null,null,null,null,null,null,null,null,null,null,null,null,null,null,null,null,null,null,null,{"$f":"+'2.NECES i PROP'!A55","v":"P16"},{"$f":"+'2.NECES i PROP'!O55","v":0},{"$f":"+IF(Table41[[#This Row],[ALERTA]]=\"RED\",2,IF(Table41[[#This Row],[ALERTA]]=\"AMBER\",1,0))","v":0}]
[null,null,null,null,null,null,null,null,null,null,null,null,null,null,null,null,null,null,null,null,null,null,null,null,null,null,null,null,null,null,null,null,null,null,null,null,null,null,null,null,null,null,null,null,null,null,null,null,null,null,{"$f":"+'2.NECES i PROP'!A56","v":"P16"},{"$f":"+'2.NECES i PROP'!O56","v":"N/A"},{"$f":"+IF(Table41[[#This Row],[ALERTA]]=\"RED\",2,IF(Table41[[#This Row],[ALERTA]]=\"AMBER\",1,0))","v":0}]
[null,null,null,null,null,null,null,null,null,null,null,null,null,null,null,null,null,null,null,null,null,null,null,null,null,null,null,null,null,null,null,null,null,null,null,null,null,null,null,null,null,null,null,null,null,null,null,null,null,null,{"$f":"+'2.NECES i PROP'!A57","v":"P16"},{"$f":"+'2.NECES i PROP'!O57","v":0},{"$f":"+IF(Table41[[#This Row],[ALERTA]]=\"RED\",2,IF(Table41[[#This Row],[ALERTA]]=\"AMBER\",1,0))","v":0}]
[null,null,null,null,null,null,null,null,null,null,null,null,null,null,null,null,null,null,null,null,null,null,null,null,null,null,null,null,null,null,null,null,null,null,null,null,null,null,null,null,null,null,null,null,null,null,null,null,null,null,{"$f":"+'2.NECES i PROP'!A58","v":"P20"},{"$f":"+'2.NECES i PROP'!O58","v":0},{"$f":"+IF(Table41[[#This Row],[ALERTA]]=\"RED\",2,IF(Table41[[#This Row],[ALERTA]]=\"AMBER\",1,0))","v":0}]
[null,null,null,null,null,null,null,null,null,null,null,null,null,null,null,null,null,null,null,null,null,null,null,null,null,null,null,null,null,null,null,null,null,null,null,null,null,null,null,null,null,null,null,null,null,null,null,null,null,null,{"$f":"+'2.NECES i PROP'!A59","v":"P20"},{"$f":"+'2.NECES i PROP'!O59","v":"INPUT REQ"},{"$f":"+IF(Table41[[#This Row],[ALERTA]]=\"RED\",2,IF(Table41[[#This Row],[ALERTA]]=\"AMBER\",1,0))","v":0}]
[null,null,null,null,null,null,null,null,null,null,null,null,null,null,null,null,null,null,null,null,null,null,null,null,null,null,null,null,null,null,null,null,null,null,null,null,null,null,null,null,null,null,null,null,null,null,null,null,null,null,{"$f":"+'2.NECES i PROP'!A60","v":"P20"},{"$f":"+'2.NECES i PROP'!O60","v":"INPUT REQ"},{"$f":"+IF(Table41[[#This Row],[ALERTA]]=\"RED\",2,IF(Table41[[#This Row],[ALERTA]]=\"AMBER\",1,0))","v":0}]
[null,null,null,null,null,null,null,null,null,null,null,null,null,null,null,null,null,null,null,null,null,null,null,null,null,null,null,null,null,null,null,null,null,null,null,null,null,null,null,null,null,null,null,null,null,null,null,null,null,null,{"$f":"+'2.NECES i PROP'!A61","v":"P20"},{"$f":"+'2.NECES i PROP'!O61","v":"INPUT REQ"},{"$f":"+IF(Table41[[#This Row],[ALERTA]]=\"RED\",2,IF(Table41[[#This Row],[ALERTA]]=\"AMBER\",1,0))","v":0}]
[null,null,null,null,null,null,null,null,null,null,null,null,null,null,null,null,null,null,null,null,null,null,null,null,null,null,null,null,null,null,null,null,null,null,null,null,null,null,null,null,null,null,null,null,null,null,null,null,null,null,{"$f":"+'2.NECES i PROP'!A62","v":"P20"},{"$f":"+'2.NECES i PROP'!O62","v":"INPUT REQ"},{"$f":"+IF(Table41[[#This Row],[ALERTA]]=\"RED\",2,IF(Table41[[#This Row],[ALERTA]]=\"AMBER\",1,0))","v":0}]
[null,null,null,null,null,null,null,null,null,null,null,null,null,null,null,null,null,null,null,null,null,null,null,null,null,null,null,null,null,null,null,null,null,null,null,null,null,null,null,null,null,null,null,null,null,null,null,null,null,null,{"$f":"+'2.NECES i PROP'!A63","v":"P20"},{"$f":"+'2.NECES i PROP'!O63","v":"INPUT REQ"},{"$f":"+IF(Table41[[#This Row],[ALERTA]]=\"RED\",2,IF(Table41[[#This Row],[ALERTA]]=\"AMBER\",1,0))","v":0}]
[null,null,null,null,null,null,null,null,null,null,null,null,null,null,null,null,null,null,null,null,null,null,null,null,null,null,null,null,null,null,null,null,null,null,null,null,null,null,null,null,null,null,null,null,null,null,null,null,null,null,{"$f":"+'2.NECES i PROP'!A64","v":"P30"},{"$f":"+'2.NECES i PROP'!O64","v":0},{"$f":"+IF(Table41[[#This Row],[ALERTA]]=\"RED\",2,IF(Table41[[#This Row],[ALERTA]]=\"AMBER\",1,0))","v":0}]
[null,null,null,null,null,null,null,null,null,null,null,null,null,null,null,null,null,null,null,null,null,null,null,null,null,null,null,null,null,null,null,null,null,null,null,null,null,null,null,null,null,null,null,null,null,null,null,null,null,null,{"$f":"+'2.NECES i PROP'!A65","v":"P30"},{"$f":"+'2.NECES i PROP'!O65","v":"N/A"},{"$f":"+IF(Table41[[#This Row],[ALERTA]]=\"RED\",2,IF(Table41[[#This Row],[ALERTA]]=\"AMBER\",1,0))","v":0}]
[null,null,null,null,null,null,null,null,null,null,null,null,null,null,null,null,null,null,null,null,null,null,null,null,null,null,null,null,null,null,null,null,null,null,null,null,null,null,null,null,null,null,null,null,null,null,null,null,null,null,{"$f":"+'2.NECES i PROP'!A66","v":"P30"},{"$f":"+'2.NECES i PROP'!O66","v":"N/A"},{"$f":"+IF(Table41[[#This Row],[ALERTA]]=\"RED\",2,IF(Table41[[#This Row],[ALERTA]]=\"AMBER\",1,0))","v":0}]
[null,null,null,null,null,null,null,null,null,null,null,null,null,null,null,null,null,null,null,null,null,null,null,null,null,null,null,null,null,null,null,null,null,null,null,null,null,null,null,null,null,null,null,null,null,null,null,null,null,null,{"$f":"+'2.NECES i PROP'!A67","v":"P30"},{"$f":"+'2.NECES i PROP'!O67","v":"N/A"},{"$f":"+IF(Table41[[#This Row],[ALERTA]]=\"RED\",2,IF(Table41[[#This Row],[ALERTA]]=\"AMBER\",1,0))","v":0}]
[null,null,null,null,null,null,null,null,null,null,null,null,null,null,null,null,null,null,null,null,null,null,null,null,null,null,null,null,null,null,null,null,null,null,null,null,null,null,null,null,null,null,null,null,null,null,null,null,null,null,{"$f":"+'2.NECES i PROP'!A68","v":"P30"},{"$f":"+'2.NECES i PROP'!O68","v":"N/A"},{"$f":"+IF(Table41[[#This Row],[ALERTA]]=\"RED\",2,IF(Table41[[#This Row],[ALERTA]]=\"AMBER\",1,0))","v":0}]
[null,null,null,null,null,null,null,null,null,null,null,null,null,null,null,null,null,null,null,null,null,null,null,null,null,null,null,null,null,null,null,null,null,null,null,null,null,null,null,null,null,null,null,null,null,null,null,null,null,null,{"$f":"+'2.NECES i PROP'!A69","v":"P30"},{"$f":"+'2.NECES i PROP'!O69","v":"N/A"},{"$f":"+IF(Table41[[#This Row],[ALERTA]]=\"RED\",2,IF(Table41[[#This Row],[ALERTA]]=\"AMBER\",1,0))","v":0}]
[null,null,null,null,null,null,null,null,null,null,null,null,null,null,null,null,null,null,null,null,null,null,null,null,null,null,null,null,null,null,null,null,null,null,null,null,null,null,null,null,null,null,null,null,null,null,null,null,null,null,{"$f":"+'2.NECES i PROP'!A70","v":"P30"},{"$f":"+'2.NECES i PROP'!O70","v":"INPUT REQ"},{"$f":"+IF(Table41[[#This Row],[ALERTA]]=\"RED\",2,IF(Table41[[#This Row],[ALERTA]]=\"AMBER\",1,0))","v":0}]
[null,null,null,null,null,null,null,null,null,null,null,null,null,null,null,null,null,null,null,null,null,null,null,null,null,null,null,null,null,null,null,null,null,null,null,null,null,null,null,null,null,null,null,null,null,null,null,null,null,null,{"$f":"+'2.NECES i PROP'!A71","v":"P30"},{"$f":"+'2.NECES i PROP'!O71","v":"INPUT REQ"},{"$f":"+IF(Table41[[#This Row],[ALERTA]]=\"RED\",2,IF(Table41[[#This Row],[ALERTA]]=\"AMBER\",1,0))","v":0}]
[null,null,null,null,null,null,null,null,null,null,null,null,null,null,null,null,null,null,null,null,null,null,null,null,null,null,null,null,null,null,null,null,null,null,null,null,null,null,null,null,null,null,null,null,null,null,null,null,null,null,{"$f":"+'2.NECES i PROP'!A72","v":"P30"},{"$f":"+'2.NECES i PROP'!O72","v":"INPUT REQ"},{"$f":"+IF(Table41[[#This Row],[ALERTA]]=\"RED\",2,IF(Table41[[#This Row],[ALERTA]]=\"AMBER\",1,0))","v":0}]
[null,null,null,null,null,null,null,null,null,null,null,null,null,null,null,null,null,null,null,null,null,null,null,null,null,null,null,null,null,null,null,null,null,null,null,null,null,null,null,null,null,null,null,null,null,null,null,null,null,null,{"$f":"+'2.NECES i PROP'!A73","v":"P40"},{"$f":"+'2.NECES i PROP'!O73","v":0},{"$f":"+IF(Table41[[#This Row],[ALERTA]]=\"RED\",2,IF(Table41[[#This Row],[ALERTA]]=\"AMBER\",1,0))","v":0}]
[null,null,null,null,null,null,null,null,null,null,null,null,null,null,null,null,null,null,null,null,null,null,null,null,null,null,null,null,null,null,null,null,null,null,null,null,null,null,null,null,null,null,null,null,null,null,null,null,null,null,{"$f":"+'2.NECES i PROP'!A74","v":"P40"},{"$f":"+'2.NECES i PROP'!O74","v":"INPUT REQ"},{"$f":"+IF(Table41[[#This Row],[ALERTA]]=\"RED\",2,IF(Table41[[#This Row],[ALERTA]]=\"AMBER\",1,0))","v":0}]
[null,null,null,null,null,null,null,null,null,null,null,null,null,null,null,null,null,null,null,null,null,null,null,null,null,null,null,null,null,null,null,null,null,null,null,null,null,null,null,null,null,null,null,null,null,null,null,null,null,null,{"$f":"+'2.NECES i PROP'!A75","v":"P40"},{"$f":"+'2.NECES i PROP'!O75","v":"INPUT REQ"},{"$f":"+IF(Table41[[#This Row],[ALERTA]]=\"RED\",2,IF(Table41[[#This Row],[ALERTA]]=\"AMBER\",1,0))","v":0}]
[null,null,null,null,null,null,null,null,null,null,null,null,null,null,null,null,null,null,null,null,null,null,null,null,null,null,null,null,null,null,null,null,null,null,null,null,null,null,null,null,null,null,null,null,null,null,null,null,null,null,{"$f":"+'2.NECES i PROP'!A76","v":"P40"},{"$f":"+'2.NECES i PROP'!O76","v":"N/A"},{"$f":"+IF(Table41[[#This Row],[ALERTA]]=\"RED\",2,IF(Table41[[#This Row],[ALERTA]]=\"AMBER\",1,0))","v":0}]
[null,null,null,null,null,null,null,null,null,null,null,null,null,null,null,null,null,null,null,null,null,null,null,null,null,null,null,null,null,null,null,null,null,null,null,null,null,null,null,null,null,null,null,null,null,null,null,null,null,null,{"$f":"+'2.NECES i PROP'!A77","v":"P40"},{"$f":"+'2.NECES i PROP'!O77","v":"N/A"},{"$f":"+IF(Table41[[#This Row],[ALERTA]]=\"RED\",2,IF(Table41[[#This Row],[ALERTA]]=\"AMBER\",1,0))","v":0}]
[null,null,null,null,null,null,null,null,null,null,null,null,null,null,null,null,null,null,null,null,null,null,null,null,null,null,null,null,null,null,null,null,null,null,null,null,null,null,null,null,null,null,null,null,null,null,null,null,null,null,{"$f":"+'2.NECES i PROP'!A78","v":"P40"},{"$f":"+'2.NECES i PROP'!O78","v":"N/A"},{"$f":"+IF(Table41[[#This Row],[ALERTA]]=\"RED\",2,IF(Table41[[#This Row],[ALERTA]]=\"AMBER\",1,0))","v":0}]
[null,null,null,null,null,null,null,null,null,null,null,null,null,null,null,null,null,null,null,null,null,null,null,null,null,null,null,null,null,null,null,null,null,null,null,null,null,null,null,null,null,null,null,null,null,null,null,null,null,null,{"$f":"+'2.NECES i PROP'!A79","v":"P40"},{"$f":"+'2.NECES i PROP'!O79","v":"N/A"},{"$f":"+IF(Table41[[#This Row],[ALERTA]]=\"RED\",2,IF(Table41[[#This Row],[ALERTA]]=\"AMBER\",1,0))","v":0}]
[null,null,null,null,null,null,null,null,null,null,null,null,null,null,null,null,null,null,null,null,null,null,null,null,null,null,null,null,null,null,null,null,null,null,null,null,null,null,null,null,null,null,null,null,null,null,null,null,null,null,{"$f":"+'2.NECES i PROP'!A80","v":"P40"},{"$f":"+'2.NECES i PROP'!O80","v":"N/A"},{"$f":"+IF(Table41[[#This Row],[ALERTA]]=\"RED\",2,IF(Table41[[#This Row],[ALERTA]]=\"AMBER\",1,0))","v":0}]
[null,null,null,null,null,null,null,null,null,null,null,null,null,null,null,null,null,null,null,null,null,null,null,null,null,null,null,null,null,null,null,null,null,null,null,null,null,null,null,null,null,null,null,null,null,null,null,null,null,null,{"$f":"+'2.NECES i PROP'!A81","v":"P50"},{"$f":"+'2.NECES i PROP'!O81","v":0},{"$f":"+IF(Table41[[#This Row],[ALERTA]]=\"RED\",2,IF(Table41[[#This Row],[ALERTA]]=\"AMBER\",1,0))","v":0}]
[null,null,null,null,null,null,null,null,null,null,null,null,null,null,null,null,null,null,null,null,null,null,null,null,null,null,null,null,null,null,null,null,null,null,null,null,null,null,null,null,null,null,null,null,null,null,null,null,null,null,{"$f":"+'2.NECES i PROP'!A82","v":"P50"},{"$f":"+'2.NECES i PROP'!O82","v":0},{"$f":"+IF(Table41[[#This Row],[ALERTA]]=\"RED\",2,IF(Table41[[#This Row],[ALERTA]]=\"AMBER\",1,0))","v":0}]
[null,null,null,null,null,null,null,null,null,null,null,null,null,null,null,null,null,null,null,null,null,null,null,null,null,null,null,null,null,null,null,null,null,null,null,null,null,null,null,null,null,null,null,null,null,null,null,null,null,null,{"$f":"+'2.NECES i PROP'!A83","v":"P50"},{"$f":"+'2.NECES i PROP'!O83","v":"INPUT REQ"},{"$f":"+IF(Table41[[#This Row],[ALERTA]]=\"RED\",2,IF(Table41[[#This Row],[ALERTA]]=\"AMBER\",1,0))","v":0}]
[null,null,null,null,null,null,null,null,null,null,null,null,null,null,null,null,null,null,null,null,null,null,null,null,null,null,null,null,null,null,null,null,null,null,null,null,null,null,null,null,null,null,null,null,null,null,null,null,null,null,{"$f":"+'2.NECES i PROP'!A84","v":"P50"},{"$f":"+'2.NECES i PROP'!O84","v":"INPUT REQ"},{"$f":"+IF(Table41[[#This Row],[ALERTA]]=\"RED\",2,IF(Table41[[#This Row],[ALERTA]]=\"AMBER\",1,0))","v":0}]
[null,null,null,null,null,null,null,null,null,null,null,null,null,null,null,null,null,null,null,null,null,null,null,null,null,null,null,null,null,null,null,null,null,null,null,null,null,null,null,null,null,null,null,null,null,null,null,null,null,null,{"$f":"+'2.NECES i PROP'!A85","v":"P50"},{"$f":"+'2.NECES i PROP'!O85","v":"INPUT REQ"},{"$f":"+IF(Table41[[#This Row],[ALERTA]]=\"RED\",2,IF(Table41[[#This Row],[ALERTA]]=\"AMBER\",1,0))","v":0}]
[null,null,null,null,null,null,null,null,null,null,null,null,null,null,null,null,null,null,null,null,null,null,null,null,null,null,null,null,null,null,null,null,null,null,null,null,null,null,null,null,null,null,null,null,null,null,null,null,null,null,{"$f":"+'2.NECES i PROP'!A86","v":"P60"},{"$f":"+'2.NECES i PROP'!O86","v":0},{"$f":"+IF(Table41[[#This Row],[ALERTA]]=\"RED\",2,IF(Table41[[#This Row],[ALERTA]]=\"AMBER\",1,0))","v":0}]
[null,null,null,null,null,null,null,null,null,null,null,null,null,null,null,null,null,null,null,null,null,null,null,null,null,null,null,null,null,null,null,null,null,null,null,null,null,null,null,null,null,null,null,null,null,null,null,null,null,null,{"$f":"+'2.NECES i PROP'!A87","v":"P60"},{"$f":"+'2.NECES i PROP'!O87","v":"INPUT REQ"},{"$f":"+IF(Table41[[#This Row],[ALERTA]]=\"RED\",2,IF(Table41[[#This Row],[ALERTA]]=\"AMBER\",1,0))","v":0}]
[null,null,null,null,null,null,null,null,null,null,null,null,null,null,null,null,null,null,null,null,null,null,null,null,null,null,null,null,null,null,null,null,null,null,null,null,null,null,null,null,null,null,null,null,null,null,null,null,null,null,{"$f":"+'2.NECES i PROP'!A88","v":"P60"},{"$f":"+'2.NECES i PROP'!O88","v":"N/A"},{"$f":"+IF(Table41[[#This Row],[ALERTA]]=\"RED\",2,IF(Table41[[#This Row],[ALERTA]]=\"AMBER\",1,0))","v":0}]
[null,null,null,null,null,null,null,null,null,null,null,null,null,null,null,null,null,null,null,null,null,null,null,null,null,null,null,null,null,null,null,null,null,null,null,null,null,null,null,null,null,null,null,null,null,null,null,null,null,null,{"$f":"+'3.DRETS'!A3","v":"D10"},{"$f":"+'3.DRETS'!O3","v":0},{"$f":"+IF(Table41[[#This Row],[ALERTA]]=\"RED\",2,IF(Table41[[#This Row],[ALERTA]]=\"AMBER\",1,0))","v":0}]
[null,null,null,null,null,null,null,null,null,null,null,null,null,null,null,null,null,null,null,null,null,null,null,null,null,null,null,null,null,null,null,null,null,null,null,null,null,null,null,null,null,null,null,null,null,null,null,null,null,null,{"$f":"+'3.DRETS'!A4","v":"D10"},{"$f":"+'3.DRETS'!O4","v":0},{"$f":"+IF(Table41[[#This Row],[ALERTA]]=\"RED\",2,IF(Table41[[#This Row],[ALERTA]]=\"AMBER\",1,0))","v":0}]
[null,null,null,null,null,null,null,null,null,null,null,null,null,null,null,null,null,null,null,null,null,null,null,null,null,null,null,null,null,null,null,null,null,null,null,null,null,null,null,null,null,null,null,null,null,null,null,null,null,null,{"$f":"+'3.DRETS'!A5","v":"D10"},{"$f":"+'3.DRETS'!O5","v":"INPUT REQ"},{"$f":"+IF(Table41[[#This Row],[ALERTA]]=\"RED\",2,IF(Table41[[#This Row],[ALERTA]]=\"AMBER\",1,0))","v":0}]
[null,null,null,null,null,null,null,null,null,null,null,null,null,null,null,null,null,null,null,null,null,null,null,null,null,null,null,null,null,null,null,null,null,null,null,null,null,null,null,null,null,null,null,null,null,null,null,null,null,null,{"$f":"+'3.DRETS'!A6","v":"D10"},{"$f":"+'3.DRETS'!O6","v":"INPUT REQ"},{"$f":"+IF(Table41[[#This Row],[ALERTA]]=\"RED\",2,IF(Table41[[#This Row],[ALERTA]]=\"AMBER\",1,0))","v":0}]
[null,null,null,null,null,null,null,null,null,null,null,null,null,null,null,null,null,null,null,null,null,null,null,null,null,null,null,null,null,null,null,null,null,null,null,null,null,null,null,null,null,null,null,null,null,null,null,null,null,null,{"$f":"+'3.DRETS'!A7","v":"D10"},{"$f":"+'3.DRETS'!O7","v":"INPUT REQ"},{"$f":"+IF(Table41[[#This Row],[ALERTA]]=\"RED\",2,IF(Table41[[#This Row],[ALERTA]]=\"AMBER\",1,0))","v":0}]
[null,null,null,null,null,null,null,null,null,null,null,null,null,null,null,null,null,null,null,null,null,null,null,null,null,null,null,null,null,null,null,null,null,null,null,null,null,null,null,null,null,null,null,null,null,null,null,null,null,null,{"$f":"+'3.DRETS'!A8","v":"D10"},{"$f":"+'3.DRETS'!O8","v":0},{"$f":"+IF(Table41[[#This Row],[ALERTA]]=\"RED\",2,IF(Table41[[#This Row],[ALERTA]]=\"AMBER\",1,0))","v":0}]
[null,null,null,null,null,null,null,null,null,null,null,null,null,null,null,null,null,null,null,null,null,null,null,null,null,null,null,null,null,null,null,null,null,null,null,null,null,null,null,null,null,null,null,null,null,null,null,null,null,null,{"$f":"+'3.DRETS'!A9","v":"D10"},{"$f":"+'3.DRETS'!O9","v":"N/A"},{"$f":"+IF(Table41[[#This Row],[ALERTA]]=\"RED\",2,IF(Table41[[#This Row],[ALERTA]]=\"AMBER\",1,0))","v":0}]
[null,null,null,null,null,null,null,null,null,null,null,null,null,null,null,null,null,null,null,null,null,null,null,null,null,null,null,null,null,null,null,null,null,null,null,null,null,null,null,null,null,null,null,null,null,null,null,null,null,null,{"$f":"+'3.DRETS'!A10","v":"D10"},{"$f":"+'3.DRETS'!O10","v":"N/A"},{"$f":"+IF(Table41[[#This Row],[ALERTA]]=\"RED\",2,IF(Table41[[#This Row],[ALERTA]]=\"AMBER\",1,0))","v":0}]
[null,null,null,null,null,null,null,null,null,null,null,null,null,null,null,null,null,null,null,null,null,null,null,null,null,null,null,null,null,null,null,null,null,null,null,null,null,null,null,null,null,null,null,null,null,null,null,null,null,null,{"$f":"+'3.DRETS'!A11","v":"D10"},{"$f":"+'3.DRETS'!O11","v":"N/A"},{"$f":"+IF(Table41[[#This Row],[ALERTA]]=\"RED\",2,IF(Table41[[#This Row],[ALERTA]]=\"AMBER\",1,0))","v":0}]
[null,null,null,null,null,null,null,null,null,null,null,null,null,null,null,null,null,null,null,null,null,null,null,null,null,null,null,null,null,null,null,null,null,null,null,null,null,null,null,null,null,null,null,null,null,null,null,null,null,null,{"$f":"+'3.DRETS'!A12","v":"D10"},{"$f":"+'3.DRETS'!O12","v":"N/A"},{"$f":"+IF(Table41[[#This Row],[ALERTA]]=\"RED\",2,IF(Table41[[#This Row],[ALERTA]]=\"AMBER\",1,0))","v":0}]
[null,null,null,null,null,null,null,null,null,null,null,null,null,null,null,null,null,null,null,null,null,null,null,null,null,null,null,null,null,null,null,null,null,null,null,null,null,null,null,null,null,null,null,null,null,null,null,null,null,null,{"$f":"+'3.DRETS'!A13","v":"D10"},{"$f":"+'3.DRETS'!O13","v":0},{"$f":"+IF(Table41[[#This Row],[ALERTA]]=\"RED\",2,IF(Table41[[#This Row],[ALERTA]]=\"AMBER\",1,0))","v":0}]
[null,null,null,null,null,null,null,null,null,null,null,null,null,null,null,null,null,null,null,null,null,null,null,null,null,null,null,null,null,null,null,null,null,null,null,null,null,null,null,null,null,null,null,null,null,null,null,null,null,null,{"$f":"+'3.DRETS'!A14","v":"D10"},{"$f":"+'3.DRETS'!O14","v":"N/A"},{"$f":"+IF(Table41[[#This Row],[ALERTA]]=\"RED\",2,IF(Table41[[#This Row],[ALERTA]]=\"AMBER\",1,0))","v":0}]
[null,null,null,null,null,null,null,null,null,null,null,null,null,null,null,null,null,null,null,null,null,null,null,null,null,null,null,null,null,null,null,null,null,null,null,null,null,null,null,null,null,null,null,null,null,null,null,null,null,null,{"$f":"+'3.DRETS'!A15","v":"D10"},{"$f":"+'3.DRETS'!O15","v":"N/A"},{"$f":"+IF(Table41[[#This Row],[ALERTA]]=\"RED\",2,IF(Table41[[#This Row],[ALERTA]]=\"AMBER\",1,0))","v":0}]
[null,null,null,null,null,null,null,null,null,null,null,null,null,null,null,null,null,null,null,null,null,null,null,null,null,null,null,null,null,null,null,null,null,null,null,null,null,null,null,null,null,null,null,null,null,null,null,null,null,null,{"$f":"+'3.DRETS'!A16","v":"D10"},{"$f":"+'3.DRETS'!O16","v":"N/A"},{"$f":"+IF(Table41[[#This Row],[ALERTA]]=\"RED\",2,IF(Table41[[#This Row],[ALERTA]]=\"AMBER\",1,0))","v":0}]
[null,null,null,null,null,null,null,null,null,null,null,null,null,null,null,null,null,null,null,null,null,null,null,null,null,null,null,null,null,null,null,null,null,null,null,null,null,null,null,null,null,null,null,null,null,null,null,null,null,null,{"$f":"+'3.DRETS'!A17","v":"D10"},{"$f":"+'3.DRETS'!O17","v":"N/A"},{"$f":"+IF(Table41[[#This Row],[ALERTA]]=\"RED\",2,IF(Table41[[#This Row],[ALERTA]]=\"AMBER\",1,0))","v":0}]
[null,null,null,null,null,null,null,null,null,null,null,null,null,null,null,null,null,null,null,null,null,null,null,null,null,null,null,null,null,null,null,null,null,null,null,null,null,null,null,null,null,null,null,null,null,null,null,null,null,null,{"$f":"+'3.DRETS'!A18","v":"D10"},{"$f":"+'3.DRETS'!O18","v":"INPUT REQ"},{"$f":"+IF(Table41[[#This Row],[ALERTA]]=\"RED\",2,IF(Table41[[#This Row],[ALERTA]]=\"AMBER\",1,0))","v":0}]
[null,null,null,null,null,null,null,null,null,null,null,null,null,null,null,null,null,null,null,null,null,null,null,null,null,null,null,null,null,null,null,null,null,null,null,null,null,null,null,null,null,null,null,null,null,null,null,null,null,null,{"$f":"+'3.DRETS'!A19","v":"D10"},{"$f":"+'3.DRETS'!O19","v":"INPUT REQ"},{"$f":"+IF(Table41[[#This Row],[ALERTA]]=\"RED\",2,IF(Table41[[#This Row],[ALERTA]]=\"AMBER\",1,0))","v":0}]
[null,null,null,null,null,null,null,null,null,null,null,null,null,null,null,null,null,null,null,null,null,null,null,null,null,null,null,null,null,null,null,null,null,null,null,null,null,null,null,null,null,null,null,null,null,null,null,null,null,null,{"$f":"+'3.DRETS'!A20","v":"D20"},{"$f":"+'3.DRETS'!O20","v":0},{"$f":"+IF(Table41[[#This Row],[ALERTA]]=\"RED\",2,IF(Table41[[#This Row],[ALERTA]]=\"AMBER\",1,0))","v":0}]
[null,null,null,null,null,null,null,null,null,null,null,null,null,null,null,null,null,null,null,null,null,null,null,null,null,null,null,null,null,null,null,null,null,null,null,null,null,null,null,null,null,null,null,null,null,null,null,null,null,null,{"$f":"+'3.DRETS'!A21","v":"D20"},{"$f":"+'3.DRETS'!O21","v":0},{"$f":"+IF(Table41[[#This Row],[ALERTA]]=\"RED\",2,IF(Table41[[#This Row],[ALERTA]]=\"AMBER\",1,0))","v":0}]
[null,null,null,null,null,null,null,null,null,null,null,null,null,null,null,null,null,null,null,null,null,null,null,null,null,null,null,null,null,null,null,null,null,null,null,null,null,null,null,null,null,null,null,null,null,null,null,null,null,null,{"$f":"+'3.DRETS'!A22","v":"D20"},{"$f":"+'3.DRETS'!O22","v":"INPUT REQ"},{"$f":"+IF(Table41[[#This Row],[ALERTA]]=\"RED\",2,IF(Table41[[#This Row],[ALERTA]]=\"AMBER\",1,0))","v":0}]
[null,null,null,null,null,null,null,null,null,null,null,null,null,null,null,null,null,null,null,null,null,null,null,null,null,null,null,null,null,null,null,null,null,null,null,null,null,null,null,null,null,null,null,null,null,null,null,null,null,null,{"$f":"+'3.DRETS'!A23","v":"D20"},{"$f":"+'3.DRETS'!O23","v":"N/A"},{"$f":"+IF(Table41[[#This Row],[ALERTA]]=\"RED\",2,IF(Table41[[#This Row],[ALERTA]]=\"AMBER\",1,0))","v":0}]
[null,null,null,null,null,null,null,null,null,null,null,null,null,null,null,null,null,null,null,null,null,null,null,null,null,null,null,null,null,null,null,null,null,null,null,null,null,null,null,null,null,null,null,null,null,null,null,null,null,null,{"$f":"+'3.DRETS'!A24","v":"D20"},{"$f":"+'3.DRETS'!O24","v":"INPUT REQ"},{"$f":"+IF(Table41[[#This Row],[ALERTA]]=\"RED\",2,IF(Table41[[#This Row],[ALERTA]]=\"AMBER\",1,0))","v":0}]
[null,null,null,null,null,null,null,null,null,null,null,null,null,null,null,null,null,null,null,null,null,null,null,null,null,null,null,null,null,null,null,null,null,null,null,null,null,null,null,null,null,null,null,null,null,null,null,null,null,null,{"$f":"+'3.DRETS'!A25","v":"D20"},{"$f":"+'3.DRETS'!O25","v":"INPUT REQ"},{"$f":"+IF(Table41[[#This Row],[ALERTA]]=\"RED\",2,IF(Table41[[#This Row],[ALERTA]]=\"AMBER\",1,0))","v":0}]
[null,null,null,null,null,null,null,null,null,null,null,null,null,null,null,null,null,null,null,null,null,null,null,null,null,null,null,null,null,null,null,null,null,null,null,null,null,null,null,null,null,null,null,null,null,null,null,null,null,null,{"$f":"+'3.DRETS'!A26","v":"D20"},{"$f":"+'3.DRETS'!O26","v":0},{"$f":"+IF(Table41[[#This Row],[ALERTA]]=\"RED\",2,IF(Table41[[#This Row],[ALERTA]]=\"AMBER\",1,0))","v":0}]
[null,null,null,null,null,null,null,null,null,null,null,null,null,null,null,null,null,null,null,null,null,null,null,null,null,null,null,null,null,null,null,null,null,null,null,null,null,null,null,null,null,null,null,null,null,null,null,null,null,null,{"$f":"+'3.DRETS'!A27","v":"D20"},{"$f":"+'3.DRETS'!O27","v":"INPUT REQ"},{"$f":"+IF(Table41[[#This Row],[ALERTA]]=\"RED\",2,IF(Table41[[#This Row],[ALERTA]]=\"AMBER\",1,0))","v":0}]
[null,null,null,null,null,null,null,null,null,null,null,null,null,null,null,null,null,null,null,null,null,null,null,null,null,null,null,null,null,null,null,null,null,null,null,null,null,null,null,null,null,null,null,null,null,null,null,null,null,null,{"$f":"+'3.DRETS'!A28","v":"D20"},{"$f":"+'3.DRETS'!O28","v":"INPUT REQ"},{"$f":"+IF(Table41[[#This Row],[ALERTA]]=\"RED\",2,IF(Table41[[#This Row],[ALERTA]]=\"AMBER\",1,0))","v":0}]
[null,null,null,null,null,null,null,null,null,null,null,null,null,null,null,null,null,null,null,null,null,null,null,null,null,null,null,null,null,null,null,null,null,null,null,null,null,null,null,null,null,null,null,null,null,null,null,null,null,null,{"$f":"+'3.DRETS'!A29","v":"D20"},{"$f":"+'3.DRETS'!O29","v":0},{"$f":"+IF(Table41[[#This Row],[ALERTA]]=\"RED\",2,IF(Table41[[#This Row],[ALERTA]]=\"AMBER\",1,0))","v":0}]
[null,null,null,null,null,null,null,null,null,null,null,null,null,null,null,null,null,null,null,null,null,null,null,null,null,null,null,null,null,null,null,null,null,null,null,null,null,null,null,null,null,null,null,null,null,null,null,null,null,null,{"$f":"+'3.DRETS'!A30","v":"D20"},{"$f":"+'3.DRETS'!O30","v":"INPUT REQ"},{"$f":"+IF(Table41[[#This Row],[ALERTA]]=\"RED\",2,IF(Table41[[#This Row],[ALERTA]]=\"AMBER\",1,0))","v":0}]
[null,null,null,null,null,null,null,null,null,null,null,null,null,null,null,null,null,null,null,null,null,null,null,null,null,null,null,null,null,null,null,null,null,null,null,null,null,null,null,null,null,null,null,null,null,null,null,null,null,null,{"$f":"+'3.DRETS'!A31","v":"D20"},{"$f":"+'3.DRETS'!O31","v":0},{"$f":"+IF(Table41[[#This Row],[ALERTA]]=\"RED\",2,IF(Table41[[#This Row],[ALERTA]]=\"AMBER\",1,0))","v":0}]
[null,null,null,null,null,null,null,null,null,null,null,null,null,null,null,null,null,null,null,null,null,null,null,null,null,null,null,null,null,null,null,null,null,null,null,null,null,null,null,null,null,null,null,null,null,null,null,null,null,null,{"$f":"+'3.DRETS'!A32","v":"D20"},{"$f":"+'3.DRETS'!O32","v":"INPUT REQ"},{"$f":"+IF(Table41[[#This Row],[ALERTA]]=\"RED\",2,IF(Table41[[#This Row],[ALERTA]]=\"AMBER\",1,0))","v":0}]
[null,null,null,null,null,null,null,null,null,null,null,null,null,null,null,null,null,null,null,null,null,null,null,null,null,null,null,null,null,null,null,null,null,null,null,null,null,null,null,null,null,null,null,null,null,null,null,null,null,null,{"$f":"+'3.DRETS'!A33","v":"D20"},{"$f":"+'3.DRETS'!O33","v":"INPUT REQ"},{"$f":"+IF(Table41[[#This Row],[ALERTA]]=\"RED\",2,IF(Table41[[#This Row],[ALERTA]]=\"AMBER\",1,0))","v":0}]
[null,null,null,null,null,null,null,null,null,null,null,null,null,null,null,null,null,null,null,null,null,null,null,null,null,null,null,null,null,null,null,null,null,null,null,null,null,null,null,null,null,null,null,null,null,null,null,null,null,null,{"$f":"+'3.DRETS'!A34","v":"D20"},{"$f":"+'3.DRETS'!O34","v":0},{"$f":"+IF(Table41[[#This Row],[ALERTA]]=\"RED\",2,IF(Table41[[#This Row],[ALERTA]]=\"AMBER\",1,0))","v":0}]
[null,null,null,null,null,null,null,null,null,null,null,null,null,null,null,null,null,null,null,null,null,null,null,null,null,null,null,null,null,null,null,null,null,null,null,null,null,null,null,null,null,null,null,null,null,null,null,null,null,null,{"$f":"+'3.DRETS'!A35","v":"D20"},{"$f":"+'3.DRETS'!O35","v":"INPUT REQ"},{"$f":"+IF(Table41[[#This Row],[ALERTA]]=\"RED\",2,IF(Table41[[#This Row],[ALERTA]]=\"AMBER\",1,0))","v":0}]
[null,null,null,null,null,null,null,null,null,null,null,null,null,null,null,null,null,null,null,null,null,null,null,null,null,null,null,null,null,null,null,null,null,null,null,null,null,null,null,null,null,null,null,null,null,null,null,null,null,null,{"$f":"+'3.DRETS'!A36","v":"D20"},{"$f":"+'3.DRETS'!O36","v":0},{"$f":"+IF(Table41[[#This Row],[ALERTA]]=\"RED\",2,IF(Table41[[#This Row],[ALERTA]]=\"AMBER\",1,0))","v":0}]
[null,null,null,null,null,null,null,null,null,null,null,null,null,null,null,null,null,null,null,null,null,null,null,null,null,null,null,null,null,null,null,null,null,null,null,null,null,null,null,null,null,null,null,null,null,null,null,null,null,null,{"$f":"+'3.DRETS'!A37","v":"D20"},{"$f":"+'3.DRETS'!O37","v":"INPUT REQ"},{"$f":"+IF(Table41[[#This Row],[ALERTA]]=\"RED\",2,IF(Table41[[#This Row],[ALERTA]]=\"AMBER\",1,0))","v":0}]
[null,null,null,null,null,null,null,null,null,null,null,null,null,null,null,null,null,null,null,null,null,null,null,null,null,null,null,null,null,null,null,null,null,null,null,null,null,null,null,null,null,null,null,null,null,null,null,null,null,null,{"$f":"+'3.DRETS'!A38","v":"D20"},{"$f":"+'3.DRETS'!O38","v":0},{"$f":"+IF(Table41[[#This Row],[ALERTA]]=\"RED\",2,IF(Table41[[#This Row],[ALERTA]]=\"AMBER\",1,0))","v":0}]
[null,null,null,null,null,null,null,null,null,null,null,null,null,null,null,null,null,null,null,null,null,null,null,null,null,null,null,null,null,null,null,null,null,null,null,null,null,null,null,null,null,null,null,null,null,null,null,null,null,null,{"$f":"+'3.DRETS'!A39","v":"D20"},{"$f":"+'3.DRETS'!O39","v":"INPUT REQ"},{"$f":"+IF(Table41[[#This Row],[ALERTA]]=\"RED\",2,IF(Table41[[#This Row],[ALERTA]]=\"AMBER\",1,0))","v":0}]
[null,null,null,null,null,null,null,null,null,null,null,null,null,null,null,null,null,null,null,null,null,null,null,null,null,null,null,null,null,null,null,null,null,null,null,null,null,null,null,null,null,null,null,null,null,null,null,null,null,null,{"$f":"+'3.DRETS'!A40","v":"D20"},{"$f":"+'3.DRETS'!O40","v":0},{"$f":"+IF(Table41[[#This Row],[ALERTA]]=\"RED\",2,IF(Table41[[#This Row],[ALERTA]]=\"AMBER\",1,0))","v":0}]
[null,null,null,null,null,null,null,null,null,null,null,null,null,null,null,null,null,null,null,null,null,null,null,null,null,null,null,null,null,null,null,null,null,null,null,null,null,null,null,null,null,null,null,null,null,null,null,null,null,null,{"$f":"+'3.DRETS'!A41","v":"D20"},{"$f":"+'3.DRETS'!O41","v":"INPUT REQ"},{"$f":"+IF(Table41[[#This Row],[ALERTA]]=\"RED\",2,IF(Table41[[#This Row],[ALERTA]]=\"AMBER\",1,0))","v":0}]
[null,null,null,null,null,null,null,null,null,null,null,null,null,null,null,null,null,null,null,null,null,null,null,null,null,null,null,null,null,null,null,null,null,null,null,null,null,null,null,null,null,null,null,null,null,null,null,null,null,null,{"$f":"+'3.DRETS'!A42","v":"D20"},{"$f":"+'3.DRETS'!O42","v":"N/A"},{"$f":"+IF(Table41[[#This Row],[ALERTA]]=\"RED\",2,IF(Table41[[#This Row],[ALERTA]]=\"AMBER\",1,0))","v":0}]
[null,null,null,null,null,null,null,null,null,null,null,null,null,null,null,null,null,null,null,null,null,null,null,null,null,null,null,null,null,null,null,null,null,null,null,null,null,null,null,null,null,null,null,null,null,null,null,null,null,null,{"$f":"+'3.DRETS'!A43","v":"D20"},{"$f":"+'3.DRETS'!O43","v":"N/A"},{"$f":"+IF(Table41[[#This Row],[ALERTA]]=\"RED\",2,IF(Table41[[#This Row],[ALERTA]]=\"AMBER\",1,0))","v":0}]
[null,null,null,null,null,null,null,null,null,null,null,null,null,null,null,null,null,null,null,null,null,null,null,null,null,null,null,null,null,null,null,null,null,null,null,null,null,null,null,null,null,null,null,null,null,null,null,null,null,null,{"$f":"+'3.DRETS'!A44","v":"D20"},{"$f":"+'3.DRETS'!O44","v":"N/A"},{"$f":"+IF(Table41[[#This Row],[ALERTA]]=\"RED\",2,IF(Table41[[#This Row],[ALERTA]]=\"AMBER\",1,0))","v":0}]
[null,null,null,null,null,null,null,null,null,null,null,null,null,null,null,null,null,null,null,null,null,null,null,null,null,null,null,null,null,null,null,null,null,null,null,null,null,null,null,null,null,null,null,null,null,null,null,null,null,null,{"$f":"+'3.DRETS'!A45","v":"D20"},{"$f":"+'3.DRETS'!O45","v":"INPUT REQ"},{"$f":"+IF(Table41[[#This Row],[ALERTA]]=\"RED\",2,IF(Table41[[#This Row],[ALERTA]]=\"AMBER\",1,0))","v":0}]
[null,null,null,null,null,null,null,null,null,null,null,null,null,null,null,null,null,null,null,null,null,null,null,null,null,null,null,null,null,null,null,null,null,null,null,null,null,null,null,null,null,null,null,null,null,null,null,null,null,null,{"$f":"+'3.DRETS'!A46","v":"D20"},{"$f":"+'3.DRETS'!O46","v":"INPUT REQ"},{"$f":"+IF(Table41[[#This Row],[ALERTA]]=\"RED\",2,IF(Table41[[#This Row],[ALERTA]]=\"AMBER\",1,0))","v":0}]
[null,null,null,null,null,null,null,null,null,null,null,null,null,null,null,null,null,null,null,null,null,null,null,null,null,null,null,null,null,null,null,null,null,null,null,null,null,null,null,null,null,null,null,null,null,null,null,null,null,null,{"$f":"+'3.DRETS'!A47","v":"D20"},{"$f":"+'3.DRETS'!O47","v":"INPUT REQ"},{"$f":"+IF(Table41[[#This Row],[ALERTA]]=\"RED\",2,IF(Table41[[#This Row],[ALERTA]]=\"AMBER\",1,0))","v":0}]
[null,null,null,null,null,null,null,null,null,null,null,null,null,null,null,null,null,null,null,null,null,null,null,null,null,null,null,null,null,null,null,null,null,null,null,null,null,null,null,null,null,null,null,null,null,null,null,null,null,null,{"$f":"+'3.DRETS'!A48","v":"D20"},{"$f":"+'3.DRETS'!O48","v":"N/A"},{"$f":"+IF(Table41[[#This Row],[ALERTA]]=\"RED\",2,IF(Table41[[#This Row],[ALERTA]]=\"AMBER\",1,0))","v":0}]
[null,null,null,null,null,null,null,null,null,null,null,null,null,null,null,null,null,null,null,null,null,null,null,null,null,null,null,null,null,null,null,null,null,null,null,null,null,null,null,null,null,null,null,null,null,null,null,null,null,null,{"$f":"+'3.DRETS'!A49","v":"D20"},{"$f":"+'3.DRETS'!O49","v":"N/A"},{"$f":"+IF(Table41[[#This Row],[ALERTA]]=\"RED\",2,IF(Table41[[#This Row],[ALERTA]]=\"AMBER\",1,0))","v":0}]

{"sheet":"AUX_Mesures4A","index":17,"n_rows":27,"n_cols":4,"rows_kept":27,"cut":false,"hidden":true,"merged":[]}
["CONTROL_ID","ALERTA MAX","INCLOSA?","MAX MISSING "]
["P11",{"$f":"+IF(A2=\"\",\"\",MAX(IF(Table41[CONTROL_ID]=A2,Table41[FILTRE (REQ MESURA)])))","v":0},{"$f":"IF(B2=0,\"NO CAL\",IF(IFERROR(VLOOKUP(A2,'4A.RISCOS COMPLIMENT'!C$7:C42,1,0),\"FALTA\")=A2,\"SI\",\"FALTA\"))","v":"NO CAL"},{"$f":"+IF(Resum_MesuresxTractar[[#This Row],[INCLOSA?]]=\"FALTA\",Resum_MesuresxTractar[[#This Row],[ALERTA MAX]],0)","v":0}]
["P12",{"$f":"+IF(A3=\"\",\"\",MAX(IF(Table41[CONTROL_ID]=A3,Table41[FILTRE (REQ MESURA)])))","v":0},{"$f":"IF(B3=0,\"NO CAL\",IF(IFERROR(VLOOKUP(A3,'4A.RISCOS COMPLIMENT'!C$7:C43,1,0),\"FALTA\")=A3,\"SI\",\"FALTA\"))","v":"NO CAL"},{"$f":"+IF(Resum_MesuresxTractar[[#This Row],[INCLOSA?]]=\"FALTA\",Resum_MesuresxTractar[[#This Row],[ALERTA MAX]],0)","v":0}]
["P13",{"$f":"+IF(A4=\"\",\"\",MAX(IF(Table41[CONTROL_ID]=A4,Table41[FILTRE (REQ MESURA)])))","v":0},{"$f":"IF(B4=0,\"NO CAL\",IF(IFERROR(VLOOKUP(A4,'4A.RISCOS COMPLIMENT'!C$7:C44,1,0),\"FALTA\")=A4,\"SI\",\"FALTA\"))","v":"NO CAL"},{"$f":"+IF(Resum_MesuresxTractar[[#This Row],[INCLOSA?]]=\"FALTA\",Resum_MesuresxTractar[[#This Row],[ALERTA MAX]],0)","v":0}]
["P14",{"$f":"+IF(A5=\"\",\"\",MAX(IF(Table41[CONTROL_ID]=A5,Table41[FILTRE (REQ MESURA)])))","v":0},{"$f":"IF(B5=0,\"NO CAL\",IF(IFERROR(VLOOKUP(A5,'4A.RISCOS COMPLIMENT'!C$7:C45,1,0),\"FALTA\")=A5,\"SI\",\"FALTA\"))","v":"NO CAL"},{"$f":"+IF(Resum_MesuresxTractar[[#This Row],[INCLOSA?]]=\"FALTA\",Resum_MesuresxTractar[[#This Row],[ALERTA MAX]],0)","v":0}]
["P15",{"$f":"+IF(A6=\"\",\"\",MAX(IF(Table41[CONTROL_ID]=A6,Table41[FILTRE (REQ MESURA)])))","v":0},{"$f":"IF(B6=0,\"NO CAL\",IF(IFERROR(VLOOKUP(A6,'4A.RISCOS COMPLIMENT'!C$7:C46,1,0),\"FALTA\")=A6,\"SI\",\"FALTA\"))","v":"NO CAL"},{"$f":"+IF(Resum_MesuresxTractar[[#This Row],[INCLOSA?]]=\"FALTA\",Resum_MesuresxTractar[[#This Row],[ALERTA MAX]],0)","v":0}]
["P16",{"$f":"+IF(A7=\"\",\"\",MAX(IF(Table41[CONTROL_ID]=A7,Table41[FILTRE (REQ MESURA)])))","v":0},{"$f":"IF(B7=0,\"NO CAL\",IF(IFERROR(VLOOKUP(A7,'4A.RISCOS COMPLIMENT'!C$7:C47,1,0),\"FALTA\")=A7,\"SI\",\"FALTA\"))","v":"NO CAL"},{"$f":"+IF(Resum_MesuresxTractar[[#This Row],[INCLOSA?]]=\"FALTA\",Resum_MesuresxTractar[[#This Row],[ALERTA MAX]],0)","v":0}]
["P20",{"$f":"+IF(A8=\"\",\"\",MAX(IF(Table41[CONTROL_ID]=A8,Table41[FILTRE (REQ MESURA)])))","v":0},{"$f":"IF(B8=0,\"NO CAL\",IF(IFERROR(VLOOKUP(A8,'4A.RISCOS COMPLIMENT'!C$7:C48,1,0),\"FALTA\")=A8,\"SI\",\"FALTA\"))","v":"NO CAL"},{"$f":"+IF(Resum_MesuresxTractar[[#This Row],[INCLOSA?]]=\"FALTA\",Resum_MesuresxTractar[[#This Row],[ALERTA MAX]],0)","v":0}]
["P30",{"$f":"+IF(A9=\"\",\"\",MAX(IF(Table41[CONTROL_ID]=A9,Table41[FILTRE (REQ MESURA)])))","v":0},{"$f":"IF(B9=0,\"NO CAL\",IF(IFERROR(VLOOKUP(A9,'4A.RISCOS COMPLIMENT'!C$7:C49,1,0),\"FALTA\")=A9,\"SI\",\"FALTA\"))","v":"NO CAL"},{"$f":"+IF(Resum_MesuresxTractar[[#This Row],[INCLOSA?]]=\"FALTA\",Resum_MesuresxTractar[[#This Row],[ALERTA MAX]],0)","v":0}]
["P40",{"$f":"+IF(A10=\"\",\"\",MAX(IF(Table41[CONTROL_ID]=A10,Table41[FILTRE (REQ MESURA)])))","v":0},{"$f":"IF(B10=0,\"NO CAL\",IF(IFERROR(VLOOKUP(A10,'4A.RISCOS COMPLIMENT'!C$7:C50,1,0),\"FALTA\")=A10,\"SI\",\"FALTA\"))","v":"NO CAL"},{"$f":"+IF(Resum_MesuresxTractar[[#This Row],[INCLOSA?]]=\"FALTA\",Resum_MesuresxTractar[[#This Row],[ALERTA MAX]],0)","v":0}]
["P50",{"$f":"+IF(A11=\"\",\"\",MAX(IF(Table41[CONTROL_ID]=A11,Table41[FILTRE (REQ MESURA)])))","v":0},{"$f":"IF(B11=0,\"NO CAL\",IF(IFERROR(VLOOKUP(A11,'4A.RISCOS COMPLIMENT'!C$7:C51,1,0),\"FALTA\")=A11,\"SI\",\"FALTA\"))","v":"NO CAL"},{"$f":"+IF(Resum_MesuresxTractar[[#This Row],[INCLOSA?]]=\"FALTA\",Resum_MesuresxTractar[[#This Row],[ALERTA MAX]],0)","v":0}]
["P60",{"$f":"+IF(A12=\"\",\"\",MAX(IF(Table41[CONTROL_ID]=A12,Table41[FILTRE (REQ MESURA)])))","v":0},{"$f":"IF(B12=0,\"NO CAL\",IF(IFERROR(VLOOKUP(A12,'4A.RISCOS COMPLIMENT'!C$7:C51,1,0),\"FALTA\")=A12,\"SI\",\"FALTA\"))","v":"NO CAL"},{"$f":"+IF(Resum_MesuresxTractar[[#This Row],[INCLOSA?]]=\"FALTA\",Resum_MesuresxTractar[[#This Row],[ALERTA MAX]],0)","v":0}]
["D10",{"$f":"+IF(A13=\"\",\"\",MAX(IF(Table41[CONTROL_ID]=A13,Table41[FILTRE (REQ MESURA)])))","v":0},{"$f":"IF(B13=0,\"NO CAL\",IF(IFERROR(VLOOKUP(A13,'4A.RISCOS COMPLIMENT'!C$7:C51,1,0),\"FALTA\")=A13,\"SI\",\"FALTA\"))","v":"NO CAL"},{"$f":"+IF(Resum_MesuresxTractar[[#This Row],[INCLOSA?]]=\"FALTA\",Resum_MesuresxTractar[[#This Row],[ALERTA MAX]],0)","v":0}]
["D20",{"$f":"+IF(A14=\"\",\"\",MAX(IF(Table41[CONTROL_ID]=A14,Table41[FILTRE (REQ MESURA)])))","v":0},{"$f":"IF(B14=0,\"NO CAL\",IF(IFERROR(VLOOKUP(A14,'4A.RISCOS COMPLIMENT'!C$7:C51,1,0),\"FALTA\")=A14,\"SI\",\"FALTA\"))","v":"NO CAL"},{"$f":"+IF(Resum_MesuresxTractar[[#This Row],[INCLOSA?]]=\"FALTA\",Resum_MesuresxTractar[[#This Row],[ALERTA MAX]],0)","v":0}]
["T10",{"$f":"+IF(A15=\"\",\"\",MAX(IF(Table41[CONTROL_ID]=A15,Table41[FILTRE (REQ MESURA)])))","v":0},{"$f":"IF(B15=0,\"NO CAL\",IF(IFERROR(VLOOKUP(A15,'4A.RISCOS COMPLIMENT'!C$7:C36,1,0),\"FALTA\")=A15,\"SI\",\"FALTA\"))","v":"NO CAL"},{"$f":"+IF(Resum_MesuresxTractar[[#This Row],[INCLOSA?]]=\"FALTA\",Resum_MesuresxTractar[[#This Row],[ALERTA MAX]],0)","v":0}]
["T20",{"$f":"+IF(A16=\"\",\"\",MAX(IF(Table41[CONTROL_ID]=A16,Table41[FILTRE (REQ MESURA)])))","v":0},{"$f":"IF(B16=0,\"NO CAL\",IF(IFERROR(VLOOKUP(A16,'4A.RISCOS COMPLIMENT'!C$7:C37,1,0),\"FALTA\")=A16,\"SI\",\"FALTA\"))","v":"NO CAL"},{"$f":"+IF(Resum_MesuresxTractar[[#This Row],[INCLOSA?]]=\"FALTA\",Resum_MesuresxTractar[[#This Row],[ALERTA MAX]],0)","v":0}]
["T30",{"$f":"+IF(A17=\"\",\"\",MAX(IF(Table41[CONTROL_ID]=A17,Table41[FILTRE (REQ MESURA)])))","v":0},{"$f":"IF(B17=0,\"NO CAL\",IF(IFERROR(VLOOKUP(A17,'4A.RISCOS COMPLIMENT'!C$7:C38,1,0),\"FALTA\")=A17,\"SI\",\"FALTA\"))","v":"NO CAL"},{"$f":"+IF(Resum_MesuresxTractar[[#This Row],[INCLOSA?]]=\"FALTA\",Resum_MesuresxTractar[[#This Row],[ALERTA MAX]],0)","v":0}]
["T40",{"$f":"+IF(A18=\"\",\"\",MAX(IF(Table41[CONTROL_ID]=A18,Table41[FILTRE (REQ MESURA)])))","v":0},{"$f":"IF(B18=0,\"NO CAL\",IF(IFERROR(VLOOKUP(A18,'4A.RISCOS COMPLIMENT'!C$7:C39,1,0),\"FALTA\")=A18,\"SI\",\"FALTA\"))","v":"NO CAL"},{"$f":"+IF(Resum_MesuresxTractar[[#This Row],[INCLOSA?]]=\"FALTA\",Resum_MesuresxTractar[[#This Row],[ALERTA MAX]],0)","v":0}]
["T50",{"$f":"+IF(A19=\"\",\"\",MAX(IF(Table41[CONTROL_ID]=A19,Table41[FILTRE (REQ MESURA)])))","v":0},{"$f":"IF(B19=0,\"NO CAL\",IF(IFERROR(VLOOKUP(A19,'4A.RISCOS COMPLIMENT'!C$7:C40,1,0),\"FALTA\")=A19,\"SI\",\"FALTA\"))","v":"NO CAL"},{"$f":"+IF(Resum_MesuresxTractar[[#This Row],[INCLOSA?]]=\"FALTA\",Resum_MesuresxTractar[[#This Row],[ALERTA MAX]],0)","v":0}]
["T60",{"$f":"+IF(A20=\"\",\"\",MAX(IF(Table41[CONTROL_ID]=A20,Table41[FILTRE (REQ MESURA)])))","v":0},{"$f":"IF(B20=0,\"NO CAL\",IF(IFERROR(VLOOKUP(A20,'4A.RISCOS COMPLIMENT'!C$7:C41,1,0),\"FALTA\")=A20,\"SI\",\"FALTA\"))","v":"NO CAL"},{"$f":"+IF(Resum_MesuresxTractar[[#This Row],[INCLOSA?]]=\"FALTA\",Resum_MesuresxTractar[[#This Row],[ALERTA MAX]],0)","v":0}]
[]
[{"$f":"+VLOOKUP(MAX(Resum_MesuresxTractar[[MAX MISSING ]]),AUX.Avisos4447[],2,0)","v":"S'han inclòs tots els avisos i alertes"}]
[{"$f":"+VLOOKUP(MAX(Resum_MesuresxTractar[[MAX MISSING ]]),AUX.Avisos4447[],3,0)","v":"OK"}]
["ALERTA PENDENT","ACCIÓ","FORMAT","ACCIO RESUMIDA"]
[0,"S'han inclòs tots els avisos i alertes","OK","S'han inclòs tots els avisos i alertes per valoració"]
[1,"Falta incloure avisos identificats (ambre)\nReviseu la taula de la dreta, per veure els avisos que manquen, o polseu el botó de la dreta per completar directament (sobreescriu).","AMBER","Avisos de risc no tractats\n"]
[2,"FALTA INCLOURE RISCOS GREUS IDENTIFICATS\nReviseu la taula de la dreta, per veure els avisos que manquen, o polseu el botó de la dreta per completar directament (sobreescriu).","RED","Alertes per incompliment no tractades"]

{"sheet":"AUX CATALEG RISCOS COMPL","index":18,"n_rows":136,"n_cols":6,"rows_kept":136,"cut":false,"hidden":true,"merged":[]}
["CONTROL_ID","GRUP","RISC_ID","RISC","MESURES_ID","Mesures de control"]
["T10","Naturalesa i finalitat del tractament",{"$f":"+IF(D2=D47,C47,C47+1)","v":17},"Manca una definició clara de la finalitat del tractament de les dades.",1,"Revisar que la finalitat sigui suficientment clara i detallada per a que sigui entesa per l’interessat"]
[{"$f":"+A2","v":"T10"},{"$f":"+B2","v":"Naturalesa i finalitat del tractament"},{"$f":"+IF(D3=D2,C2,C2+1)","v":17},{"$f":"D2","v":"Manca una definició clara de la finalitat del tractament de les dades."},2,"Facilitar informació transparent i clara sobre les finalitats, si escau, a través d’una política de privacitat visible i accessible"]
["T20","Tractaments realitzats per subencarregats/corresponsables",1,"Assumpció errònia de rols dels intervinents en el tractament",3,"Definir clarament qui determina la necessitat de fer el tractament, i per a què, establint quines són les funcions que realitzarà cadascun dels participants"]
[{"$f":"A4","v":"T20"},{"$f":"B4","v":"Tractaments realitzats per subencarregats/corresponsables"},{"$f":"+IF(D5=D4,C4,C4+1)","v":1},{"$f":"D4","v":"Assumpció errònia de rols dels intervinents en el tractament"},4,"Demanar assessorament CPD/DPD"]
["T20","Tractaments realitzats per subencarregats/corresponsables",2,"Inexistència d’acord d’encàrrec de tractament",5,"Establir un procediment que garanteixi que sempre que s’encarregui/o contracti un servei amb un proveïdor es signi el corresponent acord d’encàrrec"]
["T20","Tractaments realitzats per subencarregats/corresponsables",2,{"$f":"D6","v":"Inexistència d’acord d’encàrrec de tractament"},6,"En el cas que es formalitzin convenis entre diverses entitats, definir els rols adequadament, i formalitzar juntament amb el conveni, l’acord de tractament de dades que correspongui"]
["T20","Tractaments realitzats per subencarregats/corresponsables",3,"Acord d’encàrrec incorrecte perquè no reuneix tots els apartats necessaris i les garanties adequades",7,"Establir mecanismes i models que garanteixin que sempre que es recorri a un encarregat de tractament es signi el corresponent contracte en els termes establerts per RGPD"]
["T20","Tractaments realitzats per subencarregats/corresponsables",4,"Falta de diligència (o dificultat per a demostrar-la) en elecció d'encarregat del tractament",8,"Seleccionar encarregats de tractament que proporcionin garanties suficients, per al compliment dels contractes/acords, i de l’adopció de les mesures de seguretat previstes (a la contractació pública, són les mesures exigides per l’ENS)"]
["T20","Tractaments realitzats per subencarregats/corresponsables",4,{"$f":"D9","v":"Falta de diligència (o dificultat per a demostrar-la) en elecció d'encarregat del tractament"},9,"Tenir en compte la seva adhesió a possibles codis de conducta o esquemes de certificació homologats i d’acreditada solvència."]
["T20","Tractaments realitzats per subencarregats/corresponsables",4,{"$f":"D10","v":"Falta de diligència (o dificultat per a demostrar-la) en elecció d'encarregat del tractament"},10,"Establir mecanismes de contractuals de supervisió, verificació i auditoria dels tractaments encarregats a tercers. "]
["T20","Tractaments realitzats per subencarregats/corresponsables",5,"Gestió deficient de subencarregats / insuficient control sobre encarregats i subencarregats, en especial sobre el compliment de les mesures de seguretat exigides.",11,"Establir procediments i mecanismes que garanteixin el control sobre les activitats dels subencarregats i encarregats"]
["T20","Tractaments realitzats per subencarregats/corresponsables",5,{"$f":"D12","v":"Gestió deficient de subencarregats / insuficient control sobre encarregats i subencarregats, en especial sobre el compliment de les mesures de seguretat exigides."},12,"Realitzar auditories periòdiques a l’encarregat per verificar que compleix amb les estipulacions de l’acord"]
["T20","Tractaments realitzats per subencarregats/corresponsables",5,{"$f":"D13","v":"Gestió deficient de subencarregats / insuficient control sobre encarregats i subencarregats, en especial sobre el compliment de les mesures de seguretat exigides."},13,"Definir acords de nivell de servei que garanteixin el correcte compliment de les instruccions del responsable i l’adopció de mesures de seguretat adequades"]
["T20","Tractaments realitzats per subencarregats/corresponsables",6,"Manca / deficiències en la definició dels procediments per comunicar o recolzar al responsable de tractament en l’exercici dels drets dels interessats realitzats davant l’encarregat",14,"Incloure al contracte d’encarregat l’obligació de comunicar al responsable les peticions d’exercici de drets dels interessats"]
["T20","Tractaments realitzats per subencarregats/corresponsables",6,{"$f":"D15","v":"Manca / deficiències en la definició dels procediments per comunicar o recolzar al responsable de tractament en l’exercici dels drets dels interessats realitzats davant l’encarregat"},15,"Definir els procediments operatius per a que la comunicació sigui àgil i eficient "]
["T20","Tractaments realitzats per subencarregats/corresponsables",6,{"$f":"D16","v":"Manca / deficiències en la definició dels procediments per comunicar o recolzar al responsable de tractament en l’exercici dels drets dels interessats realitzats davant l’encarregat"},16,"Definir els procediments operatius per donar suport al responsable del tractament en l’exercici de drets"]
["T20","Tractaments realitzats per subencarregats/corresponsables",7,"Dificultats per aconseguir el traspàs al responsable de dades personals o altres entorns un cop finalitzar el contracte",17,"Incloure l’obligació a l’acord d’encàrrec tractament, contracte i en els acords de nivell de servei"]
["T20","Tractaments realitzats per subencarregats/corresponsables",7,{"$f":"D18","v":"Dificultats per aconseguir el traspàs al responsable de dades personals o altres entorns un cop finalitzar el contracte"},18,"Establir mesures tècniques i organitzatives que garanteixin el traspàs"]
["T20","Tractaments realitzats per subencarregats/corresponsables",8,"Existència de diferents responsables sense formalització d’un acord de coresponsabilitat o sense definició clara de les obligacions assumides per cadascú ",19,"Preveure un procediment que estableixi que sempre que hi hagi diferents intervinents es defineixin les responsabilitats de cadascú i es documentin en el corresponent acord"]
["T30","Dades personals tractades",{"$f":"+IF(D21=D20,C20,C20+1)","v":9},"Descriviu el risc",20,"Descriviu la mesura"]
["T40","Processos de Tractament",{"$f":"+IF(D22=D21,C21,C21+1)","v":9},"Descriviu el risc",21,"Descriviu la mesura"]
["T50","Comunicacions a tercers",9,"Descriviu el risc",22,"Descriviu la mesura"]
["T60","Transferències Internacionals",{"$f":"+IF(D24=D20,C20,C20+1)","v":9},"Realització per part del responsable/ dels encarregats o dels subencarregats de TI de dades a països fora del EEE no autoritzada",23,"Contractar els serveis de proveïdors que tractin les dades a països dintre de l’EEE"]
[{"$f":"A24","v":"T60"},"Transferències Internacionals",9,{"$f":"D24","v":"Realització per part del responsable/ dels encarregats o dels subencarregats de TI de dades a països fora del EEE no autoritzada"},24,"Prestar especial atenció amb la contractació de serveis de cloudcomputing o allotjament de dades"]
["T60","Transferències Internacionals",9,{"$f":"D25","v":"Realització per part del responsable/ dels encarregats o dels subencarregats de TI de dades a països fora del EEE no autoritzada"},25,"En cas que sigui necessari fer TI de dades de personals de salut dels usuaris del Sistema Nacional de Salut, comprovar si el país importador compta amb una decisió d’adequació o amb un conveni internacional signat amb l’estat espanyol"]
["T60","Transferències Internacionals",9,{"$f":"D26","v":"Realització per part del responsable/ dels encarregats o dels subencarregats de TI de dades a països fora del EEE no autoritzada"},26,"Sol·licitar autorització a l’APDCAT en cas que sigui necessari"]
["T60","Transferències Internacionals",10,"Manca de mecanismes de control de compliment de les garanties establertes a la transferència.",27,"Implantar procediments de control necessaris (inclosos els contractuals) per garantir que es compleixen les condicions"]
["T60","Transferències Internacionals",11,"Impediments per part de l’importador (país destinatari de les dades) per a l’exercici dels procediments de supervisió i control pactats. ",28,"Implantar mecanismes de control de l’importador (ex. llistat d’encarregats de tractament, països on opera, possibilitat de revisar documentació i realitzar auditories, etc.) "]
["T60","Transferències Internacionals",11,"Impediments per part de l’importador (país destinatari de les dades) per a l’exercici dels procediments de supervisió i control pactats. ",29,"Establir un canal de comunicació entre exportador i importador per fer arribar les sol·licituds i reclamacions dels interessats."]
["T60","Transferències Internacionals",11,{"$f":"D30","v":"Impediments per part de l’importador (país destinatari de les dades) per a l’exercici dels procediments de supervisió i control pactats. "},30,"Posar en marxa procediments que garanteixen l’adequada atenció de les demandes dels interessats."]
["P11","Licitud/Base de legitimació ",12,"Manca de base de legitimació clara i suficient ",31,"Establir la base de legitimació abans d’iniciar el projecte o tractament "]
[{"$f":"A32","v":"P11"},{"$f":"B32","v":"Licitud/Base de legitimació "},12,{"$f":"D32","v":"Manca de base de legitimació clara i suficient "},32,"Revisar les diferents possibilitats que ofereix la normativa de protecció de dades i encaix en alguna d’elles"]
["P11","Licitud/Base de legitimació ",12,{"$f":"D33","v":"Manca de base de legitimació clara i suficient "},33,"Si hi ha un canvi vàlid en la base de legitimació, el tractament s’haurà d’ajustar a la nova base de legitimació"]
["P11","Licitud/Base de legitimació ",12,{"$f":"D34","v":"Manca de base de legitimació clara i suficient "},34,"Assessorament del CPD/DPD"]
["P11","Licitud/Base de legitimació ",12,{"$f":"D35","v":"Manca de base de legitimació clara i suficient "},35,"Consultar a l’APDCAT"]
["P11","Licitud/Base de legitimació ",13,"Manca de norma clara que habilita el tractament en base a article 6.1.c) o 6.1.e) RGPD",36,"Revisar normes internes aplicables"]
["P11","Licitud/Base de legitimació ",13,{"$f":"D37","v":"Manca de norma clara que habilita el tractament en base a article 6.1.c) o 6.1.e) RGPD"},37,"Assessorament del CPD/DPD"]
["P11","Licitud/Base de legitimació ",13,{"$f":"D38","v":"Manca de norma clara que habilita el tractament en base a article 6.1.c) o 6.1.e) RGPD"},38,"Consultar a l’APDCAT"]
["P11","Licitud/Base de legitimació ",14,"Error / dubtes en elecció de base legal",39,"Consultar al CPD/DPD per assegurar-nos d’haver fet una correcta valoració de la base jurídica (es tendeix a optar pel consentiment com a base jurídica sense que sigui necessari perquè ja existeix una norma que ens habilita)"]
["P11","Licitud/Base de legitimació ",14,"Error / dubtes en elecció de base legal",40,"Consultar a l’APDCAT (es tendeix a optar pel consentiment com a base jurídica sense que sigui necessari perquè ja existeix una norma que ens habilita)"]
["P11","Licitud/Base de legitimació ",15,"Manca de base o norma clara per a comunicacions / cessions de dades personals a tercers",41,"Revisar normes internes aplicables"]
["P11","Licitud/Base de legitimació ",15,{"$f":"D42","v":"Manca de base o norma clara per a comunicacions / cessions de dades personals a tercers"},42,"Establir acords per escrit que contemplin les condicions sota les quals es produeix la cessió i, en cas necessari, les relatives a cessions ulteriors, així com les possibilitats de supervisió i controls de compliment de l’acord"]
["P11","Licitud/Base de legitimació ",15,{"$f":"D43","v":"Manca de base o norma clara per a comunicacions / cessions de dades personals a tercers"},43,"Establir amb els tercers les condicions en que es produeix la cessió, i mesures de supervisió i control."]
["P11","Licitud/Base de legitimació ",15,{"$f":"D44","v":"Manca de base o norma clara per a comunicacions / cessions de dades personals a tercers"},44,"Assessorament del CPD/DPD"]
["P11","Licitud/Base de legitimació ",15,{"$f":"D45","v":"Manca de base o norma clara per a comunicacions / cessions de dades personals a tercers"},45,"Consultar a l’APDCAT"]
["P11","Licitud/Base de legitimació ",16,"Possible reidentificació en una informació prèviament anonimitzada",46,"Quan no es disposa de base legal per a tractar informació personal, cal assegurar-se que la reidentificació no és possible sense fer esforços desproporcionats"]
["P12","Finalitat diferent a la de recollida",{"$f":"+IF(D48=D3,C3,C3+1)","v":18},"Utilització de dades personals per a finalitats no especificades o incompatibles amb la que va motivar la recollida",47,"Justificar la condició o supòsit de reutilització de la informació"]
[{"$f":"A48","v":"P12"},{"$f":"B48","v":"Finalitat diferent a la de recollida"},18,{"$f":"D48","v":"Utilització de dades personals per a finalitats no especificades o incompatibles amb la que va motivar la recollida"},48,"Revisar test de compatibilitat"]
["P12","Finalitat diferent a la de recollida",18,{"$f":"D49","v":"Utilització de dades personals per a finalitats no especificades o incompatibles amb la que va motivar la recollida"},49,"Limitar la reutilització mitjançant mesures organitzatives o contractuals que limitin la reutilització de dades personals"]
["P12","Finalitat diferent a la de recollida",19,"Garanties insuficients per l’ús de dades personals amb finalitats històriques, científiques i estadístiques",50,"Sempre que sigui possible, utilitzar dades anònimes o dissociades"]
["P12","Finalitat diferent a la de recollida",19,{"$f":"D51","v":"Garanties insuficients per l’ús de dades personals amb finalitats històriques, científiques i estadístiques"},51,"Utilitzar pseudònims o atribuir codis de substitució de les dades identificatives que, tot i que no aconsegueixin la dissociació absoluta dels mateixos, si pot contribuir a que la informació sobre la identitat dels afectats només sigui accessible a un número reduït de persones"]
["P12","Finalitat diferent a la de recollida",19,{"$f":"D52","v":"Garanties insuficients per l’ús de dades personals amb finalitats històriques, científiques i estadístiques"},52,"Garantir les mesures de seguretat"]
["P12","Finalitat diferent a la de recollida",20,"Enriquir les dades personals de forma no prevista en la finalitat inicial, i sense informar els afectats quan realitzem un interconnexió amb altres bbdd de l’organització o de tercers",53,"Verificar la legitimitat de la interconnexió de dades prevista"]
["P12","Finalitat diferent a la de recollida",20,{"$f":"D54","v":"Enriquir les dades personals de forma no prevista en la finalitat inicial, i sense informar els afectats quan realitzem un interconnexió amb altres bbdd de l’organització o de tercers"},54,"Definir clarament les dades personals resultants del tractament i verificar que un cop fet el procés són les úniques dades que s’han generat"]
["P13","Validesa del consentiment",21,"Obtenció de consentiment dubtós, viciat o invàlid per al tractament o cessió de dades personals ",55,"Assegurar que no existeix una base de legitimació més adequada"]
[{"$f":"A56","v":"P13"},{"$f":"B56","v":"Validesa del consentiment"},21,{"$f":"D56","v":"Obtenció de consentiment dubtós, viciat o invàlid per al tractament o cessió de dades personals "},56,"Evitar forçar un consentiment des d’una posició de prevalença vers a l’interessat"]
["P13","Validesa del consentiment",21,{"$f":"D57","v":"Obtenció de consentiment dubtós, viciat o invàlid per al tractament o cessió de dades personals "},57,"En l’àmbit laboral evitar el tractament de dades del treballador basat en el consentiment. (Disposem de l’article 6.1.b) o 6.1.c) RGPD)"]
["P13","Validesa del consentiment",21,{"$f":"D58","v":"Obtenció de consentiment dubtós, viciat o invàlid per al tractament o cessió de dades personals "},58,"En l’àmbit assistencial de salut evitar, justificar el tractament en el consentiment, si aquest es pot fonamentar per raons d’interès públic amb finalitats assistencials i existeix una llei que ho autoritza "]
["P13","Validesa del consentiment",21,{"$f":"D59","v":"Obtenció de consentiment dubtós, viciat o invàlid per al tractament o cessió de dades personals "},59,"En l’àmbit de recerca, explorar les diferents vies que habiliten el tractament, sense necessitat de consentiment"]
["P13","Validesa del consentiment",22,"Manca procediment per a la recollida i registre del consentiment",60,"Establir procediment i descriure"]
["P13","Validesa del consentiment",23,"Manca de garanties d’autenticació de la persona que presta el consentiment",61,"Establir mesures de verificació de la identitat de l’interessat"]
["P13","Validesa del consentiment",24,"Manca de capacitat real d’elecció de l’interessat",62,"Revisar si el fet de no consentir provoca un perjudici o condiciona d’alguna manera l’interessat"]
["P13","Validesa del consentiment",24,{"$f":"D63","v":"Manca de capacitat real d’elecció de l’interessat"},63,"Analitzar quina és l’alternativa a no consentir i justifiquem"]
["P13","Validesa del consentiment",25,"La informació facilitada no és clara, és incomplerta o de difícil accés",64,"Revisar text i/o forma d’accés"]
["P13","Validesa del consentiment",26,"Obtenció de consentiment general per a totes les finalitats",65,"Revisar fórmula i Assegurar que l’interessat pugui decidir per a cada finalitat del tractament (si aquesta és la base jurídica)."]
["P13","Validesa del consentiment",27,"Manca de mecanisme fàcil de retirada del consentiment",66,"Revisar i Establir mecanisme que asseguri que l’interessat podrà retirar el consentiment amb la mateixa facilitat que el va donar"]
["P13","Validesa del consentiment",28,"Utilitzar cookies de seguiment o altres mecanismes de rastreig sense obtenir un consentiment vàlid",67,"Evitar us de cookies o altres mecanismes de rastreig i monitorització. En cas que es facin servir, utilitzar les menys invasives ( cookies pròpies,..)"]
["P13","Validesa del consentiment",28,{"$f":"D68","v":"Utilitzar cookies de seguiment o altres mecanismes de rastreig sense obtenir un consentiment vàlid"},68,"Informar amb transparència sobre l’ús i finalitat de les cookies. Per exemple, mitjançant un sistema de capes."]
["P13","Validesa del consentiment",{"$f":"+IF(D70=D69,C69,C69+1)","v":28},{"$f":"D69","v":"Utilitzar cookies de seguiment o altres mecanismes de rastreig sense obtenir un consentiment vàlid"},69,"Respectar les preferències establertes pels afectats."]
["P14","Tractament de dades de menors",29,"Consentiment del menor sense preveure la signatura dels tutors o representants legals",70,"Revisar edat mínima del menor per consentir i adequa formulari de recollida de consentiment"]
[{"$f":"A71","v":"P14"},"Tractament de dades de menors",30,"Manca de verificació de la identitat dels tutors o representants del menor",71,"Establir algun mecanisme que permeti de verificació. "]
["P15","Categories especials de dades",31,"Manca excepció clara que aixequi la prohibició",72,"Revisar dels diferents supòsits aplicables/ i la norma interna en que s’empara"]
[{"$f":"A73","v":"P15"},"Categories especials de dades",32,"Manca norma interna que doni garanties adequades",73,"Assegurar que disposem d’una norma que ens permet tractar les dades en la forma, per a la finalitat prevista i amb garanties adequades"]
["P15","Categories especials de dades",32,{"$f":"D74","v":"Manca norma interna que doni garanties adequades"},74,"O comptem amb el consentiment explícit de l’interessat/ amb els requisits de validesa exigible"]
["P15","Categories especials de dades",33,"Assumpció errònia sobre l’existència d’una habilitació legal per al tractament o la cessió de dades de categoria especial",75,"Consultar al CPD/DPD per assegurar-nos d’haver fet una correcta valoració de la base jurídica i de l’excepció en que s’emmarca el tractament que farem"]
["P16","Dades de condemnes i infraccions",34,"Descriviu el risc",76,"Descriviu la mesura"]
["P20","Minimització",{"$f":"+IF(D78=D76,C76,C76+1)","v":34},"Utilitzar dades personals quan la finalitat es pot assolir igualment anonimitzant les dades ",77,"Assegurar si cal utilitzar dades identificatives"]
[{"$f":"A78","v":"P20"},{"$f":"B78","v":"Minimització"},34,{"$f":"D78","v":"Utilitzar dades personals quan la finalitat es pot assolir igualment anonimitzant les dades "},78,"Permetre l’ús anònim dels serveis i productes quan no sigui necessari la identificació de les persones"]
["P20","Minimització",34,{"$f":"D79","v":"Utilitzar dades personals quan la finalitat es pot assolir igualment anonimitzant les dades "},79,"Utilitzar dades agregades quan sigui possible"]
["P20","Minimització",35,"La mesura o tecnologia no és adequada o idònia per a l’objectiu o finalitat",80,"Assegurar que el projecte o el mitjà tecnològic que es proposa permet assolir la finalitat"]
["P20","Minimització",36,"Existeixen altres mitjans o tecnologies menys intrusives que poden ser igualment eficaces.",81,"Comparar altres vies/possibilitats o tecnologies - s’ha de poder demostrar que les que són menys intrusives no asseguren la mateixa eficàcia per a l’objectiu legítim perseguit"]
["P20","Minimització",36,{"$f":"D82","v":"Existeixen altres mitjans o tecnologies menys intrusives que poden ser igualment eficaces."},82,"Assessorament del CPD/DPD"]
["P20","Minimització",36,{"$f":"D83","v":"Existeixen altres mitjans o tecnologies menys intrusives que poden ser igualment eficaces."},83,"Consultar a l’APDCAT"]
["P20","Minimització",37,"La mesura o tecnologia emprada és desproporcionada, comporta més perjudicis que beneficis",84,"Ponderar els beneficis i els perjudicis/riscos del tractament i justificar"]
["P20","Minimització",38,"Ús excessiu de dades personals",85,"Establir procediments amb criteris per limitar la quantitat de dades personals a les necessàries per al propòsit perseguit"]
["P20","Minimització",38,{"$f":"D86","v":"Ús excessiu de dades personals"},86,"Fer servir dades dissociades sempre que sigui possible i no impliqui un esforç desproporcionat."]
["P20","Minimització",38,"Ús excessiu de dades personals",87,"Fer servir pseudònims o atribuir codis de substitució de les dades identificatives que, tot i que no aconsegueixin la dissociació absoluta dels mateixos, si pot contribuir a que la informació sobre la identitat dels afectats només sigui accessible a un número reduït de persones"]
["P20","Minimització",38,"Ús excessiu de dades personals",88,"Limitar la quantitat de dades personals recopilades al que sigui necessari per a la finalitat. "]
["P20","Minimització",38,"Ús excessiu de dades personals",89,"Revisar de forma exhaustiva els fluxos d’informació per detectar si es sol·liciten dades personals que després no s’utilitzen en cap procés."]
["P20","Minimització",38,"Ús excessiu de dades personals",90,"Pseudoanonimitzar les dades personals tan aviat com ja no sigui necessari tenir-les directament identificables i emmagatzemar les claus d’identificació per separat. "]
["P20","Minimització",38,"Ús excessiu de dades personals",91,"Anonimitzar o eliminar les dades personals quan les dades personals no siguin necessàries per a la finalitat. "]
["P20","Minimització",38,"Ús excessiu de dades personals",92,"Establir fluxos de dades per no crear més còpies de les necessàries. "]
["P20","Minimització",38,"Ús excessiu de dades personals",93,"Si utilitzem un software d’un tercer o programes informàtics comercials, cal analitzar riscos i assegurar que les funcionalitats que no tenen base legal o que no són necessàries per a la finalitat que perseguim les podem limitar."]
["P20","Minimització",39,"Anonimització deficient o reversible que permet la re-identificació de dades de salut",94,"Assegurar que el mètode aplicat possibiliti la re-identificació sense fer esforços desproporcionals."]
["P30","Exactitud",40,"Obtenció informació errònia/incorrecta en la recollida de dades de l’interessat",95,"Disposar de mecanismes d’identificació/autenticació segurs"]
[{"$f":"A96","v":"P30"},"Exactitud",40,{"$f":"D96","v":"Obtenció informació errònia/incorrecta en la recollida de dades de l’interessat"},96,"Disposar de mecanismes de verificació de la informació"]
["P30","Exactitud",40,{"$f":"D97","v":"Obtenció informació errònia/incorrecta en la recollida de dades de l’interessat"},97,"Disposar de mecanismes que permetin a l’usuari rectificar directament les dades facilitades per error"]
["P30","Exactitud",41,"Informació errònia en la recollida de dades de fonts diferents a l’interessat",98,"Disposar de procediments de verificació de la informació obtinguda"]
["P30","Exactitud",42,"Manca d'actualització de la informació emmagatzemada",99,"Disposar d’un procediment de revisió/actualització de les dades de manera periòdica"]
["P30","Exactitud",42,{"$f":"D100","v":"Manca d'actualització de la informació emmagatzemada"},100,"Establir mecanismes de control que evitin error acumulats o propagació d’errors."]
["P30","Exactitud",42,{"$f":"D101","v":"Manca d'actualització de la informació emmagatzemada"},101,"Establir mecanismes àgils pera la rectificació de dades inexactes sense demora."]
["P30","Exactitud",43,"Emmagatzematge de la mateixa informació en diferents registres o bases de dades",102,"Preveure mecanismes que facin possible l’actualització de les dades en tots els llocs on estiguin allotjades"]
["P30","Exactitud",44,"Presa de decisions errònies per existència d’errors tècnics o organitzatius que afavoreixen la falta d’integritat de la informació, permetent l’existència de registres duplicats amb informacions diferents o contradictòries",103,"Establir mesures tècniques i organitzatives que garanteixen que les actualitzacions de dades dels interessats es comuniquen a tots els sistemes d’informació, departaments/unitats/ de l’organització que estiguin autoritzats a utilitzar-los. "]
["P40","Decisions automatitzades",45,"Errors/biaixos produïts per Intel·ligència Artificial",104,"Proporcionar informació sobre les dades usades als algoritmes d'IA i sobre els models emprats"]
[{"$f":"A105","v":"P40"},{"$f":"B105","v":"Decisions automatitzades"},45,{"$f":"+D105","v":"Errors/biaixos produïts per Intel·ligència Artificial"},105,"Supervisió per part d'una persona formada que validi els resultats obtinguts"]
[{"$f":"A106","v":"P40"},{"$f":"B106","v":"Decisions automatitzades"},46,"Presa de decisions sanitàries, socials, laborals, etc. rellevants sobre les persones (en especial si pertanyen a col·lectius vulnerables) especialment si poden ser adverses o discriminatòries",106,"Proporcionar informació sobre els criteris emprats en la presa de decisions i permetre als interessats impugnar la decisió i sol·licitar que sigui revisada per una persona."]
[{"$f":"A107","v":"P40"},"Decisions automatitzades",47,"Presa de decisions automatitzades amb possibles conseqüències rellevants per a les persones",107,"Supervisió per part d’una persona formada que validi"]
["P40","Decisions automatitzades",47,{"$f":"D108","v":"Presa de decisions automatitzades amb possibles conseqüències rellevants per a les persones"},108,"Establir mecanismes i/o procediments que permetin resoldre de manera ràpida i eficaç els possibles errors comesos"]
["P40","Decisions automatitzades",48,"Realitzar inferències o deduccions errònies sobre persones a través del reconeixement facial o altres anàlisis biomètrics",109,"Supervisió per part d’una persona formada que validi el resultat"]
["P40","Decisions automatitzades",48,{"$f":"D110","v":"Realitzar inferències o deduccions errònies sobre persones a través del reconeixement facial o altres anàlisis biomètrics"},110,"Establir mecanismes i/o procediments que permetin resoldre de manera ràpida i eficaç els possibles errors comesos"]
["P50","Limitació del termini de conservació",49,"Manca de definició o de claredat en els terminis de conservació",111,"Revisar i definir amb claredat els terminis de de conservació i preveure´ls en tots els sistemes om estigui la informació"]
[{"$f":"A112","v":"P50"},"Limitació del termini de conservació",50,"Manca de mecanisme o procediment d’esborrat/o bloqueig de les dades",112,"Implementar controls automàtics dins els sistemes d’informació d’alerta de de la proximitat dels terminis fixat. "]
["P50","Limitació del termini de conservació",51,"Manca de mecanisme o procediment d’esborrat/bloqueig de dades",113,"Implementar mecanismes per a dur a terme i gestionar la cancel·lació en el moment adequat, incloent, si escau, el bloqueig temporal de les dades."]
["P60","Opinió dels interessats",52,"Descriviu el risc",114,"Descriviu la mesura"]
["D10","Transparència i deure d’informació",53,"Redacció de la informació de protecció de dades en llenguatge imprecís i poc clar que impedeix als interessats fer-se una idea clara i ajustada sobre tot el que és essencial que coneguin per a garantir que el tractament és lleial",115,"Implantar polítiques de privacitat clares, concises i fàcilment accessibles als interessats, en formats estandarditzats i amb uniformitat en tots els entorns de l’organització."]
[{"$f":"A116","v":"D10"},{"$f":"B116","v":"Transparència i deure d’informació"},53,{"$f":"D116","v":"Redacció de la informació de protecció de dades en llenguatge imprecís i poc clar que impedeix als interessats fer-se una idea clara i ajustada sobre tot el que és essencial que coneguin per a garantir que el tractament és lleial"},116,"En entorn webs situar la política de privacitat en un lloc que es vegi (ex. fer us pop-ups)"]
["D10","Transparència i deure d’informació",53,{"$f":"D117","v":"Redacció de la informació de protecció de dades en llenguatge imprecís i poc clar que impedeix als interessats fer-se una idea clara i ajustada sobre tot el que és essencial que coneguin per a garantir que el tractament és lleial"},117,"Utilitzar icones que ajudin a la comprensió del text"]
["D10","Transparència i deure d’informació",53,{"$f":"D118","v":"Redacció de la informació de protecció de dades en llenguatge imprecís i poc clar que impedeix als interessats fer-se una idea clara i ajustada sobre tot el que és essencial que coneguin per a garantir que el tractament és lleial"},118,"Facilitar la informació per capes per ajudar a que els aspectes més rellevants siguin fàcilment entesos per l’interessat"]
["D10","Transparència i deure d’informació",54,"Dificultat per accedir a la informació, especialment per a persones amb diversitat funcional",119,"Establir diferents canals o mitjans, per augmentar la probabilitat de que la informació arribi a l’interessat"]
["D10","Transparència i deure d’informació",54,{"$f":"D120","v":"Dificultat per accedir a la informació, especialment per a persones amb diversitat funcional"},120,"Dissenyar formats accessibles tenint en compte les necessitats de tothom."]
["D10","Transparència i deure d’informació",55,"En entorns web, apps, ubicar la política de privacitat en llocs de difícil localització o amb la informació disseminada en diverses seccions o apartats que facin difícil un accés conjunt i detallat.",121,"Estructurar y proporcionar la informació"]
["D10","Transparència i deure d’informació",55,{"$f":"D122","v":"En entorns web, apps, ubicar la política de privacitat en llocs de difícil localització o amb la informació disseminada en diverses seccions o apartats que facin difícil un accés conjunt i detallat."},122,"sobre els tractaments de dades personals en diferents nivells/capes i valorar la utilització d’icones o altres sistemes gràfics per facilitar la comprensió"]
["D10","Transparència i deure d’informació",55,{"$f":"D123","v":"En entorns web, apps, ubicar la política de privacitat en llocs de difícil localització o amb la informació disseminada en diverses seccions o apartats que facin difícil un accés conjunt i detallat."},123," Verificar que la informació que s’ofereix en tots els llocs i situacions és coherent i sistemàtica"]
["D10","Transparència i deure d’informació",55,{"$f":"D124","v":"En entorns web, apps, ubicar la política de privacitat en llocs de difícil localització o amb la informació disseminada en diverses seccions o apartats que facin difícil un accés conjunt i detallat."},124,"Verificar que la informació s’ofereix en tots els formularis"]
["D10","Transparència i deure d’informació",56,"Facilitar informació insuficient",125,"Comprovar que la informació facilitada contingui els requisits mínims (arts 13 i/o 14 RGPD)"]
["D10","Transparència i deure d’informació",57,"Recollir dades sense proporcionar la deguda informació o de manera fraudulenta o no autoritzada (ubicació geogràfica, comportament, hàbits de navegació, etc.)",126,"Informar amb transparència sobre l’ús i finalitats de les cookies"]
["D10","Transparència i deure d’informació",57,{"$f":"D127","v":"Recollir dades sense proporcionar la deguda informació o de manera fraudulenta o no autoritzada (ubicació geogràfica, comportament, hàbits de navegació, etc.)"},127,"Establir procediments para la revisió sistemàtica y obligatòria dels diferents formularis que garanteixin el compliment de la política de privacitat, la homogeneïtat de la informació, i que s’ofereix la informació adequada"]
["D10","Transparència i deure d’informació",58,"Manca de procediment per informar una violació de seguretat en un termini de 72h, i comunicació als interessats, si escau.",128,"Implantar un procediment intern operatiu conegut pel personals que permeti gestionar i informar si escau a l’autoritat de protecció de dades d’una violació de seguretat en un termini de 72h des de que s’ha tingut constància de l’incident i comunicar als interessats, si escau"]
["D20","Exercici de drets",59,"Dificultat per a exercici de drets de l’interessat",129,"Establir sistemes que permetin als interessats l’accés de forma fàcil l’exercici de de drets"]
[{"$f":"A130","v":"D20"},{"$f":"B130","v":"Exercici de drets"},59,{"$f":"D130","v":"Dificultat per a exercici de drets de l’interessat"},130,"Evitar establir procediments poc transparents i complicats"]
["D20","Exercici de drets",60,"Manca de procediment per a la gestió dels drets dels interessats",131,"Documentar un protocol en què s’especifiqui el circuït per a l’atenció de les sol·licituds."]
["D20","Exercici de drets",61,"Manca de formació del personal per atendre una sol·licitud de drets",132,"Definir quines persones o unitats s’ocuparan de gestionar els drets"]
["D20","Exercici de drets",61,{"$f":"D133","v":"Manca de formació del personal per atendre una sol·licitud de drets"},133,"Establir un pla de formació per tal que el personal sàpiga què fer si es rep una petició de drets dels interessats o com han d’informar-los perquè la puguin fer, i puguin distingir entre els diferents drets i les actuacions que corresponguin en cada cas, i els terminis de resposta"]
["D20","Exercici de drets",62,"Dificultats de l’interessat per obtenir informació sobre les seves dades, i a la resta d’informació a la qual té dret d’accés.",134,"Facilitar que l’interessat pugui accedir en remot de manera segura a les seves dades, per tal de conèixer la informació i poder verificar que sigui correcta"]
["D20","Exercici de drets",63,"Manca de procediments i eines per a la comunicació a l’interessat de rectificació /cancel·lació",135,"Disposar d’un procediment de gestió i posem en marxa eines que garanteixin la comunicació a l’interessat de les rectificacions/ cancel·lacions que s’hagin realitzat."]

{"sheet":"PIVOT_RiscosCompl","index":19,"n_rows":69,"n_cols":8,"rows_kept":69,"cut":false,"hidden":true,"merged":[]}
["CONTROL_ID","RISC"]
["T10","Manca una definició clara de la finalitat del tractament de les dades.",null,null,null,"T10",null,{"$f":"OFFSET(A:B,(MATCH(F2,A:A,0)-1),1,COUNTIF(A:A,F2),1)","v":"Manca una definició clara de la finalitat del tractament de les dades."}]
["T20","Acord d’encàrrec incorrecte perquè no reuneix tots els apartats necessaris i les garanties adequades"]
["T20","Assumpció errònia de rols dels intervinents en el tractament"]
["T20","Dificultats per aconseguir el traspàs al responsable de dades personals o altres entorns un cop finalitzar el contracte"]
["T20","Existència de diferents responsables sense formalització d’un acord de coresponsabilitat o sense definició clara de les obligacions assumides per cadascú "]
["T20","Falta de diligència (o dificultat per a demostrar-la) en elecció d'encarregat del tractament"]
["T20","Gestió deficient de subencarregats / insuficient control sobre encarregats i subencarregats, en especial sobre el compliment de les mesures de seguretat exigides."]
["T20","Inexistència d’acord d’encàrrec de tractament"]
["T20","Manca / deficiències en la definició dels procediments per comunicar o recolzar al responsable de tractament en l’exercici dels drets dels interessats realitzats davant l’encarregat"]
["T30","Descriviu el risc"]
["T40","Descriviu el risc"]
["T50","Descriviu el risc"]
["T60","Impediments per part de l’importador (país destinatari de les dades) per a l’exercici dels procediments de supervisió i control pactats. ",null,null,null,{"$f":"+F2","v":"T10"},null,"Manca de base de legitimació clara i suficient "]
["T60","Manca de mecanismes de control de compliment de les garanties establertes a la transferència."]
["T60","Realització per part del responsable/ dels encarregats o dels subencarregats de TI de dades a països fora del EEE no autoritzada"]
["P11","Error / dubtes en elecció de base legal"]
["P11","Manca de base de legitimació clara i suficient "]
["P11","Manca de base o norma clara per a comunicacions / cessions de dades personals a tercers"]
["P11","Manca de norma clara que habilita el tractament en base a article 6.1.c) o 6.1.e) RGPD"]
["P11","Possible reidentificació en una informació prèviament anonimitzada"]
["P12","Enriquir les dades personals de forma no prevista en la finalitat inicial, i sense informar els afectats quan realitzem un interconnexió amb altres bbdd de l’organització o de tercers"]
["P12","Garanties insuficients per l’ús de dades personals amb finalitats històriques, científiques i estadístiques"]
["P12","Utilització de dades personals per a finalitats no especificades o incompatibles amb la que va motivar la recollida"]
["P13","La informació facilitada no és clara, és incomplerta o de difícil accés"]
["P13","Manca de capacitat real d’elecció de l’interessat"]
["P13","Manca de garanties d’autenticació de la persona que presta el consentiment"]
["P13","Manca de mecanisme fàcil de retirada del consentiment"]
["P13","Manca procediment per a la recollida i registre del consentiment"]
["P13","Obtenció de consentiment dubtós, viciat o invàlid per al tractament o cessió de dades personals "]
["P13","Obtenció de consentiment general per a totes les finalitats"]
["P13","Utilitzar cookies de seguiment o altres mecanismes de rastreig sense obtenir un consentiment vàlid"]
["P14","Consentiment del menor sense preveure la signatura dels tutors o representants legals"]
["P14","Manca de verificació de la identitat dels tutors o representants del menor"]
["P15","Assumpció errònia sobre l’existència d’una habilitació legal per al tractament o la cessió de dades de categoria especial"]
["P15","Manca excepció clara que aixequi la prohibició"]
["P15","Manca norma interna que doni garanties adequades"]
["P20","Anonimització deficient o reversible que permet la re-identificació de dades de salut"]
["P20","Existeixen altres mitjans o tecnologies menys intrusives que poden ser igualment eficaces."]
["P20","La mesura o tecnologia emprada és desproporcionada, comporta més perjudicis que beneficis"]
["P20","La mesura o tecnologia no és adequada o idònia per a l’objectiu o finalitat"]
["P20","Ús excessiu de dades personals"]
["P20","Utilitzar dades personals quan la finalitat es pot assolir igualment anonimitzant les dades "]
["P30","Emmagatzematge de la mateixa informació en diferents registres o bases de dades"]
["P30","Informació errònia en la recollida de dades de fonts diferents a l’interessat"]
["P30","Manca d'actualització de la informació emmagatzemada"]
["P30","Obtenció informació errònia/incorrecta en la recollida de dades de l’interessat"]
["P30","Presa de decisions errònies per existència d’errors tècnics o organitzatius que afavoreixen la falta d’integritat de la informació, permetent l’existència de registres duplicats amb informacions diferents o contradictòries"]
["P40","Errors/biaixos produïts per Intel·ligència Artificial"]
["P40","Presa de decisions automatitzades amb possibles conseqüències rellevants per a les persones"]
["P40","Presa de decisions sanitàries, socials, laborals, etc. rellevants sobre les persones (en especial si pertanyen a col·lectius vulnerables) especialment si poden ser adverses o discriminatòries"]
["P40","Realitzar inferències o deduccions errònies sobre persones a través del reconeixement facial o altres anàlisis biomètrics"]
["P50","Manca de definició o de claredat en els terminis de conservació"]
["P50","Manca de mecanisme o procediment d’esborrat/bloqueig de dades"]
["P50","Manca de mecanisme o procediment d’esborrat/o bloqueig de les dades"]
["D10","Dificultat per accedir a la informació, especialment per a persones amb diversitat funcional"]
["D10","En entorns web, apps, ubicar la política de privacitat en llocs de difícil localització o amb la informació disseminada en diverses seccions o apartats que facin difícil un accés conjunt i detallat."]
["D10","Facilitar informació insuficient"]
["D10","Manca de procediment per informar una violació de seguretat en un termini de 72h, i comunicació als interessats, si escau."]
["D10","Recollir dades sense proporcionar la deguda informació o de manera fraudulenta o no autoritzada (ubicació geogràfica, comportament, hàbits de navegació, etc.)"]
["D10","Redacció de la informació de protecció de dades en llenguatge imprecís i poc clar que impedeix als interessats fer-se una idea clara i ajustada sobre tot el que és essencial que coneguin per a garantir que el tractament és lleial"]
["D20","Dificultat per a exercici de drets de l’interessat"]
["D20","Dificultats de l’interessat per obtenir informació sobre les seves dades, i a la resta d’informació a la qual té dret d’accés."]
["D20","Manca de formació del personal per atendre una sol·licitud de drets"]
["D20","Manca de procediment per a la gestió dels drets dels interessats"]
["D20","Manca de procediments i eines per a la comunicació a l’interessat de rectificació /cancel·lació"]
["P16","Descriviu el risc"]
["P60","Descriviu el risc"]
["Grand Total"]

{"sheet":"Categ Dades","index":20,"n_rows":14,"n_cols":3,"rows_kept":14,"cut":false,"hidden":true,"merged":[]}
["CATEGORIA DE DADES","CATEGORIA ESPECIAL? ","EXEMPLES / DESCRIPCIÓ"]
[{"$f":"'AUX DATA VALIDATION'!F4","v":"Afiliació Sindical"},{"$f":"'AUX DATA VALIDATION'!G4","v":"ESPECIAL"},{"$f":"'AUX DATA VALIDATION'!H4","v":"Incorporació o pertinença d'un treballador a un sindicat determinat"}]
[{"$f":"'AUX DATA VALIDATION'!F5","v":"Biomètriques"},{"$f":"'AUX DATA VALIDATION'!G5","v":"ESPECIAL"},{"$f":"'AUX DATA VALIDATION'!H5","v":"Empremta dactilar; reconeixement facial; veu; dades proporcionades per comptadors intel·ligents…"}]
[{"$f":"'AUX DATA VALIDATION'!F6","v":"Conviccions Religioses/Filosòfiques"},{"$f":"'AUX DATA VALIDATION'!G6","v":"ESPECIAL"},{"$f":"'AUX DATA VALIDATION'!H6","v":"Creences; pràctiques o confessions religioses o espirituals; valors morals; …"}]
[{"$f":"'AUX DATA VALIDATION'!F7","v":"Ètnic/Racial"},{"$f":"'AUX DATA VALIDATION'!G7","v":"ESPECIAL"},{"$f":"'AUX DATA VALIDATION'!H7","v":"Dades personals que revelin l'origen ètnic o racial"}]
[{"$f":"'AUX DATA VALIDATION'!F8","v":"Opinions Polítiques"},{"$f":"'AUX DATA VALIDATION'!G8","v":"ESPECIAL"},{"$f":"'AUX DATA VALIDATION'!H8","v":"Opinions polítiques"}]
[{"$f":"'AUX DATA VALIDATION'!F9","v":"Orientació i vida Sexual"},{"$f":"'AUX DATA VALIDATION'!G9","v":"ESPECIAL"},{"$f":"'AUX DATA VALIDATION'!H9","v":"Orientació sexual; Conjunt d'interessos, fantasies i inclinacions eròtiques, i conducta sexual "}]
[{"$f":"'AUX DATA VALIDATION'!F10","v":"Condemnes i infraccions penals"},{"$f":"'AUX DATA VALIDATION'!G10","v":"NO ESPECIAL"},{"$f":"'AUX DATA VALIDATION'!H10","v":"Antecedents; delictes i condemnes."}]
[{"$f":"'AUX DATA VALIDATION'!F11","v":"Salut"},{"$f":"'AUX DATA VALIDATION'!G11","v":"ESPECIAL"},{"$f":"'AUX DATA VALIDATION'!H11","v":"Història clínica; Dades clíniques; Targeta Sanitària (CIP); Dades genètiques; Discapacitats físiques o intel·lectuals; Necessitats educatives especials; Imatge mèdica i genòmica; Resultats de proves; Grup sanguini; Receptes mèdiques; Estat fisiològic;...."}]
[{"$f":"'AUX DATA VALIDATION'!F12","v":"Identificatives"},{"$f":"'AUX DATA VALIDATION'!G12","v":"NO ESPECIAL"},{"$f":"'AUX DATA VALIDATION'!H12","v":"Nom; Pseudònim; Número d’identificació (NIF / DNI / Passaport / NIE); Adreça postal o electrònica; Num SS / Mutualitat; Telèfon; Marques Físiques; Nom i cognoms; Signatura electrònica; Signatura manuscrita; Número de registre personal; Geolocalització (telèfon mòbil, sistemes de posicionament, dades d’ubicació, adreça del Protocol d’Internet (IP), identificador de cookie...)"}]
[{"$f":"'AUX DATA VALIDATION'!F13","v":"Professionals i acadèmiques"},{"$f":"'AUX DATA VALIDATION'!G13","v":"NO ESPECIAL"},{"$f":"'AUX DATA VALIDATION'!H13","v":"Formació i titulacions; Historial acadèmic; Experiència professional; Col·legis o associacions professionals; Cos, escala; Categoria, grau; Llocs de treball; Historial laboral, CV; Dades no econòmiques de nòmina; Creacions artístiques, científiques;"}]
[{"$f":"'AUX DATA VALIDATION'!F14","v":"Sociodemogràfiques"},{"$f":"'AUX DATA VALIDATION'!G14","v":"NO ESPECIAL"},{"$f":"'AUX DATA VALIDATION'!H14","v":"Edat; Sexe; Nacionalitat; Estat Civil; Codi postal; Dades familiars; Data de naixement; Lloc de naixement; Llengua Materna; Característiques físiques o antropomètriques; Allotjament o habitatge; Situació militar; Aficions i estils de vida; Clubs i associacions; Llicències, permisos, autoritzacions; "}]
[{"$f":"'AUX DATA VALIDATION'!F15","v":"Socioeconòmiques"},{"$f":"'AUX DATA VALIDATION'!G15","v":"NO ESPECIAL"},{"$f":"'AUX DATA VALIDATION'!H15","v":"Ingressos, rendes; Inversions, patrimoni; Crèdits, préstecs, avals; Dades bancàries; Assegurances; Dades de nòmina; Impostos, deduccions; Plans de pensió, jubilació; Hipoteques; Subsidis, beneficis; Historial, crèdits; Targetes de crèdit; Propietats o possessions; Béns subministrats; Béns rebuts; Transaccions financeres; Compensacions, indemnitzacions; Activitats i negocis; Llicències comercials; Subscripcions a publicacions; "}]
[{"$f":"'AUX DATA VALIDATION'!F16","v":"ALTRES (escriure)"},{"$f":"'AUX DATA VALIDATION'!G16","v":"NO ESPECIAL"},{"$f":"'AUX DATA VALIDATION'!H16","v":"Infraccions administratives; …"}]

{"sheet":"Processos de Tractament","index":21,"n_rows":11,"n_cols":2,"rows_kept":11,"cut":false,"hidden":true,"merged":[]}
["TIPUS DE TRACTAMENT","EXEMPLES DE TRACTAMENTS"]
[{"$f":"+'AUX DATA VALIDATION'!Z4","v":"1. Captura"},{"$f":"+'AUX DATA VALIDATION'!AA4","v":"Procés d'obtenció de dades per al seu emmagatzematge i posterior tractament: dades d'estudis previs, obtenció de mostres, qüestionaris, formularis web, formularis en paper, entrevistes, observació directa, xarxes socials, captació mitjançant sensors, enregistrament digital (gravació d'àudio digital, subtítol de vídeo digital...), etc"}]
[{"$f":"+'AUX DATA VALIDATION'!Z5","v":"2. Desidentificació"},{"$f":"+'AUX DATA VALIDATION'!AA5","v":"Tècniques de anonimització / pseudonimització, com: codificació (hash), encriptació, agregació, afegir soroll, eliminar variables / categories, etc"}]
[{"$f":"+'AUX DATA VALIDATION'!Z6","v":"3. Preparació"},{"$f":"+'AUX DATA VALIDATION'!AA6","v":"Exemples: \n- Combinació (consolidar dades de diferents fitxers)\n- Harmonització / Estandarització (transformar les dades en un conjunt de dades cohesionat)\n- Modificació (selecció, classificació, neteja, correcció de dades amb objectiu diferent a la desidentificació)\n- Determinació de la seqüència del genoma amb tècniques de laboratori\n..."}]
[{"$f":"+'AUX DATA VALIDATION'!Z7","v":"4a. Explotació: Consulta"},{"$f":"+'AUX DATA VALIDATION'!AA7","v":"Recuperació o accés a dades crues o resultats"}]
[{"$f":"+'AUX DATA VALIDATION'!Z8","v":"4b. Explotació: Anàlisi"},{"$f":"+'AUX DATA VALIDATION'!AA8","v":"Analítica de dades mitjançant tècniques diferents a l'IA: exploració de les dades, models estadístics…"}]
[{"$f":"+'AUX DATA VALIDATION'!Z9","v":"4c. Explotació: Algorismes d'IA"},{"$f":"+'AUX DATA VALIDATION'!AA9","v":"Perfilats, mineria de dades, presa de decisions automatitzades, algorismes d'auto-aprenentatge "}]
[{"$f":"+'AUX DATA VALIDATION'!Z10","v":"5. Allotjament"},{"$f":"+'AUX DATA VALIDATION'!AA10","v":"Organització, estructuració, emmagatzematge, conservació, incloses còpies de seguretat a través de qualsevol mitjà, inclosos: servidors físics, núvol virtual, LAN o WAN, disc dur, dispositius externs (llapis de memòria, telèfon, disc dur extern)"}]
[{"$f":"+'AUX DATA VALIDATION'!Z11","v":"6a. Comunicacions a Tercers"},{"$f":"+'AUX DATA VALIDATION'!AA11","v":"Cessió de dades a un tercer, definit com aquella persona física o jurídica, pública o privada o òrgan administratiu. Inclou l'entrega, comunicació, consulta, interconnexió, difusió o qualsevol altra forma d'accés a les dades."}]
[{"$f":"+'AUX DATA VALIDATION'!Z12","v":"6b. Transferència internacional"},{"$f":"+'AUX DATA VALIDATION'!AA12","v":"Cessió de dades quan inclou la transferència a un país tercer (fora de la UE)"}]
[{"$f":"+'AUX DATA VALIDATION'!Z13","v":"7. Destrucció"},{"$f":"+'AUX DATA VALIDATION'!AA13","v":"Supressió, eliminació, esborrat de les dades que puguin estar contingudes en sistemes o arxius, de forma que no puguin ser recuperats dels suports d'emmagatzematge"}]

{"sheet":"Grau d'Impacte","index":22,"n_rows":15,"n_cols":3,"rows_kept":15,"cut":false,"hidden":true,"merged":[]}
[]
[]
[]
[]
["GRAU D'IMPACTE","DESCRIPCIÓ","EXEMPLES"]
["BAIX","Els interessats poden patir algunes molèsties menors, que poden superar sense problemes","Pèrdua de temps, enuig…"]
["MITJÀ","Els interessats poden trobar inconvenients importants, que poden superar amb algunes dificultats","Augment de costos, falta de comprensió, estrès, danys físics, impossibilitat d’accedir a algun servei..."]
["ALT","Els interessats poden patir conseqüències importants, que poden superar amb dificultats importants","Discriminació, robatori de la identitat, pèrdues econòmiques, danys psicològics, danys per a la reputació, danys físics, empitjorament de la salut, pèrdua de la feina..."]
["MOLT ALT","Els interessats poden patir conseqüències greus que no poden superar","Danys físics o psicològics greus, mort..."]
[]
[]
["GRAU DE PROBABILITAT","DESCRIPCIÓ"]
["BAIXA","És improbable que l'impacte es materialitzi (pot passar, de forma fortuita)"]
["MITJANA","És possible que l'impacte es materialitzi (pot passar de forma ocasional - baixa freqüència)"]
["ALTA","És probable que l'impacte es materialitzi (pot passar, i amb certa freqüència)"]

{"sheet":"AUX_MELT_DADES","index":23,"n_rows":191,"n_cols":22,"rows_kept":191,"cut":false,"hidden":true,"merged":[]}
[]
[]
[]
[null,null,null,null,null,null,null,null,null,null,null,null,null,null,null,"SI"]
["Control","variable.x","KEY.CodiControl.Impactes","Categoria","Subcategoria","Descripció.Control","Explicació","Baix","Mitjà","Alt","n.baix","n.mitjà","n.alt","n.total","variable.y","Trigger1.prob.inicial","Check.impact.inicial","Trigger2.impact.inicial","Prioritat.Numerica","Proposta-Prioritat.inicial","Justificació","Pregunta&KEY"]
["[mp.com.1]","Q01","[mp.com.1]LM","Mesures de protecció","Protecció de comunicacions","Perímetre segur","•\tCal disposar d’un tallafocs que separi la xarxa interna de l’exterior. Tot el trànsit ha de passar a través del tallafocs, que només ha de permetre els fluxos prèviament autoritzats.","L","M",null,1,2,0,{"$f":"MAX(K6:M6)","v":2},"Sistema",{"$f":"IF(VLOOKUP(B6,'4B.RISCOS DADES'!$C$9:$F$23,4,FALSE)=$P$4,1,0)","v":0},{"$f":"IFERROR(VLOOKUP(O6,'4B.RISCOS DADES'!$C$4:$F$7,4,FALSE),\"\")","v":"PENDENT D'AVALUAR"},{"$f":"+IF(AND(Q6=\"BAIX\",H6=\"L\"),1,IF(AND(Q6=\"MITJÀ\",I6=\"M\"),2,IF(AND(Q6=\"ALT\",J6=\"H\"),3,IF(AND(Q6=\"MOLT ALT\",J6=\"H\"),4,0))))","v":0},{"$f":"IFERROR(MAX(P6,R6),0)","v":0},{"$f":"+IF(S6>3,\"SI - MOLT ALTA\",IF(S6=3,\"SI - ALTA\",IF(S6=2,\"SI - MITJANA\",IF(S6=1,\"SI - BAIXA\",\"NO\"))))","v":"NO"},null,{"$f":"+B6&C6","v":"Q01[mp.com.1]LM"}]
["[mp.com.1]","Q01","[mp.com.1]H","Mesures de protecció","Protecció de comunicacions","Perímetre segur","•\tCal disposar d’un tallafocs que separi la xarxa interna de l’exterior. Tot el trànsit ha de passar a través del tallafocs, que només ha de permetre els fluxos prèviament autoritzats.\n•\tEl tallafocs ha de constar de dos o més equips de diferents fabricants en cascada.\n•\tCal disposar de sistemes redundants.",null,null,"H",0,0,3,{"$f":"MAX(K7:M7)","v":3},"Sistema",{"$f":"IF(VLOOKUP(B7,'4B.RISCOS DADES'!$C$9:$F$23,4,FALSE)=$P$4,1,0)","v":0},{"$f":"IFERROR(VLOOKUP(O7,'4B.RISCOS DADES'!$C$4:$F$7,4,FALSE),\"\")","v":"PENDENT D'AVALUAR"},{"$f":"+IF(AND(Q7=\"BAIX\",H7=\"L\"),1,IF(AND(Q7=\"MITJÀ\",I7=\"M\"),2,IF(AND(Q7=\"ALT\",J7=\"H\"),3,IF(AND(Q7=\"MOLT ALT\",J7=\"H\"),4,0))))","v":0},{"$f":"IFERROR(MAX(P7,R7),0)","v":0},{"$f":"+IF(S7>3,\"SI - MOLT ALTA\",IF(S7=3,\"SI - ALTA\",IF(S7=2,\"SI - MITJANA\",IF(S7=1,\"SI - BAIXA\",\"NO\"))))","v":"NO"},null,{"$f":"+B7&C7","v":"Q01[mp.com.1]H"}]
["[mp.com.2]","Q01","[mp.com.2]M","Mesures de protecció","Protecció de comunicacions","Protecció de la confidencialitat","•\tCal utilitzar una VPN, quan la comunicació passi per fora del domini de seguretat.\n•\tCal utilitzar algorismes acreditats pel CCN.",null,"M",null,0,2,0,2,"Confidencialitat",{"$f":"IF(VLOOKUP(B8,'4B.RISCOS DADES'!$C$9:$F$23,4,FALSE)=$P$4,1,0)","v":0},{"$f":"IFERROR(VLOOKUP(O8,'4B.RISCOS DADES'!$C$4:$F$7,4,FALSE),\"\")","v":0},0,0,"NO",null,"Q01[mp.com.2]M"]
["[mp.com.2]","Q01","[mp.com.2]H","Mesures de protecció","Protecció de comunicacions","Protecció de la confidencialitat","•\tCal utilitzar una VPN, quan la comunicació passi per fora del domini de seguretat.\n•\tCal utilitzar algorismes acreditats pel CCN.\n•\tPreferentment, cal utilitzar dispositius de maquinari per establir i utilitzar la VPN.\n•\tPreferentment, cal utilitzar productes certificats.",null,null,"H",0,0,3,3,"Confidencialitat",{"$f":"IF(VLOOKUP(B9,'4B.RISCOS DADES'!$C$9:$F$23,4,FALSE)=$P$4,1,0)","v":0},{"$f":"IFERROR(VLOOKUP(O9,'4B.RISCOS DADES'!$C$4:$F$7,4,FALSE),\"\")","v":0},0,0,"NO",null,"Q01[mp.com.2]H"]
["[mp.com.3]","Q01","[mp.com.3]L","Mesures de protecció","Protecció de comunicacions","Protecció de l’autenticitat i de la integritat","•\tCal garantir l’autenticitat de l’altre extrem d’un canal de comunicació, abans d’intercanviar informació.\n•\tCal prevenir atacs actius i garantir que, com a mínim, es detectin. Es consideren atacs actius: l’alteració de la informació en trànsit, la introducció d’informació espúria i el segrest de la sessió per una tercera part.","L",null,null,1,0,0,1,"Autenticitat",{"$f":"IF(VLOOKUP(B10,'4B.RISCOS DADES'!$C$9:$F$23,4,FALSE)=$P$4,1,0)","v":0},{"$f":"IFERROR(VLOOKUP(O10,'4B.RISCOS DADES'!$C$4:$F$7,4,FALSE),\"\")","v":""},0,0,"NO",null,"Q01[mp.com.3]L"]
["[mp.com.3]","Q01","[mp.com.3]M","Mesures de protecció","Protecció de comunicacions","Protecció de l’autenticitat i de la integritat","•\tCal garantir l’autenticitat de l’altre extrem d’un canal de comunicació, abans d’intercanviar informació.\n•\tCal prevenir atacs actius i garantir que, com a mínim, es detectin. Es consideren atacs actius: l’alteració de la informació en trànsit, la introducció d’informació espúria i el segrest de la sessió per una tercera part.\n•\tCal utilitzar una VPN, quan la comunicació passi per fora del domini de seguretat.\n•\tCal utilitzar algorismes acreditats pel CCN.",null,"M",null,0,2,0,2,"Autenticitat",{"$f":"IF(VLOOKUP(B11,'4B.RISCOS DADES'!$C$9:$F$23,4,FALSE)=$P$4,1,0)","v":0},{"$f":"IFERROR(VLOOKUP(O11,'4B.RISCOS DADES'!$C$4:$F$7,4,FALSE),\"\")","v":""},0,0,"NO",null,"Q01[mp.com.3]M"]
["[mp.com.3]","Q01","[mp.com.3]H","Mesures de protecció","Protecció de comunicacions","Protecció de l’autenticitat i de la integritat","•\tCal garantir l’autenticitat de l’altre extrem d’un canal de comunicació, abans d’intercanviar informació.\n•\tCal prevenir atacs actius i garantir que, com a mínim, es detectin. Es consideren atacs actius: l’alteració de la informació en trànsit, la introducció d’informació espúria i el segrest de la sessió per una tercera part.\n•\tCal utilitzar una VPN, quan la comunicació passi per fora del domini de seguretat.\n•\tCal utilitzar algorismes acreditats pel CCN.\n•\tS’ha de valorar positivament l’ús de dispositius de maquinari a l’hora d’establir la VPN.\n•\tPreferentment, cal utilitzar productes certificats.",null,null,"H",0,0,3,3,"Autenticitat",{"$f":"IF(VLOOKUP(B12,'4B.RISCOS DADES'!$C$9:$F$23,4,FALSE)=$P$4,1,0)","v":0},{"$f":"IFERROR(VLOOKUP(O12,'4B.RISCOS DADES'!$C$4:$F$7,4,FALSE),\"\")","v":""},0,0,"NO",null,"Q01[mp.com.3]H"]
["[mp.com.3]","Q01","[mp.com.3]M","Mesures de protecció","Protecció de comunicacions","Protecció de l’autenticitat i de la integritat","•\tCal garantir l’autenticitat de l’altre extrem d’un canal de comunicació, abans d’intercanviar informació.\n•\tCal prevenir atacs actius i garantir que, com a mínim, es detectin. Es consideren atacs actius: l’alteració de la informació en trànsit, la introducció d’informació espúria i el segrest de la sessió per una tercera part.\n•\tCal utilitzar una VPN, quan la comunicació passi per fora del domini de seguretat.\n•\tCal utilitzar algorismes acreditats pel CCN.",null,"M",null,0,2,0,2,"Integritat",{"$f":"IF(VLOOKUP(B13,'4B.RISCOS DADES'!$C$9:$F$23,4,FALSE)=$P$4,1,0)","v":0},{"$f":"IFERROR(VLOOKUP(O13,'4B.RISCOS DADES'!$C$4:$F$7,4,FALSE),\"\")","v":0},0,0,"NO",null,"Q01[mp.com.3]M"]
["[mp.com.3]","Q01","[mp.com.3]L","Mesures de protecció","Protecció de comunicacions","Protecció de l’autenticitat i de la integritat","•\tCal garantir l’autenticitat de l’altre extrem d’un canal de comunicació, abans d’intercanviar informació.\n•\tCal prevenir atacs actius i garantir que, com a mínim, es detectin. Es consideren atacs actius: l’alteració de la informació en trànsit, la introducció d’informació espúria i el segrest de la sessió per una tercera part.","L",null,null,1,0,0,1,"Integritat",{"$f":"IF(VLOOKUP(B14,'4B.RISCOS DADES'!$C$9:$F$23,4,FALSE)=$P$4,1,0)","v":0},{"$f":"IFERROR(VLOOKUP(O14,'4B.RISCOS DADES'!$C$4:$F$7,4,FALSE),\"\")","v":0},0,0,"NO",null,"Q01[mp.com.3]L"]
["[mp.com.3]","Q01","[mp.com.3]H","Mesures de protecció","Protecció de comunicacions","Protecció de l’autenticitat i de la integritat","•\tCal garantir l’autenticitat de l’altre extrem d’un canal de comunicació, abans d’intercanviar informació.\n•\tCal prevenir atacs actius i garantir que, com a mínim, es detectin. Es consideren atacs actius: l’alteració de la informació en trànsit, la introducció d’informació espúria i el segrest de la sessió per una tercera part.\n•\tCal utilitzar una VPN, quan la comunicació passi per fora del domini de seguretat.\n•\tCal utilitzar algorismes acreditats pel CCN.\n•\tS’ha de valorar positivament l’ús de dispositius de maquinari a l’hora d’establir la VPN.\n•\tPreferentment, cal utilitzar productes certificats.",null,null,"H",0,0,3,3,"Integritat",{"$f":"IF(VLOOKUP(B15,'4B.RISCOS DADES'!$C$9:$F$23,4,FALSE)=$P$4,1,0)","v":0},{"$f":"IFERROR(VLOOKUP(O15,'4B.RISCOS DADES'!$C$4:$F$7,4,FALSE),\"\")","v":0},0,0,"NO",null,"Q01[mp.com.3]H"]
["[mp.com.4]","Q03","[mp.com.4]H","Mesures de protecció","Protecció de comunicacions","Segregació de xarxes","La segregació de xarxes limita la propagació dels incidents de seguretat, que queden restringits a l’entorn on tenen lloc.\nLa xarxa s’ha de segmentar, de manera que hi hagi:\n•\tControl d’entrada dels usuaris a cada segment.\n•\tControl de sortida de la informació de cada segment.\n•\tEls punts d’interconnexió (físic o lògic) han d’estar particularment assegurats, mantinguts i monitoritzats.",null,null,"H",0,0,3,3,"Sistema",{"$f":"IF(VLOOKUP(B16,'4B.RISCOS DADES'!$C$9:$F$23,4,FALSE)=$P$4,1,0)","v":0},{"$f":"IFERROR(VLOOKUP(O16,'4B.RISCOS DADES'!$C$4:$F$7,4,FALSE),\"\")","v":"PENDENT D'AVALUAR"},0,0,"NO",null,"Q03[mp.com.4]H"]
["[mp.com.5]","Q01","[mp.com.5]H","Mesures de protecció","Protecció de comunicacions","Mitjans alternatius","Cal garantir que hi ha mitjans de comunicació alternatius si els habituals fallen, i que estan disponibles. Cal que els mitjans alternatius:\n•\tEstiguin subjectes a les mateixes garanties de protecció que els habituals.\n•\tGaranteixin un temps màxim d’entrada en funcionament.",null,null,"H",0,0,3,3,"Disponibilitat",{"$f":"IF(VLOOKUP(B17,'4B.RISCOS DADES'!$C$9:$F$23,4,FALSE)=$P$4,1,0)","v":0},{"$f":"IFERROR(VLOOKUP(O17,'4B.RISCOS DADES'!$C$4:$F$7,4,FALSE),\"\")","v":0},0,0,"NO",null,"Q01[mp.com.5]H"]
["[mp.eq.1]","Q09","[mp.eq.1]MH","Mesures de protecció","Protecció d'equips","Lloc de treball buidat","•\tS’ha d’exigir que els llocs de treball romanguin buits, sense més material a la taula que el necessari per a l’activitat que s’està fent en cada moment.\n•\tEl material s’ha de desar en un lloc tancat.",null,"M","H",0,2,3,3,"Sistema",{"$f":"IF(VLOOKUP(B18,'4B.RISCOS DADES'!$C$9:$F$23,4,FALSE)=$P$4,1,0)","v":0},{"$f":"IFERROR(VLOOKUP(O18,'4B.RISCOS DADES'!$C$4:$F$7,4,FALSE),\"\")","v":"PENDENT D'AVALUAR"},0,0,"NO",null,"Q09[mp.eq.1]MH"]
["[mp.eq.1]","Q09","[mp.eq.1]L","Mesures de protecció","Protecció d'equips","Lloc de treball buidat","•\tS’ha d’exigir que els llocs de treball romanguin buits, sense més material a la taula que el necessari per a l’activitat que s’està fent en cada moment.","L",null,null,1,0,0,1,"Sistema",{"$f":"IF(VLOOKUP(B19,'4B.RISCOS DADES'!$C$9:$F$23,4,FALSE)=$P$4,1,0)","v":0},{"$f":"IFERROR(VLOOKUP(O19,'4B.RISCOS DADES'!$C$4:$F$7,4,FALSE),\"\")","v":"PENDENT D'AVALUAR"},0,0,"NO",null,"Q09[mp.eq.1]L"]
["[mp.eq.2]","Q03","[mp.eq.2]H","Mesures de protecció","Protecció d'equips","Bloqueig del lloc de treball","•\tEl lloc de treball s’ha de bloquejar al cap d’un temps d’inactivitat i cal requerir l’autenticació de l’usuari per continuar l’activitat.\n•\tPassat un temps, superior a l’anterior, s’han de tancar les sessions obertes des del lloc de treball.",null,null,"H",0,0,3,3,"Sistema",{"$f":"IF(VLOOKUP(B20,'4B.RISCOS DADES'!$C$9:$F$23,4,FALSE)=$P$4,1,0)","v":0},{"$f":"IFERROR(VLOOKUP(O20,'4B.RISCOS DADES'!$C$4:$F$7,4,FALSE),\"\")","v":"PENDENT D'AVALUAR"},0,0,"NO",null,"Q03[mp.eq.2]H"]
["[mp.eq.2]","Q03","[mp.eq.2]M","Mesures de protecció","Protecció d'equips","Bloqueig del lloc de treball","•\tEl lloc de treball s’ha de bloquejar al cap d’un temps d’inactivitat i cal requerir l’autenticació de l’usuari per continuar l’activitat.",null,"M",null,0,2,0,2,"Sistema",{"$f":"IF(VLOOKUP(B21,'4B.RISCOS DADES'!$C$9:$F$23,4,FALSE)=$P$4,1,0)","v":0},{"$f":"IFERROR(VLOOKUP(O21,'4B.RISCOS DADES'!$C$4:$F$7,4,FALSE),\"\")","v":"PENDENT D'AVALUAR"},0,0,"NO",null,"Q03[mp.eq.2]M"]
["[mp.eq.3]","Q10","[mp.eq.3]H","Mesures de protecció","Protecció d'equips","Protecció de portàtils ","Els equips que abandonen les instal·lacions s’han de protegir adequadament:\n•\tCal fer un inventari dels equips portàtils, amb la identificació de la persona responsable i control regular que els equips estan sota el seu control.\n•\tCal establir un canal per informar de pèrdues o sostraccions.\n•\tCal que hi hagi un sistema de protecció perimetral, que minimitzi la visibilitat exterior i controli l’accés quan l’equip es connecti a xarxes, en particular a xarxes públiques.\n•\tCal evitar, en la mesura que sigui possible, que l’equip tingui claus d’accés remot a l’organització.\n•\tL’equip ha de disposar de detectors de violació que permetin saber si l’equip ha estat manipulat.\n•\tLa informació de nivell alt que té emmagatzemada s’ha de xifrar.",null,null,"H",0,0,3,3,"Sistema",{"$f":"IF(VLOOKUP(B22,'4B.RISCOS DADES'!$C$9:$F$23,4,FALSE)=$P$4,1,0)","v":0},{"$f":"IFERROR(VLOOKUP(O22,'4B.RISCOS DADES'!$C$4:$F$7,4,FALSE),\"\")","v":"PENDENT D'AVALUAR"},0,0,"NO",null,"Q10[mp.eq.3]H"]
["[mp.eq.3]","Q10","[mp.eq.3]LM","Mesures de protecció","Protecció d'equips","Protecció de portàtils ","Els equips que abandonen les instal·lacions s’han de protegir adequadament:\n•\tCal fer un inventari dels equips portàtils, amb la identificació de la persona responsable i control regular que els equips estan sota el seu control.\n•\tCal establir un canal per informar de pèrdues o sostraccions.\n•\tCal que hi hagi un sistema de protecció perimetral, que minimitzi la visibilitat exterior i controli l’accés quan l’equip es connecti a xarxes, en particular a xarxes públiques.\n•\tCal evitar, en la mesura que sigui possible, que l’equip tingui claus d’accés remot a l’organització.","L","M",null,1,2,0,2,"Sistema",{"$f":"IF(VLOOKUP(B23,'4B.RISCOS DADES'!$C$9:$F$23,4,FALSE)=$P$4,1,0)","v":0},{"$f":"IFERROR(VLOOKUP(O23,'4B.RISCOS DADES'!$C$4:$F$7,4,FALSE),\"\")","v":"PENDENT D'AVALUAR"},0,0,"NO",null,"Q10[mp.eq.3]LM"]
["[mp.eq.4]","Q03","[mp.eq.4]MH","Mesures de protecció","Protecció d'equips","Mitjans alternatius","•\tCal garantir la disponibilitat de mitjans alternatius de tractament de la informació, si els habituals fallen. Aquests mitjans alternatius han d’estar subjectes a les mateixes garanties de protecció.\n•\tCal establir un temps màxim perquè els equips alternatius entrin en funcionament.",null,"M","H",0,2,3,3,"Disponibilitat",{"$f":"IF(VLOOKUP(B24,'4B.RISCOS DADES'!$C$9:$F$23,4,FALSE)=$P$4,1,0)","v":0},{"$f":"IFERROR(VLOOKUP(O24,'4B.RISCOS DADES'!$C$4:$F$7,4,FALSE),\"\")","v":0},0,0,"NO",null,"Q03[mp.eq.4]MH"]
["[mp.if.1]","Q09","[mp.if.1]LMH","Mesures de protecció","Protecció d'instal·lacions i infraestructures","Àrees separades i control d’accés","•\tL’equipament s’ha d’instal·lar en àrees separades específiques per a la seva funció.\n•\tCal controlar l’accés a les àrees indicades, de manera que només s’hi pugui accedir per les entrades previstes i vigilades.","L","M","H",1,2,3,3,"Sistema",{"$f":"IF(VLOOKUP(B25,'4B.RISCOS DADES'!$C$9:$F$23,4,FALSE)=$P$4,1,0)","v":0},{"$f":"IFERROR(VLOOKUP(O25,'4B.RISCOS DADES'!$C$4:$F$7,4,FALSE),\"\")","v":"PENDENT D'AVALUAR"},0,0,"NO",null,"Q09[mp.if.1]LMH"]
["[mp.if.1]","Q07","[mp.if.1]LMH","Mesures de protecció","Protecció d'instal·lacions i infraestructures","Àrees separades i control d’accés","•\tL’equipament s’ha d’instal·lar en àrees separades específiques per a la seva funció.\n•\tCal controlar l’accés a les àrees indicades, de manera que només s’hi pugui accedir per les entrades previstes i vigilades.","L","M","H",1,2,3,3,"Sistema",{"$f":"IF(VLOOKUP(B26,'4B.RISCOS DADES'!$C$9:$F$23,4,FALSE)=$P$4,1,0)","v":0},{"$f":"IFERROR(VLOOKUP(O26,'4B.RISCOS DADES'!$C$4:$F$7,4,FALSE),\"\")","v":"PENDENT D'AVALUAR"},0,0,"NO",null,"Q07[mp.if.1]LMH"]
["[mp.if.2]","Q07","[mp.if.2]LMH","Mesures de protecció","Protecció d'instal·lacions i infraestructures","Identificació de les persones","•\tCal identificar totes les persones que accedeixen als locals on hi hagi equipament del sistema informàtic.\n•\tCal registrar l’entrada i la sortida de persones.","L","M","H",1,2,3,3,"Sistema",{"$f":"IF(VLOOKUP(B27,'4B.RISCOS DADES'!$C$9:$F$23,4,FALSE)=$P$4,1,0)","v":0},{"$f":"IFERROR(VLOOKUP(O27,'4B.RISCOS DADES'!$C$4:$F$7,4,FALSE),\"\")","v":"PENDENT D'AVALUAR"},0,0,"NO",null,"Q07[mp.if.2]LMH"]
["[mp.if.2]","Q09","[mp.if.2]LMH","Mesures de protecció","Protecció d'instal·lacions i infraestructures","Identificació de les persones","•\tCal identificar totes les persones que accedeixen als locals on hi hagi equipament del sistema informàtic.\n•\tCal registrar l’entrada i la sortida de persones.","L","M","H",1,2,3,3,"Sistema",{"$f":"IF(VLOOKUP(B28,'4B.RISCOS DADES'!$C$9:$F$23,4,FALSE)=$P$4,1,0)","v":0},{"$f":"IFERROR(VLOOKUP(O28,'4B.RISCOS DADES'!$C$4:$F$7,4,FALSE),\"\")","v":"PENDENT D'AVALUAR"},0,0,"NO",null,"Q09[mp.if.2]LMH"]
["[mp.if.3]","Q09","[mp.if.3]LMH","Mesures de protecció","Protecció d'instal·lacions i infraestructures","Condicionament dels locals","Els locals on s’ubiquen els sistemes d’informació i els seus components han de disposar d’elements adequats per fer eficaç el funcionament de l’equipament instal·lat.\n•\tCondicions de temperatura i humitat.\n•\tProtecció contra les amenaces identificades a l’anàlisi de risc.\n•\tProtecció del cablejat contra incidents fortuïts o deliberats.","L","M","H",1,2,3,3,"Sistema",{"$f":"IF(VLOOKUP(B29,'4B.RISCOS DADES'!$C$9:$F$23,4,FALSE)=$P$4,1,0)","v":0},{"$f":"IFERROR(VLOOKUP(O29,'4B.RISCOS DADES'!$C$4:$F$7,4,FALSE),\"\")","v":"PENDENT D'AVALUAR"},0,0,"NO",null,"Q09[mp.if.3]LMH"]
["[mp.if.4]","Q09","[mp.if.4]MH","Mesures de protecció","Protecció d'instal·lacions i infraestructures","Energia elèctrica","Els locals on s’ubiquen els sistemes d’informació i els seus components han de disposar de l’energia elèctrica necessària per funcionar, de manera que es garanteixi:\n•\tEl subministrament d’energia elèctrica.\n•\tEl funcionament correcte dels llums d’emergència.\nEn cas de fallada del subministrament general, cal garantir el subministrament elèctric dels sistemes, amb el temps suficient per fer una apagada ordenada i salvaguardant la informació.",null,"M","H",0,2,3,3,"Disponibilitat",{"$f":"IF(VLOOKUP(B30,'4B.RISCOS DADES'!$C$9:$F$23,4,FALSE)=$P$4,1,0)","v":0},{"$f":"IFERROR(VLOOKUP(O30,'4B.RISCOS DADES'!$C$4:$F$7,4,FALSE),\"\")","v":0},0,0,"NO",null,"Q09[mp.if.4]MH"]
["[mp.if.4]","Q09","[mp.if.4]L","Mesures de protecció","Protecció d'instal·lacions i infraestructures","Energia elèctrica","Els locals on s’ubiquen els sistemes d’informació i els seus components han de disposar de l’energia elèctrica necessària per funcionar, de manera que es garanteixi:\n•\tEl subministrament d’energia elèctrica.\n•\tEl funcionament correcte dels llums d’emergència.","L",null,null,1,0,0,1,"Disponibilitat",{"$f":"IF(VLOOKUP(B31,'4B.RISCOS DADES'!$C$9:$F$23,4,FALSE)=$P$4,1,0)","v":0},{"$f":"IFERROR(VLOOKUP(O31,'4B.RISCOS DADES'!$C$4:$F$7,4,FALSE),\"\")","v":0},0,0,"NO",null,"Q09[mp.if.4]L"]
["[mp.if.5]","Q09","[mp.if.5]LMH","Mesures de protecció","Protecció d'instal·lacions i infraestructures","Protecció contra incendis","Els locals on s’ubiquen els sistemes d’informació i els seus components s’han de protegir contra incendis fortuïts o deliberats.","L","M","H",1,2,3,3,"Disponibilitat",{"$f":"IF(VLOOKUP(B32,'4B.RISCOS DADES'!$C$9:$F$23,4,FALSE)=$P$4,1,0)","v":0},{"$f":"IFERROR(VLOOKUP(O32,'4B.RISCOS DADES'!$C$4:$F$7,4,FALSE),\"\")","v":0},0,0,"NO",null,"Q09[mp.if.5]LMH"]
["[mp.if.6]","Q09","[mp.if.6]MH","Mesures de protecció","Protecció d'instal·lacions i infraestructures","Protecció contra inundacions","Els locals on s’ubiquen els sistemes d’informació i els seus components s’han de protegir contra incidents fortuïts o deliberats causats per l’aigua.",null,"M","H",0,2,3,3,"Disponibilitat",{"$f":"IF(VLOOKUP(B33,'4B.RISCOS DADES'!$C$9:$F$23,4,FALSE)=$P$4,1,0)","v":0},{"$f":"IFERROR(VLOOKUP(O33,'4B.RISCOS DADES'!$C$4:$F$7,4,FALSE),\"\")","v":0},0,0,"NO",null,"Q09[mp.if.6]MH"]
["[mp.if.7]","Q07","[mp.if.7]LMH","Mesures de protecció","Protecció d'instal·lacions i infraestructures","Registre d’entrada i de sortida d’equipament","S’ha de mantenir un registre detallat de l’entrada i la sortida d’equipament, que inclogui la identificació de la persona que autoritza el moviment.","L","M","H",1,2,3,3,"Sistema",{"$f":"IF(VLOOKUP(B34,'4B.RISCOS DADES'!$C$9:$F$23,4,FALSE)=$P$4,1,0)","v":0},{"$f":"IFERROR(VLOOKUP(O34,'4B.RISCOS DADES'!$C$4:$F$7,4,FALSE),\"\")","v":"PENDENT D'AVALUAR"},0,0,"NO",null,"Q07[mp.if.7]LMH"]
["[mp.if.7]","Q09","[mp.if.7]LMH","Mesures de protecció","Protecció d'instal·lacions i infraestructures","Registre d’entrada i de sortida d’equipament","S’ha de mantenir un registre detallat de l’entrada i la sortida d’equipament, que inclogui la identificació de la persona que autoritza el moviment.","L","M","H",1,2,3,3,"Sistema",{"$f":"IF(VLOOKUP(B35,'4B.RISCOS DADES'!$C$9:$F$23,4,FALSE)=$P$4,1,0)","v":0},{"$f":"IFERROR(VLOOKUP(O35,'4B.RISCOS DADES'!$C$4:$F$7,4,FALSE),\"\")","v":"PENDENT D'AVALUAR"},0,0,"NO",null,"Q09[mp.if.7]LMH"]
["[mp.if.8]","Q09","[mp.if.8]H","Mesures de protecció","Protecció d'instal·lacions i infraestructures","Instal·lacions alternatives","Cal garantir que hi ha instal·lacions alternatives per poder treballar, i que estan disponibles, si les habituals no estan disponibles. Les instal·lacions alternatives han de disposar de les mateixes garanties que les habituals.",null,null,"H",0,0,3,3,"Disponibilitat",{"$f":"IF(VLOOKUP(B36,'4B.RISCOS DADES'!$C$9:$F$23,4,FALSE)=$P$4,1,0)","v":0},{"$f":"IFERROR(VLOOKUP(O36,'4B.RISCOS DADES'!$C$4:$F$7,4,FALSE),\"\")","v":0},0,0,"NO",null,"Q09[mp.if.8]H"]
["[mp.info.2]","Q12","[mp.info.2]L","Mesures de protecció","Protecció de la informació","Qualificació de la informació","•\tPer qualificar la informació, cal tenir en compte la seva naturalesa.\n•\tLa política de seguretat ha d’establir el responsable de cada informació.\n•\tLa política de seguretat ha de contenir els criteris que determinen el nivell de seguretat requerit.\n•\tAmb els criteris anteriors, el responsable de cada informació ha d’assignar a cada informació el nivell de seguretat requerit.\n•\tEl responsable de cada informació ha de tenir en exclusiva la potestat de modificar el nivell de seguretat requerit.","L",null,null,1,0,0,1,"Confidencialitat",{"$f":"IF(VLOOKUP(B37,'4B.RISCOS DADES'!$C$9:$F$23,4,FALSE)=$P$4,1,0)","v":0},{"$f":"IFERROR(VLOOKUP(O37,'4B.RISCOS DADES'!$C$4:$F$7,4,FALSE),\"\")","v":0},0,0,"NO",null,"Q12[mp.info.2]L"]
["[mp.info.2]","Q12","[mp.info.2]MH","Mesures de protecció","Protecció de la informació","Qualificació de la informació","•\tPer qualificar la informació, cal tenir en compte la seva naturalesa.\n•\tLa política de seguretat ha d’establir el responsable de cada informació.\n•\tLa política de seguretat ha de contenir els criteris que determinen el nivell de seguretat requerit.\n•\tAmb els criteris anteriors, el responsable de cada informació ha d’assignar a cada informació el nivell de seguretat requerit.\n•\tEl responsable de cada informació ha de tenir en exclusiva la potestat de modificar el nivell de seguretat requerit.\nCal redactar els procediments que descriguin com etiquetar i tractar la informació, segons el seu nivell de seguretat. En particular, com cal fer:\n•\tEl control d’accés.\n•\tL’emmagatzematge.\n•\tLes còpies.\n•\tL’etiquetat del suports.\n•\tLa transmissió telemàtica.",null,"M","H",0,2,3,3,"Confidencialitat",{"$f":"IF(VLOOKUP(B38,'4B.RISCOS DADES'!$C$9:$F$23,4,FALSE)=$P$4,1,0)","v":0},{"$f":"IFERROR(VLOOKUP(O38,'4B.RISCOS DADES'!$C$4:$F$7,4,FALSE),\"\")","v":0},0,0,"NO",null,"Q12[mp.info.2]MH"]
["[mp.info.2]","Q13","[mp.info.2]L","Mesures de protecció","Protecció de la informació","Qualificació de la informació","•\tPer qualificar la informació, cal tenir en compte la seva naturalesa.\n•\tLa política de seguretat ha d’establir el responsable de cada informació.\n•\tLa política de seguretat ha de contenir els criteris que determinen el nivell de seguretat requerit.\n•\tAmb els criteris anteriors, el responsable de cada informació ha d’assignar a cada informació el nivell de seguretat requerit.\n•\tEl responsable de cada informació ha de tenir en exclusiva la potestat de modificar el nivell de seguretat requerit.","L",null,null,1,0,0,1,"Confidencialitat",{"$f":"IF(VLOOKUP(B39,'4B.RISCOS DADES'!$C$9:$F$23,4,FALSE)=$P$4,1,0)","v":0},{"$f":"IFERROR(VLOOKUP(O39,'4B.RISCOS DADES'!$C$4:$F$7,4,FALSE),\"\")","v":0},0,0,"NO",null,"Q13[mp.info.2]L"]
["[mp.info.2]","Q13","[mp.info.2]MH","Mesures de protecció","Protecció de la informació","Qualificació de la informació","•\tPer qualificar la informació, cal tenir en compte la seva naturalesa.\n•\tLa política de seguretat ha d’establir el responsable de cada informació.\n•\tLa política de seguretat ha de contenir els criteris que determinen el nivell de seguretat requerit.\n•\tAmb els criteris anteriors, el responsable de cada informació ha d’assignar a cada informació el nivell de seguretat requerit.\n•\tEl responsable de cada informació ha de tenir en exclusiva la potestat de modificar el nivell de seguretat requerit.\nCal redactar els procediments que descriguin com etiquetar i tractar la informació, segons el seu nivell de seguretat. En particular, com cal fer:\n•\tEl control d’accés.\n•\tL’emmagatzematge.\n•\tLes còpies.\n•\tL’etiquetat del suports.\n•\tLa transmissió telemàtica.",null,"M","H",0,2,3,3,"Confidencialitat",{"$f":"IF(VLOOKUP(B40,'4B.RISCOS DADES'!$C$9:$F$23,4,FALSE)=$P$4,1,0)","v":0},{"$f":"IFERROR(VLOOKUP(O40,'4B.RISCOS DADES'!$C$4:$F$7,4,FALSE),\"\")","v":0},0,0,"NO",null,"Q13[mp.info.2]MH"]
["[mp.info.3]","Q11","[mp.info.3]MH","Mesures de protecció","Protecció de la informació","Xifrat de la informació","•\tLa informació amb un nivell alt de confidencialitat s’ha de xifrar, durant l’emmagatzematge i la transmissió. Només ha d’estar en clar quan s’estigui utilitzant.\n•\tL’ús de criptografia en les comunicacions s’ha de fer d’acord amb [mp.com.2].\n•\tL’ús de criptografia en els suports s’ha de fer d’acord amb [mp.si.2].",null,"M","H",0,2,3,3,"Confidencialitat",{"$f":"IF(VLOOKUP(B41,'4B.RISCOS DADES'!$C$9:$F$23,4,FALSE)=$P$4,1,0)","v":0},{"$f":"IFERROR(VLOOKUP(O41,'4B.RISCOS DADES'!$C$4:$F$7,4,FALSE),\"\")","v":0},0,0,"NO",null,"Q11[mp.info.3]MH"]
["[mp.info.3]","Q01","[mp.info.3]MH","Mesures de protecció","Protecció de la informació","Xifrat de la informació","•\tLa informació amb un nivell alt de confidencialitat s’ha de xifrar, durant l’emmagatzematge i la transmissió. Només ha d’estar en clar quan s’estigui utilitzant.\n•\tL’ús de criptografia en les comunicacions s’ha de fer d’acord amb [mp.com.2].\n•\tL’ús de criptografia en els suports s’ha de fer d’acord amb [mp.si.2].",null,"M","H",0,2,3,3,"Confidencialitat",{"$f":"IF(VLOOKUP(B42,'4B.RISCOS DADES'!$C$9:$F$23,4,FALSE)=$P$4,1,0)","v":0},{"$f":"IFERROR(VLOOKUP(O42,'4B.RISCOS DADES'!$C$4:$F$7,4,FALSE),\"\")","v":0},0,0,"NO",null,"Q01[mp.info.3]MH"]
["[mp.info.4]","Q03","[mp.info.4]H","Mesures de protecció","Protecció de la informació","Signatura electrònica","•\tCal utilitzar certificats reconeguts.\n•\tCal utilitzar dispositius segurs de creació de signatures.\n•\tCal utilitzar, preferentment, productes certificats.",null,null,"H",0,0,3,3,"Autenticitat",{"$f":"IF(VLOOKUP(B43,'4B.RISCOS DADES'!$C$9:$F$23,4,FALSE)=$P$4,1,0)","v":0},{"$f":"IFERROR(VLOOKUP(O43,'4B.RISCOS DADES'!$C$4:$F$7,4,FALSE),\"\")","v":""},0,0,"NO",null,"Q03[mp.info.4]H"]
["[mp.info.4]","Q03","[mp.info.4]MH","Mesures de protecció","Protecció de la informació","Signatura electrònica","Els mitjans de signatura electrònica han de ser proporcionals a la qualificació de la informació tractada. En qualsevol cas, cal utilitzar:\n•\tAlgorismes acreditats pel CCN.\n•\tCertificats reconeguts, preferentment.\n•\tDispositius segurs de signatura, preferentment.\nS’ha de garantir la verificació i la validació de la signatura. Amb aquesta finalitat:\n•\tS’ha d’adjuntar a la signatura tota la informació pertinent: certificats i dades de verificació i de validació.\n•\tS’ha de protegir la signatura amb un segell temporal.\n•\tL’organisme que recull els documents signats ha de verificar i validar la signatura, en el moment de recepció.",null,"M","H",0,2,3,3,"Integritat",{"$f":"IF(VLOOKUP(B44,'4B.RISCOS DADES'!$C$9:$F$23,4,FALSE)=$P$4,1,0)","v":0},{"$f":"IFERROR(VLOOKUP(O44,'4B.RISCOS DADES'!$C$4:$F$7,4,FALSE),\"\")","v":0},0,0,"NO",null,"Q03[mp.info.4]MH"]
["[mp.info.4]","Q03","[mp.info.4]MH","Mesures de protecció","Protecció de la informació","Signatura electrònica","Els mitjans de signatura electrònica han de ser proporcionals a la qualificació de la informació tractada. En qualsevol cas, cal utilitzar:\n•\tAlgorismes acreditats pel CCN.\n•\tCertificats reconeguts, preferentment.\n•\tDispositius segurs de signatura, preferentment.\nS’ha de garantir la verificació i la validació de la signatura. Amb aquesta finalitat:\n•\tS’ha d’adjuntar a la signatura tota la informació pertinent: certificats i dades de verificació i de validació.\n•\tS’ha de protegir la signatura amb un segell temporal.\n•\tL’organisme que recull els documents signats ha de verificar i validar la signatura, en el moment de recepció.",null,"M","H",0,2,3,3,"Autenticitat",{"$f":"IF(VLOOKUP(B45,'4B.RISCOS DADES'!$C$9:$F$23,4,FALSE)=$P$4,1,0)","v":0},{"$f":"IFERROR(VLOOKUP(O45,'4B.RISCOS DADES'!$C$4:$F$7,4,FALSE),\"\")","v":""},0,0,"NO",null,"Q03[mp.info.4]MH"]
["[mp.info.4]","Q03","[mp.info.4]H","Mesures de protecció","Protecció de la informació","Signatura electrònica","•\tCal utilitzar certificats reconeguts.\n•\tCal utilitzar dispositius segurs de creació de signatures.\n•\tCal utilitzar, preferentment, productes certificats.",null,null,"H",0,0,3,3,"Integritat",{"$f":"IF(VLOOKUP(B46,'4B.RISCOS DADES'!$C$9:$F$23,4,FALSE)=$P$4,1,0)","v":0},{"$f":"IFERROR(VLOOKUP(O46,'4B.RISCOS DADES'!$C$4:$F$7,4,FALSE),\"\")","v":0},0,0,"NO",null,"Q03[mp.info.4]H"]
["[mp.info.4]","Q03","[mp.info.4]L","Mesures de protecció","Protecció de la informació","Signatura electrònica","La signatura electrònica garanteix l’autenticitat del signatari i la integritat del contingut.\nTambé és un mecanisme de prevenció del repudi.\nEs pot utilitzar qualsevol mitjà de signatura electrònica.","L",null,null,1,0,0,1,"Integritat",{"$f":"IF(VLOOKUP(B47,'4B.RISCOS DADES'!$C$9:$F$23,4,FALSE)=$P$4,1,0)","v":0},{"$f":"IFERROR(VLOOKUP(O47,'4B.RISCOS DADES'!$C$4:$F$7,4,FALSE),\"\")","v":0},0,0,"NO",null,"Q03[mp.info.4]L"]
["[mp.info.4]","Q03","[mp.info.4]L","Mesures de protecció","Protecció de la informació","Signatura electrònica","La signatura electrònica garanteix l’autenticitat del signatari i la integritat del contingut.\nTambé és un mecanisme de prevenció del repudi.\nEs pot utilitzar qualsevol mitjà de signatura electrònica.","L",null,null,1,0,0,1,"Autenticitat",{"$f":"IF(VLOOKUP(B48,'4B.RISCOS DADES'!$C$9:$F$23,4,FALSE)=$P$4,1,0)","v":0},{"$f":"IFERROR(VLOOKUP(O48,'4B.RISCOS DADES'!$C$4:$F$7,4,FALSE),\"\")","v":""},0,0,"NO",null,"Q03[mp.info.4]L"]
["[mp.info.5]","Q07","[mp.info.5]H","Mesures de protecció","Protecció de la informació","Segells temporals","Els segells temporals eviten la possibilitat de repudi posterior:\n•\tS’han d’aplicar a la informació que pugui ser utilitzada com a evidència electrònica en el futur.\n•\tLes dades per verificar la data s’han de tractar amb la mateixa seguretat que la informació.\n•\tCal utilitzar productes certificats o serveis externs admesos.",null,null,"H",0,0,3,3,"Traçabilitat",{"$f":"IF(VLOOKUP(B49,'4B.RISCOS DADES'!$C$9:$F$23,4,FALSE)=$P$4,1,0)","v":0},{"$f":"IFERROR(VLOOKUP(O49,'4B.RISCOS DADES'!$C$4:$F$7,4,FALSE),\"\")","v":""},0,0,"NO",null,"Q07[mp.info.5]H"]
["[mp.info.6]","Q13","[mp.info.6]LMH","Mesures de protecció","Protecció de la informació","Neteja de documents","El procés de neteja de documents ha d’eliminar tota la informació addicional que hi hagi en camps ocults, meta-dades, comentaris o revisions anteriors, llevat de si aquesta informació és pertinent al receptor.\nAquesta mesura és especialment rellevant quan el document es difon àmpliament.","L","M","H",1,2,3,3,"Confidencialitat",{"$f":"IF(VLOOKUP(B50,'4B.RISCOS DADES'!$C$9:$F$23,4,FALSE)=$P$4,1,0)","v":0},{"$f":"IFERROR(VLOOKUP(O50,'4B.RISCOS DADES'!$C$4:$F$7,4,FALSE),\"\")","v":0},0,0,"NO",null,"Q13[mp.info.6]LMH"]
["[mp.info.6]","Q12","[mp.info.6]LMH","Mesures de protecció","Protecció de la informació","Neteja de documents","El procés de neteja de documents ha d’eliminar tota la informació addicional que hi hagi en camps ocults, meta-dades, comentaris o revisions anteriors, llevat de si aquesta informació és pertinent al receptor.\nAquesta mesura és especialment rellevant quan el document es difon àmpliament.","L","M","H",1,2,3,3,"Confidencialitat",{"$f":"IF(VLOOKUP(B51,'4B.RISCOS DADES'!$C$9:$F$23,4,FALSE)=$P$4,1,0)","v":0},{"$f":"IFERROR(VLOOKUP(O51,'4B.RISCOS DADES'!$C$4:$F$7,4,FALSE),\"\")","v":0},0,0,"NO",null,"Q12[mp.info.6]LMH"]
["[mp.info.7]","Q05","[mp.info.7]MH","Mesures de protecció","Protecció de la informació","Còpies de seguretat","Cal fer còpies de seguretat que permetin recuperar dades perdudes accidentalment o intencionadament.\nLes còpies han de tenir la mateixa seguretat que les dades inicials. En particular, cal considerar la necessitat que estiguin xifrades.\nLes còpies han de contenir:\n•\tInformació de treball de l’organització.\n•\tLes aplicacions en explotació, inclosos els sistemes operatius.\n•\tLes dades de configuració, serveis, aplicacions, equips i altres d’anàlegs.\n•\tLes claus utilitzades per preservar la confidencialitat de la informació.",null,"M","H",0,2,3,3,"Disponibilitat",{"$f":"IF(VLOOKUP(B52,'4B.RISCOS DADES'!$C$9:$F$23,4,FALSE)=$P$4,1,0)","v":0},{"$f":"IFERROR(VLOOKUP(O52,'4B.RISCOS DADES'!$C$4:$F$7,4,FALSE),\"\")","v":0},0,0,"NO",null,"Q05[mp.info.7]MH"]
["[mp.info.7]","Q06","[mp.info.7]MH","Mesures de protecció","Protecció de la informació","Còpies de seguretat","Cal fer còpies de seguretat que permetin recuperar dades perdudes accidentalment o intencionadament.\nLes còpies han de tenir la mateixa seguretat que les dades inicials. En particular, cal considerar la necessitat que estiguin xifrades.\nLes còpies han de contenir:\n•\tInformació de treball de l’organització.\n•\tLes aplicacions en explotació, inclosos els sistemes operatius.\n•\tLes dades de configuració, serveis, aplicacions, equips i altres d’anàlegs.\n•\tLes claus utilitzades per preservar la confidencialitat de la informació.",null,"M","H",0,2,3,3,"Disponibilitat",{"$f":"IF(VLOOKUP(B53,'4B.RISCOS DADES'!$C$9:$F$23,4,FALSE)=$P$4,1,0)","v":0},{"$f":"IFERROR(VLOOKUP(O53,'4B.RISCOS DADES'!$C$4:$F$7,4,FALSE),\"\")","v":0},0,0,"NO",null,"Q06[mp.info.7]MH"]
["[mp.per.1]","Q12","[mp.per.1]MH","Mesures de protecció","Gestió del personal","Caracterització del lloc de treball","•\tCal definir les responsabilitats relacionades amb la seguretat en cada lloc de treball.\n•\tCal definir les condicions que han de satisfer les persones que ocupen cada lloc de treball (en particular, respecte de la confidencialitat).\n•\tCal tenir en compte les condicions anteriors en la selecció del personal, inclosa la verificació de la seva vida laboral, formació i altres dades.",null,"M","H",0,2,3,3,"Sistema",{"$f":"IF(VLOOKUP(B54,'4B.RISCOS DADES'!$C$9:$F$23,4,FALSE)=$P$4,1,0)","v":0},{"$f":"IFERROR(VLOOKUP(O54,'4B.RISCOS DADES'!$C$4:$F$7,4,FALSE),\"\")","v":"PENDENT D'AVALUAR"},0,0,"NO",null,"Q12[mp.per.1]MH"]
["[mp.per.1]","Q14","[mp.per.1]MH","Mesures de protecció","Gestió del personal","Caracterització del lloc de treball","•\tCal definir les responsabilitats relacionades amb la seguretat en cada lloc de treball.\n•\tCal definir les condicions que han de satisfer les persones que ocupen cada lloc de treball (en particular, respecte de la confidencialitat).\n•\tCal tenir en compte les condicions anteriors en la selecció del personal, inclosa la verificació de la seva vida laboral, formació i altres dades.",null,"M","H",0,2,3,3,"Sistema",{"$f":"IF(VLOOKUP(B55,'4B.RISCOS DADES'!$C$9:$F$23,4,FALSE)=$P$4,1,0)","v":0},{"$f":"IFERROR(VLOOKUP(O55,'4B.RISCOS DADES'!$C$4:$F$7,4,FALSE),\"\")","v":"PENDENT D'AVALUAR"},0,0,"NO",null,"Q14[mp.per.1]MH"]
["[mp.per.2]","Q12","[mp.per.2]LMH","Mesures de protecció","Gestió del personal","Deures i obligacions","Cal informar cada persona que treballa en el sistema dels deures i les responsabilitats en matèria de seguretat:\n•\tLes mesures disciplinàries.\n•\tLes obligacions tant el període de desenvolupament de la feina com en el cas de finalització o trasllat.\n•\tEl deure de confidencialitat respecte de les dades a què té accés. \nPer al personal contractat a través d’un tercer, cal establir:\n•\tEls deures i les obligacions del personal.\n•\tEls deures i les obligacions de cada part.\n•\tEl procediment per resoldre incidents relacionats amb l’incompliment de les obligacions.","L","M","H",1,2,3,3,"Sistema",{"$f":"IF(VLOOKUP(B56,'4B.RISCOS DADES'!$C$9:$F$23,4,FALSE)=$P$4,1,0)","v":0},{"$f":"IFERROR(VLOOKUP(O56,'4B.RISCOS DADES'!$C$4:$F$7,4,FALSE),\"\")","v":"PENDENT D'AVALUAR"},0,0,"NO",null,"Q12[mp.per.2]LMH"]
["[mp.per.2]","Q14","[mp.per.2]LMH","Mesures de protecció","Gestió del personal","Deures i obligacions","Cal informar cada persona que treballa en el sistema dels deures i les responsabilitats en matèria de seguretat:\n•\tLes mesures disciplinàries.\n•\tLes obligacions tant el període de desenvolupament de la feina com en el cas de finalització o trasllat.\n•\tEl deure de confidencialitat respecte de les dades a què té accés. \nPer al personal contractat a través d’un tercer, cal establir:\n•\tEls deures i les obligacions del personal.\n•\tEls deures i les obligacions de cada part.\n•\tEl procediment per resoldre incidents relacionats amb l’incompliment de les obligacions.","L","M","H",1,2,3,3,"Sistema",{"$f":"IF(VLOOKUP(B57,'4B.RISCOS DADES'!$C$9:$F$23,4,FALSE)=$P$4,1,0)","v":0},{"$f":"IFERROR(VLOOKUP(O57,'4B.RISCOS DADES'!$C$4:$F$7,4,FALSE),\"\")","v":"PENDENT D'AVALUAR"},0,0,"NO",null,"Q14[mp.per.2]LMH"]
["[mp.per.3]","Q14","[mp.per.3]LMH","Mesures de protecció","Gestió del personal","Conscienciació","Cal fer les accions necessàries per conscienciar regularment el personal respecte del seu paper perquè la seguretat del sistema assoleixi el nivell exigit. En particular, cal recordar:\n•\tLa normativa relativa al bon ús dels sistemes.\n•\tLa identificació d’incidents, activitats o comportaments sospitosos que cal reportar.\n•\tEl procediment per informar d’incidències de seguretat.","L","M","H",1,2,3,3,"Sistema",{"$f":"IF(VLOOKUP(B58,'4B.RISCOS DADES'!$C$9:$F$23,4,FALSE)=$P$4,1,0)","v":0},{"$f":"IFERROR(VLOOKUP(O58,'4B.RISCOS DADES'!$C$4:$F$7,4,FALSE),\"\")","v":"PENDENT D'AVALUAR"},0,0,"NO",null,"Q14[mp.per.3]LMH"]
["[mp.per.4]","Q14","[mp.per.4]LMH","Mesures de protecció","Gestió del personal","Formació","Cal formar regularment el personal en totes les matèries necessàries per al desenvolupament de les seves funcions, en particular respecte del següent:\n•\tConfiguració del sistema.\n•\tDetecció i reacció a incidents.\n•\tGestió de la informació en qualsevol suport. Cal abastar, com a mínim, les activitats següents: emmagatzematge, transferència, còpia, distribució i destrucció.","L","M","H",1,2,3,3,"Sistema",{"$f":"IF(VLOOKUP(B59,'4B.RISCOS DADES'!$C$9:$F$23,4,FALSE)=$P$4,1,0)","v":0},{"$f":"IFERROR(VLOOKUP(O59,'4B.RISCOS DADES'!$C$4:$F$7,4,FALSE),\"\")","v":"PENDENT D'AVALUAR"},0,0,"NO",null,"Q14[mp.per.4]LMH"]
["[mp.per.5]","Q14","[mp.per.5]H","Mesures de protecció","Gestió del personal","Personal alternatiu","Cal garantir la disponibilitat d’altres persones que puguin fer-se càrrec de les funcions, si el personal habitual no està disponible. El personal alternatiu ha d’estar sotmès a les mateixes garanties que l’habitual.",null,null,"H",0,0,3,3,"Disponibilitat",{"$f":"IF(VLOOKUP(B60,'4B.RISCOS DADES'!$C$9:$F$23,4,FALSE)=$P$4,1,0)","v":0},{"$f":"IFERROR(VLOOKUP(O60,'4B.RISCOS DADES'!$C$4:$F$7,4,FALSE),\"\")","v":0},0,0,"NO",null,"Q14[mp.per.5]H"]
["[mp.s.1]","Q02","[mp.s.1]LMH","Mesures de protecció","Protecció dels serveis","Protecció del correu electrònic","•\tLa informació distribuïda per correu electrònic s’ha de protegir, tant al cos com als annexos.\n•\tS’ha de protegir la informació d’encaminament de missatges i establiment de connexions.\n•\tS’ha de protegir l’organització de problemes que es materialitzen per correu electrònic: correu brossa, programari maliciós (virus, cucs, etc.), codi.\n•\tS’han d’establir normes per l’ús apropiat del correu electrònic. Aquestes normes han de tenir: limitacions d’ús i activitats de formació i conscienciació.","L","M","H",1,2,3,3,"Sistema",{"$f":"IF(VLOOKUP(B61,'4B.RISCOS DADES'!$C$9:$F$23,4,FALSE)=$P$4,1,0)","v":0},{"$f":"IFERROR(VLOOKUP(O61,'4B.RISCOS DADES'!$C$4:$F$7,4,FALSE),\"\")","v":"PENDENT D'AVALUAR"},0,0,"NO",null,"Q02[mp.s.1]LMH"]
["[mp.s.1]","Q12","[mp.s.1]LMH","Mesures de protecció","Protecció dels serveis","Protecció del correu electrònic","•\tLa informació distribuïda per correu electrònic s’ha de protegir, tant al cos com als annexos.\n•\tS’ha de protegir la informació d’encaminament de missatges i establiment de connexions.\n•\tS’ha de protegir l’organització de problemes que es materialitzen per correu electrònic: correu brossa, programari maliciós (virus, cucs, etc.), codi.\n•\tS’han d’establir normes per l’ús apropiat del correu electrònic. Aquestes normes han de tenir: limitacions d’ús i activitats de formació i conscienciació.","L","M","H",1,2,3,3,"Sistema",{"$f":"IF(VLOOKUP(B62,'4B.RISCOS DADES'!$C$9:$F$23,4,FALSE)=$P$4,1,0)","v":0},{"$f":"IFERROR(VLOOKUP(O62,'4B.RISCOS DADES'!$C$4:$F$7,4,FALSE),\"\")","v":"PENDENT D'AVALUAR"},0,0,"NO",null,"Q12[mp.s.1]LMH"]
["[mp.s.2]","Q01","[mp.s.2]LMH","Mesures de protecció","Protecció dels serveis","Protecció de serveis i aplicacions web","Quan la informació tingui algun tipus de control d’accés, cal garantir la impossibilitat\nd’accedir a la informació sense autenticar-se. En particular, cal:\n•\tEvitar que el servidor ofereixi accés als documents per vies alternatives.\n•\tPrevenir atacs de manipulació d’URL.\n•\tPrevenir atacs de manipulació de galetes.\n•\tPrevenir atacs d’injecció de codi.\n•\tPrevenir els intents d’escalada de privilegis.\n•\tPrevenir els atacs de XSS.\n•\tPrevenir els atacs de manipulació de servidors intermedis (proxy) i de memòria cau (caché).","L","M","H",1,2,3,3,"Sistema",{"$f":"IF(VLOOKUP(B63,'4B.RISCOS DADES'!$C$9:$F$23,4,FALSE)=$P$4,1,0)","v":0},{"$f":"IFERROR(VLOOKUP(O63,'4B.RISCOS DADES'!$C$4:$F$7,4,FALSE),\"\")","v":"PENDENT D'AVALUAR"},0,0,"NO",null,"Q01[mp.s.2]LMH"]
["[mp.s.3]","Q03","[mp.s.3]H","Mesures de protecció","Protecció dels serveis","Protecció contra la denegació de servei (IMPACTE I PROBABILITAT)","S’han d’establir mesures preventives i reactives contra els atacs de denegació de servei:\n•\tDotar el sistema de la capacitat suficient per atendre la càrrega prevista.\n•\tDesplegar tecnologies per prevenir els atacs coneguts.\n•\tCal establir un sistema de detecció dels atacs de denegació de servei.\n•\tCal establir procediments de reacció als atacs, inclosa la comunicació amb el proveïdor de comunicacions.\n•\tCal impedir que es llancin atacs des de les pròpies instal·lacions.",null,null,"H",0,0,3,3,"Disponibilitat",{"$f":"IF(VLOOKUP(B64,'4B.RISCOS DADES'!$C$9:$F$23,4,FALSE)=$P$4,1,0)","v":0},{"$f":"IFERROR(VLOOKUP(O64,'4B.RISCOS DADES'!$C$4:$F$7,4,FALSE),\"\")","v":0},0,0,"NO",null,"Q03[mp.s.3]H"]
["[mp.s.3]","Q03","[mp.s.3]M","Mesures de protecció","Protecció dels serveis","Protecció contra la denegació de servei (IMPACTE I PROBABILITAT)","S’han d’establir mesures preventives i reactives contra els atacs de denegació de servei:\n•\tDotar el sistema de la capacitat suficient per atendre la càrrega prevista.\n•\tDesplegar tecnologies per prevenir els atacs coneguts.",null,"M",null,0,2,0,2,"Disponibilitat",{"$f":"IF(VLOOKUP(B65,'4B.RISCOS DADES'!$C$9:$F$23,4,FALSE)=$P$4,1,0)","v":0},{"$f":"IFERROR(VLOOKUP(O65,'4B.RISCOS DADES'!$C$4:$F$7,4,FALSE),\"\")","v":0},0,0,"NO",null,"Q03[mp.s.3]M"]
["[mp.s.3]","Q08","[mp.s.3]H","Mesures de protecció","Protecció dels serveis","Protecció contra la denegació de servei (IMPACTE I PROBABILITAT)","S’han d’establir mesures preventives i reactives contra els atacs de denegació de servei:\n•\tDotar el sistema de la capacitat suficient per atendre la càrrega prevista.\n•\tDesplegar tecnologies per prevenir els atacs coneguts.\n•\tCal establir un sistema de detecció dels atacs de denegació de servei.\n•\tCal establir procediments de reacció als atacs, inclosa la comunicació amb el proveïdor de comunicacions.\n•\tCal impedir que es llancin atacs des de les pròpies instal·lacions.",null,null,"H",0,0,3,3,"Disponibilitat",{"$f":"IF(VLOOKUP(B66,'4B.RISCOS DADES'!$C$9:$F$23,4,FALSE)=$P$4,1,0)","v":0},{"$f":"IFERROR(VLOOKUP(O66,'4B.RISCOS DADES'!$C$4:$F$7,4,FALSE),\"\")","v":0},0,0,"NO",null,"Q08[mp.s.3]H"]
["[mp.s.3]","Q08","[mp.s.3]M","Mesures de protecció","Protecció dels serveis","Protecció contra la denegació de servei (IMPACTE I PROBABILITAT)","S’han d’establir mesures preventives i reactives contra els atacs de denegació de servei:\n•\tDotar el sistema de la capacitat suficient per atendre la càrrega prevista.\n•\tDesplegar tecnologies per prevenir els atacs coneguts.",null,"M",null,0,2,0,2,"Disponibilitat",{"$f":"IF(VLOOKUP(B67,'4B.RISCOS DADES'!$C$9:$F$23,4,FALSE)=$P$4,1,0)","v":0},{"$f":"IFERROR(VLOOKUP(O67,'4B.RISCOS DADES'!$C$4:$F$7,4,FALSE),\"\")","v":0},0,0,"NO",null,"Q08[mp.s.3]M"]
["[mp.s.4]","Q01","[mp.s.4]H","Mesures de protecció","Protecció dels serveis","Mitjans alternatius","Cal garantir que hi ha mitjans alternatius si els habituals fallen, i que estan disponibles. Aquests mitjans alternatius han de tenir les mateixes garanties de protecció que els habituals.",null,null,"H",0,0,3,3,"Disponibilitat",{"$f":"IF(VLOOKUP(B68,'4B.RISCOS DADES'!$C$9:$F$23,4,FALSE)=$P$4,1,0)","v":0},{"$f":"IFERROR(VLOOKUP(O68,'4B.RISCOS DADES'!$C$4:$F$7,4,FALSE),\"\")","v":0},0,0,"NO",null,{"$f":"+B68&C68","v":"Q01[mp.s.4]H"}]
["[mp.s.4]","Q03","[mp.s.4]H","Mesures de protecció","Protecció dels serveis","Mitjans alternatius","Cal garantir que hi ha mitjans alternatius si els habituals fallen, i que estan disponibles. Aquests mitjans alternatius han de tenir les mateixes garanties de protecció que els habituals.",null,null,"H",0,0,3,3,"Disponibilitat",{"$f":"IF(VLOOKUP(B69,'4B.RISCOS DADES'!$C$9:$F$23,4,FALSE)=$P$4,1,0)","v":0},{"$f":"IFERROR(VLOOKUP(O69,'4B.RISCOS DADES'!$C$4:$F$7,4,FALSE),\"\")","v":0},0,0,"NO",null,"Q03[mp.s.4]H"]
["[mp.si.1]","Q04","[mp.si.1]LMH","Mesures de protecció","Protecció de suports d'informació","Etiquetat","•\tEls suports d’informació s’han d’etiquetar de manera que, sense revelar-ne el contingut, s’indiqui el nivell de seguretat de la informació continguda.\n•\tEls usuaris han d’estar capacitats per entendre el significat de les etiquetes.","L","M","H",1,2,3,3,"Confidencialitat",{"$f":"IF(VLOOKUP(B70,'4B.RISCOS DADES'!$C$9:$F$23,4,FALSE)=$P$4,1,0)","v":0},{"$f":"IFERROR(VLOOKUP(O70,'4B.RISCOS DADES'!$C$4:$F$7,4,FALSE),\"\")","v":0},0,0,"NO",null,"Q04[mp.si.1]LMH"]
["[mp.si.2]","Q11","[mp.si.2]H","Mesures de protecció","Protecció de suports d'informació","Criptografia","Aquesta mesura s’aplica, en particular, a tots els dispositius extraïbles (CD, DVD, discs USB i altres d’anàlegs).\n•\tCal aplicar mecanismes criptogràfics que garanteixin la integritat i la confidencialitat de la informació continguda.\n•\tCal utilitzar algorismes acreditats pel CCN.\n•\tCal utilitzar, preferentment, productes certificats.",null,null,"H",0,0,3,{"$f":"MAX(K71:M71)","v":3},"Integritat",{"$f":"IF(VLOOKUP(B71,'4B.RISCOS DADES'!$C$9:$F$23,4,FALSE)=$P$4,1,0)","v":0},{"$f":"IFERROR(VLOOKUP(O71,'4B.RISCOS DADES'!$C$4:$F$7,4,FALSE),\"\")","v":0},{"$f":"+IF(AND(Q71=\"BAIX\",H71=\"L\"),1,IF(AND(Q71=\"MITJÀ\",I71=\"M\"),2,IF(AND(Q71=\"ALT\",J71=\"H\"),3,IF(AND(Q71=\"MOLT ALT\",J71=\"H\"),4,0))))","v":0},{"$f":"IFERROR(MAX(P71,R71),0)","v":0},"NO",null,"Q11[mp.si.2]H"]
["[mp.si.2]","Q11","[mp.si.2]H","Mesures de protecció","Protecció de suports d'informació","Criptografia","Aquesta mesura s’aplica, en particular, a tots els dispositius extraïbles (CD, DVD, discs USB i altres d’anàlegs).\n•\tCal aplicar mecanismes criptogràfics que garanteixin la integritat i la confidencialitat de la informació continguda.\n•\tCal utilitzar algorismes acreditats pel CCN.\n•\tCal utilitzar, preferentment, productes certificats.",null,null,"H",0,0,3,3,"Confidencialitat",{"$f":"IF(VLOOKUP(B72,'4B.RISCOS DADES'!$C$9:$F$23,4,FALSE)=$P$4,1,0)","v":0},{"$f":"IFERROR(VLOOKUP(O72,'4B.RISCOS DADES'!$C$4:$F$7,4,FALSE),\"\")","v":0},0,0,{"$f":"+IF(S72>3,\"SI - MOLT ALTA\",IF(S72=3,\"SI - ALTA\",IF(S72=2,\"SI - MITJANA\",IF(S72=1,\"SI - BAIXA\",\"NO\"))))","v":"NO"},null,{"$f":"+B72&C72","v":"Q11[mp.si.2]H"}]
["[mp.si.2]","Q11","[mp.si.2]M","Mesures de protecció","Protecció de suports d'informació","Criptografia","Aquesta mesura s’aplica, en particular, a tots els dispositius extraïbles (CD, DVD, discs USB i altres d’anàlegs).\n•\tCal aplicar mecanismes criptogràfics que garanteixin la integritat i la confidencialitat de la informació continguda.",null,"M",null,0,2,0,2,"Confidencialitat",{"$f":"IF(VLOOKUP(B73,'4B.RISCOS DADES'!$C$9:$F$23,4,FALSE)=$P$4,1,0)","v":0},{"$f":"IFERROR(VLOOKUP(O73,'4B.RISCOS DADES'!$C$4:$F$7,4,FALSE),\"\")","v":0},0,0,"NO",null,"Q11[mp.si.2]M"]
["[mp.si.2]","Q11","[mp.si.2]M","Mesures de protecció","Protecció de suports d'informació","Criptografia","Aquesta mesura s’aplica, en particular, a tots els dispositius extraïbles (CD, DVD, discs USB i altres d’anàlegs).\n•\tCal aplicar mecanismes criptogràfics que garanteixin la integritat i la confidencialitat de la informació continguda.",null,"M",null,0,2,0,2,"Integritat",{"$f":"IF(VLOOKUP(B74,'4B.RISCOS DADES'!$C$9:$F$23,4,FALSE)=$P$4,1,0)","v":0},{"$f":"IFERROR(VLOOKUP(O74,'4B.RISCOS DADES'!$C$4:$F$7,4,FALSE),\"\")","v":0},0,0,"NO",null,"Q11[mp.si.2]M"]
["[mp.si.2]","Q04","[mp.si.2]H","Mesures de protecció","Protecció de suports d'informació","Criptografia","Aquesta mesura s’aplica, en particular, a tots els dispositius extraïbles (CD, DVD, discs USB i altres d’anàlegs).\n•\tCal aplicar mecanismes criptogràfics que garanteixin la integritat i la confidencialitat de la informació continguda.\n•\tCal utilitzar algorismes acreditats pel CCN.\n•\tCal utilitzar, preferentment, productes certificats.",null,null,"H",0,0,3,3,"Integritat",{"$f":"IF(VLOOKUP(B75,'4B.RISCOS DADES'!$C$9:$F$23,4,FALSE)=$P$4,1,0)","v":0},{"$f":"IFERROR(VLOOKUP(O75,'4B.RISCOS DADES'!$C$4:$F$7,4,FALSE),\"\")","v":0},0,0,"NO",null,"Q04[mp.si.2]H"]
["[mp.si.2]","Q04","[mp.si.2]H","Mesures de protecció","Protecció de suports d'informació","Criptografia","Aquesta mesura s’aplica, en particular, a tots els dispositius extraïbles (CD, DVD, discs USB i altres d’anàlegs).\n•\tCal aplicar mecanismes criptogràfics que garanteixin la integritat i la confidencialitat de la informació continguda.\n•\tCal utilitzar algorismes acreditats pel CCN.\n•\tCal utilitzar, preferentment, productes certificats.",null,null,"H",0,0,3,3,"Confidencialitat",{"$f":"IF(VLOOKUP(B76,'4B.RISCOS DADES'!$C$9:$F$23,4,FALSE)=$P$4,1,0)","v":0},{"$f":"IFERROR(VLOOKUP(O76,'4B.RISCOS DADES'!$C$4:$F$7,4,FALSE),\"\")","v":0},0,0,"NO",null,"Q04[mp.si.2]H"]
["[mp.si.2]","Q04","[mp.si.2]M","Mesures de protecció","Protecció de suports d'informació","Criptografia","Aquesta mesura s’aplica, en particular, a tots els dispositius extraïbles (CD, DVD, discs USB i altres d’anàlegs).\n•\tCal aplicar mecanismes criptogràfics que garanteixin la integritat i la confidencialitat de la informació continguda.",null,"M",null,0,2,0,2,"Confidencialitat",{"$f":"IF(VLOOKUP(B77,'4B.RISCOS DADES'!$C$9:$F$23,4,FALSE)=$P$4,1,0)","v":0},{"$f":"IFERROR(VLOOKUP(O77,'4B.RISCOS DADES'!$C$4:$F$7,4,FALSE),\"\")","v":0},0,0,"NO",null,"Q04[mp.si.2]M"]
["[mp.si.2]","Q04","[mp.si.2]M","Mesures de protecció","Protecció de suports d'informació","Criptografia","Aquesta mesura s’aplica, en particular, a tots els dispositius extraïbles (CD, DVD, discs USB i altres d’anàlegs).\n•\tCal aplicar mecanismes criptogràfics que garanteixin la integritat i la confidencialitat de la informació continguda.",null,"M",null,0,2,0,2,"Integritat",{"$f":"IF(VLOOKUP(B78,'4B.RISCOS DADES'!$C$9:$F$23,4,FALSE)=$P$4,1,0)","v":0},{"$f":"IFERROR(VLOOKUP(O78,'4B.RISCOS DADES'!$C$4:$F$7,4,FALSE),\"\")","v":0},0,0,"NO",null,"Q04[mp.si.2]M"]
["[mp.si.3]","Q04","[mp.si.3]LMH","Mesures de protecció","Protecció de suports d'informació","Custodia","Cal aplicar la diligència i el control adequats als suports d’informació que estan sota la responsabilitat de l’organització.\n•\tCal garantir el control d’accés amb mesures físiques, lògiques o ambdues.\n•\tCal garantir que es respecten les exigències de manteniment del fabricant.","L","M","H",1,2,3,3,"Sistema",{"$f":"IF(VLOOKUP(B79,'4B.RISCOS DADES'!$C$9:$F$23,4,FALSE)=$P$4,1,0)","v":0},{"$f":"IFERROR(VLOOKUP(O79,'4B.RISCOS DADES'!$C$4:$F$7,4,FALSE),\"\")","v":"PENDENT D'AVALUAR"},0,0,"NO",null,"Q04[mp.si.3]LMH"]
["[mp.si.4]","Q04","[mp.si.4]LMH","Mesures de protecció","Protecció de suports d'informació","Transport","El responsable de sistemes ha de garantir que, mentre es desplacen, els dispositius estan sota control i que es compleixen els requisits de seguretat. Cal:\n•\tDisposar d’un registre de sortida que identifiqui el transportista que rep el suport.\n•\tDisposar d’un registre d’entrada que identifiqui el transportista que l’entrega.\n•\tDisposar d’un procediment que compari entrades i sortides. Si es detecta algun incident, s’han d’activar les alarmes.\n•\tUtilitzar mitjans criptogràfics d’acord amb [mp.si.2].\n•\tGestionar les claus d’acord amb [op.exp.11].","L","M","H",1,2,3,3,"Sistema",{"$f":"IF(VLOOKUP(B80,'4B.RISCOS DADES'!$C$9:$F$23,4,FALSE)=$P$4,1,0)","v":0},{"$f":"IFERROR(VLOOKUP(O80,'4B.RISCOS DADES'!$C$4:$F$7,4,FALSE),\"\")","v":"PENDENT D'AVALUAR"},0,0,"NO",null,"Q04[mp.si.4]LMH"]
["[mp.si.5]","Q11","[mp.si.5]MH","Mesures de protecció","Protecció de suports d'informació","Esborrat i destrucció","L’esborrat i destrucció del suport de la informació s’ha d’aplicar a qualsevol tipus\nd’equip susceptible d’emmagatzemar informació.\n \n•\tEls suports que s’han de reutilitzar o lliurar a una altra organització han de ser objecte d’un esborrat segur.\n•\tCal destruir els suports de forma segura, quan la naturalesa del suport no permeti un esborrat segur i així ho requereixi el procediment associat a la informació continguda.",null,"M","H",0,2,3,3,"Confidencialitat",{"$f":"IF(VLOOKUP(B81,'4B.RISCOS DADES'!$C$9:$F$23,4,FALSE)=$P$4,1,0)","v":0},{"$f":"IFERROR(VLOOKUP(O81,'4B.RISCOS DADES'!$C$4:$F$7,4,FALSE),\"\")","v":0},0,0,"NO",null,"Q11[mp.si.5]MH"]
["[mp.si.5]","Q04","[mp.si.5]MH","Mesures de protecció","Protecció de suports d'informació","Esborrat i destrucció","L’esborrat i destrucció del suport de la informació s’ha d’aplicar a qualsevol tipus\nd’equip susceptible d’emmagatzemar informació.\n \n•\tEls suports que s’han de reutilitzar o lliurar a una altra organització han de ser objecte d’un esborrat segur.\n•\tCal destruir els suports de forma segura, quan la naturalesa del suport no permeti un esborrat segur i així ho requereixi el procediment associat a la informació continguda.",null,"M","H",0,2,3,3,"Confidencialitat",{"$f":"IF(VLOOKUP(B82,'4B.RISCOS DADES'!$C$9:$F$23,4,FALSE)=$P$4,1,0)","v":0},{"$f":"IFERROR(VLOOKUP(O82,'4B.RISCOS DADES'!$C$4:$F$7,4,FALSE),\"\")","v":0},0,0,"NO",null,"Q04[mp.si.5]MH"]
["[mp.sw.1]","Q03","[mp.sw.1]MH","Mesures de protecció","Protecció d'aplicacions informàtiques","Desenvolupament d’aplicacions","•\tEl desenvolupament d’aplicacions s’ha de fer sobre un sistema diferent i separat del de producció. No hi ha d’haver eines o dades de desenvolupament a l’entorn de producció.\n•\tCal aplicar una metodologia de desenvolupament reconeguda, que:\n     - Prengui en consideració els aspectes de seguretat al llarg de tot el cicle de vida.\n     - Tracti específicament les dades utilitzades a les proves.\n     - Permeti la inspecció del codi font.\n•\tEls elements següents han de ser part integral del disseny del sistema:\n     - Mecanismes d’identificació i autenticació.\n     - Mecanismes de protecció de la informació tractada.\n     - La generació i el tractament de pistes d’auditoria.\n•\tLes proves no s’han de fer amb dades reals, llevat que s’asseguri el nivell de seguretat corresponent.",null,"M","H",0,2,3,3,"Sistema",{"$f":"IF(VLOOKUP(B83,'4B.RISCOS DADES'!$C$9:$F$23,4,FALSE)=$P$4,1,0)","v":0},{"$f":"IFERROR(VLOOKUP(O83,'4B.RISCOS DADES'!$C$4:$F$7,4,FALSE),\"\")","v":"PENDENT D'AVALUAR"},0,0,"NO",null,"Q03[mp.sw.1]MH"]
["[mp.sw.2]","Q03","[mp.sw.2]H","Mesures de protecció","Protecció d'aplicacions informàtiques","Acceptació i posada en servei","Abans de passar a producció, cal comprovar que l’aplicació funciona correctament:\n•\tS’ha de comprovar que es compleixen els criteris d’acceptació en matèria de seguretat i que no es deteriora la seguretat dels altres components del servei.\n•\tLes proves s’han de fer en un entorn aïllat (preproducció).\n•\tLes proves no s’han de fer amb dades reals, llevat que se’n pugui garantir la seguretat.\nAbans de la posada en funcionament, cal fer les inspeccions següents:\n•\tAnàlisi de vulnerabilitats.\n•\tProves de penetració.\n•\tAnàlisi de la coherència en la integració dels processos.\n•\tConsiderar l’oportunitat de fer una auditoria del codi font.",null,null,"H",0,0,3,3,"Sistema",{"$f":"IF(VLOOKUP(B84,'4B.RISCOS DADES'!$C$9:$F$23,4,FALSE)=$P$4,1,0)","v":0},{"$f":"IFERROR(VLOOKUP(O84,'4B.RISCOS DADES'!$C$4:$F$7,4,FALSE),\"\")","v":"PENDENT D'AVALUAR"},0,0,"NO",null,"Q03[mp.sw.2]H"]
["[mp.sw.2]","Q03","[mp.sw.2]M","Mesures de protecció","Protecció d'aplicacions informàtiques","Acceptació i posada en servei","Abans de passar a producció, cal comprovar que l’aplicació funciona correctament:\n•\tS’ha de comprovar que es compleixen els criteris d’acceptació en matèria de seguretat i que no es deteriora la seguretat dels altres components del servei.\n•\tLes proves s’han de fer en un entorn aïllat (preproducció).\n•\tLes proves no s’han de fer amb dades reals, llevat que se’n pugui garantir la seguretat.\nAbans de la posada en funcionament, cal fer les inspeccions següents:\n•\tAnàlisi de vulnerabilitats.\n•\tProves de penetració.",null,"M",null,0,2,0,2,"Sistema",{"$f":"IF(VLOOKUP(B85,'4B.RISCOS DADES'!$C$9:$F$23,4,FALSE)=$P$4,1,0)","v":0},{"$f":"IFERROR(VLOOKUP(O85,'4B.RISCOS DADES'!$C$4:$F$7,4,FALSE),\"\")","v":"PENDENT D'AVALUAR"},0,0,"NO",null,"Q03[mp.sw.2]M"]
["[mp.sw.2]","Q03","[mp.sw.2]L","Mesures de protecció","Protecció d'aplicacions informàtiques","Acceptació i posada en servei","Abans de passar a producció, cal comprovar que l’aplicació funciona correctament:\n•\tS’ha de comprovar que es compleixen els criteris d’acceptació en matèria de seguretat i que no es deteriora la seguretat dels altres components del servei.\n•\tLes proves s’han de fer en un entorn aïllat (preproducció).\n•\tLes proves no s’han de fer amb dades reals, llevat que se’n pugui garantir la seguretat.","L",null,null,1,0,0,1,"Sistema",{"$f":"IF(VLOOKUP(B86,'4B.RISCOS DADES'!$C$9:$F$23,4,FALSE)=$P$4,1,0)","v":0},{"$f":"IFERROR(VLOOKUP(O86,'4B.RISCOS DADES'!$C$4:$F$7,4,FALSE),\"\")","v":"PENDENT D'AVALUAR"},0,0,"NO",null,"Q03[mp.sw.2]L"]
["[op.acc.1]","Q13","[op.acc.1]LMH","Marc Operacional","Control d'Accés","Identificació","Cal assignar un identificador singular a cada entitat que accedeixi al sistema.","L","M","H",1,2,3,3,"Traçabilitat",{"$f":"IF(VLOOKUP(B87,'4B.RISCOS DADES'!$C$9:$F$23,4,FALSE)=$P$4,1,0)","v":0},{"$f":"IFERROR(VLOOKUP(O87,'4B.RISCOS DADES'!$C$4:$F$7,4,FALSE),\"\")","v":""},0,0,"NO",null,"Q13[op.acc.1]LMH"]
["[op.acc.1]","Q13","[op.acc.1]LMH","Marc Operacional","Control d'Accés","Identificació","Cal assignar un identificador singular a cada entitat que accedeixi al sistema.","L","M","H",1,2,3,3,"Sistema",{"$f":"IF(VLOOKUP(B88,'4B.RISCOS DADES'!$C$9:$F$23,4,FALSE)=$P$4,1,0)","v":0},{"$f":"IFERROR(VLOOKUP(O88,'4B.RISCOS DADES'!$C$4:$F$7,4,FALSE),\"\")","v":"PENDENT D'AVALUAR"},0,0,"NO",null,"Q13[op.acc.1]LMH"]
["[op.acc.1]","Q13","[op.acc.1]LMH","Marc Operacional","Control d'Accés","Identificació","Cal assignar un identificador singular a cada entitat que accedeixi al sistema.","L","M","H",1,2,3,3,"Autenticitat",{"$f":"IF(VLOOKUP(B89,'4B.RISCOS DADES'!$C$9:$F$23,4,FALSE)=$P$4,1,0)","v":0},{"$f":"IFERROR(VLOOKUP(O89,'4B.RISCOS DADES'!$C$4:$F$7,4,FALSE),\"\")","v":""},0,0,"NO",null,"Q13[op.acc.1]LMH"]
["[op.acc.2]","Q13","[op.acc.2]LMH","Marc Operacional","Control d'Accés","Requeriments d’accés","•\tNomés poden utilitzar els recursos del sistema les entitats que disposen de drets d’accés suficients.\n•\tEls drets d’accés s’han d’establir d’acord amb el responsable de cada recurs i seguint la política i la normativa de seguretat.\n•\tCal controlar, particularment, l’accés als components del sistema i als fitxers de configuració.","L","M","H",1,2,3,3,"Traçabilitat",{"$f":"IF(VLOOKUP(B90,'4B.RISCOS DADES'!$C$9:$F$23,4,FALSE)=$P$4,1,0)","v":0},{"$f":"IFERROR(VLOOKUP(O90,'4B.RISCOS DADES'!$C$4:$F$7,4,FALSE),\"\")","v":""},0,0,"NO",null,"Q13[op.acc.2]LMH"]
["[op.acc.2]","Q13","[op.acc.2]LMH","Marc Operacional","Control d'Accés","Requeriments d’accés","•\tNomés poden utilitzar els recursos del sistema les entitats que disposen de drets d’accés suficients.\n•\tEls drets d’accés s’han d’establir d’acord amb el responsable de cada recurs i seguint la política i la normativa de seguretat.\n•\tCal controlar, particularment, l’accés als components del sistema i als fitxers de configuració.","L","M","H",1,2,3,3,"Confidencialitat",{"$f":"IF(VLOOKUP(B91,'4B.RISCOS DADES'!$C$9:$F$23,4,FALSE)=$P$4,1,0)","v":0},{"$f":"IFERROR(VLOOKUP(O91,'4B.RISCOS DADES'!$C$4:$F$7,4,FALSE),\"\")","v":0},0,0,"NO",null,"Q13[op.acc.2]LMH"]
["[op.acc.2]","Q13","[op.acc.2]LMH","Marc Operacional","Control d'Accés","Requeriments d’accés","•\tNomés poden utilitzar els recursos del sistema les entitats que disposen de drets d’accés suficients.\n•\tEls drets d’accés s’han d’establir d’acord amb el responsable de cada recurs i seguint la política i la normativa de seguretat.\n•\tCal controlar, particularment, l’accés als components del sistema i als fitxers de configuració.","L","M","H",1,2,3,3,"Integritat",{"$f":"IF(VLOOKUP(B92,'4B.RISCOS DADES'!$C$9:$F$23,4,FALSE)=$P$4,1,0)","v":0},{"$f":"IFERROR(VLOOKUP(O92,'4B.RISCOS DADES'!$C$4:$F$7,4,FALSE),\"\")","v":0},0,0,"NO",null,"Q13[op.acc.2]LMH"]
["[op.acc.2]","Q13","[op.acc.2]LMH","Marc Operacional","Control d'Accés","Requeriments d’accés","•\tNomés poden utilitzar els recursos del sistema les entitats que disposen de drets d’accés suficients.\n•\tEls drets d’accés s’han d’establir d’acord amb el responsable de cada recurs i seguint la política i la normativa de seguretat.\n•\tCal controlar, particularment, l’accés als components del sistema i als fitxers de configuració.","L","M","H",1,2,3,3,"Autenticitat",{"$f":"IF(VLOOKUP(B93,'4B.RISCOS DADES'!$C$9:$F$23,4,FALSE)=$P$4,1,0)","v":0},{"$f":"IFERROR(VLOOKUP(O93,'4B.RISCOS DADES'!$C$4:$F$7,4,FALSE),\"\")","v":""},0,0,"NO",null,"Q13[op.acc.2]LMH"]
["[op.acc.3]","Q12","[op.acc.3]MH","Marc Operacional","Control d'Accés","Segregació de funcions i tasques","Necessitat de concurrència de dues o més persones per fer tasques crítiques.",null,"M","H",0,2,3,3,"Confidencialitat",{"$f":"IF(VLOOKUP(B94,'4B.RISCOS DADES'!$C$9:$F$23,4,FALSE)=$P$4,1,0)","v":0},{"$f":"IFERROR(VLOOKUP(O94,'4B.RISCOS DADES'!$C$4:$F$7,4,FALSE),\"\")","v":0},0,0,"NO",null,"Q12[op.acc.3]MH"]
["[op.acc.3]","Q12","[op.acc.3]MH","Marc Operacional","Control d'Accés","Segregació de funcions i tasques","Necessitat de concurrència de dues o més persones per fer tasques crítiques.",null,"M","H",0,2,3,3,"Traçabilitat",{"$f":"IF(VLOOKUP(B95,'4B.RISCOS DADES'!$C$9:$F$23,4,FALSE)=$P$4,1,0)","v":0},{"$f":"IFERROR(VLOOKUP(O95,'4B.RISCOS DADES'!$C$4:$F$7,4,FALSE),\"\")","v":""},0,0,"NO",null,"Q12[op.acc.3]MH"]
["[op.acc.3]","Q12","[op.acc.3]MH","Marc Operacional","Control d'Accés","Segregació de funcions i tasques","Necessitat de concurrència de dues o més persones per fer tasques crítiques.",null,"M","H",0,2,3,3,"Integritat",{"$f":"IF(VLOOKUP(B96,'4B.RISCOS DADES'!$C$9:$F$23,4,FALSE)=$P$4,1,0)","v":0},{"$f":"IFERROR(VLOOKUP(O96,'4B.RISCOS DADES'!$C$4:$F$7,4,FALSE),\"\")","v":0},0,0,"NO",null,"Q12[op.acc.3]MH"]
["[op.acc.3]","Q12","[op.acc.3]MH","Marc Operacional","Control d'Accés","Segregació de funcions i tasques","Necessitat de concurrència de dues o més persones per fer tasques crítiques.",null,"M","H",0,2,3,3,"Autenticitat",{"$f":"IF(VLOOKUP(B97,'4B.RISCOS DADES'!$C$9:$F$23,4,FALSE)=$P$4,1,0)","v":0},{"$f":"IFERROR(VLOOKUP(O97,'4B.RISCOS DADES'!$C$4:$F$7,4,FALSE),\"\")","v":""},0,0,"NO",null,"Q12[op.acc.3]MH"]
["[op.acc.3]","Q13","[op.acc.3]MH","Marc Operacional","Control d'Accés","Segregació de funcions i tasques","Necessitat de concurrència de dues o més persones per fer tasques crítiques.",null,"M","H",0,2,3,3,"Confidencialitat",{"$f":"IF(VLOOKUP(B98,'4B.RISCOS DADES'!$C$9:$F$23,4,FALSE)=$P$4,1,0)","v":0},{"$f":"IFERROR(VLOOKUP(O98,'4B.RISCOS DADES'!$C$4:$F$7,4,FALSE),\"\")","v":0},0,0,"NO",null,"Q13[op.acc.3]MH"]
["[op.acc.3]","Q13","[op.acc.3]MH","Marc Operacional","Control d'Accés","Segregació de funcions i tasques","Necessitat de concurrència de dues o més persones per fer tasques crítiques.",null,"M","H",0,2,3,3,"Traçabilitat",{"$f":"IF(VLOOKUP(B99,'4B.RISCOS DADES'!$C$9:$F$23,4,FALSE)=$P$4,1,0)","v":0},{"$f":"IFERROR(VLOOKUP(O99,'4B.RISCOS DADES'!$C$4:$F$7,4,FALSE),\"\")","v":""},0,0,"NO",null,"Q13[op.acc.3]MH"]
["[op.acc.3]","Q13","[op.acc.3]MH","Marc Operacional","Control d'Accés","Segregació de funcions i tasques","Necessitat de concurrència de dues o més persones per fer tasques crítiques.",null,"M","H",0,2,3,3,"Integritat",{"$f":"IF(VLOOKUP(B100,'4B.RISCOS DADES'!$C$9:$F$23,4,FALSE)=$P$4,1,0)","v":0},{"$f":"IFERROR(VLOOKUP(O100,'4B.RISCOS DADES'!$C$4:$F$7,4,FALSE),\"\")","v":0},0,0,"NO",null,"Q13[op.acc.3]MH"]
["[op.acc.3]","Q13","[op.acc.3]MH","Marc Operacional","Control d'Accés","Segregació de funcions i tasques","Necessitat de concurrència de dues o més persones per fer tasques crítiques.",null,"M","H",0,2,3,3,"Autenticitat",{"$f":"IF(VLOOKUP(B101,'4B.RISCOS DADES'!$C$9:$F$23,4,FALSE)=$P$4,1,0)","v":0},{"$f":"IFERROR(VLOOKUP(O101,'4B.RISCOS DADES'!$C$4:$F$7,4,FALSE),\"\")","v":""},0,0,"NO",null,"Q13[op.acc.3]MH"]
["[op.acc.4]","Q13","[op.acc.4]LMH","Marc Operacional","Control d'Accés","Procés de gestió de drets d’accés","Els drets d’accés de cada usuari s’han d’assignar d’acord amb:\n•\tMínim privilegi.\n•\tNecessitat de conèixer.\n•\tÚnicament el personal competent pot modificar els drets d’accés, d’acord amb els criteris establerts pel responsable.","L","M","H",1,2,3,3,"Traçabilitat",{"$f":"IF(VLOOKUP(B102,'4B.RISCOS DADES'!$C$9:$F$23,4,FALSE)=$P$4,1,0)","v":0},{"$f":"IFERROR(VLOOKUP(O102,'4B.RISCOS DADES'!$C$4:$F$7,4,FALSE),\"\")","v":""},0,0,"NO",null,"Q13[op.acc.4]LMH"]
["[op.acc.4]","Q13","[op.acc.4]LMH","Marc Operacional","Control d'Accés","Procés de gestió de drets d’accés","Els drets d’accés de cada usuari s’han d’assignar d’acord amb:\n•\tMínim privilegi.\n•\tNecessitat de conèixer.\n•\tÚnicament el personal competent pot modificar els drets d’accés, d’acord amb els criteris establerts pel responsable.","L","M","H",1,2,3,3,"Integritat",{"$f":"IF(VLOOKUP(B103,'4B.RISCOS DADES'!$C$9:$F$23,4,FALSE)=$P$4,1,0)","v":0},{"$f":"IFERROR(VLOOKUP(O103,'4B.RISCOS DADES'!$C$4:$F$7,4,FALSE),\"\")","v":0},0,0,"NO",null,"Q13[op.acc.4]LMH"]
["[op.acc.4]","Q13","[op.acc.4]LMH","Marc Operacional","Control d'Accés","Procés de gestió de drets d’accés","Els drets d’accés de cada usuari s’han d’assignar d’acord amb:\n•\tMínim privilegi.\n•\tNecessitat de conèixer.\n•\tÚnicament el personal competent pot modificar els drets d’accés, d’acord amb els criteris establerts pel responsable.","L","M","H",1,2,3,3,"Autenticitat",{"$f":"IF(VLOOKUP(B104,'4B.RISCOS DADES'!$C$9:$F$23,4,FALSE)=$P$4,1,0)","v":0},{"$f":"IFERROR(VLOOKUP(O104,'4B.RISCOS DADES'!$C$4:$F$7,4,FALSE),\"\")","v":""},0,0,"NO",null,"Q13[op.acc.4]LMH"]
["[op.acc.4]","Q13","[op.acc.4]LMH","Marc Operacional","Control d'Accés","Procés de gestió de drets d’accés","Els drets d’accés de cada usuari s’han d’assignar d’acord amb:\n•\tMínim privilegi.\n•\tNecessitat de conèixer.\n•\tÚnicament el personal competent pot modificar els drets d’accés, d’acord amb els criteris establerts pel responsable.","L","M","H",1,2,3,3,"Confidencialitat",{"$f":"IF(VLOOKUP(B105,'4B.RISCOS DADES'!$C$9:$F$23,4,FALSE)=$P$4,1,0)","v":0},{"$f":"IFERROR(VLOOKUP(O105,'4B.RISCOS DADES'!$C$4:$F$7,4,FALSE),\"\")","v":0},0,0,"NO",null,"Q13[op.acc.4]LMH"]
["[op.acc.5]","Q13","[op.acc.5]M","Marc Operacional","Control d'Accés","Mecanisme d’autenticació (RISC MITJÀ)","•\tNo es recomana utilitzar claus de pas.\n•\tEs recomana utilitzar dispositius físics (tokens), lògics (certificats digitals) o biomètrics.\n•\tSi s’empren paraules de pas, cal aplicar polítiques rigoroses de qualitat i renovació.",null,"M",null,0,2,0,2,"Autenticitat",{"$f":"IF(VLOOKUP(B106,'4B.RISCOS DADES'!$C$9:$F$23,4,FALSE)=$P$4,1,0)","v":0},{"$f":"IFERROR(VLOOKUP(O106,'4B.RISCOS DADES'!$C$4:$F$7,4,FALSE),\"\")","v":""},0,0,"NO",null,"Q13[op.acc.5]M"]
["[op.acc.5]","Q13","[op.acc.5]H","Marc Operacional","Control d'Accés","Mecanisme d’autenticació (RISC ALT)","•\tEls autenticadors s’han de suspendre automàticament, si no s’utilitzen.\n•\tNo s’admeten paraules de pas.\n•\tS’exigeix l’ús de dispositius físics o biometria.\n•\tCal que els dispositius físics facin ús d’algorismes acreditats.\n•\tCal utilitzar preferentment productes certificats.",null,null,"H",0,0,3,3,"Integritat",{"$f":"IF(VLOOKUP(B107,'4B.RISCOS DADES'!$C$9:$F$23,4,FALSE)=$P$4,1,0)","v":0},{"$f":"IFERROR(VLOOKUP(O107,'4B.RISCOS DADES'!$C$4:$F$7,4,FALSE),\"\")","v":0},0,0,"NO",null,"Q13[op.acc.5]H"]
["[op.acc.5]","Q13","[op.acc.5]H","Marc Operacional","Control d'Accés","Mecanisme d’autenticació (RISC ALT)","•\tEls autenticadors s’han de suspendre automàticament, si no s’utilitzen.\n•\tNo s’admeten paraules de pas.\n•\tS’exigeix l’ús de dispositius físics o biometria.\n•\tCal que els dispositius físics facin ús d’algorismes acreditats.\n•\tCal utilitzar preferentment productes certificats.",null,null,"H",0,0,3,3,"Traçabilitat",{"$f":"IF(VLOOKUP(B108,'4B.RISCOS DADES'!$C$9:$F$23,4,FALSE)=$P$4,1,0)","v":0},{"$f":"IFERROR(VLOOKUP(O108,'4B.RISCOS DADES'!$C$4:$F$7,4,FALSE),\"\")","v":""},0,0,"NO",null,"Q13[op.acc.5]H"]
["[op.acc.5]","Q13","[op.acc.5]M","Marc Operacional","Control d'Accés","Mecanisme d’autenticació (RISC MITJÀ)","•\tNo es recomana utilitzar claus de pas.\n•\tEs recomana utilitzar dispositius físics (tokens), lògics (certificats digitals) o biomètrics.\n•\tSi s’empren paraules de pas, cal aplicar polítiques rigoroses de qualitat i renovació.",null,"M",null,0,2,0,2,"Integritat",{"$f":"IF(VLOOKUP(B109,'4B.RISCOS DADES'!$C$9:$F$23,4,FALSE)=$P$4,1,0)","v":0},{"$f":"IFERROR(VLOOKUP(O109,'4B.RISCOS DADES'!$C$4:$F$7,4,FALSE),\"\")","v":0},0,0,"NO",null,"Q13[op.acc.5]M"]
["[op.acc.5]","Q13","[op.acc.5]L","Marc Operacional","Control d'Accés","Mecanisme d’autenticació (RISC BAIX)","•\tS’accepta qualsevol mecanisme d’autenticació.\n•\tLes paraules de pas han d’estar sota el control exclusiu de l’usuari.\n•\tL’usuari ha de reconèixer la recepció i acceptar les obligacions (custòdia diligent i informació immediata, en cas de pèrdua).\n•\tEls autenticadors s’han de renovar periòdicament, d’acord amb la política de l’organització.\n•\tEls autenticadors s’han retirar i deshabilitar quan l’entitat (persona, equip o procés) acaba la seva relació amb el sistema.","L",null,null,1,0,0,1,"Confidencialitat",{"$f":"IF(VLOOKUP(B110,'4B.RISCOS DADES'!$C$9:$F$23,4,FALSE)=$P$4,1,0)","v":0},{"$f":"IFERROR(VLOOKUP(O110,'4B.RISCOS DADES'!$C$4:$F$7,4,FALSE),\"\")","v":0},0,0,"NO",null,"Q13[op.acc.5]L"]
["[op.acc.5]","Q13","[op.acc.5]L","Marc Operacional","Control d'Accés","Mecanisme d’autenticació (RISC BAIX)","•\tS’accepta qualsevol mecanisme d’autenticació.\n•\tLes paraules de pas han d’estar sota el control exclusiu de l’usuari.\n•\tL’usuari ha de reconèixer la recepció i acceptar les obligacions (custòdia diligent i informació immediata, en cas de pèrdua).\n•\tEls autenticadors s’han de renovar periòdicament, d’acord amb la política de l’organització.\n•\tEls autenticadors s’han retirar i deshabilitar quan l’entitat (persona, equip o procés) acaba la seva relació amb el sistema.","L",null,null,1,0,0,1,"Autenticitat",{"$f":"IF(VLOOKUP(B111,'4B.RISCOS DADES'!$C$9:$F$23,4,FALSE)=$P$4,1,0)","v":0},{"$f":"IFERROR(VLOOKUP(O111,'4B.RISCOS DADES'!$C$4:$F$7,4,FALSE),\"\")","v":""},0,0,"NO",null,"Q13[op.acc.5]L"]
["[op.acc.5]","Q13","[op.acc.5]M","Marc Operacional","Control d'Accés","Mecanisme d’autenticació (RISC MITJÀ)","•\tNo es recomana utilitzar claus de pas.\n•\tEs recomana utilitzar dispositius físics (tokens), lògics (certificats digitals) o biomètrics.\n•\tSi s’empren paraules de pas, cal aplicar polítiques rigoroses de qualitat i renovació.",null,"M",null,0,2,0,2,"Traçabilitat",{"$f":"IF(VLOOKUP(B112,'4B.RISCOS DADES'!$C$9:$F$23,4,FALSE)=$P$4,1,0)","v":0},{"$f":"IFERROR(VLOOKUP(O112,'4B.RISCOS DADES'!$C$4:$F$7,4,FALSE),\"\")","v":""},0,0,"NO",null,"Q13[op.acc.5]M"]
["[op.acc.5]","Q13","[op.acc.5]L","Marc Operacional","Control d'Accés","Mecanisme d’autenticació (RISC BAIX)","•\tS’accepta qualsevol mecanisme d’autenticació.\n•\tLes paraules de pas han d’estar sota el control exclusiu de l’usuari.\n•\tL’usuari ha de reconèixer la recepció i acceptar les obligacions (custòdia diligent i informació immediata, en cas de pèrdua).\n•\tEls autenticadors s’han de renovar periòdicament, d’acord amb la política de l’organització.\n•\tEls autenticadors s’han retirar i deshabilitar quan l’entitat (persona, equip o procés) acaba la seva relació amb el sistema.","L",null,null,1,0,0,1,"Integritat",{"$f":"IF(VLOOKUP(B113,'4B.RISCOS DADES'!$C$9:$F$23,4,FALSE)=$P$4,1,0)","v":0},{"$f":"IFERROR(VLOOKUP(O113,'4B.RISCOS DADES'!$C$4:$F$7,4,FALSE),\"\")","v":0},0,0,"NO",null,"Q13[op.acc.5]L"]
["[op.acc.5]","Q13","[op.acc.5]H","Marc Operacional","Control d'Accés","Mecanisme d’autenticació (RISC ALT)","•\tEls autenticadors s’han de suspendre automàticament, si no s’utilitzen.\n•\tNo s’admeten paraules de pas.\n•\tS’exigeix l’ús de dispositius físics o biometria.\n•\tCal que els dispositius físics facin ús d’algorismes acreditats.\n•\tCal utilitzar preferentment productes certificats.",null,null,"H",0,0,3,3,"Autenticitat",{"$f":"IF(VLOOKUP(B114,'4B.RISCOS DADES'!$C$9:$F$23,4,FALSE)=$P$4,1,0)","v":0},{"$f":"IFERROR(VLOOKUP(O114,'4B.RISCOS DADES'!$C$4:$F$7,4,FALSE),\"\")","v":""},0,0,"NO",null,"Q13[op.acc.5]H"]
["[op.acc.5]","Q13","[op.acc.5]L","Marc Operacional","Control d'Accés","Mecanisme d’autenticació (RISC BAIX)","•\tS’accepta qualsevol mecanisme d’autenticació.\n•\tLes paraules de pas han d’estar sota el control exclusiu de l’usuari.\n•\tL’usuari ha de reconèixer la recepció i acceptar les obligacions (custòdia diligent i informació immediata, en cas de pèrdua).\n•\tEls autenticadors s’han de renovar periòdicament, d’acord amb la política de l’organització.\n•\tEls autenticadors s’han retirar i deshabilitar quan l’entitat (persona, equip o procés) acaba la seva relació amb el sistema.","L",null,null,1,0,0,1,"Traçabilitat",{"$f":"IF(VLOOKUP(B115,'4B.RISCOS DADES'!$C$9:$F$23,4,FALSE)=$P$4,1,0)","v":0},{"$f":"IFERROR(VLOOKUP(O115,'4B.RISCOS DADES'!$C$4:$F$7,4,FALSE),\"\")","v":""},0,0,"NO",null,"Q13[op.acc.5]L"]
["[op.acc.5]","Q13","[op.acc.5]H","Marc Operacional","Control d'Accés","Mecanisme d’autenticació (RISC ALT)","•\tEls autenticadors s’han de suspendre automàticament, si no s’utilitzen.\n•\tNo s’admeten paraules de pas.\n•\tS’exigeix l’ús de dispositius físics o biometria.\n•\tCal que els dispositius físics facin ús d’algorismes acreditats.\n•\tCal utilitzar preferentment productes certificats.",null,null,"H",0,0,3,3,"Confidencialitat",{"$f":"IF(VLOOKUP(B116,'4B.RISCOS DADES'!$C$9:$F$23,4,FALSE)=$P$4,1,0)","v":0},{"$f":"IFERROR(VLOOKUP(O116,'4B.RISCOS DADES'!$C$4:$F$7,4,FALSE),\"\")","v":0},0,0,"NO",null,"Q13[op.acc.5]H"]
["[op.acc.5]","Q13","[op.acc.5]M","Marc Operacional","Control d'Accés","Mecanisme d’autenticació (RISC MITJÀ)","•\tNo es recomana utilitzar claus de pas.\n•\tEs recomana utilitzar dispositius físics (tokens), lògics (certificats digitals) o biomètrics.\n•\tSi s’empren paraules de pas, cal aplicar polítiques rigoroses de qualitat i renovació.",null,"M",null,0,2,0,2,"Confidencialitat",{"$f":"IF(VLOOKUP(B117,'4B.RISCOS DADES'!$C$9:$F$23,4,FALSE)=$P$4,1,0)","v":0},{"$f":"IFERROR(VLOOKUP(O117,'4B.RISCOS DADES'!$C$4:$F$7,4,FALSE),\"\")","v":0},0,0,"NO",null,"Q13[op.acc.5]M"]
["[op.acc.6]","Q07","[op.acc.6]M","Marc Operacional","Control d'Accés","Accés local","Un accés local és el que es fa des de dins de les pròpies instal·lacions.\n•\tCal evitar els atacs que, tot i no donar accés, poden revelar informació del sistema.\n•\tCal blocar l’accés després d’un nombre fixat d’intents fallits.\n•\tCal registrar els intents d’accés (amb èxit i fallits).\n•\tEn el moment de l’accés, el sistema ha d’informar l’usuari de les seves obligacions.\n•\tS’ha d’informar l’usuari de l’últim accés amb la seva identitat.",null,"M",null,0,2,0,2,"Traçabilitat",{"$f":"IF(VLOOKUP(B118,'4B.RISCOS DADES'!$C$9:$F$23,4,FALSE)=$P$4,1,0)","v":0},{"$f":"IFERROR(VLOOKUP(O118,'4B.RISCOS DADES'!$C$4:$F$7,4,FALSE),\"\")","v":""},0,0,"NO",null,"Q07[op.acc.6]M"]
["[op.acc.6]","Q07","[op.acc.6]M","Marc Operacional","Control d'Accés","Accés local","Un accés local és el que es fa des de dins de les pròpies instal·lacions.\n•\tCal evitar els atacs que, tot i no donar accés, poden revelar informació del sistema.\n•\tCal blocar l’accés després d’un nombre fixat d’intents fallits.\n•\tCal registrar els intents d’accés (amb èxit i fallits).\n•\tEn el moment de l’accés, el sistema ha d’informar l’usuari de les seves obligacions.\n•\tS’ha d’informar l’usuari de l’últim accés amb la seva identitat.",null,"M",null,0,2,0,2,"Autenticitat",{"$f":"IF(VLOOKUP(B119,'4B.RISCOS DADES'!$C$9:$F$23,4,FALSE)=$P$4,1,0)","v":0},{"$f":"IFERROR(VLOOKUP(O119,'4B.RISCOS DADES'!$C$4:$F$7,4,FALSE),\"\")","v":""},0,0,"NO",null,"Q07[op.acc.6]M"]
["[op.acc.6]","Q07","[op.acc.6]H","Marc Operacional","Control d'Accés","Accés local","Un accés local és el que es fa des de dins de les pròpies instal·lacions.\n•\tCal evitar els atacs que, tot i no donar accés, poden revelar informació del sistema.\n•\tCal blocar l’accés després d’un nombre fixat d’intents fallits.\n•\tCal registrar els intents d’accés (amb èxit i fallits).\n•\tEn el moment de l’accés, el sistema ha d’informar l’usuari de les seves obligacions.\n•\tS’ha d’informar l’usuari de l’últim accés amb la seva identitat.\n•\tL’accés s’ha de limitar per data i hora.\n•\tCal definir punts on l’usuari ha de renovar l’autenticació.",null,null,"H",0,0,3,3,"Confidencialitat",{"$f":"IF(VLOOKUP(B120,'4B.RISCOS DADES'!$C$9:$F$23,4,FALSE)=$P$4,1,0)","v":0},{"$f":"IFERROR(VLOOKUP(O120,'4B.RISCOS DADES'!$C$4:$F$7,4,FALSE),\"\")","v":0},0,0,"NO",null,"Q07[op.acc.6]H"]
["[op.acc.6]","Q07","[op.acc.6]M","Marc Operacional","Control d'Accés","Accés local","Un accés local és el que es fa des de dins de les pròpies instal·lacions.\n•\tCal evitar els atacs que, tot i no donar accés, poden revelar informació del sistema.\n•\tCal blocar l’accés després d’un nombre fixat d’intents fallits.\n•\tCal registrar els intents d’accés (amb èxit i fallits).\n•\tEn el moment de l’accés, el sistema ha d’informar l’usuari de les seves obligacions.\n•\tS’ha d’informar l’usuari de l’últim accés amb la seva identitat.",null,"M",null,0,2,0,2,"Integritat",{"$f":"IF(VLOOKUP(B121,'4B.RISCOS DADES'!$C$9:$F$23,4,FALSE)=$P$4,1,0)","v":0},{"$f":"IFERROR(VLOOKUP(O121,'4B.RISCOS DADES'!$C$4:$F$7,4,FALSE),\"\")","v":0},0,0,"NO",null,"Q07[op.acc.6]M"]
["[op.acc.6]","Q07","[op.acc.6]M","Marc Operacional","Control d'Accés","Accés local","Un accés local és el que es fa des de dins de les pròpies instal·lacions.\n•\tCal evitar els atacs que, tot i no donar accés, poden revelar informació del sistema.\n•\tCal blocar l’accés després d’un nombre fixat d’intents fallits.\n•\tCal registrar els intents d’accés (amb èxit i fallits).\n•\tEn el moment de l’accés, el sistema ha d’informar l’usuari de les seves obligacions.\n•\tS’ha d’informar l’usuari de l’últim accés amb la seva identitat.",null,"M",null,0,2,0,2,"Confidencialitat",{"$f":"IF(VLOOKUP(B122,'4B.RISCOS DADES'!$C$9:$F$23,4,FALSE)=$P$4,1,0)","v":0},{"$f":"IFERROR(VLOOKUP(O122,'4B.RISCOS DADES'!$C$4:$F$7,4,FALSE),\"\")","v":0},0,0,"NO",null,"Q07[op.acc.6]M"]
["[op.acc.6]","Q07","[op.acc.6]L","Marc Operacional","Control d'Accés","Accés local","Un accés local és el que es fa des de dins de les pròpies instal·lacions.\n•\tCal evitar els atacs que, tot i no donar accés, poden revelar informació del sistema.\n•\tCal blocar l’accés després d’un nombre fixat d’intents fallits.\n•\tCal registrar els intents d’accés (amb èxit i fallits).\n•\tEn el moment de l’accés, el sistema ha d’informar l’usuari de les seves obligacions.","L",null,null,1,0,0,1,"Autenticitat",{"$f":"IF(VLOOKUP(B123,'4B.RISCOS DADES'!$C$9:$F$23,4,FALSE)=$P$4,1,0)","v":0},{"$f":"IFERROR(VLOOKUP(O123,'4B.RISCOS DADES'!$C$4:$F$7,4,FALSE),\"\")","v":""},0,0,"NO",null,"Q07[op.acc.6]L"]
["[op.acc.6]","Q07","[op.acc.6]L","Marc Operacional","Control d'Accés","Accés local","Un accés local és el que es fa des de dins de les pròpies instal·lacions.\n•\tCal evitar els atacs que, tot i no donar accés, poden revelar informació del sistema.\n•\tCal blocar l’accés després d’un nombre fixat d’intents fallits.\n•\tCal registrar els intents d’accés (amb èxit i fallits).\n•\tEn el moment de l’accés, el sistema ha d’informar l’usuari de les seves obligacions.","L",null,null,1,0,0,1,"Integritat",{"$f":"IF(VLOOKUP(B124,'4B.RISCOS DADES'!$C$9:$F$23,4,FALSE)=$P$4,1,0)","v":0},{"$f":"IFERROR(VLOOKUP(O124,'4B.RISCOS DADES'!$C$4:$F$7,4,FALSE),\"\")","v":0},0,0,"NO",null,"Q07[op.acc.6]L"]
["[op.acc.6]","Q07","[op.acc.6]H","Marc Operacional","Control d'Accés","Accés local","Un accés local és el que es fa des de dins de les pròpies instal·lacions.\n•\tCal evitar els atacs que, tot i no donar accés, poden revelar informació del sistema.\n•\tCal blocar l’accés després d’un nombre fixat d’intents fallits.\n•\tCal registrar els intents d’accés (amb èxit i fallits).\n•\tEn el moment de l’accés, el sistema ha d’informar l’usuari de les seves obligacions.\n•\tS’ha d’informar l’usuari de l’últim accés amb la seva identitat.\n•\tL’accés s’ha de limitar per data i hora.\n•\tCal definir punts on l’usuari ha de renovar l’autenticació.",null,null,"H",0,0,3,3,"Traçabilitat",{"$f":"IF(VLOOKUP(B125,'4B.RISCOS DADES'!$C$9:$F$23,4,FALSE)=$P$4,1,0)","v":0},{"$f":"IFERROR(VLOOKUP(O125,'4B.RISCOS DADES'!$C$4:$F$7,4,FALSE),\"\")","v":""},0,0,"NO",null,"Q07[op.acc.6]H"]
["[op.acc.6]","Q07","[op.acc.6]L","Marc Operacional","Control d'Accés","Accés local","Un accés local és el que es fa des de dins de les pròpies instal·lacions.\n•\tCal evitar els atacs que, tot i no donar accés, poden revelar informació del sistema.\n•\tCal blocar l’accés després d’un nombre fixat d’intents fallits.\n•\tCal registrar els intents d’accés (amb èxit i fallits).\n•\tEn el moment de l’accés, el sistema ha d’informar l’usuari de les seves obligacions.","L",null,null,1,0,0,1,"Traçabilitat",{"$f":"IF(VLOOKUP(B126,'4B.RISCOS DADES'!$C$9:$F$23,4,FALSE)=$P$4,1,0)","v":0},{"$f":"IFERROR(VLOOKUP(O126,'4B.RISCOS DADES'!$C$4:$F$7,4,FALSE),\"\")","v":""},0,0,"NO",null,"Q07[op.acc.6]L"]
["[op.acc.6]","Q07","[op.acc.6]H","Marc Operacional","Control d'Accés","Accés local","Un accés local és el que es fa des de dins de les pròpies instal·lacions.\n•\tCal evitar els atacs que, tot i no donar accés, poden revelar informació del sistema.\n•\tCal blocar l’accés després d’un nombre fixat d’intents fallits.\n•\tCal registrar els intents d’accés (amb èxit i fallits).\n•\tEn el moment de l’accés, el sistema ha d’informar l’usuari de les seves obligacions.\n•\tS’ha d’informar l’usuari de l’últim accés amb la seva identitat.\n•\tL’accés s’ha de limitar per data i hora.\n•\tCal definir punts on l’usuari ha de renovar l’autenticació.",null,null,"H",0,0,3,3,"Integritat",{"$f":"IF(VLOOKUP(B127,'4B.RISCOS DADES'!$C$9:$F$23,4,FALSE)=$P$4,1,0)","v":0},{"$f":"IFERROR(VLOOKUP(O127,'4B.RISCOS DADES'!$C$4:$F$7,4,FALSE),\"\")","v":0},0,0,"NO",null,"Q07[op.acc.6]H"]
["[op.acc.6]","Q07","[op.acc.6]H","Marc Operacional","Control d'Accés","Accés local","Un accés local és el que es fa des de dins de les pròpies instal·lacions.\n•\tCal evitar els atacs que, tot i no donar accés, poden revelar informació del sistema.\n•\tCal blocar l’accés després d’un nombre fixat d’intents fallits.\n•\tCal registrar els intents d’accés (amb èxit i fallits).\n•\tEn el moment de l’accés, el sistema ha d’informar l’usuari de les seves obligacions.\n•\tS’ha d’informar l’usuari de l’últim accés amb la seva identitat.\n•\tL’accés s’ha de limitar per data i hora.\n•\tCal definir punts on l’usuari ha de renovar l’autenticació.",null,null,"H",0,0,3,3,"Autenticitat",{"$f":"IF(VLOOKUP(B128,'4B.RISCOS DADES'!$C$9:$F$23,4,FALSE)=$P$4,1,0)","v":0},{"$f":"IFERROR(VLOOKUP(O128,'4B.RISCOS DADES'!$C$4:$F$7,4,FALSE),\"\")","v":""},0,0,"NO",null,"Q07[op.acc.6]H"]
["[op.acc.6]","Q07","[op.acc.6]L","Marc Operacional","Control d'Accés","Accés local","Un accés local és el que es fa des de dins de les pròpies instal·lacions.\n•\tCal evitar els atacs que, tot i no donar accés, poden revelar informació del sistema.\n•\tCal blocar l’accés després d’un nombre fixat d’intents fallits.\n•\tCal registrar els intents d’accés (amb èxit i fallits).\n•\tEn el moment de l’accés, el sistema ha d’informar l’usuari de les seves obligacions.","L",null,null,1,0,0,1,"Confidencialitat",{"$f":"IF(VLOOKUP(B129,'4B.RISCOS DADES'!$C$9:$F$23,4,FALSE)=$P$4,1,0)","v":0},{"$f":"IFERROR(VLOOKUP(O129,'4B.RISCOS DADES'!$C$4:$F$7,4,FALSE),\"\")","v":0},0,0,"NO",null,"Q07[op.acc.6]L"]
["[op.acc.7]","Q01","[op.acc.7]MH","Marc Operacional","Control d'Accés","Accés remot","Un accés remot és el que es fa des de fora de les instal·lacions de l’organització.\n•\tCal protegir l’accés de la mateixa manera que es fa a l’accés local.\n•\tCal protegir les comunicacions.\n•\tCal establir una política que especifiqui quines tasques es poden fer remotament i cal autoritzar l’usuari prèviament.",null,"M","H",0,2,3,3,"Integritat",{"$f":"IF(VLOOKUP(B130,'4B.RISCOS DADES'!$C$9:$F$23,4,FALSE)=$P$4,1,0)","v":0},{"$f":"IFERROR(VLOOKUP(O130,'4B.RISCOS DADES'!$C$4:$F$7,4,FALSE),\"\")","v":0},0,0,"NO",null,"Q01[op.acc.7]MH"]
["[op.acc.7]","Q01","[op.acc.7]MH","Marc Operacional","Control d'Accés","Accés remot","Un accés remot és el que es fa des de fora de les instal·lacions de l’organització.\n•\tCal protegir l’accés de la mateixa manera que es fa a l’accés local.\n•\tCal protegir les comunicacions.\n•\tCal establir una política que especifiqui quines tasques es poden fer remotament i cal autoritzar l’usuari prèviament.",null,"M","H",0,2,3,3,"Confidencialitat",{"$f":"IF(VLOOKUP(B131,'4B.RISCOS DADES'!$C$9:$F$23,4,FALSE)=$P$4,1,0)","v":0},{"$f":"IFERROR(VLOOKUP(O131,'4B.RISCOS DADES'!$C$4:$F$7,4,FALSE),\"\")","v":0},0,0,"NO",null,"Q01[op.acc.7]MH"]
["[op.acc.7]","Q01","[op.acc.7]MH","Marc Operacional","Control d'Accés","Accés remot","Un accés remot és el que es fa des de fora de les instal·lacions de l’organització.\n•\tCal protegir l’accés de la mateixa manera que es fa a l’accés local.\n•\tCal protegir les comunicacions.\n•\tCal establir una política que especifiqui quines tasques es poden fer remotament i cal autoritzar l’usuari prèviament.",null,"M","H",0,2,3,3,"Autenticitat",{"$f":"IF(VLOOKUP(B132,'4B.RISCOS DADES'!$C$9:$F$23,4,FALSE)=$P$4,1,0)","v":0},{"$f":"IFERROR(VLOOKUP(O132,'4B.RISCOS DADES'!$C$4:$F$7,4,FALSE),\"\")","v":""},0,0,"NO",null,"Q01[op.acc.7]MH"]
["[op.acc.7]","Q01","[op.acc.7]L","Marc Operacional","Control d'Accés","Accés remot","Un accés remot és el que es fa des de fora de les instal·lacions de l’organització.\n•\tCal protegir l’accés de la mateixa manera que es fa a l’accés local.\n•\tCal protegir les comunicacions.","L",null,null,1,0,0,1,"Confidencialitat",{"$f":"IF(VLOOKUP(B133,'4B.RISCOS DADES'!$C$9:$F$23,4,FALSE)=$P$4,1,0)","v":0},{"$f":"IFERROR(VLOOKUP(O133,'4B.RISCOS DADES'!$C$4:$F$7,4,FALSE),\"\")","v":0},0,0,"NO",null,"Q01[op.acc.7]L"]
["[op.acc.7]","Q01","[op.acc.7]MH","Marc Operacional","Control d'Accés","Accés remot","Un accés remot és el que es fa des de fora de les instal·lacions de l’organització.\n•\tCal protegir l’accés de la mateixa manera que es fa a l’accés local.\n•\tCal protegir les comunicacions.\n•\tCal establir una política que especifiqui quines tasques es poden fer remotament i cal autoritzar l’usuari prèviament.",null,"M","H",0,2,3,3,"Traçabilitat",{"$f":"IF(VLOOKUP(B134,'4B.RISCOS DADES'!$C$9:$F$23,4,FALSE)=$P$4,1,0)","v":0},{"$f":"IFERROR(VLOOKUP(O134,'4B.RISCOS DADES'!$C$4:$F$7,4,FALSE),\"\")","v":""},0,0,"NO",null,"Q01[op.acc.7]MH"]
["[op.acc.7]","Q01","[op.acc.7]L","Marc Operacional","Control d'Accés","Accés remot","Un accés remot és el que es fa des de fora de les instal·lacions de l’organització.\n•\tCal protegir l’accés de la mateixa manera que es fa a l’accés local.\n•\tCal protegir les comunicacions.","L",null,null,1,0,0,{"$f":"MAX(K135:M135)","v":1},"Autenticitat",{"$f":"IF(VLOOKUP(B135,'4B.RISCOS DADES'!$C$9:$F$23,4,FALSE)=$P$4,1,0)","v":0},{"$f":"IFERROR(VLOOKUP(O135,'4B.RISCOS DADES'!$C$4:$F$7,4,FALSE),\"\")","v":""},{"$f":"+IF(AND(Q135=\"BAIX\",H135=\"L\"),1,IF(AND(Q135=\"MITJÀ\",I135=\"M\"),2,IF(AND(Q135=\"ALT\",J135=\"H\"),3,IF(AND(Q135=\"MOLT ALT\",J135=\"H\"),4,0))))","v":0},{"$f":"IFERROR(MAX(P135,R135),0)","v":0},"NO",null,"Q01[op.acc.7]L"]
["[op.acc.7]","Q01","[op.acc.7]L","Marc Operacional","Control d'Accés","Accés remot","Un accés remot és el que es fa des de fora de les instal·lacions de l’organització.\n•\tCal protegir l’accés de la mateixa manera que es fa a l’accés local.\n•\tCal protegir les comunicacions.","L",null,null,1,0,0,1,"Integritat",{"$f":"IF(VLOOKUP(B136,'4B.RISCOS DADES'!$C$9:$F$23,4,FALSE)=$P$4,1,0)","v":0},{"$f":"IFERROR(VLOOKUP(O136,'4B.RISCOS DADES'!$C$4:$F$7,4,FALSE),\"\")","v":0},0,0,{"$f":"+IF(S136>3,\"SI - MOLT ALTA\",IF(S136=3,\"SI - ALTA\",IF(S136=2,\"SI - MITJANA\",IF(S136=1,\"SI - BAIXA\",\"NO\"))))","v":"NO"},null,{"$f":"+B136&C136","v":"Q01[op.acc.7]L"}]
["[op.acc.7]","Q01","[op.acc.7]L","Marc Operacional","Control d'Accés","Accés remot","Un accés remot és el que es fa des de fora de les instal·lacions de l’organització.\n•\tCal protegir l’accés de la mateixa manera que es fa a l’accés local.\n•\tCal protegir les comunicacions.","L",null,null,1,0,0,1,"Traçabilitat",{"$f":"IF(VLOOKUP(B137,'4B.RISCOS DADES'!$C$9:$F$23,4,FALSE)=$P$4,1,0)","v":0},{"$f":"IFERROR(VLOOKUP(O137,'4B.RISCOS DADES'!$C$4:$F$7,4,FALSE),\"\")","v":""},0,0,"NO",null,"Q01[op.acc.7]L"]
["[op.acc.7]","Q07","[op.acc.7]MH","Marc Operacional","Control d'Accés","Accés remot","Un accés remot és el que es fa des de fora de les instal·lacions de l’organització.\n•\tCal protegir l’accés de la mateixa manera que es fa a l’accés local.\n•\tCal protegir les comunicacions.\n•\tCal establir una política que especifiqui quines tasques es poden fer remotament i cal autoritzar l’usuari prèviament.",null,"M","H",0,2,3,3,"Integritat",{"$f":"IF(VLOOKUP(B138,'4B.RISCOS DADES'!$C$9:$F$23,4,FALSE)=$P$4,1,0)","v":0},{"$f":"IFERROR(VLOOKUP(O138,'4B.RISCOS DADES'!$C$4:$F$7,4,FALSE),\"\")","v":0},0,0,"NO",null,"Q07[op.acc.7]MH"]
["[op.acc.7]","Q07","[op.acc.7]MH","Marc Operacional","Control d'Accés","Accés remot","Un accés remot és el que es fa des de fora de les instal·lacions de l’organització.\n•\tCal protegir l’accés de la mateixa manera que es fa a l’accés local.\n•\tCal protegir les comunicacions.\n•\tCal establir una política que especifiqui quines tasques es poden fer remotament i cal autoritzar l’usuari prèviament.",null,"M","H",0,2,3,3,"Confidencialitat",{"$f":"IF(VLOOKUP(B139,'4B.RISCOS DADES'!$C$9:$F$23,4,FALSE)=$P$4,1,0)","v":0},{"$f":"IFERROR(VLOOKUP(O139,'4B.RISCOS DADES'!$C$4:$F$7,4,FALSE),\"\")","v":0},0,0,"NO",null,"Q07[op.acc.7]MH"]
["[op.acc.7]","Q07","[op.acc.7]MH","Marc Operacional","Control d'Accés","Accés remot","Un accés remot és el que es fa des de fora de les instal·lacions de l’organització.\n•\tCal protegir l’accés de la mateixa manera que es fa a l’accés local.\n•\tCal protegir les comunicacions.\n•\tCal establir una política que especifiqui quines tasques es poden fer remotament i cal autoritzar l’usuari prèviament.",null,"M","H",0,2,3,3,"Autenticitat",{"$f":"IF(VLOOKUP(B140,'4B.RISCOS DADES'!$C$9:$F$23,4,FALSE)=$P$4,1,0)","v":0},{"$f":"IFERROR(VLOOKUP(O140,'4B.RISCOS DADES'!$C$4:$F$7,4,FALSE),\"\")","v":""},0,0,"NO",null,"Q07[op.acc.7]MH"]
["[op.acc.7]","Q07","[op.acc.7]L","Marc Operacional","Control d'Accés","Accés remot","Un accés remot és el que es fa des de fora de les instal·lacions de l’organització.\n•\tCal protegir l’accés de la mateixa manera que es fa a l’accés local.\n•\tCal protegir les comunicacions.","L",null,null,1,0,0,1,"Confidencialitat",{"$f":"IF(VLOOKUP(B141,'4B.RISCOS DADES'!$C$9:$F$23,4,FALSE)=$P$4,1,0)","v":0},{"$f":"IFERROR(VLOOKUP(O141,'4B.RISCOS DADES'!$C$4:$F$7,4,FALSE),\"\")","v":0},0,0,"NO",null,"Q07[op.acc.7]L"]
["[op.acc.7]","Q07","[op.acc.7]MH","Marc Operacional","Control d'Accés","Accés remot","Un accés remot és el que es fa des de fora de les instal·lacions de l’organització.\n•\tCal protegir l’accés de la mateixa manera que es fa a l’accés local.\n•\tCal protegir les comunicacions.\n•\tCal establir una política que especifiqui quines tasques es poden fer remotament i cal autoritzar l’usuari prèviament.",null,"M","H",0,2,3,3,"Traçabilitat",{"$f":"IF(VLOOKUP(B142,'4B.RISCOS DADES'!$C$9:$F$23,4,FALSE)=$P$4,1,0)","v":0},{"$f":"IFERROR(VLOOKUP(O142,'4B.RISCOS DADES'!$C$4:$F$7,4,FALSE),\"\")","v":""},0,0,"NO",null,"Q07[op.acc.7]MH"]
["[op.acc.7]","Q07","[op.acc.7]L","Marc Operacional","Control d'Accés","Accés remot","Un accés remot és el que es fa des de fora de les instal·lacions de l’organització.\n•\tCal protegir l’accés de la mateixa manera que es fa a l’accés local.\n•\tCal protegir les comunicacions.","L",null,null,1,0,0,1,"Autenticitat",{"$f":"IF(VLOOKUP(B143,'4B.RISCOS DADES'!$C$9:$F$23,4,FALSE)=$P$4,1,0)","v":0},{"$f":"IFERROR(VLOOKUP(O143,'4B.RISCOS DADES'!$C$4:$F$7,4,FALSE),\"\")","v":""},0,0,"NO",null,"Q07[op.acc.7]L"]
["[op.acc.7]","Q07","[op.acc.7]L","Marc Operacional","Control d'Accés","Accés remot","Un accés remot és el que es fa des de fora de les instal·lacions de l’organització.\n•\tCal protegir l’accés de la mateixa manera que es fa a l’accés local.\n•\tCal protegir les comunicacions.","L",null,null,1,0,0,1,"Integritat",{"$f":"IF(VLOOKUP(B144,'4B.RISCOS DADES'!$C$9:$F$23,4,FALSE)=$P$4,1,0)","v":0},{"$f":"IFERROR(VLOOKUP(O144,'4B.RISCOS DADES'!$C$4:$F$7,4,FALSE),\"\")","v":0},0,0,"NO",null,"Q07[op.acc.7]L"]
["[op.acc.7]","Q07","[op.acc.7]L","Marc Operacional","Control d'Accés","Accés remot","Un accés remot és el que es fa des de fora de les instal·lacions de l’organització.\n•\tCal protegir l’accés de la mateixa manera que es fa a l’accés local.\n•\tCal protegir les comunicacions.","L",null,null,1,0,0,1,"Traçabilitat",{"$f":"IF(VLOOKUP(B145,'4B.RISCOS DADES'!$C$9:$F$23,4,FALSE)=$P$4,1,0)","v":0},{"$f":"IFERROR(VLOOKUP(O145,'4B.RISCOS DADES'!$C$4:$F$7,4,FALSE),\"\")","v":""},0,0,"NO",null,"Q07[op.acc.7]L"]
["[op.cont.1]","Q03","[op.cont.1]MH","Marc Operacional","Continuïtat del servei","Continuïtat del servei","Cal fer una anàlisi del següent:\n•\tRequeriments de disponibilitat de cada servei, segons el seu impacte.\n•\tElements crítics per a cada servei.",null,"M","H",0,2,3,3,"Disponibilitat",{"$f":"IF(VLOOKUP(B146,'4B.RISCOS DADES'!$C$9:$F$23,4,FALSE)=$P$4,1,0)","v":0},{"$f":"IFERROR(VLOOKUP(O146,'4B.RISCOS DADES'!$C$4:$F$7,4,FALSE),\"\")","v":0},0,0,"NO",null,"Q03[op.cont.1]MH"]
["[op.cont.1]","Q15","[op.cont.1]MH","Marc Operacional","Continuïtat del servei","Continuïtat del servei","Cal fer una anàlisi del següent:\n•\tRequeriments de disponibilitat de cada servei, segons el seu impacte.\n•\tElements crítics per a cada servei.",null,"M","H",0,2,3,3,"Disponibilitat",{"$f":"IF(VLOOKUP(B147,'4B.RISCOS DADES'!$C$9:$F$23,4,FALSE)=$P$4,1,0)","v":0},{"$f":"IFERROR(VLOOKUP(O147,'4B.RISCOS DADES'!$C$4:$F$7,4,FALSE),\"\")","v":0},0,0,"NO",null,"Q15[op.cont.1]MH"]
["[op.cont.2]","Q05","[op.cont.2]H","Marc Operacional","Continuïtat del servei","Pla de continuïtat","Cal establir un pla de continuïtat en cas d’interrupció dels serveis oferts amb els mitjans habituals:\n•\tS’han d’identificar funcions, responsabilitats i activitats a realitzar.\n•\tCal preveure mitjans alternatius per continuar oferint els serveis.\n•\tTots els mitjans alternatius han d’estar planificats i materialitzats en contractes o acords amb els proveïdors corresponents.\n•\tTotes les persones afectades han de rebre formació específica.\n•\tEl pla de continuïtat s’ha d’integrar amb altres plans de continuïtat en matèries alienes a la seguretat.",null,null,"H",0,0,3,3,"Disponibilitat",{"$f":"IF(VLOOKUP(B148,'4B.RISCOS DADES'!$C$9:$F$23,4,FALSE)=$P$4,1,0)","v":0},{"$f":"IFERROR(VLOOKUP(O148,'4B.RISCOS DADES'!$C$4:$F$7,4,FALSE),\"\")","v":0},0,0,"NO",null,"Q05[op.cont.2]H"]
["[op.cont.2]","Q03","[op.cont.2]H","Marc Operacional","Continuïtat del servei","Pla de continuïtat","Cal establir un pla de continuïtat en cas d’interrupció dels serveis oferts amb els mitjans habituals:\n•\tS’han d’identificar funcions, responsabilitats i activitats a realitzar.\n•\tCal preveure mitjans alternatius per continuar oferint els serveis.\n•\tTots els mitjans alternatius han d’estar planificats i materialitzats en contractes o acords amb els proveïdors corresponents.\n•\tTotes les persones afectades han de rebre formació específica.\n•\tEl pla de continuïtat s’ha d’integrar amb altres plans de continuïtat en matèries alienes a la seguretat.",null,null,"H",0,0,3,3,"Disponibilitat",{"$f":"IF(VLOOKUP(B149,'4B.RISCOS DADES'!$C$9:$F$23,4,FALSE)=$P$4,1,0)","v":0},{"$f":"IFERROR(VLOOKUP(O149,'4B.RISCOS DADES'!$C$4:$F$7,4,FALSE),\"\")","v":0},0,0,"NO",null,"Q03[op.cont.2]H"]
["[op.cont.3]","Q03","[op.cont.3]H","Marc Operacional","Continuïtat del servei","Proves periòdiques","Cal fer proves periòdiques per detectar i corregir els errors o les deficiències que hi pugui haver al pla de continuïtat.",null,null,"H",0,0,3,3,"Disponibilitat",{"$f":"IF(VLOOKUP(B150,'4B.RISCOS DADES'!$C$9:$F$23,4,FALSE)=$P$4,1,0)","v":0},{"$f":"IFERROR(VLOOKUP(O150,'4B.RISCOS DADES'!$C$4:$F$7,4,FALSE),\"\")","v":0},0,0,"NO",null,"Q03[op.cont.3]H"]
["[op.cont.3]","Q05","[op.cont.3]H","Marc Operacional","Continuïtat del servei","Proves periòdiques","Cal fer proves periòdiques per detectar i corregir els errors o les deficiències que hi pugui haver al pla de continuïtat.",null,null,"H",0,0,3,3,"Disponibilitat",{"$f":"IF(VLOOKUP(B151,'4B.RISCOS DADES'!$C$9:$F$23,4,FALSE)=$P$4,1,0)","v":0},{"$f":"IFERROR(VLOOKUP(O151,'4B.RISCOS DADES'!$C$4:$F$7,4,FALSE),\"\")","v":0},0,0,"NO",null,"Q05[op.cont.3]H"]
["[op.exp.1]","Q12","[op.exp.1]LMH","Marc Operacional","Explotació","Inventari d’actius","•\tS’ha de mantenir un registre dels actius del sistema que en descriu la tipologia i n’identifica el responsable.","L","M","H",1,2,3,3,"Sistema",{"$f":"IF(VLOOKUP(B152,'4B.RISCOS DADES'!$C$9:$F$23,4,FALSE)=$P$4,1,0)","v":0},{"$f":"IFERROR(VLOOKUP(O152,'4B.RISCOS DADES'!$C$4:$F$7,4,FALSE),\"\")","v":"PENDENT D'AVALUAR"},0,0,"NO",null,"Q12[op.exp.1]LMH"]
["[op.exp.10]","Q07","[op.exp.10]H","Marc Operacional","Explotació","Protecció dels registres d’activitat","Cal protegir els registres del sistema, de manera que:\n•\tS’ha de determinar el període de retenció dels registres.\n•\tSe n’ha d’assegurar la data i hora.\n•\tEl personal no autoritzat no ha de poder modificar els registres .\n•\tLes còpies de seguretat, si n’hi ha, han de tenir els mateixos requeriments.",null,null,"H",0,0,3,3,"Sistema",{"$f":"IF(VLOOKUP(B153,'4B.RISCOS DADES'!$C$9:$F$23,4,FALSE)=$P$4,1,0)","v":0},{"$f":"IFERROR(VLOOKUP(O153,'4B.RISCOS DADES'!$C$4:$F$7,4,FALSE),\"\")","v":"PENDENT D'AVALUAR"},0,0,"NO",null,"Q07[op.exp.10]H"]
["[op.exp.10]","Q07","[op.exp.10]H","Marc Operacional","Explotació","Protecció dels registres d’activitat","Cal protegir els registres del sistema, de manera que:\n•\tS’ha de determinar el període de retenció dels registres.\n•\tSe n’ha d’assegurar la data i hora.\n•\tEl personal no autoritzat no ha de poder modificar els registres .\n•\tLes còpies de seguretat, si n’hi ha, han de tenir els mateixos requeriments.",null,null,"H",0,0,3,3,"Traçabilitat",{"$f":"IF(VLOOKUP(B154,'4B.RISCOS DADES'!$C$9:$F$23,4,FALSE)=$P$4,1,0)","v":0},{"$f":"IFERROR(VLOOKUP(O154,'4B.RISCOS DADES'!$C$4:$F$7,4,FALSE),\"\")","v":""},0,0,"NO",null,"Q07[op.exp.10]H"]
["[op.exp.11]","Q03","[op.exp.11]L","Marc Operacional","Explotació","Protecció de les claus criptogràfiques","Les claus criptogràfiques s’han de protegir durant tot el seu cicle de vida: generació, transport al punt d’explotació, custòdia durant l’explotació, arxiu i destrucció.\n•\tEls mitjans de generació han d’estar aïllats dels d’explotació.\n•\tLes claus arxivades han d’estar en suports aïllats dels  d’explotació.","L",null,null,1,0,0,1,"Sistema",{"$f":"IF(VLOOKUP(B155,'4B.RISCOS DADES'!$C$9:$F$23,4,FALSE)=$P$4,1,0)","v":0},{"$f":"IFERROR(VLOOKUP(O155,'4B.RISCOS DADES'!$C$4:$F$7,4,FALSE),\"\")","v":"PENDENT D'AVALUAR"},0,0,"NO",null,"Q03[op.exp.11]L"]
["[op.exp.11]","Q03","[op.exp.11]MH","Marc Operacional","Explotació","Protecció de les claus criptogràfiques","Les claus criptogràfiques s’han de protegir durant tot el seu cicle de vida: generació, transport al punt d’explotació, custòdia durant l’explotació, arxiu i destrucció.\n•\tEls mitjans de generació han d’estar aïllats dels d’explotació.\n•\tLes claus arxivades han d’estar en suports aïllats dels  d’explotació.\n•\tCal emprar eines certificades (algorismes, programes, dispositius).",null,"M","H",0,2,3,3,"Sistema",{"$f":"IF(VLOOKUP(B156,'4B.RISCOS DADES'!$C$9:$F$23,4,FALSE)=$P$4,1,0)","v":0},{"$f":"IFERROR(VLOOKUP(O156,'4B.RISCOS DADES'!$C$4:$F$7,4,FALSE),\"\")","v":"PENDENT D'AVALUAR"},0,0,"NO",null,"Q03[op.exp.11]MH"]
["[op.exp.2]","Q03","[op.exp.2]LMH","Marc Operacional","Explotació","Configuració de seguretat","Els equips s’han de configurar abans que comencin a operar, de manera que:\n•\tS’esborrin comptes i paraules de pas estàndard.\n•\tS’apliqui la regla de la mínima funcionalitat.\n•\tS’apliqui la regla de seguretat per defecte.","L","M","H",1,2,3,3,"Sistema",{"$f":"IF(VLOOKUP(B157,'4B.RISCOS DADES'!$C$9:$F$23,4,FALSE)=$P$4,1,0)","v":0},{"$f":"IFERROR(VLOOKUP(O157,'4B.RISCOS DADES'!$C$4:$F$7,4,FALSE),\"\")","v":"PENDENT D'AVALUAR"},0,0,"NO",null,"Q03[op.exp.2]LMH"]
["[op.exp.3]","Q03","[op.exp.3]LMH","Marc Operacional","Explotació","Gestió de la configuració","La configuració del sistema s’ha de gestionar de forma contínua, de manera que:\n•\tEn tot moment es manté la regla de funcionalitat mínima.\n•\tEn tot moment es manté la regla de seguretat per defecte.\n•\tEl sistema s’adapta a les noves necessitats.\n•\tEl sistema reacciona a les vulnerabilitats reportades.\n•\tEl sistema reacciona a incidències.","L","M","H",1,2,3,3,"Sistema",{"$f":"IF(VLOOKUP(B158,'4B.RISCOS DADES'!$C$9:$F$23,4,FALSE)=$P$4,1,0)","v":0},{"$f":"IFERROR(VLOOKUP(O158,'4B.RISCOS DADES'!$C$4:$F$7,4,FALSE),\"\")","v":"PENDENT D'AVALUAR"},0,0,"NO",null,"Q03[op.exp.3]LMH"]
["[op.exp.4]","Q05","[op.exp.4]LMH","Marc Operacional","Explotació","Manteniment","•\tCal respectar les especificacions dels fabricants pel que fa a la instal·lació i el manteniment dels sistemes.\n•\tCal fer un seguiment continu dels comunicats de defectes.\n•\tCal disposar d’un sistema per analitzar, prioritzar i aplicar les actualitzacions de seguretat.","L","M","H",1,2,3,3,"Sistema",{"$f":"IF(VLOOKUP(B159,'4B.RISCOS DADES'!$C$9:$F$23,4,FALSE)=$P$4,1,0)","v":0},{"$f":"IFERROR(VLOOKUP(O159,'4B.RISCOS DADES'!$C$4:$F$7,4,FALSE),\"\")","v":"PENDENT D'AVALUAR"},0,0,"NO",null,"Q05[op.exp.4]LMH"]
["[op.exp.5]","Q05","[op.exp.5]MH","Marc Operacional","Explotació","Gestió de canvis","S’ha de mantenir un control continu dels canvis realitzats al sistema:\n•\tTots els canvis anunciats pel fabricant s’han d’analitzar, per determinar-ne la conveniència.\n•\tAbans d’aplicar canvis a producció, s’han de comprovar en un equip que no estigui en producció.\n•\tEls canvis s’han de planificar, per reduir l’impacte sobre la prestació de serveis.\n•\tEls canvis que suposin un risc alt s’han d’aprovar explícitament.",null,"M","H",0,2,3,3,"Sistema",{"$f":"IF(VLOOKUP(B160,'4B.RISCOS DADES'!$C$9:$F$23,4,FALSE)=$P$4,1,0)","v":0},{"$f":"IFERROR(VLOOKUP(O160,'4B.RISCOS DADES'!$C$4:$F$7,4,FALSE),\"\")","v":"PENDENT D'AVALUAR"},0,0,"NO",null,"Q05[op.exp.5]MH"]
["[op.exp.6]","Q03","[op.exp.6]LMH","Marc Operacional","Explotació","Protecció contra codi maliciós","•\tCal disposar de mecanismes de prevenció i reacció contra codi maliciós.","L","M","H",1,2,3,3,"Sistema",{"$f":"IF(VLOOKUP(B161,'4B.RISCOS DADES'!$C$9:$F$23,4,FALSE)=$P$4,1,0)","v":0},{"$f":"IFERROR(VLOOKUP(O161,'4B.RISCOS DADES'!$C$4:$F$7,4,FALSE),\"\")","v":"PENDENT D'AVALUAR"},0,0,"NO",null,"Q03[op.exp.6]LMH"]
["[op.exp.6]","Q08","[op.exp.6]LMH","Marc Operacional","Explotació","Protecció contra codi maliciós","•\tCal disposar de mecanismes de prevenció i reacció contra codi maliciós.","L","M","H",1,2,3,3,"Sistema",{"$f":"IF(VLOOKUP(B162,'4B.RISCOS DADES'!$C$9:$F$23,4,FALSE)=$P$4,1,0)","v":0},{"$f":"IFERROR(VLOOKUP(O162,'4B.RISCOS DADES'!$C$4:$F$7,4,FALSE),\"\")","v":"PENDENT D'AVALUAR"},0,0,"NO",null,"Q08[op.exp.6]LMH"]
["[op.exp.6]","Q11","[op.exp.6]LMH","Marc Operacional","Explotació","Protecció contra codi maliciós","•\tCal disposar de mecanismes de prevenció i reacció contra codi maliciós.","L","M","H",1,2,3,3,"Sistema",{"$f":"IF(VLOOKUP(B163,'4B.RISCOS DADES'!$C$9:$F$23,4,FALSE)=$P$4,1,0)","v":0},{"$f":"IFERROR(VLOOKUP(O163,'4B.RISCOS DADES'!$C$4:$F$7,4,FALSE),\"\")","v":"PENDENT D'AVALUAR"},0,0,"NO",null,"Q11[op.exp.6]LMH"]
["[op.exp.6]","Q01","[op.exp.6]LMH","Marc Operacional","Explotació","Protecció contra codi maliciós","•\tCal disposar de mecanismes de prevenció i reacció contra codi maliciós.","L","M","H",1,2,3,3,"Sistema",{"$f":"IF(VLOOKUP(B164,'4B.RISCOS DADES'!$C$9:$F$23,4,FALSE)=$P$4,1,0)","v":0},{"$f":"IFERROR(VLOOKUP(O164,'4B.RISCOS DADES'!$C$4:$F$7,4,FALSE),\"\")","v":"PENDENT D'AVALUAR"},0,0,"NO",null,"Q01[op.exp.6]LMH"]
["[op.exp.6]","Q05","[op.exp.6]LMH","Marc Operacional","Explotació","Protecció contra codi maliciós","•\tCal disposar de mecanismes de prevenció i reacció contra codi maliciós.","L","M","H",1,2,3,3,"Sistema",{"$f":"IF(VLOOKUP(B165,'4B.RISCOS DADES'!$C$9:$F$23,4,FALSE)=$P$4,1,0)","v":0},{"$f":"IFERROR(VLOOKUP(O165,'4B.RISCOS DADES'!$C$4:$F$7,4,FALSE),\"\")","v":"PENDENT D'AVALUAR"},0,0,"NO",null,"Q05[op.exp.6]LMH"]
["[op.exp.7]","Q05","[op.exp.7]MH","Marc Operacional","Explotació","Gestió d’incidències","Es disposarà d'un procediment integral per fer front a incidències que puguin tenir un impacte en la seguretat del sistema, com ara:\n•\tNotificació d'incidències reals o sospitoses.\n•\tActuació urgent, incloent la detenció dels serveis, l'aïllament del sistema afectat, la recollida de proves i la protecció dels registres, segons correspongui.\n•\tAssignació de recursos per investigar les causes, analitzar les conseqüències i resoldre la incidència.\n•\tInformació als grups d'interessats, interns i externs.\n•\tMesures per a evitar que es repeteixi.",null,"M","H",0,2,3,3,"Sistema",{"$f":"IF(VLOOKUP(B166,'4B.RISCOS DADES'!$C$9:$F$23,4,FALSE)=$P$4,1,0)","v":0},{"$f":"IFERROR(VLOOKUP(O166,'4B.RISCOS DADES'!$C$4:$F$7,4,FALSE),\"\")","v":"PENDENT D'AVALUAR"},0,0,"NO",null,"Q05[op.exp.7]MH"]
["[op.exp.7]","Q08","[op.exp.7]MH","Marc Operacional","Explotació","Gestió d’incidències","Es disposarà d'un procediment integral per fer front a incidències que puguin tenir un impacte en la seguretat del sistema, com ara:\n•\tNotificació d'incidències reals o sospitoses.\n•\tActuació urgent, incloent la detenció dels serveis, l'aïllament del sistema afectat, la recollida de proves i la protecció dels registres, segons correspongui.\n•\tAssignació de recursos per investigar les causes, analitzar les conseqüències i resoldre la incidència.\n•\tInformació als grups d'interessats, interns i externs.\n•\tMesures per a evitar que es repeteixi.",null,"M","H",0,2,3,3,"Sistema",{"$f":"IF(VLOOKUP(B167,'4B.RISCOS DADES'!$C$9:$F$23,4,FALSE)=$P$4,1,0)","v":0},{"$f":"IFERROR(VLOOKUP(O167,'4B.RISCOS DADES'!$C$4:$F$7,4,FALSE),\"\")","v":"PENDENT D'AVALUAR"},0,0,"NO",null,"Q08[op.exp.7]MH"]
["[op.exp.8]","Q07","[op.exp.8]H","Marc Operacional","Explotació","Registre de l’activitat dels usuaris","Cal registrar totes les activitats dels usuaris del sistema, de manera que:\n•\tIndiqui qui fa una activitat, quan la fa i sobre quines dades.\n•\tInclogui l’activitat dels usuaris, dels operadors i dels administradors.\n•\tHi constin les activitats fetes i els intents fallits.",null,null,"H",0,0,3,3,"Traçabilitat",{"$f":"IF(VLOOKUP(B168,'4B.RISCOS DADES'!$C$9:$F$23,4,FALSE)=$P$4,1,0)","v":0},{"$f":"IFERROR(VLOOKUP(O168,'4B.RISCOS DADES'!$C$4:$F$7,4,FALSE),\"\")","v":""},0,0,"NO",null,"Q07[op.exp.8]H"]
["[op.exp.8]","Q07","[op.exp.8]H","Marc Operacional","Explotació","Registre de l’activitat dels usuaris","Cal registrar totes les activitats dels usuaris del sistema, de manera que:\n•\tIndiqui qui fa una activitat, quan la fa i sobre quines dades.\n•\tInclogui l’activitat dels usuaris, dels operadors i dels administradors.\n•\tHi constin les activitats fetes i els intents fallits.",null,null,"H",0,0,3,3,"Sistema",{"$f":"IF(VLOOKUP(B169,'4B.RISCOS DADES'!$C$9:$F$23,4,FALSE)=$P$4,1,0)","v":0},{"$f":"IFERROR(VLOOKUP(O169,'4B.RISCOS DADES'!$C$4:$F$7,4,FALSE),\"\")","v":"PENDENT D'AVALUAR"},0,0,"NO",null,"Q07[op.exp.8]H"]
["[op.exp.9]","Q05","[op.exp.9]MH","Marc Operacional","Explotació","Registre de la gestió d’incidències","Cal registrar totes les actuacions relacionades amb la gestió d’incidències:\n•\tL’informe inicial, les actuacions i les modificacions al sistema.\n•\tLes evidències que puguin sustentar o fer front a una demanda judicial.\n•\tCom a resultat de l’anàlisi d’incidències, s’han de revisar els esdeveniments auditables.",null,"M","H",0,2,3,3,"Sistema",{"$f":"IF(VLOOKUP(B170,'4B.RISCOS DADES'!$C$9:$F$23,4,FALSE)=$P$4,1,0)","v":0},{"$f":"IFERROR(VLOOKUP(O170,'4B.RISCOS DADES'!$C$4:$F$7,4,FALSE),\"\")","v":"PENDENT D'AVALUAR"},0,0,"NO",null,"Q05[op.exp.9]MH"]
["[op.ext.1]","Q15","[op.ext.1]MH","Marc Operacional","Serveis externs","Contractació i acords de nivell de servei","•\tAbans d’emprar recursos externs, cal establir contractualment les característiques del servei i les responsabilitats de les parts. En particular, cal establir la qualitat mínima del servei i les conseqüències d’un incompliment.",null,"M","H",0,2,3,3,"Sistema",{"$f":"IF(VLOOKUP(B171,'4B.RISCOS DADES'!$C$9:$F$23,4,FALSE)=$P$4,1,0)","v":0},{"$f":"IFERROR(VLOOKUP(O171,'4B.RISCOS DADES'!$C$4:$F$7,4,FALSE),\"\")","v":"PENDENT D'AVALUAR"},0,0,"NO",null,"Q15[op.ext.1]MH"]
["[op.ext.2]","Q15","[op.ext.2]MH","Marc Operacional","Serveis externs","Gestió diària","Per a la gestió diària del sistema, cal:\n•\tUn sistema per mesurar el compliment de les obligacions de servei.\n•\tMecanismes i coordinació per fer les tasques de manteniment dels sistemes afectats per l’acord.\n•\tMecanismes i coordinació en cas d’incidències.",null,"M","H",0,2,3,3,"Sistema",{"$f":"IF(VLOOKUP(B172,'4B.RISCOS DADES'!$C$9:$F$23,4,FALSE)=$P$4,1,0)","v":0},{"$f":"IFERROR(VLOOKUP(O172,'4B.RISCOS DADES'!$C$4:$F$7,4,FALSE),\"\")","v":"PENDENT D'AVALUAR"},0,0,"NO",null,"Q15[op.ext.2]MH"]
["[op.mon.1]","Q08","[op.mon.1]H","Marc Operacional","Monitorització del sistema","Detecció d’intrusions","Cal disposar d’eines de detecció i prevenció d’intrusions.",null,null,"H",0,0,3,3,"Sistema",{"$f":"IF(VLOOKUP(B173,'4B.RISCOS DADES'!$C$9:$F$23,4,FALSE)=$P$4,1,0)","v":0},{"$f":"IFERROR(VLOOKUP(O173,'4B.RISCOS DADES'!$C$4:$F$7,4,FALSE),\"\")","v":"PENDENT D'AVALUAR"},0,0,"NO",null,"Q08[op.mon.1]H"]
["[op.mon.1]","Q07","[op.mon.1]H","Marc Operacional","Monitorització del sistema","Detecció d’intrusions","Cal disposar d’eines de detecció i prevenció d’intrusions.",null,null,"H",0,0,3,3,"Sistema",{"$f":"IF(VLOOKUP(B174,'4B.RISCOS DADES'!$C$9:$F$23,4,FALSE)=$P$4,1,0)","v":0},{"$f":"IFERROR(VLOOKUP(O174,'4B.RISCOS DADES'!$C$4:$F$7,4,FALSE),\"\")","v":"PENDENT D'AVALUAR"},0,0,"NO",null,"Q07[op.mon.1]H"]
["[op.mon.1]","Q05","[op.mon.1]H","Marc Operacional","Monitorització del sistema","Detecció d’intrusions","Cal disposar d’eines de detecció i prevenció d’intrusions.",null,null,"H",0,0,3,3,"Sistema",{"$f":"IF(VLOOKUP(B175,'4B.RISCOS DADES'!$C$9:$F$23,4,FALSE)=$P$4,1,0)","v":0},{"$f":"IFERROR(VLOOKUP(O175,'4B.RISCOS DADES'!$C$4:$F$7,4,FALSE),\"\")","v":"PENDENT D'AVALUAR"},0,0,"NO",null,"Q05[op.mon.1]H"]
["[op.mon.1]","Q01","[op.mon.1]H","Marc Operacional","Monitorització del sistema","Detecció d’intrusions","Cal disposar d’eines de detecció i prevenció d’intrusions.",null,null,"H",0,0,3,3,"Sistema",{"$f":"IF(VLOOKUP(B176,'4B.RISCOS DADES'!$C$9:$F$23,4,FALSE)=$P$4,1,0)","v":0},{"$f":"IFERROR(VLOOKUP(O176,'4B.RISCOS DADES'!$C$4:$F$7,4,FALSE),\"\")","v":"PENDENT D'AVALUAR"},0,0,"NO",null,"Q01[op.mon.1]H"]
["[op.mon.2]","Q05","[op.mon.2]H","Marc Operacional","Monitorització del sistema","Sistema de mètriques","Cal establir un conjunt d’indicadors que mesuri la seguretat del sistema en els aspectes següents:\n•\tGrau d’implantació de les mesures de seguretat.\n•\tEficàcia i eficiència de les mesures de  seguretat.\n•\tImpacte dels incidents de seguretat.",null,null,"H",0,0,3,3,"Sistema",{"$f":"IF(VLOOKUP(B177,'4B.RISCOS DADES'!$C$9:$F$23,4,FALSE)=$P$4,1,0)","v":0},{"$f":"IFERROR(VLOOKUP(O177,'4B.RISCOS DADES'!$C$4:$F$7,4,FALSE),\"\")","v":"PENDENT D'AVALUAR"},0,0,"NO",null,"Q05[op.mon.2]H"]
["[op.pl.2]","Q05","[op.pl.2]LMH","Marc Operacional","Planificació","Arquitectura de seguretat","La seguretat del sistema ha de ser objecte de plantejament integral, com a mínim, en:\n•\tDocumentació de les instal·lacions (àrees i punts d’accés).\n•\tDocumentació del sistema (equips, xarxes i punts d’accés al sistema).\n•\tEsquema de línies de defensa (tallafocs, DMZ, tecnologies per prevenir vulnerabilitats).\n•\tSistema d’identificació i autenticació.\n•\tControls tècnics interns.","L","M","H",1,2,3,3,"Sistema",{"$f":"IF(VLOOKUP(B178,'4B.RISCOS DADES'!$C$9:$F$23,4,FALSE)=$P$4,1,0)","v":0},{"$f":"IFERROR(VLOOKUP(O178,'4B.RISCOS DADES'!$C$4:$F$7,4,FALSE),\"\")","v":"PENDENT D'AVALUAR"},0,0,"NO",null,"Q05[op.pl.2]LMH"]
["[op.pl.2]","Q03","[op.pl.2]LMH","Marc Operacional","Planificació","Arquitectura de seguretat","La seguretat del sistema ha de ser objecte de plantejament integral, com a mínim, en:\n•\tDocumentació de les instal·lacions (àrees i punts d’accés).\n•\tDocumentació del sistema (equips, xarxes i punts d’accés al sistema).\n•\tEsquema de línies de defensa (tallafocs, DMZ, tecnologies per prevenir vulnerabilitats).\n•\tSistema d’identificació i autenticació.\n•\tControls tècnics interns.","L","M","H",1,2,3,3,"Sistema",{"$f":"IF(VLOOKUP(B179,'4B.RISCOS DADES'!$C$9:$F$23,4,FALSE)=$P$4,1,0)","v":0},{"$f":"IFERROR(VLOOKUP(O179,'4B.RISCOS DADES'!$C$4:$F$7,4,FALSE),\"\")","v":"PENDENT D'AVALUAR"},0,0,"NO",null,"Q03[op.pl.2]LMH"]
["[op.pl.3]","Q05","[op.pl.3]LMH","Marc Operacional","Planificació","Adquisició de nous components","Cal establir un procediment formal per planificar l’adquisició de nous components\ndel sistema, que ha de:\n•\tSer conforme a les conclusions de l’anàlisi de riscos.\n•\tSeguir l’arquitectura de seguretat.\n•\tPreveure les necessitats tècniques, de formació i de finançament.","L","M","H",1,2,3,3,"Sistema",{"$f":"IF(VLOOKUP(B180,'4B.RISCOS DADES'!$C$9:$F$23,4,FALSE)=$P$4,1,0)","v":0},{"$f":"IFERROR(VLOOKUP(O180,'4B.RISCOS DADES'!$C$4:$F$7,4,FALSE),\"\")","v":"PENDENT D'AVALUAR"},0,0,"NO",null,"Q05[op.pl.3]LMH"]
["[op.pl.4]","Q03","[op.pl.4]MH","Marc Operacional","Planificació","Dimensionament","Estudi previ a la posada en marxa del sistema, que inclogui les necessitats de:\n•\tTractament.\n•\tEmmagatzematge.\n•\tComunicació.\n•\tPersonal (quantitat i qualificació).\n•\tInstal·lacions i mitjans auxiliars.",null,"M","H",0,2,3,3,"Disponibilitat",{"$f":"IF(VLOOKUP(B181,'4B.RISCOS DADES'!$C$9:$F$23,4,FALSE)=$P$4,1,0)","v":0},{"$f":"IFERROR(VLOOKUP(O181,'4B.RISCOS DADES'!$C$4:$F$7,4,FALSE),\"\")","v":0},0,0,"NO",null,"Q03[op.pl.4]MH"]
["[op.pl.5]","Q03","[op.pl.5]H","Marc Operacional","Planificació","Components certificats","Cal utilitzar sistemes, productes o equips amb funcionalitats de seguretat certificades per entitats independents de solvència reconeguda.",null,null,"H",0,0,3,3,"Sistema",{"$f":"IF(VLOOKUP(B182,'4B.RISCOS DADES'!$C$9:$F$23,4,FALSE)=$P$4,1,0)","v":0},{"$f":"IFERROR(VLOOKUP(O182,'4B.RISCOS DADES'!$C$4:$F$7,4,FALSE),\"\")","v":"PENDENT D'AVALUAR"},0,0,"NO",null,"Q03[op.pl.5]H"]
["[org.1]","Q03","[org.1]LMH","Marc Organitzatiu","Marc organitzatiu","Política de seguretat","La política de seguretat és un document d’alt nivell que estableix els principis bàsics de seguretat en una organització. Ha d’establir de forma clara, com a mínim, el següent:\n•\tEls objectius de l’organització.\n•\tEl marc legal en què es desenvolupen les activitats.\n•\tEls rols i les funcions de seguretat, que han de definir els deures i responsabilitats de cadascú i el procediment per a la designació i renovació.\n•\tComitès de coordinació de la seguretat (membres i responsabilitats).\n•\tDirectrius per a l’estructuració de la informació de seguretat.","L","M","H",1,2,3,3,"Sistema",{"$f":"IF(VLOOKUP(B183,'4B.RISCOS DADES'!$C$9:$F$23,4,FALSE)=$P$4,1,0)","v":0},{"$f":"IFERROR(VLOOKUP(O183,'4B.RISCOS DADES'!$C$4:$F$7,4,FALSE),\"\")","v":"PENDENT D'AVALUAR"},0,0,"NO",null,"Q03[org.1]LMH"]
["[org.1]","Q05","[org.1]LMH","Marc Organitzatiu","Marc organitzatiu","Política de seguretat","La política de seguretat és un document d’alt nivell que estableix els principis bàsics de seguretat en una organització. Ha d’establir de forma clara, com a mínim, el següent:\n•\tEls objectius de l’organització.\n•\tEl marc legal en què es desenvolupen les activitats.\n•\tEls rols i les funcions de seguretat, que han de definir els deures i responsabilitats de cadascú i el procediment per a la designació i renovació.\n•\tComitès de coordinació de la seguretat (membres i responsabilitats).\n•\tDirectrius per a l’estructuració de la informació de seguretat.","L","M","H",1,2,3,3,"Sistema",{"$f":"IF(VLOOKUP(B184,'4B.RISCOS DADES'!$C$9:$F$23,4,FALSE)=$P$4,1,0)","v":0},{"$f":"IFERROR(VLOOKUP(O184,'4B.RISCOS DADES'!$C$4:$F$7,4,FALSE),\"\")","v":"PENDENT D'AVALUAR"},0,0,"NO",null,"Q05[org.1]LMH"]
["[org.2]","Q12","[org.2]LMH","Marc Organitzatiu","Marc organitzatiu","Normativa de seguretat ","Cal disposar d’una sèrie de documents que descriguin:\n•\tL’ús correcte d’equips, serveis i instal·lacions.\n•\tQuè es considera ús inapropiat.\n•\tLes responsabilitats del personal respecte del compliment o violació d’aquestes normes (drets, deures i mesures disciplinàries).","L","M","H",1,2,3,3,"Sistema",{"$f":"IF(VLOOKUP(B185,'4B.RISCOS DADES'!$C$9:$F$23,4,FALSE)=$P$4,1,0)","v":0},{"$f":"IFERROR(VLOOKUP(O185,'4B.RISCOS DADES'!$C$4:$F$7,4,FALSE),\"\")","v":"PENDENT D'AVALUAR"},0,0,"NO",null,"Q12[org.2]LMH"]
["[org.3]","Q14","[org.3]LMH","Marc Organitzatiu","Marc organitzatiu","Procediments de seguretat ","Cal disposar d’una sèrie de documents que descriguin:\n•\tCom desenvolupar les tasques habituals.\n•\tQui ha de fer cada tasca.\n•\tCom identificar comportaments anòmals i informar-ne.","L","M","H",1,2,3,3,"Sistema",{"$f":"IF(VLOOKUP(B186,'4B.RISCOS DADES'!$C$9:$F$23,4,FALSE)=$P$4,1,0)","v":0},{"$f":"IFERROR(VLOOKUP(O186,'4B.RISCOS DADES'!$C$4:$F$7,4,FALSE),\"\")","v":"PENDENT D'AVALUAR"},0,0,"NO",null,"Q14[org.3]LMH"]
["[org.4]","Q12","[org.4]LMH","Marc Organitzatiu","Marc organitzatiu","Procés d’autorització ","Cal establir un procés formal d’autoritzacions que abasti tots els elements del sistema:\n•\tÚs de les instal·lacions (habituals i alternatives).\n•\tEntrada d’equips en producció.\n•\tEntrada d’aplicacions en producció.\n•\tEstabliment d’enllaços amb altres sistemes.\n•\tUtilització de mitjans de comunicació (habituals i alternatius).\n•\tUtilització de suports d’informació.\n•\tUtilització d’equips mòbils.","L","M","H",1,2,3,3,"Sistema",{"$f":"IF(VLOOKUP(B187,'4B.RISCOS DADES'!$C$9:$F$23,4,FALSE)=$P$4,1,0)","v":0},{"$f":"IFERROR(VLOOKUP(O187,'4B.RISCOS DADES'!$C$4:$F$7,4,FALSE),\"\")","v":"PENDENT D'AVALUAR"},0,0,"NO",null,"Q12[org.4]LMH"]
["[org.4]","Q13","[org.4]LMH","Marc Organitzatiu","Marc organitzatiu","Procés d’autorització ","Cal establir un procés formal d’autoritzacions que abasti tots els elements del sistema:\n•\tÚs de les instal·lacions (habituals i alternatives).\n•\tEntrada d’equips en producció.\n•\tEntrada d’aplicacions en producció.\n•\tEstabliment d’enllaços amb altres sistemes.\n•\tUtilització de mitjans de comunicació (habituals i alternatius).\n•\tUtilització de suports d’informació.\n•\tUtilització d’equips mòbils.","L","M","H",1,2,3,3,"Sistema",{"$f":"IF(VLOOKUP(B188,'4B.RISCOS DADES'!$C$9:$F$23,4,FALSE)=$P$4,1,0)","v":0},{"$f":"IFERROR(VLOOKUP(O188,'4B.RISCOS DADES'!$C$4:$F$7,4,FALSE),\"\")","v":"PENDENT D'AVALUAR"},0,0,"NO",null,"Q13[org.4]LMH"]
["[org.4]","Q09","[org.4]LMH","Marc Organitzatiu","Marc organitzatiu","Procés d’autorització ","Cal establir un procés formal d’autoritzacions que abasti tots els elements del sistema:\n•\tÚs de les instal·lacions (habituals i alternatives).\n•\tEntrada d’equips en producció.\n•\tEntrada d’aplicacions en producció.\n•\tEstabliment d’enllaços amb altres sistemes.\n•\tUtilització de mitjans de comunicació (habituals i alternatius).\n•\tUtilització de suports d’informació.\n•\tUtilització d’equips mòbils.","L","M","H",1,2,3,3,"Sistema",{"$f":"IF(VLOOKUP(B189,'4B.RISCOS DADES'!$C$9:$F$23,4,FALSE)=$P$4,1,0)","v":0},{"$f":"IFERROR(VLOOKUP(O189,'4B.RISCOS DADES'!$C$4:$F$7,4,FALSE),\"\")","v":"PENDENT D'AVALUAR"},0,0,"NO",null,"Q09[org.4]LMH"]
["[org.4]","Q11","[org.4]LMH","Marc Organitzatiu","Marc organitzatiu","Procés d’autorització ","Cal establir un procés formal d’autoritzacions que abasti tots els elements del sistema:\n•\tÚs de les instal·lacions (habituals i alternatives).\n•\tEntrada d’equips en producció.\n•\tEntrada d’aplicacions en producció.\n•\tEstabliment d’enllaços amb altres sistemes.\n•\tUtilització de mitjans de comunicació (habituals i alternatius).\n•\tUtilització de suports d’informació.\n•\tUtilització d’equips mòbils.","L","M","H",1,2,3,3,"Sistema",{"$f":"IF(VLOOKUP(B190,'4B.RISCOS DADES'!$C$9:$F$23,4,FALSE)=$P$4,1,0)","v":0},{"$f":"IFERROR(VLOOKUP(O190,'4B.RISCOS DADES'!$C$4:$F$7,4,FALSE),\"\")","v":"PENDENT D'AVALUAR"},0,0,"NO",null,"Q11[org.4]LMH"]
["[op.ext.3]","Q15","[op.ext.3]H","Marc Operacional","Serveis externs","Mitjans alternatius","Cal preveure que el servei estigui proveït amb mitjans alternatius, si el servei contractat no està disponible. El servei alternatiu ha d’oferir les mateixes garanties.",null,null,"H",0,0,3,3,"Disponibilitat",{"$f":"IF(VLOOKUP(B191,'4B.RISCOS DADES'!$C$9:$F$23,4,FALSE)=$P$4,1,0)","v":0},{"$f":"IFERROR(VLOOKUP(O191,'4B.RISCOS DADES'!$C$4:$F$7,4,FALSE),\"\")","v":0},0,0,"NO",null,"Q15[op.ext.3]H"]

{"sheet":"AUX_PIVOT_MELT","index":24,"n_rows":98,"n_cols":2,"rows_kept":98,"cut":false,"hidden":true,"merged":[]}
[]
[]
["Row Labels","Máx. de Prioritat.Numerica"]
["[mp.com.1]H",0]
["[mp.com.1]LM",0]
["[mp.com.2]H",0]
["[mp.com.2]M",0]
["[mp.com.3]H",0]
["[mp.com.3]L",0]
["[mp.com.3]M",0]
["[mp.com.4]H",0]
["[mp.com.5]H",0]
["[mp.eq.1]L",0]
["[mp.eq.1]MH",0]
["[mp.eq.2]H",0]
["[mp.eq.2]M",0]
["[mp.eq.3]H",0]
["[mp.eq.3]LM",0]
["[mp.eq.4]MH",0]
["[mp.if.1]LMH",0]
["[mp.if.2]LMH",0]
["[mp.if.3]LMH",0]
["[mp.if.4]L",0]
["[mp.if.4]MH",0]
["[mp.if.5]LMH",0]
["[mp.if.6]MH",0]
["[mp.if.7]LMH",0]
["[mp.if.8]H",0]
["[mp.info.2]L",0]
["[mp.info.2]MH",0]
["[mp.info.3]MH",0]
["[mp.info.4]H",0]
["[mp.info.4]L",0]
["[mp.info.4]MH",0]
["[mp.info.5]H",0]
["[mp.info.6]LMH",0]
["[mp.info.7]MH",0]
["[mp.per.1]MH",0]
["[mp.per.2]LMH",0]
["[mp.per.3]LMH",0]
["[mp.per.4]LMH",0]
["[mp.per.5]H",0]
["[mp.s.1]LMH",0]
["[mp.s.2]LMH",0]
["[mp.s.3]H",0]
["[mp.s.3]M",0]
["[mp.s.4]H",0]
["[mp.si.1]LMH",0]
["[mp.si.2]H",0]
["[mp.si.2]M",0]
["[mp.si.3]LMH",0]
["[mp.si.4]LMH",0]
["[mp.si.5]MH",0]
["[mp.sw.1]MH",0]
["[mp.sw.2]H",0]
["[mp.sw.2]L",0]
["[mp.sw.2]M",0]
["[op.acc.1]LMH",0]
["[op.acc.2]LMH",0]
["[op.acc.3]MH",0]
["[op.acc.4]LMH",0]
["[op.acc.5]H",0]
["[op.acc.5]L",0]
["[op.acc.5]M",0]
["[op.acc.6]H",0]
["[op.acc.6]L",0]
["[op.acc.6]M",0]
["[op.acc.7]L",0]
["[op.acc.7]MH",0]
["[op.cont.1]MH",0]
["[op.cont.2]H",0]
["[op.cont.3]H",0]
["[op.exp.1]LMH",0]
["[op.exp.10]H",0]
["[op.exp.11]L",0]
["[op.exp.11]MH",0]
["[op.exp.2]LMH",0]
["[op.exp.3]LMH",0]
["[op.exp.4]LMH",0]
["[op.exp.5]MH",0]
["[op.exp.6]LMH",0]
["[op.exp.7]MH",0]
["[op.exp.8]H",0]
["[op.exp.9]MH",0]
["[op.ext.1]MH",0]
["[op.ext.2]MH",0]
["[op.mon.1]H",0]
["[op.mon.2]H",0]
["[op.pl.2]LMH",0]
["[op.pl.3]LMH",0]
["[op.pl.4]MH",0]
["[op.pl.5]H",0]
["[org.1]LMH",0]
["[org.2]LMH",0]
["[org.3]LMH",0]
["[org.4]LMH",0]
["[op.ext.3]H",0]
["Grand Total",0]

{"sheet":"AUX_TAULA RISCvsCONTROL SEG","index":25,"n_rows":97,"n_cols":114,"rows_kept":97,"cut":false,"hidden":true,"merged":[]}
[null,null,2,3,4,5,6,7,8,9,10,11,12,13,14,15,16]
[null,"COUNTS",{"$f":"+COUNTIF(C4:C97,\"X\")","v":15},{"$f":"+COUNTIF(D4:D97,\"X\")","v":1},26,6,13,1,12,5,12,2,6,10,11,6,4]
[null,"Control & Prioritat","Q01","Q02","Q03","Q04","Q05","Q06","Q07","Q08","Q09","Q10","Q11","Q12","Q13","Q14","Q15",null,"Control","Pregunta","[org.1]LMH","[org.2]LMH","[org.3]LMH","[org.4]LMH","[op.pl.2]LMH","[op.pl.3]LMH","[op.pl.4]MH","[op.pl.5]H","[op.acc.1]LMH","[op.acc.2]LMH","[op.acc.3]MH","[op.acc.4]LMH","[op.acc.5]L","[op.acc.5]M","[op.acc.5]H","[op.acc.6]L","[op.acc.6]M","[op.acc.6]H","[op.acc.7]L","[op.acc.7]MH","[op.exp.1]LMH","[op.exp.2]LMH","[op.exp.3]LMH","[op.exp.4]LMH","[op.exp.5]MH","[op.exp.6]LMH","[op.exp.7]MH","[op.exp.8]H","[op.exp.9]MH","[op.exp.10]H","[op.exp.11]L","[op.exp.11]MH","[op.ext.1]MH","[op.ext.2]MH","[op.ext.3]H","[op.cont.1]MH","[op.cont.2]H","[op.cont.3]H","[op.mon.1]H","[op.mon.2]H","[mp.if.1]LMH","[mp.if.2]LMH","[mp.if.3]LMH","[mp.if.4]L","[mp.if.4]MH","[mp.if.5]LMH","[mp.if.6]MH","[mp.if.7]LMH","[mp.if.8]H","[mp.per.1]MH","[mp.per.2]LMH","[mp.per.3]LMH","[mp.per.4]LMH","[mp.per.5]H","[mp.eq.1]L","[mp.eq.1]MH","[mp.eq.2]M","[mp.eq.2]H","[mp.eq.3]LM","[mp.eq.3]H","[mp.eq.4]MH","[mp.com.1]LM","[mp.com.1]H","[mp.com.2]M","[mp.com.2]H","[mp.com.3]L","[mp.com.3]M","[mp.com.3]H","[mp.com.4]H","[mp.com.5]H","[mp.si.1]LMH","[mp.si.2]M","[mp.si.2]H","[mp.si.3]LMH","[mp.si.4]LMH","[mp.si.5]MH","[mp.sw.1]MH","[mp.sw.2]L","[mp.sw.2]M","[mp.sw.2]H","[mp.info.2]L","[mp.info.2]MH","[mp.info.3]MH","[mp.info.4]L","[mp.info.4]MH","[mp.info.4]H","[mp.info.5]H","[mp.info.6]LMH","[mp.info.7]MH","[mp.s.1]LMH","[mp.s.2]LMH","[mp.s.3]M","[mp.s.3]H","[mp.s.4]H"]
[null,"[org.1]LMH","-","-","X","-","X","-","-","-","-","-","-","-","-","-","-",null,"Q01","El sistema de tractament està connectat a sistemes externs a l’organització? (tals com: servidors externs, serveis i/o aplicacions online, aplicacions per a mòbils, pàgines o formularis web, plataformes web, xats, etc)","-","-","-","-","-","-","-","-","-","-","-","-","-","-","-","-","-","-","X","X","-","-","-","-","-","X","-","-","-","-","-","-","-","-","-","-","-","-","X","-","-","-","-","-","-","-","-","-","-","-","-","-","-","-","-","-","-","-","-","-","-","X","X","X","X","X","X","X","-","X","-","-","-","-","-","-","-","-","-","-","-","-","X","-","-","-","-","-","-","-","X","-","-","X"]
[null,"[org.2]LMH","-","-","-","-","-","-","-","-","-","-","-","X","-","-","-",null,"Q02","S'envia informació per mitjà de correu electrònic, tant en el cos del missatge com en forma d'annexos?","-","-","-","-","-","-","-","-","-","-","-","-","-","-","-","-","-","-","-","-","-","-","-","-","-","-","-","-","-","-","-","-","-","-","-","-","-","-","-","-","-","-","-","-","-","-","-","-","-","-","-","-","-","-","-","-","-","-","-","-","-","-","-","-","-","-","-","-","-","-","-","-","-","-","-","-","-","-","-","-","-","-","-","-","-","-","-","-","-","X","-","-","-","-"]
[null,"[org.3]LMH","-","-","-","-","-","-","-","-","-","-","-","-","-","X","-",null,"Q03","Manca de seguiment d’un document de bones pràctiques rellevant en el disseny o la configuració del sistema de tractament? ","X","-","-","-","X","-","X","X","-","-","-","-","-","-","-","-","-","-","-","-","-","X","X","-","-","X","-","-","-","-","X","X","-","-","-","X","X","X","-","-","-","-","-","-","-","-","-","-","-","-","-","-","-","-","-","-","X","X","-","-","X","-","-","-","-","-","-","-","X","-","-","-","-","-","-","-","X","X","X","X","-","-","-","X","X","X","-","-","-","-","-","X","X","X"]
[null,"[org.4]LMH","-","-","-","-","-","-","-","-","X","-","X","X","X","-","-",null,"Q04","Manca un procediment que determini com protegir els suports informàtics? (que inclogui criptografia, custòdia, esborrat i destrucció, etiquetat i transport, si escau)","-","-","-","-","-","-","-","-","-","-","-","-","-","-","-","-","-","-","-","-","-","-","-","-","-","-","-","-","-","-","-","-","-","-","-","-","-","-","-","-","-","-","-","-","-","-","-","-","-","-","-","-","-","-","-","-","-","-","-","-","-","-","-","-","-","-","-","-","-","-","X","X","X","X","X","X","-","-","-","-","-","-","-","-","-","-","-","-","-","-","-","-","-","-"]
[null,"[op.pl.2]LMH","-","-","X","-","X","-","-","-","-","-","-","-","-","-","-",null,"Q05","Manca de seguiment d’un document de bones pràctiques rellevant en el manteniment, la monitorització i la resposta a incidents del sistema de tractament?","X","-","-","-","X","X","-","-","-","-","-","-","-","-","-","-","-","-","-","-","-","-","-","X","X","X","X","-","X","-","-","-","-","-","-","-","X","X","X","X","-","-","-","-","-","-","-","-","-","-","-","-","-","-","-","-","-","-","-","-","-","-","-","-","-","-","-","-","-","-","-","-","-","-","-","-","-","-","-","-","-","-","-","-","-","-","-","-","X","-","-","-","-","-"]
[null,"[op.pl.3]LMH","-","-","-","-","X","-","-","-","-","-","-","-","-","-","-",null,"Q06","Manca un procediment definit sobre la forma de realitzar les còpies de seguretat?","-","-","-","-","-","-","-","-","-","-","-","-","-","-","-","-","-","-","-","-","-","-","-","-","-","-","-","-","-","-","-","-","-","-","-","-","-","-","-","-","-","-","-","-","-","-","-","-","-","-","-","-","-","-","-","-","-","-","-","-","-","-","-","-","-","-","-","-","-","-","-","-","-","-","-","-","-","-","-","-","-","-","-","-","-","-","-","-","X","-","-","-","-","-"]
[null,"[op.pl.4]MH","-","-","X","-","-","-","-","-","-","-","-","-","-","-","-",null,"Q07","Manca un procediment adequat de registre i supervisió de les activitats relacionades amb el tractament?","-","-","-","-","-","-","-","-","-","-","-","-","-","-","-","X","X","X","X","X","-","-","-","-","-","-","-","X","-","X","-","-","-","-","-","-","-","-","X","-","X","X","-","-","-","-","-","X","-","-","-","-","-","-","-","-","-","-","-","-","-","-","-","-","-","-","-","-","-","-","-","-","-","-","-","-","-","-","-","-","-","-","-","-","-","-","X","-","-","-","-","-","-","-"]
[null,"[op.pl.5]H","-","-","X","-","-","-","-","-","-","-","-","-","-","-","-",null,"Q08","Manca un procediment que determini com s’ha d’actuar en cas de que es produeixi un incident de seguretat?","-","-","-","-","-","-","-","-","-","-","-","-","-","-","-","-","-","-","-","-","-","-","-","-","-","X","X","-","-","-","-","-","-","-","-","-","-","-","X","-","-","-","-","-","-","-","-","-","-","-","-","-","-","-","-","-","-","-","-","-","-","-","-","-","-","-","-","-","-","-","-","-","-","-","-","-","-","-","-","-","-","-","-","-","-","-","-","-","-","-","-","X","X","-"]
[null,"[op.acc.1]LMH","-","-","-","-","-","-","-","-","-","-","-","-","X","-","-",null,"Q09","Hi ha una manca de seguretat física a les instal·lacions on té lloc el tractament?","-","-","-","X","-","-","-","-","-","-","-","-","-","-","-","-","-","-","-","-","-","-","-","-","-","-","-","-","-","-","-","-","-","-","-","-","-","-","-","-","X","X","X","X","X","X","X","X","X","-","-","-","-","-","X","X","-","-","-","-","-","-","-","-","-","-","-","-","-","-","-","-","-","-","-","-","-","-","-","-","-","-","-","-","-","-","-","-","-","-","-","-","-","-"]
[null,"[op.acc.2]LMH","-","-","-","-","-","-","-","-","-","-","-","-","X","-","-",null,"Q10","Alguna part del tractament es fa en equips portàtils que poden abandonar les instal·acions?  (inclou emmagatzematge, comunicacions…)","-","-","-","-","-","-","-","-","-","-","-","-","-","-","-","-","-","-","-","-","-","-","-","-","-","-","-","-","-","-","-","-","-","-","-","-","-","-","-","-","-","-","-","-","-","-","-","-","-","-","-","-","-","-","-","-","-","-","X","X","-","-","-","-","-","-","-","-","-","-","-","-","-","-","-","-","-","-","-","-","-","-","-","-","-","-","-","-","-","-","-","-","-","-"]
[null,"[op.acc.3]MH","-","-","-","-","-","-","-","-","-","-","-","X","X","-","-",null,"Q11","Pot el personal connectar dispositius externs al sistema?","-","-","-","X","-","-","-","-","-","-","-","-","-","-","-","-","-","-","-","-","-","-","-","-","-","X","-","-","-","-","-","-","-","-","-","-","-","-","-","-","-","-","-","-","-","-","-","-","-","-","-","-","-","-","-","-","-","-","-","-","-","-","-","-","-","-","-","-","-","-","-","X","X","-","-","X","-","-","-","-","-","-","X","-","-","-","-","-","-","-","-","-","-","-"]
[null,"[op.acc.4]LMH","-","-","-","-","-","-","-","-","-","-","-","-","X","-","-",null,"Q12","Hi ha una manca de claredat en la definició dels rols i les responsabilitats dels treballadors?","-","X","-","X","-","-","-","-","-","-","X","-","-","-","-","-","-","-","-","-","X","-","-","-","-","-","-","-","-","-","-","-","-","-","-","-","-","-","-","-","-","-","-","-","-","-","-","-","-","X","X","-","-","-","-","-","-","-","-","-","-","-","-","-","-","-","-","-","-","-","-","-","-","-","-","-","-","-","-","-","X","X","-","-","-","-","-","X","-","X","-","-","-","-"]
[null,"[op.acc.5]L","-","-","-","-","-","-","-","-","-","-","-","-","X","-","-",null,"Q13","El personal rep permisos que no són necessaris per complir les tasques que té encomanades?","-","-","-","X","-","-","-","-","X","X","X","X","X","X","X","-","-","-","-","-","-","-","-","-","-","-","-","-","-","-","-","-","-","-","-","-","-","-","-","-","-","-","-","-","-","-","-","-","-","-","-","-","-","-","-","-","-","-","-","-","-","-","-","-","-","-","-","-","-","-","-","-","-","-","-","-","-","-","-","-","X","X","-","-","-","-","-","X","-","-","-","-","-","-"]
[null,"[op.acc.5]M","-","-","-","-","-","-","-","-","-","-","-","-","X","-","-",null,"Q14","Hi ha una manca de coneixement del personal respecte de l’ús adequat del sistema, d’aspectes de seguretat de les dades o de les limitacions d’ús que imposa l’RGPD?","-","-","X","-","-","-","-","-","-","-","-","-","-","-","-","-","-","-","-","-","-","-","-","-","-","-","-","-","-","-","-","-","-","-","-","-","-","-","-","-","-","-","-","-","-","-","-","-","-","X","X","X","X","X","-","-","-","-","-","-","-","-","-","-","-","-","-","-","-","-","-","-","-","-","-","-","-","-","-","-","-","-","-","-","-","-","-","-","-","-","-","-","-","-"]
[null,"[op.acc.5]H","-","-","-","-","-","-","-","-","-","-","-","-","X","-","-",null,"Q15","S’ha externalitat alguna part del tractament a un encarregat?","-","-","-","-","-","-","-","-","-","-","-","-","-","-","-","-","-","-","-","-","-","-","-","-","-","-","-","-","-","-","-","-","X","X","X","X","-","-","-","-","-","-","-","-","-","-","-","-","-","-","-","-","-","-","-","-","-","-","-","-","-","-","-","-","-","-","-","-","-","-","-","-","-","-","-","-","-","-","-","-","-","-","-","-","-","-","-","-","-","-","-","-","-","-"]
[null,"[op.acc.6]L","-","-","-","-","-","-","X","-","-","-","-","-","-","-","-",null,null,null,{"$f":"+COUNTIF(U4:U18,\"X\")","v":2},{"$f":"+COUNTIF(V4:V18,\"X\")","v":1},1,4,2,1,1,1,1,1,2,1,1,1,1,1,1,1,2,2,1,1,1,1,1,5,2,1,1,1,1,1,1,1,1,2,2,2,4,1,2,2,1,1,1,1,1,2,1,2,2,1,1,1,1,1,1,1,1,1,1,1,1,1,1,{"$f":"+COUNTIF(CH4:CH18,\"X\")","v":1},1,1,1,1,1,2,2,{"$f":"+MAX(U19:CO19)","v":5}]
[null,"[op.acc.6]M","-","-","-","-","-","-","X","-","-","-","-","-","-","-","-"]
[null,"[op.acc.6]H","-","-","-","-","-","-","X","-","-","-","-","-","-","-","-"]
[null,"[op.acc.7]L","X","-","-","-","-","-","X","-","-","-","-","-","-","-","-"]
[null,"[op.acc.7]MH","X","-","-","-","-","-","X","-","-","-","-","-","-","-","-"]
[null,"[op.exp.1]LMH","-","-","-","-","-","-","-","-","-","-","-","X","-","-","-"]
[null,"[op.exp.2]LMH","-","-","X","-","-","-","-","-","-","-","-","-","-","-","-"]
[null,"[op.exp.3]LMH","-","-","X","-","-","-","-","-","-","-","-","-","-","-","-"]
[null,"[op.exp.4]LMH","-","-","-","-","X","-","-","-","-","-","-","-","-","-","-"]
[null,"[op.exp.5]MH","-","-","-","-","X","-","-","-","-","-","-","-","-","-","-"]
[null,"[op.exp.6]LMH","X","-","X","-","X","-","-","X","-","-","X","-","-","-","-"]
[null,"[op.exp.7]MH","-","-","-","-","X","-","-","X","-","-","-","-","-","-","-"]
[null,"[op.exp.8]H","-","-","-","-","-","-","X","-","-","-","-","-","-","-","-"]
[null,"[op.exp.9]MH","-","-","-","-","X","-","-","-","-","-","-","-","-","-","-"]
[null,"[op.exp.10]H","-","-","-","-","-","-","X","-","-","-","-","-","-","-","-"]
[null,"[op.exp.11]L","-","-","X","-","-","-","-","-","-","-","-","-","-","-","-"]
[null,"[op.exp.11]MH","-","-","X","-","-","-","-","-","-","-","-","-","-","-","-"]
[null,"[op.ext.1]MH","-","-","-","-","-","-","-","-","-","-","-","-","-","-","X"]
[null,"[op.ext.2]MH","-","-","-","-","-","-","-","-","-","-","-","-","-","-","X"]
[null,"[op.ext.3]H","-","-","-","-","-","-","-","-","-","-","-","-","-","-","X"]
[null,"[op.cont.1]MH","-","-","X","-","-","-","-","-","-","-","-","-","-","-","X"]
[null,"[op.cont.2]H","-","-","X","-","X","-","-","-","-","-","-","-","-","-","-"]
[null,"[op.cont.3]H","-","-","X","-","X","-","-","-","-","-","-","-","-","-","-"]
[null,"[op.mon.1]H","X","-","-","-","X","-","X","X","-","-","-","-","-","-","-"]
[null,"[op.mon.2]H","-","-","-","-","X","-","-","-","-","-","-","-","-","-","-"]
[null,"[mp.if.1]LMH","-","-","-","-","-","-","X","-","X","-","-","-","-","-","-"]
[null,"[mp.if.2]LMH","-","-","-","-","-","-","X","-","X","-","-","-","-","-","-"]
[null,"[mp.if.3]LMH","-","-","-","-","-","-","-","-","X","-","-","-","-","-","-"]
[null,"[mp.if.4]L","-","-","-","-","-","-","-","-","X","-","-","-","-","-","-"]
[null,"[mp.if.4]MH","-","-","-","-","-","-","-","-","X","-","-","-","-","-","-"]
[null,"[mp.if.5]LMH","-","-","-","-","-","-","-","-","X","-","-","-","-","-","-"]
[null,"[mp.if.6]MH","-","-","-","-","-","-","-","-","X","-","-","-","-","-","-"]
[null,"[mp.if.7]LMH","-","-","-","-","-","-","X","-","X","-","-","-","-","-","-"]
[null,"[mp.if.8]H","-","-","-","-","-","-","-","-","X","-","-","-","-","-","-"]
[null,"[mp.per.1]MH","-","-","-","-","-","-","-","-","-","-","-","X","-","X","-"]
[null,"[mp.per.2]LMH","-","-","-","-","-","-","-","-","-","-","-","X","-","X","-"]
[null,"[mp.per.3]LMH","-","-","-","-","-","-","-","-","-","-","-","-","-","X","-"]
[null,"[mp.per.4]LMH","-","-","-","-","-","-","-","-","-","-","-","-","-","X","-"]
[null,"[mp.per.5]H","-","-","-","-","-","-","-","-","-","-","-","-","-","X","-"]
[null,"[mp.eq.1]L","-","-","-","-","-","-","-","-","X","-","-","-","-","-","-"]
[null,"[mp.eq.1]MH","-","-","-","-","-","-","-","-","X","-","-","-","-","-","-"]
[null,"[mp.eq.2]M","-","-","X","-","-","-","-","-","-","-","-","-","-","-","-"]
[null,"[mp.eq.2]H","-","-","X","-","-","-","-","-","-","-","-","-","-","-","-"]
[null,"[mp.eq.3]LM","-","-","-","-","-","-","-","-","-","X","-","-","-","-","-"]
[null,"[mp.eq.3]H","-","-","-","-","-","-","-","-","-","X","-","-","-","-","-"]
[null,"[mp.eq.4]MH","-","-","X","-","-","-","-","-","-","-","-","-","-","-","-"]
[null,"[mp.com.1]LM","X","-","-","-","-","-","-","-","-","-","-","-","-","-","-"]
[null,"[mp.com.1]H","X","-","-","-","-","-","-","-","-","-","-","-","-","-","-"]
[null,"[mp.com.2]M","X","-","-","-","-","-","-","-","-","-","-","-","-","-","-"]
[null,"[mp.com.2]H","X","-","-","-","-","-","-","-","-","-","-","-","-","-","-"]
[null,"[mp.com.3]L","X","-","-","-","-","-","-","-","-","-","-","-","-","-","-"]
[null,"[mp.com.3]M","X","-","-","-","-","-","-","-","-","-","-","-","-","-","-"]
[null,"[mp.com.3]H","X","-","-","-","-","-","-","-","-","-","-","-","-","-","-"]
[null,"[mp.com.4]H","-","-","X","-","-","-","-","-","-","-","-","-","-","-","-"]
[null,"[mp.com.5]H","X","-","-","-","-","-","-","-","-","-","-","-","-","-","-"]
[null,"[mp.si.1]LMH","-","-","-","X","-","-","-","-","-","-","-","-","-","-","-"]
[null,"[mp.si.2]M","-","-","-","X","-","-","-","-","-","-","X","-","-","-","-"]
[null,"[mp.si.2]H","-","-","-","X","-","-","-","-","-","-","X","-","-","-","-"]
[null,"[mp.si.3]LMH","-","-","-","X","-","-","-","-","-","-","-","-","-","-","-"]
[null,"[mp.si.4]LMH","-","-","-","X","-","-","-","-","-","-","-","-","-","-","-"]
[null,"[mp.si.5]MH","-","-","-","X","-","-","-","-","-","-","X","-","-","-","-"]
[null,"[mp.sw.1]MH","-","-","X","-","-","-","-","-","-","-","-","-","-","-","-"]
[null,"[mp.sw.2]L","-","-","X","-","-","-","-","-","-","-","-","-","-","-","-"]
[null,"[mp.sw.2]M","-","-","X","-","-","-","-","-","-","-","-","-","-","-","-"]
[null,"[mp.sw.2]H","-","-","X","-","-","-","-","-","-","-","-","-","-","-","-"]
[null,"[mp.info.2]L","-","-","-","-","-","-","-","-","-","-","-","X","X","-","-"]
[null,"[mp.info.2]MH","-","-","-","-","-","-","-","-","-","-","-","X","X","-","-"]
[null,"[mp.info.3]MH","X","-","-","-","-","-","-","-","-","-","X","-","-","-","-"]
[null,"[mp.info.4]L","-","-","X","-","-","-","-","-","-","-","-","-","-","-","-"]
[null,"[mp.info.4]MH","-","-","X","-","-","-","-","-","-","-","-","-","-","-","-"]
[null,"[mp.info.4]H","-","-","X","-","-","-","-","-","-","-","-","-","-","-","-"]
[null,"[mp.info.5]H","-","-","-","-","-","-","X","-","-","-","-","-","-","-","-"]
[null,"[mp.info.6]LMH","-","-","-","-","-","-","-","-","-","-","-","X","X","-","-"]
[null,"[mp.info.7]MH","-","-","-","-","X","X","-","-","-","-","-","-","-","-","-"]
[null,"[mp.s.1]LMH","-","X","-","-","-","-","-","-","-","-","-","X","-","-","-"]
[null,"[mp.s.2]LMH","X","-","-","-","-","-","-","-","-","-","-","-","-","-","-"]
[null,"[mp.s.3]M","-","-","X","-","-","-","-","X","-","-","-","-","-","-","-"]
[null,"[mp.s.3]H","-","-","X","-","-","-","-","X","-","-","-","-","-","-","-"]
[null,"[mp.s.4]H","X","-","X","-","-","-","-","-","-","-","-","-","-","-","-"]

{"sheet":"AUX_TAULA DE RISCOS","index":26,"n_rows":13,"n_cols":10,"rows_kept":13,"cut":false,"hidden":true,"merged":[[1,1,3,1],[5,3,5,6]]}
[]
[null,"PROBABILITAT","ALTA","RISC MITJÀ","RISC ALT","RISC ALT","RISC ALT"]
[null,null,"MITJANA","RISC BAIX","RISC MITJÀ","RISC ALT","RISC ALT"]
[null,null,"BAIXA","RISC BAIX","RISC BAIX","RISC MITJÀ","RISC ALT"]
[null,null,null,"BAIX","MITJÀ","ALT","MOLT ALT"]
[null,null,null,"IMPACTE"]
[]
[]
[]
[null,null,null,null,null,null,null,null,"Respostes Afirmatives","Probabilitat inicial"]
[null,null,null,null,null,null,null,null,"0 – 4","Baixa"]
[null,null,null,null,null,null,null,null,"5 – 9","Mitjana"]
[null,null,null,null,null,null,null,null,"10 – 15","Alta"]